Workbook

Sheet 군구세외 일반회계
B2: 2023년 12월 미추홀구 일반회계 세외수입 징수현황
K3: 기관명 | L3: 미추홀구
B4: 2023년 12월 | L4: (단위:원,%)
D5: 구 분 | E5: 최종예산액 | F5: 징수결정액 | G5: 징 수 액 | H5: 정리보류액 | I5: 미수납액 | L5: 징수율
B6: 항 목 별 | E6: (A) | F6: (B) | G6: (C) | H6: (D) | I6: 미수납액 (E=B-C-D) | J6: 체납액 (F=E-G) | K6: 납기미도래 (G) | L6: (C/A) | M6: (C/B)
B7: 200 세외수입 | E7: =E8+E40+E62 -> 40600861000 | F7: =F8+F40+F62 -> 65344617403 | G7: =G8+G40+G62 -> 42748251985 | H7: =H8+H40+H62 -> 1236284840 | I7: =I8+I40+I62 -> 21360080578 | J7: =J8+J40+J62 -> 20239429816 | K7: =K8+K40+K62 -> 1120650762 | L7: =IFERROR(G7/E7,0)*100 -> 105.28903 | M7: =IFERROR(G7/F7,0)*100 -> 65.419699
B8: 210 경상적세외수입 | E8: =E9+E12+E22+E28+E34+E36 -> 30187170000 | F8: =F9+F12+F22+F28+F34+F36 -> 31615388302 | G8: =G9+G12+G22+G28+G34+G36 -> 31411140892 | H8: =H9+H12+H22+H28+H34+H36 -> 0 | I8: =I9+I12+I22+I28+I34+I36 -> 204247410 | J8: =J9+J12+J22+J28+J34+J36 -> 40834270 | K8: =K9+K12+K22+K28+K34+K36 -> 163413140 | L8: =IFERROR(G8/E8,0)*100 -> 104.05461 | M8: =IFERROR(G8/F8,0)*100 -> 99.353962
B9: 211 재산임대수입 | E9: =SUM(E10:E11) -> 413704000 | F9: =SUM(F10:F11) -> 241562890 | G9: =SUM(G10:G11) -> 222702290 | H9: =SUM(H10:H11) -> 0 | I9: =SUM(I10:I11) -> 18860600 | J9: =SUM(J10:J11) -> 14595110 | K9: =SUM(K10:K11) -> 4265490 | L9: =IFERROR(G9/E9,0)*100 -> 53.831312 | M9: =IFERROR(G9/F9,0)*100 -> 92.192261
C10: 211-01 국유재산임대료 | E10: 50000000 | F10: 59342120 | G10: 55241830 | H10: 0 | I10: =F10-G10-H10 -> 4100290 | J10: =I10-K10 -> 4100290 | K10: 0 | L10: =IFERROR(G10/E10,0)*100 -> 110.48366 | M10: =IFERROR(G10/F10,0)*100 -> 93.090422
C11: 211-02 공유재산임대료 | E11: 363704000 | F11: 182220770 | G11: 167460460 | H11: 0 | I11: =F11-G11-H11 -> 14760310 | J11: =I11-K11 -> 10494820 | K11: 4265490 | L11: =IFERROR(G11/E11,0)*100 -> 46.043062 | M11: =IFERROR(G11/F11,0)*100 -> 91.899765
B12: 212 사용료수입 | E12: =SUM(E13:E21) -> 2613271000 | F12: =SUM(F13:F21) -> 2572225073 | G12: =SUM(G13:G21) -> 2546183603 | H12: =SUM(H13:H21) -> 0 | I12: =SUM(I13:I21) -> 26041470 | J12: =SUM(J13:J21) -> 24820670 | K12: =SUM(K13:K21) -> 1220800 | L12: =IFERROR(G12/E12,0)*100 -> 97.432819 | M12: =IFERROR(G12/F12,0)*100 -> 98.98759
C13: 212-01 도로사용료 | E13: 1150000000 | F13: 1158385750 | G13: 1132495220 | H13: 0 | I13: =F13-G13-H13 -> 25890530 | J13: =I13-K13 -> 24669730 | K13: 1220800 | L13: =IFERROR(G13/E13,0)*100 -> 98.477845 | M13: =IFERROR(G13/F13,0)*100 -> 97.764947
C14: 212-02 하천사용료 | I14: =F14-G14-H14 -> 0 | J14: =I14-K14 -> 0 | L14: =IFERROR(G14/E14,0)*100 -> 0 | M14: =IFERROR(G14/F14,0)*100 -> 0
C15: 212-03 하수도사용료 | I15: =F15-G15-H15 -> 0 | J15: =I15-K15 -> 0 | L15: =IFERROR(G15/E15,0)*100 -> 0 | M15: =IFERROR(G15/F15,0)*100 -> 0
C16: 212-04 상수도사용료 | I16: =F16-G16-H16 -> 0 | J16: =I16-K16 -> 0 | L16: =IFERROR(G16/E16,0)*100 -> 0 | M16: =IFERROR(G16/F16,0)*100 -> 0
C17: 212-05 공유수면사용료 | I17: =F17-G17-H17 -> 0 | J17: =I17-K17 -> 0 | L17: =IFERROR(G17/E17,0)*100 -> 0 | M17: =IFERROR(G17/F17,0)*100 -> 0
C18: 212-06 시장사용료 | I18: =F18-G18-H18 -> 0 | J18: =I18-K18 -> 0 | L18: =IFERROR(G18/E18,0)*100 -> 0 | M18: =IFERROR(G18/F18,0)*100 -> 0
C19: 212-07 입장료수입 | I19: =F19-G19-H19 -> 0 | J19: =I19-K19 -> 0 | L19: =IFERROR(G19/E19,0)*100 -> 0 | M19: =IFERROR(G19/F19,0)*100 -> 0
C20: 212-08 주차요금수입 | I20: =F20-G20-H20 -> 0 | J20: =I20-K20 -> 0
C21: 212-09 기타사용료 | E21: 1463271000 | F21: 1413839323 | G21: 1413688383 | H21: 0 | I21: =F21-G21-H21 -> 150940 | J21: =I21-K21 -> 150940 | K21: 0 | L21: =IFERROR(G21/E21,0)*100 -> 96.611522 | M21: =IFERROR(G21/F21,0)*100 -> 99.989324
B22: 213 수수료수입 | E22: =SUM(E23:E27) -> 12629060000 | F22: =SUM(F23:F27) -> 12701069976 | G22: =SUM(G23:G27) -> 12541724636 | H22: =SUM(H23:H27) -> 0 | I22: =SUM(I23:I27) -> 159345340 | J22: =SUM(J23:J27) -> 1418490 | K22: =SUM(K23:K27) -> 157926850 | L22: =IFERROR(G22/E22,0)*100 -> 99.308457 | M22: =IFERROR(G22/F22,0)*100 -> 98.745418
C23: 213-01 증지수입 | E23: 1250000000 | F23: 1294746894 | G23: 1279720294 | H23: 0 | I23: =F23-G23-H23 -> 15026600 | J23: =I23-K23 -> 1214100 | K23: 13812500 | L23: =IFERROR(G23/E23,0)*100 -> 102.37762 | M23: =IFERROR(G23/F23,0)*100 -> 98.839418
C24: 213-02 폐기물처리수수료 | E24: 10790000000 | F24: 10819946361 | G24: 10675779011 | H24: 0 | I24: =F24-G24-H24 -> 144167350 | J24: =I24-K24 -> 228940 | K24: 143938410 | L24: =IFERROR(G24/E24,0)*100 -> 98.941418 | M24: =IFERROR(G24/F24,0)*100 -> 98.667578
C25: 213-03 재활용품수거판매수입 | I25: =F25-G25-H25 -> 0 | J25: =I25-K25 -> 0 | L25: =IFERROR(G25/E25,0)*100 -> 0 | M25: =IFERROR(G25/F25,0)*100 -> 0
C26: 213-04 보건의료수수료 | E26: 165290000 | F26: 139853010 | G26: 139677070 | H26: 0 | I26: =F26-G26-H26 -> 175940 | J26: =I26-K26 -> 0 | K26: 175940
C27: 213-05 기타수수료 | E27: 423770000 | F27: 446523711 | G27: 446548261 | H27: 0 | I27: =F27-G27-H27 -> -24550 | J27: =I27-K27 -> -24550 | K27: 0 | L27: =IFERROR(G27/E27,0)*100 -> 105.37515 | M27: =IFERROR(G27/F27,0)*100 -> 100.0055
B28: 214 사업수입 | E28: =SUM(E29:E33) -> 571737000 | F28: =SUM(F29:F33) -> 546099449 | G28: =SUM(G29:G33) -> 546099449 | H28: =SUM(H29:H33) -> 0 | I28: =SUM(I29:I33) -> 0 | J28: =SUM(J29:J33) -> 0 | K28: =SUM(K29:K33) -> 0 | L28: =IFERROR(G28/E28,0)*100 -> 95.515849 | M28: =IFERROR(G28/F28,0)*100 -> 100
C29: 214-01 사업장생산수입 | I29: =F29-G29-H29 -> 0 | J29: =I29-K29 -> 0 | L29: =IFERROR(G29/E29,0)*100 -> 0 | M29: =IFERROR(G29/F29,0)*100 -> 0
C30: 214-02 청산금수입 | I30: =F30-G30-H30 -> 0 | J30: =I30-K30 -> 0 | L30: =IFERROR(G30/E30,0)*100 -> 0 | M30: =IFERROR(G30/F30,0)*100 -> 0
C31: 214-03 매각사업수입 | I31: =F31-G31-H31 -> 0 | J31: =I31-K31 -> 0 | L31: =IFERROR(G31/E31,0)*100 -> 0 | M31: =IFERROR(G31/F31,0)*100 -> 0
C32: 214-04 배당금수입 | I32: =F32-G32-H32 -> 0 | J32: =I32-K32 -> 0 | L32: =IFERROR(G32/E32,0)*100 -> 0 | M32: =IFERROR(G32/F32,0)*100 -> 0
C33: 214-05 기타사업수입 | E33: 571737000 | F33: 546099449 | G33: 546099449 | H33: 0 | I33: =F33-G33-H33 -> 0 | J33: =I33-K33 -> 0 | K33: 0 | L33: =IFERROR(G33/#REF!,0)*100 -> 0 | M33: =IFERROR(G33/F33,0)*100 -> 100
B34: 215 징수교부금수입 | E34: =SUM(E35) -> 10615635000 | F34: =F35 -> 11756819370 | G34: =G35 -> 11756819370 | H34: =H35 -> 0 | I34: =I35 -> 0 | J34: =J35 -> 0 | K34: =K35 -> 0 | L34: =IFERROR(G34/E34,0)*100 -> 110.75003 | M34: =IFERROR(G34/F34,0)*100 -> 100
C35: 215-01 징수교부금수입 | E35: 10615635000 | F35: 11756819370 | G35: 11756819370 | H35: 0 | I35: =F35-G35-H35 -> 0 | J35: =I35-K35 -> 0 | K35: 0 | L35: =IFERROR(G35/E35,0)*100 -> 110.75003 | M35: =IFERROR(G35/F35,0)*100 -> 100
B36: 216 이자수입 | E36: =SUM(E37:E39) -> 3343763000 | F36: =SUM(F37:F39) -> 3797611544 | G36: =SUM(G37:G39) -> 3797611544 | H36: =SUM(H37:H39) -> 0 | I36: =SUM(I37:I39) -> 0 | J36: =SUM(J37:J39) -> 0 | K36: =SUM(K37:K39) -> 0 | L36: =IFERROR(G36/E36,0)*100 -> 113.57299 | M36: =IFERROR(G36/F36,0)*100 -> 100
C37: 216-01 공공예금이자수입 | E37: 3240081000 | F37: 3494961802 | G37: 3494961802 | H37: 0 | I37: =F37-G37-H37 -> 0 | J37: =I37-K37 -> 0 | K37: 0 | L37: =IFERROR(G37/E37,0)*100 -> 107.86649 | M37: =IFERROR(G37/F37,0)*100 -> 100
C38: 216-02 융자금회수이자수입 | I38: =F38-G38-H38 -> 0 | J38: =I38-K38 -> 0 | L38: =IFERROR(G38/E38,0)*100 -> 0 | M38: =IFERROR(G38/F38,0)*100 -> 0
C39: 216-03 기타이자수입 | E39: 103682000 | F39: 302649742 | G39: 302649742 | H39: 0 | I39: =F39-G39-H39 -> 0 | J39: =I39-K39 -> 0 | K39: 0 | L39: =IFERROR(G39/E33,0)*100 -> 52.935133 | M39: =IFERROR(G39/F39,0)*100 -> 100
B40: 220 임시적세외수입 | E40: =E41+E46+E48+E52+E60 -> 7085625000 | F40: =F41+F46+F48+F52+F60 -> 25896536631 | G40: =G41+G46+G48+G52+G60 -> 7851744873 | H40: =H41+H46+H48+H52+H60 -> 1236284840 | I40: =I41+I46+I48+I52+I60 -> 16808506918 | J40: =J41+J46+J48+J52+J60 -> 16596272866 | K40: =K41+K46+K48+K52+K60 -> 212234052 | L40: =IFERROR(G40/E40,0)*100 -> 110.81231 | M40: =IFERROR(G40/F40,0)*100 -> 30.319672
B41: 221 재산매각수입 | E41: =SUM(E42:E45) -> 2366502000 | F41: =SUM(F42:F45) -> 2614102130 | G41: =SUM(G42:G45) -> 2370472360 | H41: =SUM(H42:H45) -> 0 | I41: =SUM(I42:I45) -> 243629770 | J41: =SUM(J42:J45) -> 243629770 | K41: =SUM(K42:K45) -> 0 | L41: =IFERROR(G41/E41,0)*100 -> 100.16777 | M41: =IFERROR(G41/F41,0)*100 -> 90.680174
C42: 221-01 국유재산매각귀속수입금 | F42: 0 | G42: 0 | H42: 0 | I42: =F42-G42-H42 -> 0 | J42: =I42-K42 -> 0 | K42: 0 | L42: =IFERROR(G42/E42,0)*100 -> 0 | M42: =IFERROR(G42/F42,0)*100 -> 0
C43: 221-02 시도유재산매각귀속수입금 | F43: 0 | G43: 0 | H43: 0 | I43: =F43-G43-H43 -> 0 | J43: =I43-K43 -> 0 | K43: 0 | L43: =IFERROR(G43/E43,0)*100 -> 0 | M43: =IFERROR(G43/F43,0)*100 -> 0
C44: 221-03 공유재산매각수입금 | E44: 2336502000 | F44: 2580065130 | G44: 2336435360 | H44: 0 | I44: =F44-G44-H44 -> 243629770 | J44: =I44-K44 -> 243629770 | K44: 0
C45: 221-04 불용품매각대금 | E45: 30000000 | F45: 34037000 | G45: 34037000 | H45: 0 | I45: =F45-G45-H45 -> 0 | J45: =I45-K45 -> 0 | K45: 0 | L45: =IFERROR(G45/E45,0)*100 -> 113.45667 | M45: =IFERROR(G45/F45,0)*100 -> 100
B46: 222 자치단체간부담금 | E46: =SUM(E47) -> 0 | F46: =F47 -> 0 | G46: =G47 -> 0 | H46: =H47 -> 0 | I46: =I47 -> 0 | J46: =J47 -> 0 | K46: =K47 -> 0 | L46: =IFERROR(G46/E46,0)*100 -> 0 | M46: =IFERROR(G46/F46,0)*100 -> 0
C47: 222-01 자치단체간부담금 | I47: =F47-G47-H47 -> 0 | J47: =I47-K47 -> 0 | L47: =IFERROR(G47/E47,0)*100 -> 0 | M47: =IFERROR(G47/F47,0)*100 -> 0
B48: 223 보조금반환수입 | E48: =SUM(E49:E51) -> 1135522000 | F48: =SUM(F49:F51) -> 1161326580 | G48: =SUM(G49:G51) -> 1155132440 | H48: =SUM(H49:H51) -> 0 | I48: =SUM(I49:I51) -> 6194140 | J48: =SUM(J49:J51) -> 6194140 | K48: =SUM(K49:K51) -> 0 | L48: =IFERROR(G48/E48,0)*100 -> 101.727 | M48: =IFERROR(G48/F48,0)*100 -> 99.466632
C49: 223-01 시ㆍ도비보조금등반환수입 | I49: =F49-G49-H49 -> 0 | J49: =I49-K49 -> 0 | L49: =IFERROR(G49/E49,0)*100 -> 0 | M49: =IFERROR(G49/F49,0)*100 -> 0
C50: 223-02 자체보조금등반환수입 | E50: 1043137000 | F50: 1068940739 | G50: 1062746599 | H50: 0 | I50: =F50-G50-H50 -> 6194140 | J50: =I50-K50 -> 6194140 | K50: 0 | L50: =IFERROR(G50/E50,0)*100 -> 101.87987 | M50: =IFERROR(G50/F50,0)*100 -> 99.420535
C51: 223-03 위탁비반환수입 | E51: 92385000 | F51: 92385841 | G51: 92385841 | H51: 0 | I51: =F51-G51-H51 -> 0 | J51: =I51-K51 -> 0 | K51: 0 | L51: =IFERROR(G51/E51,0)*100 -> 100.00091 | M51: =IFERROR(G51/F51,0)*100 -> 100
B52: 224 기타수입 | E52: =SUM(E53:E59) -> 2083601000 | F52: =SUM(F53:F59) -> 3703579141 | G52: =SUM(G53:G59) -> 2785626082 | H52: =SUM(H53:H59) -> 0 | I52: =SUM(I53:I59) -> 917953059 | J52: =SUM(J53:J59) -> 705719007 | K52: =SUM(K53:K59) -> 212234052 | L52: =IFERROR(G52/E52,0)*100 -> 133.69288 | M52: =IFERROR(G52/F52,0)*100 -> 75.214434
C53: 224-01 체납처분수입 | F53: 510420 | G53: 510420 | H53: 0 | I53: =F53-G53-H53 -> 0 | J53: =I53-K53 -> -254510 | K53: 254510 | L53: =IFERROR(G53/E53,0)*100 -> 0 | M53: =IFERROR(G53/F53,0)*100 -> 100
C54: 224-02 보상금수납금 | I54: =F54-G54-H54 -> 0 | J54: =I54-K54 -> 0 | L54: =IFERROR(G54/E54,0)*100 -> 0 | M54: =IFERROR(G54/F54,0)*100 -> 0
C55: 224-03 기부금수입 | F55: -20 | G55: -20 | H55: 0 | I55: =F55-G55-H55 -> 0 | J55: =I55-K55 -> 0 | K55: 0 | L55: =IFERROR(G55/E55,0)*100 -> 0 | M55: =IFERROR(G55/F55,0)*100 -> 100
C56: 224-04 지적재조사조정금 | E56: 210000000 | F56: 1099808830 | G56: 260574020 | H56: 0 | I56: =F56-G56-H56 -> 839234810 | J56: =I56-K56 -> 684051690 | K56: 155183120 | L56: =IFERROR(G56/E56,0)*100 -> 124.08287 | M56: =IFERROR(G56/F56,0)*100 -> 23.692665
C57: 224-05 지방교부세감소분보전수입 | I57: =F57-G57-H57 -> 0 | J57: =I57-K57 -> 0 | L57: =IFERROR(G57/E57,0)*100 -> 0 | M57: =IFERROR(G57/F57,0)*100 -> 0
C58: 224-06 위약금 | E58: 204725000 | F58: 261472290 | G58: 204725010 | H58: 0 | I58: =F58-G58-H58 -> 56747280 | J58: =I58-K58 -> 0 | K58: 56747280
C59: 224-07 그외수입 | E59: 1668876000 | F59: 2341787621 | G59: 2319816652 | H59: 0 | I59: =F59-G59-H59 -> 21970969 | J59: =I59-K59 -> 21921827 | K59: 49142 | L59: =IFERROR(G59/E59,0)*100 -> 139.00473 | M59: =IFERROR(G59/F59,0)*100 -> 99.061786
B60: 225 지난년도수입 | E60: =SUM(E61) -> 1500000000 | F60: =F61 -> 18417528780 | G60: =G61 -> 1540513991 | H60: =H61 -> 1236284840 | I60: =I61 -> 15640729949 | J60: =J61 -> 15640729949 | K60: =K61 -> 0 | L60: =IFERROR(G60/E60,0)*100 -> 102.70093 | M60: =IFERROR(G60/F60,0)*100 -> 8.3643903
C61: 225-01 지난년도수입 | E61: 1500000000 | F61: 18417528780 | G61: 1540513991 | H61: 1236284840 | I61: =F61-G61-H61 -> 15640729949 | J61: =I61-K61 -> 15640729949 | K61: 0 | L61: =IFERROR(G61/E61,0)*100 -> 102.70093 | M61: =IFERROR(G61/F61,0)*100 -> 8.3643903
B62: 230 지방행정제재‧부과금 | E62: =E63+E65+E67+E69+E72+E74+E76 -> 3328066000 | F62: =F63+F65+F67+F69+F72+F74+F76 -> 7832692470 | G62: =G63+G65+G67+G69+G72+G74+G76 -> 3485366220 | H62: =H63+H65+H67+H69+H72+H74+H76 -> 0 | I62: =I63+I65+I67+I69+I72+I74+I76 -> 4347326250 | J62: =J63+J65+J67+J69+J72+J74+J76 -> 3602322680 | K62: =K63+K65+K67+K69+K72+K74+K76 -> 745003570 | L62: =IFERROR(G62/E62,0)*100 -> 104.72648 | M62: =IFERROR(G62/F62,0)*100 -> 44.497677
B63: 231 과징금 | E63: =SUM(E64) -> 130160000 | F63: =F64 -> 1045207150 | G63: =G64 -> 150650450 | H63: =H64 -> 0 | I63: =I64 -> 894556700 | J63: =J64 -> 618449550 | K63: =K64 -> 276107150 | L63: =IFERROR(G63/E63,0)*100 -> 115.74251 | M63: =IFERROR(G63/F63,0)*100 -> 14.413454
C64: 231-01 과징금 | E64: 130160000 | F64: 1045207150 | G64: 150650450 | H64: 0 | I64: =F64-G64-H64 -> 894556700 | J64: =I64-K64 -> 618449550 | K64: 276107150 | L64: =IFERROR(G64/E64,0)*100 -> 115.74251 | M64: =IFERROR(G64/F64,0)*100 -> 14.413454
B65: 232 이행강제금 | E65: =SUM(E66) -> 331000000 | F65: =F66 -> 471378670 | G65: =G66 -> 255921140 | H65: =H66 -> 0 | I65: =I66 -> 215457530 | J65: =J66 -> 90296830 | K65: =K66 -> 125160700 | L65: =IFERROR(G65/E65,0)*100 -> 77.317565 | M65: =IFERROR(G65/F65,0)*100 -> 54.292049
C66: 232-01 이행강제금 | E66: 331000000 | F66: 471378670 | G66: 255921140 | H66: 0 | I66: =F66-G66-H66 -> 215457530 | J66: =I66-K66 -> 90296830 | K66: 125160700 | L66: =IFERROR(G66/E66,0)*100 -> 77.317565 | M66: =IFERROR(G66/F66,0)*100 -> 54.292049
B67: 233 변상금 | E67: =SUM(E68) -> 831747000 | F67: =F68 -> 899681000 | G67: =G68 -> 612009800 | H67: =H68 -> 0 | I67: =I68 -> 287671200 | J67: =J68 -> 285465920 | K67: =K68 -> 2205280 | L67: =IFERROR(G67/E67,0)*100 -> 73.581245 | M67: =IFERROR(G67/F67,0)*100 -> 68.0252
C68: 233-01 변상금 | E68: 831747000 | F68: 899681000 | G68: 612009800 | H68: 0 | I68: =F68-G68-H68 -> 287671200 | J68: =I68-K68 -> 285465920 | K68: 2205280 | L68: =IFERROR(G68/E68,0)*100 -> 73.581245 | M68: =IFERROR(G68/F68,0)*100 -> 68.0252
B69: 234 과태료 | E69: =SUM(E70:E71) -> 1495256000 | F69: =SUM(F70:F71) -> 4339240940 | G69: =SUM(G70:G71) -> 1663550720 | H69: =SUM(H70:H71) -> 0 | I69: =SUM(I70:I71) -> 2675690220 | J69: =SUM(J70:J71) -> 2423804420 | K69: =SUM(K70:K71) -> 251885800 | L69: =IFERROR(G69/E69,0)*100 -> 111.25524 | M69: =IFERROR(G69/F69,0)*100 -> 38.337367
C70: 234-01 차량관련과태료 | E70: 591000000 | F70: 1673128950 | G70: 636663220 | H70: 0 | I70: =F70-G70-H70 -> 1036465730 | J70: =I70-K70 -> 926339930 | K70: 110125800 | L70: =IFERROR(G70/E70,0)*100 -> 107.72643 | M70: =IFERROR(G70/F70,0)*100 -> 38.052251
C71: 234-02 기타과태료 | E71: 904256000 | F71: 2666111990 | G71: 1026887500 | H71: 0 | I71: =F71-G71-H71 -> 1639224490 | J71: =I71-K71 -> 1497464490 | K71: 141760000 | L71: =IFERROR(G71/E71,0)*100 -> 113.56159 | M71: =IFERROR(G71/F71,0)*100 -> 38.516293
B72: 235 환수금 | E72: =SUM(E73) -> 37710000 | F72: =F73 -> 227031380 | G72: =G73 -> 45617080 | H72: =H73 -> 0 | I72: =I73 -> 181414300 | J72: =J73 -> 181414300 | K72: =K73 -> 0 | L72: =IFERROR(G72/E72,0)*100 -> 120.96813 | M72: =IFERROR(G72/F72,0)*100 -> 20.092852
C73: 235-01 부정이익환수금 | E73: 37710000 | F73: 227031380 | G73: 45617080 | H73: 0 | I73: =F73-G73-H73 -> 181414300 | J73: =I73-K73 -> 181414300 | K73: 0 | L73: =IFERROR(G73/E73,0)*100 -> 120.96813 | M73: =IFERROR(G73/F73,0)*100 -> 20.092852
B74: 236 부담금 | E74: =SUM(E75) -> 502193000 | F74: =F75 -> 777783330 | G74: =G75 -> 685747030 | H74: =H75 -> 0 | I74: =I75 -> 92036300 | J74: =J75 -> 2391660 | K74: =K75 -> 89644640 | L74: =IFERROR(G74/E74,0)*100 -> 136.5505 | M74: =IFERROR(G74/F74,0)*100 -> 88.166846
C75: 236-01 부담금 | E75: 502193000 | F75: 777783330 | G75: 685747030 | H75: 0 | I75: =F75-G75-H75 -> 92036300 | J75: =I75-K75 -> 2391660 | K75: 89644640 | L75: =IFERROR(G75/E75,0)*100 -> 136.5505 | M75: =IFERROR(G75/F75,0)*100 -> 88.166846
B76: 237 범칙금 | E76: =SUM(E77) -> 0 | F76: =F77 -> 72370000 | G76: =G77 -> 71870000 | H76: =H77 -> 0 | I76: =I77 -> 500000 | J76: =J77 -> 500000 | K76: =K77 -> 0 | L76: =IFERROR(G76/E76,0)*100 -> 0 | M76: =IFERROR(G76/F76,0)*100 -> 99.309106
C77: 237-01 범칙금 | F77: 72370000 | G77: 71870000 | H77: 0 | I77: =F77-G77-H77 -> 500000 | J77: =I77-K77 -> 500000 | K77: 0 | L77: =IFERROR(G77/E77,0)*100 -> 0 | M77: =IFERROR(G77/F77,0)*100 -> 99.309106

Sheet 군구세외 일반회계_지난년도
B2: 2023년 12월 미추홀구 일반회계 지난년도 세외수입 징수현황
K3: 기관명 | L3: 미추홀구
B4: ='군구세외 일반회계'!B4:D4 -> 2023년 12월 | L4: (단위:원,%)
D5: 구 분 | E5: 최종예산액 | F5: 징수결정액 | G5: 징 수 액 | H5: 정리보류액 | I5: 미수납액 | L5: 징수율
B6: 항 목 별 | E6: (A) | F6: (B) | G6: (C) | H6: (D) | I6: 미수납액 (E=B-C-D) | J6: 체납액 (F=E-G) | K6: 납기미도래 (G) | L6: (C/A) | M6: (C/B)
B7: 200 세외수입 | E7: 1500000000 | F7: =F8+F40+F61 -> 18417528780 | G7: =G8+G40+G61 -> 1540513991 | H7: =H8+H40+H61 -> 1236284840 | I7: =I8+I40+I61 -> 15640729949 | J7: =J8+J40+J61 -> 15640729949 | K7: =K8+K40+K61 -> 0 | L7: =IFERROR(G7/E7,0)*100 -> 102.70093 | M7: =IFERROR(G7/F7,0)*100 -> 8.3643903
B8: 210 경상적세외수입 | E8: =E9+E12+E22+E28+E34+E36 -> 0 | F8: =F9+F12+F22+F28+F34+F36 -> 364618945 | G8: =G9+G12+G22+G28+G34+G36 -> 163589550 | H8: =H9+H12+H22+H28+H34+H36 -> 16719570 | I8: =I9+I12+I22+I28+I34+I36 -> 184309825 | J8: =J9+J12+J22+J28+J34+J36 -> 184309825 | K8: =K9+K12+K22+K28+K34+K36 -> 0 | L8: =IFERROR(G8/E8,0)*100 -> 0 | M8: =IFERROR(G8/F8,0)*100 -> 44.865894
B9: 211 재산임대수입 | E9: =SUM(E10:E11) -> 0 | F9: =SUM(F10:F11) -> 192927424 | G9: =SUM(G10:G11) -> 44352660 | H9: =SUM(H10:H11) -> 9060650 | I9: =SUM(I10:I11) -> 139514114 | J9: =SUM(J10:J11) -> 139514114 | K9: =SUM(K10:K11) -> 0 | L9: =IFERROR(G9/E9,0)*100 -> 0 | M9: =IFERROR(G9/F9,0)*100 -> 22.989298
C10: 211-01 국유재산임대료 | F10: 21990154 | G10: 4536630 | H10: 5882670 | I10: =F10-G10-H10 -> 11570854 | J10: =I10-K10 -> 11570854 | L10: =IFERROR(G10/E10,0)*100 -> 0 | M10: =IFERROR(G10/F10,0)*100 -> 20.630278
C11: 211-02 공유재산임대료 | F11: 170937270 | G11: 39816030 | H11: 3177980 | I11: =F11-G11-H11 -> 127943260 | J11: =I11-K11 -> 127943260 | L11: =IFERROR(G11/E11,0)*100 -> 0 | M11: =IFERROR(G11/F11,0)*100 -> 23.292773
B12: 212 사용료수입 | E12: =SUM(E13:E21) -> 0 | F12: =SUM(F13:F21) -> 77170881 | G12: =SUM(G13:G21) -> 21522130 | H12: =SUM(H13:H21) -> 7658920 | I12: =SUM(I13:I21) -> 47989831 | J12: =SUM(J13:J21) -> 47989831 | K12: =SUM(K13:K21) -> 0 | L12: =IFERROR(G12/E12,0)*100 -> 0 | M12: =IFERROR(G12/F12,0)*100 -> 27.888926
C13: 212-01 도로사용료 | F13: 82530661 | G13: 27252330 | H13: 7658920 | I13: =F13-G13-H13 -> 47619411 | J13: =I13-K13 -> 47619411 | L13: =IFERROR(G13/E13,0)*100 -> 0 | M13: =IFERROR(G13/F13,0)*100 -> 33.020855
C14: 212-02 하천사용료 | I14: =F14-G14-H14 -> 0 | J14: =I14-K14 -> 0 | L14: =IFERROR(G14/E14,0)*100 -> 0 | M14: =IFERROR(G14/F14,0)*100 -> 0
C15: 212-03 하수도사용료 | I15: =F15-G15-H15 -> 0 | J15: =I15-K15 -> 0 | L15: =IFERROR(G15/E15,0)*100 -> 0 | M15: =IFERROR(G15/F15,0)*100 -> 0
C16: 212-04 상수도사용료 | I16: =F16-G16-H16 -> 0 | J16: =I16-K16 -> 0 | L16: =IFERROR(G16/E16,0)*100 -> 0 | M16: =IFERROR(G16/F16,0)*100 -> 0
C17: 212-05 공유수면사용료 | I17: =F17-G17-H17 -> 0 | J17: =I17-K17 -> 0 | L17: =IFERROR(G17/E17,0)*100 -> 0 | M17: =IFERROR(G17/F17,0)*100 -> 0
C18: 212-06 시장사용료 | I18: =F18-G18-H18 -> 0 | J18: =I18-K18 -> 0 | L18: =IFERROR(G18/E18,0)*100 -> 0 | M18: =IFERROR(G18/F18,0)*100 -> 0
C19: 212-07 입장료수입 | I19: =F19-G19-H19 -> 0 | J19: =I19-K19 -> 0 | L19: =IFERROR(G19/E19,0)*100 -> 0 | M19: =IFERROR(G19/F19,0)*100 -> 0
C20: 212-08 주차요금수입 | I20: =F20-G20-H20 -> 0 | J20: =I20-K20 -> 0
C21: 212-09 기타사용료 | F21: -5359780 | G21: -5730200 | H21: 0 | I21: =F21-G21-H21 -> 370420 | J21: =I21-K21 -> 370420 | L21: =IFERROR(G21/E21,0)*100 -> 0 | M21: =IFERROR(G21/F21,0)*100 -> 106.9111
B22: 213 수수료수입 | E22: =SUM(E23:E27) -> 0 | F22: =SUM(F23:F27) -> 94520640 | G22: =SUM(G23:G27) -> 97714760 | H22: =SUM(H23:H27) -> 0 | I22: =SUM(I23:I27) -> -3194120 | J22: =SUM(J23:J27) -> -3194120 | K22: =SUM(K23:K27) -> 0 | L22: =IFERROR(G22/E22,0)*100 -> 0 | M22: =IFERROR(G22/F22,0)*100 -> 103.37928
C23: 213-01 증지수입 | F23: 9238620 | G23: 9238820 | H23: 0 | I23: =F23-G23-H23 -> -200 | J23: =I23-K23 -> -200 | L23: =IFERROR(G23/E23,0)*100 -> 0 | M23: =IFERROR(G23/F23,0)*100 -> 100.00216
C24: 213-02 폐기물처리수수료 | F24: 85274360 | G24: 88454280 | H24: 0 | I24: =F24-G24-H24 -> -3179920 | J24: =I24-K24 -> -3179920 | L24: =IFERROR(G24/E24,0)*100 -> 0 | M24: =IFERROR(G24/F24,0)*100 -> 103.72905
C25: 213-03 재활용품수거판매수입 | I25: =F25-G25-H25 -> 0 | J25: =I25-K25 -> 0 | L25: =IFERROR(G25/E25,0)*100 -> 0 | M25: =IFERROR(G25/F25,0)*100 -> 0
C26: 213-04 보건의료수수료 | F26: 0 | G26: 0 | H26: 0 | I26: =F26-G26-H26 -> 0 | J26: =I26-K26 -> 0
C27: 213-05 기타수수료 | F27: 7660 | G27: 21660 | H27: 0 | I27: =F27-G27-H27 -> -14000 | J27: =I27-K27 -> -14000 | L27: =IFERROR(G27/E27,0)*100 -> 0 | M27: =IFERROR(G27/F27,0)*100 -> 282.76762
B28: 214 사업수입 | E28: =SUM(E29:E33) -> 0 | F28: =SUM(F29:F33) -> 0 | G28: =SUM(G29:G33) -> 0 | H28: =SUM(H29:H33) -> 0 | I28: =SUM(I29:I33) -> 0 | J28: =SUM(J29:J33) -> 0 | K28: =SUM(K29:K33) -> 0 | L28: =IFERROR(G28/E28,0)*100 -> 0 | M28: =IFERROR(G28/F28,0)*100 -> 0
C29: 214-01 사업장생산수입 | I29: =F29-G29-H29 -> 0 | J29: =I29-K29 -> 0 | L29: =IFERROR(G29/E29,0)*100 -> 0 | M29: =IFERROR(G29/F29,0)*100 -> 0
C30: 214-02 청산금수입 | I30: =F30-G30-H30 -> 0 | J30: =I30-K30 -> 0 | L30: =IFERROR(G30/E30,0)*100 -> 0 | M30: =IFERROR(G30/F30,0)*100 -> 0
C31: 214-03 매각사업수입 | I31: =F31-G31-H31 -> 0 | J31: =I31-K31 -> 0 | L31: =IFERROR(G31/E31,0)*100 -> 0 | M31: =IFERROR(G31/F31,0)*100 -> 0
C32: 214-04 배당금수입 | I32: =F32-G32-H32 -> 0 | J32: =I32-K32 -> 0 | L32: =IFERROR(G32/E32,0)*100 -> 0 | M32: =IFERROR(G32/F32,0)*100 -> 0
C33: 214-05 기타사업수입 | I33: =F33-G33-H33 -> 0 | J33: =I33-K33 -> 0 | L33: =IFERROR(G33/E33,0)*100 -> 0 | M33: =IFERROR(G33/F33,0)*100 -> 0
B34: 215 징수교부금수입 | E34: =E35 -> 0 | F34: =F35 -> 0 | G34: =G35 -> 0 | H34: =H35 -> 0 | I34: =I35 -> 0 | J34: =J35 -> 0 | K34: =K35 -> 0 | L34: =IFERROR(G34/E34,0)*100 -> 0 | M34: =IFERROR(G34/F34,0)*100 -> 0
C35: 215-01 징수교부금수입 | I35: =F35-G35-H35 -> 0 | J35: =I35-K35 -> 0 | L35: =IFERROR(G35/E35,0)*100 -> 0 | M35: =IFERROR(G35/F35,0)*100 -> 0
B36: 216 이자수입 | E36: =SUM(E37:E39) -> 0 | F36: =SUM(F37:F39) -> 0 | G36: =SUM(G37:G39) -> 0 | H36: =SUM(H37:H39) -> 0 | I36: =SUM(I37:I39) -> 0 | J36: =SUM(J37:J39) -> 0 | K36: =SUM(K37:K39) -> 0 | L36: =IFERROR(G36/E36,0)*100 -> 0 | M36: =IFERROR(G36/F36,0)*100 -> 0
C37: 216-01 공공예금이자수입 | I37: =F37-G37-H37 -> 0 | J37: =I37-K37 -> 0 | L37: =IFERROR(G37/E37,0)*100 -> 0 | M37: =IFERROR(G37/F37,0)*100 -> 0
C38: 216-02 융자금회수이자수입 | I38: =F38-G38-H38 -> 0 | J38: =I38-K38 -> 0 | L38: =IFERROR(G38/E38,0)*100 -> 0 | M38: =IFERROR(G38/F38,0)*100 -> 0
C39: 216-03 기타이자수입 | I39: =F39-G39-H39 -> 0 | J39: =I39-K39 -> 0 | L39: =IFERROR(G39/E39,0)*100 -> 0 | M39: =IFERROR(G39/F39,0)*100 -> 0
B40: 220 임시적세외수입 | E40: =E41+E46+E49+E53 -> 0 | F40: =F41+F46+F49+F53 -> 2254537791 | G40: =G41+G46+G49+G53 -> 100566396 | H40: =H41+H46+H49+H53 -> 3167110 | I40: =I41+I46+I49+I53 -> 2150804285 | J40: =J41+J46+J49+J53 -> 2150804285 | K40: =K41+K46+K49+K53 -> 0 | L40: =L41+L46+L49+L53 -> 0 | M40: =M41+M46+M49+M53 -> 4.4606214
B41: 221 재산매각수입 | E41: =SUM(E42:E45) -> 0 | F41: =SUM(F42:F45) -> 0 | G41: =SUM(G42:G45) -> 0 | H41: =SUM(H42:H45) -> 0 | I41: =SUM(I42:I45) -> 0 | J41: =SUM(J42:J45) -> 0 | K41: =SUM(K42:K45) -> 0 | L41: =IFERROR(G41/E41,0)*100 -> 0 | M41: =IFERROR(G41/F41,0)*100 -> 0
C42: 221-01 국유재산매각귀속수입금 | I42: =F42-G42-H42 -> 0 | J42: =I42-K42 -> 0 | L42: =IFERROR(G42/E42,0)*100 -> 0 | M42: =IFERROR(G42/F42,0)*100 -> 0
C43: 221-02 시도유재산매각귀속수입금 | I43: =F43-G43-H43 -> 0 | J43: =I43-K43 -> 0 | L43: =IFERROR(G43/E43,0)*100 -> 0 | M43: =IFERROR(G43/F43,0)*100 -> 0
C44: 221-03 공유재산매각수입금 | F44: 0 | G44: 0 | H44: 0 | I44: =F44-G44-H44 -> 0 | J44: =I44-K44 -> 0
C45: 221-04 불용품매각대금 | I45: =F45-G45-H45 -> 0 | J45: =I45-K45 -> 0 | L45: =IFERROR(G45/E45,0)*100 -> 0 | M45: =IFERROR(G45/F45,0)*100 -> 0
B46: 222 자치단체간부담금 | E46: =E47 -> 0 | F46: =SUM(F47:F48) -> 0 | G46: =SUM(G47:G48) -> 0 | H46: =SUM(H47:H48) -> 0 | I46: =SUM(I47:I48) -> 0 | J46: =SUM(J47:J48) -> 0 | K46: =SUM(K47:K48) -> 0 | L46: =IFERROR(G46/E46,0)*100 -> 0 | M46: =IFERROR(G46/F46,0)*100 -> 0
C47: 222-01 자치단체간부담금 | I47: =F47-G47-H47 -> 0 | J47: =I47-K47 -> 0 | L47: =IFERROR(G47/E47,0)*100 -> 0 | M47: =IFERROR(G47/F47,0)*100 -> 0
C48: 222-02 일반부담금 | G48: 0 | H48: 0 | I48: =F48-G48-H48 -> 0 | J48: =I48-K48 -> 0 | K48: 0 | L48: =IFERROR(G48/E48,0)*100 -> 0 | M48: =IFERROR(G48/F48,0)*100 -> 0
B49: 223 보조금반환수입 | E49: =SUM(E50:E52) -> 0 | F49: =SUM(F50:F52) -> 0 | G49: =SUM(G50:G52) -> 0 | H49: =SUM(H50:H52) -> 0 | I49: =SUM(I50:I52) -> 0 | J49: =SUM(J50:J52) -> 0 | K49: =SUM(K50:K52) -> 0 | L49: =IFERROR(G49/E49,0)*100 -> 0 | M49: =IFERROR(G49/F49,0)*100 -> 0
C50: 223-01 시ㆍ도비보조금등반환수입 | I50: =F50-G50-H50 -> 0 | J50: =I50-K50 -> 0 | L50: =IFERROR(G50/E50,0)*100 -> 0 | M50: =IFERROR(G50/F50,0)*100 -> 0
C51: 223-02 자체보조금등반환수입 | I51: =F51-G51-H51 -> 0 | J51: =I51-K51 -> 0 | L51: =IFERROR(G51/E51,0)*100 -> 0 | M51: =IFERROR(G51/F51,0)*100 -> 0
C52: 223-03 위탁비반환수입 | I52: =F52-G52-H52 -> 0 | J52: =I52-K52 -> 0 | L52: =IFERROR(G52/E52,0)*100 -> 0 | M52: =IFERROR(G52/F52,0)*100 -> 0
B53: 224 기타수입 | E53: =SUM(E54:E60) -> 0 | F53: =SUM(F54:F60) -> 2254537791 | G53: =SUM(G54:G60) -> 100566396 | H53: =SUM(H54:H60) -> 3167110 | I53: =SUM(I54:I60) -> 2150804285 | J53: =SUM(J54:J60) -> 2150804285 | K53: =SUM(K54:K60) -> 0 | L53: =IFERROR(G53/E53,0)*100 -> 0 | M53: =IFERROR(G53/F53,0)*100 -> 4.4606214
C54: 224-01 체납처분수입 | I54: =F54-G54-H54 -> 0 | J54: =I54-K54 -> 0 | L54: =IFERROR(G54/E54,0)*100 -> 0 | M54: =IFERROR(G54/F54,0)*100 -> 0
C55: 224-02 보상금수납금 | I55: =F55-G55-H55 -> 0 | J55: =I55-K55 -> 0 | L55: =IFERROR(G55/E55,0)*100 -> 0 | M55: =IFERROR(G55/F55,0)*100 -> 0
C56: 224-03 기부금수입 | I56: =F56-G56-H56 -> 0 | J56: =I56-K56 -> 0 | L56: =IFERROR(G56/E56,0)*100 -> 0 | M56: =IFERROR(G56/F56,0)*100 -> 0
C57: 224-04 지적재조사조정금 | F57: 2050067140 | G57: 95190600 | H57: 1007110 | I57: =F57-G57-H57 -> 1953869430 | J57: =I57-K57 -> 1953869430 | L57: =IFERROR(G57/E57,0)*100 -> 0 | M57: =IFERROR(G57/F57,0)*100 -> 4.6432918
C58: 224-05 지방교부세감소분보전수입 | I58: =F58-G58-H58 -> 0 | J58: =I58-K58 -> 0 | L58: =IFERROR(G58/E58,0)*100 -> 0 | M58: =IFERROR(G58/F58,0)*100 -> 0
C59: 224-06 위약금 | I59: =F59-G59-H59 -> 0 | J59: =I59-K59 -> 0 | L59: =IFERROR(G59/E59,0)*100 -> 0 | M59: =IFERROR(G59/F59,0)*100 -> 0
C60: 224-07 그외수입 | F60: 204470651 | G60: 5375796 | H60: 2160000 | I60: =F60-G60-H60 -> 196934855 | J60: =I60-K60 -> 196934855 | L60: =IFERROR(G60/E60,0)*100 -> 0 | M60: =IFERROR(G60/F60,0)*100 -> 2.6291284
B61: 230 지방행정제재‧부과금 | E61: =E62+E64+E66+E68+E71+E73+E75 -> 0 | F61: =F62+F64+F66+F68+F71+F73+F75 -> 15798372044 | G61: =G62+G64+G66+G68+G71+G73+G75 -> 1276358045 | H61: =H62+H64+H66+H68+H71+H73+H75 -> 1216398160 | I61: =I62+I64+I66+I68+I71+I73+I75 -> 13305615839 | J61: =J62+J64+J66+J68+J71+J73+J75 -> 13305615839 | K61: =K62+K64+K66+K68+K71+K73+K75 -> 0 | L61: =IFERROR(G61/E61,0)*100 -> 0 | M61: =IFERROR(G61/F61,0)*100 -> 8.0790479
B62: 231 과징금 | E62: =E63 -> 0 | F62: =F63 -> 2493042213 | G62: =G63 -> 16609000 | H62: =H63 -> 14191560 | I62: =I63 -> 2462241653 | J62: =J63 -> 2462241653 | K62: =K63 -> 0 | L62: =IFERROR(G62/E62,0)*100 -> 0 | M62: =IFERROR(G62/F62,0)*100 -> 0.66621415
C63: 231-01 과징금 | F63: 2493042213 | G63: 16609000 | H63: 14191560 | I63: =F63-G63-H63 -> 2462241653 | J63: =I63-K63 -> 2462241653 | L63: =IFERROR(G63/E63,0)*100 -> 0 | M63: =IFERROR(G63/F63,0)*100 -> 0.66621415
B64: 232 이행강제금 | E64: =E65 -> 0 | F64: =F65 -> 697535320 | G64: =G65 -> 74661100 | H64: =H65 -> 216304050 | I64: =I65 -> 406570170 | J64: =J65 -> 406570170 | K64: =K65 -> 0 | L64: =IFERROR(G64/E64,0)*100 -> 0 | M64: =IFERROR(G64/F64,0)*100 -> 10.703558
C65: 232-01 이행강제금 | F65: 697535320 | G65: 74661100 | H65: 216304050 | I65: =F65-G65-H65 -> 406570170 | J65: =I65-K65 -> 406570170 | L65: =IFERROR(G65/E65,0)*100 -> 0 | M65: =IFERROR(G65/F65,0)*100 -> 10.703558
B66: 233 변상금 | E66: =E67 -> 0 | F66: =F67 -> 525511249 | G66: =G67 -> 45258340 | H66: =H67 -> 35320920 | I66: =I67 -> 444931989 | J66: =J67 -> 444931989 | K66: =K67 -> 0 | L66: =IFERROR(G66/E66,0)*100 -> 0 | M66: =IFERROR(G66/F66,0)*100 -> 8.6122495
C67: 233-01 변상금 | F67: 525511249 | G67: 45258340 | H67: 35320920 | I67: =F67-G67-H67 -> 444931989 | J67: =I67-K67 -> 444931989 | L67: =IFERROR(G67/E67,0)*100 -> 0 | M67: =IFERROR(G67/F67,0)*100 -> 8.6122495
B68: 234 과태료 | E68: =SUM(E69:E70) -> 0 | F68: =SUM(F69:F70) -> 11987329902 | G68: =SUM(G69:G70) -> 1145245085 | H68: =SUM(H69:H70) -> 944488570 | I68: =SUM(I69:I70) -> 9897596247 | J68: =SUM(J69:J70) -> 9897596247 | K68: =SUM(K69:K70) -> 0 | L68: =IFERROR(G68/E68,0)*100 -> 0 | M68: =IFERROR(G68/F68,0)*100 -> 9.5537963
C69: 234-01 차량관련과태료 | F69: 9734849755 | G69: 863585038 | H69: 790386130 | I69: =F69-G69-H69 -> 8080878587 | J69: =I69-K69 -> 8080878587 | L69: =IFERROR(G69/E69,0)*100 -> 0 | M69: =IFERROR(G69/F69,0)*100 -> 8.8710669
C70: 234-02 기타과태료 | F70: 2252480147 | G70: 281660047 | H70: 154102440 | I70: =F70-G70-H70 -> 1816717660 | J70: =I70-K70 -> 1816717660 | L70: =IFERROR(G70/E70,0)*100 -> 0 | M70: =IFERROR(G70/F70,0)*100 -> 12.504441
B71: 235 환수금 | E71: =E72 -> 0 | F71: =F72 -> 91265730 | G71: =G72 -> 17708410 | H71: =H72 -> 6049050 | I71: =I72 -> 67508270 | J71: =J72 -> 67508270 | K71: =K72 -> 0 | L71: =IFERROR(G71/E71,0)*100 -> 0 | M71: =IFERROR(G71/F71,0)*100 -> 19.403132
C72: 235-01 부정이익환수금 | F72: 91265730 | G72: 17708410 | H72: 6049050 | I72: =F72-G72-H72 -> 67508270 | J72: =I72-K72 -> 67508270 | L72: =IFERROR(G72/E72,0)*100 -> 0 | M72: =IFERROR(G72/F72,0)*100 -> 19.403132
B73: 236 부담금 | E73: =E74 -> 0 | F73: =F74 -> 2187630 | G73: =G74 -> -23123890 | H73: =H74 -> 44010 | I73: =I74 -> 25267510 | J73: =J74 -> 25267510 | K73: =K74 -> 0 | L73: =IFERROR(G73/E73,0)*100 -> 0 | M73: =IFERROR(G73/F73,0)*100 -> -1057.0293
C74: 236-01 부담금 | F74: 2187630 | G74: -23123890 | H74: 44010 | I74: =F74-G74-H74 -> 25267510 | J74: =I74-K74 -> 25267510 | L74: =IFERROR(G74/E74,0)*100 -> 0 | M74: =IFERROR(G74/F74,0)*100 -> -1057.0293
B75: 237 범칙금 | E75: =E76 -> 0 | F75: =F76 -> 1500000 | G75: =G76 -> 0 | H75: =H76 -> 0 | I75: =I76 -> 1500000 | J75: =J76 -> 1500000 | K75: =K76 -> 0 | L75: =IFERROR(G75/E75,0)*100 -> 0 | M75: =IFERROR(G75/F75,0)*100 -> 0
C76: 237-01 범칙금 | F76: 1500000 | G76: 0 | H76: 0 | I76: =F76-G76-H76 -> 1500000 | J76: =I76-K76 -> 1500000 | L76: =IFERROR(G76/E76,0)*100 -> 0 | M76: =IFERROR(G76/F76,0)*100 -> 0

Sheet 군구세외 특별회계
B2: =B4&L3&" 기타특별회계 세외수입 징수현황" -> 2023년 12월 미추홀구 기타특별회계 세외수입 징수현황
K3: 기관명 | L3: ='군구세외 일반회계'!L3:M3 -> 미추홀구
B4: ='군구세외 일반회계'!B4:D4 -> 2023년 12월 | L4: (단위:원,%)
D5: 구 분 | E5: 최종예산액 | F5: 징수결정액 | G5: 징 수 액 | H5: 정리보류액 | I5: 미수납액 | L5: 징수율
B6: 항 목 별 | E6: (A) | F6: (B) | G6: (C) | H6: (D) | I6: 미수납액 (E=B-C-D) | J6: 체납액 (F=E-G) | K6: 납기미도래 (G) | L6: (C/A) | M6: (C/B)
B7: 200 세외수입 | E7: =E8+E40+E62 -> 6284017000 | F7: =F8+F40+F62 -> 12454409653 | G7: =G8+G40+G62 -> 6877214340 | H7: =H8+H40+H62 -> 217217875 | I7: =I8+I40+I62 -> 5758106358 | J7: =J8+J40+J62 -> 5758106358 | K7: =K8+K40+K62 -> 0 | L7: =IFERROR(G7/E7,0)*100 -> 109.43978 | M7: =IFERROR(G7/F7,0)*100 -> 55.219111
B8: 210 경상적세외수입 | E8: =E9+E12+E22+E28+E34+E36 -> 3382865000 | F8: =F9+F12+F22+F28+F34+F36 -> 3708947120 | G8: =G9+G12+G22+G28+G34+G36 -> 3701677720 | H8: =H9+H12+H22+H28+H34+H36 -> 0 | I8: =I9+I12+I22+I28+I34+I36 -> 7269400 | J8: =J9+J12+J22+J28+J34+J36 -> 7269400 | K8: =K9+K12+K22+K28+K34+K36 -> 0 | L8: =IFERROR(G8/E8,0)*100 -> 109.42434 | M8: =IFERROR(G8/F8,0)*100 -> 99.804004
B9: 211 재산임대수입 | E9: =SUM(E10:E11) -> 0 | F9: =SUM(F10:F11) -> 0 | G9: =SUM(G10:G11) -> 0 | H9: =SUM(H10:H11) -> 0 | I9: =SUM(I10:I11) -> 0 | J9: =SUM(J10:J11) -> 0 | K9: =SUM(K10:K11) -> 0 | L9: =IFERROR(G9/E9,0)*100 -> 0 | M9: =IFERROR(G9/F9,0)*100 -> 0
C10: 211-01 국유재산임대료 | I10: =F10-G10-H10 -> 0 | J10: =I10-K10 -> 0 | L10: =IFERROR(G10/E10,0)*100 -> 0 | M10: =IFERROR(G10/F10,0)*100 -> 0
C11: 211-02 공유재산임대료 | I11: =F11-G11-H11 -> 0 | J11: =I11-K11 -> 0 | L11: =IFERROR(G11/E11,0)*100 -> 0 | M11: =IFERROR(G11/F11,0)*100 -> 0
B12: 212 사용료수입 | E12: =SUM(E13:E21) -> 2881150000 | F12: =SUM(F13:F21) -> 3185921040 | G12: =SUM(G13:G21) -> 3178741340 | H12: =SUM(H13:H21) -> 0 | I12: =SUM(I13:I21) -> 7179700 | J12: =SUM(J13:J21) -> 7179700 | K12: =SUM(K13:K21) -> 0 | L12: =IFERROR(G12/E12,0)*100 -> 110.32891 | M12: =IFERROR(G12/F12,0)*100 -> 99.774643
C13: 212-01 도로사용료 | I13: =F13-G13-H13 -> 0 | J13: =I13-K13 -> 0 | L13: =IFERROR(G13/E13,0)*100 -> 0 | M13: =IFERROR(G13/F13,0)*100 -> 0
C14: 212-02 하천사용료 | I14: =F14-G14-H14 -> 0 | J14: =I14-K14 -> 0 | L14: =IFERROR(G14/E14,0)*100 -> 0 | M14: =IFERROR(G14/F14,0)*100 -> 0
C15: 212-03 하수도사용료 | I15: =F15-G15-H15 -> 0 | J15: =I15-K15 -> 0 | L15: =IFERROR(G15/E15,0)*100 -> 0 | M15: =IFERROR(G15/F15,0)*100 -> 0
C16: 212-04 상수도사용료 | I16: =F16-G16-H16 -> 0 | J16: =I16-K16 -> 0 | L16: =IFERROR(G16/E16,0)*100 -> 0 | M16: =IFERROR(G16/F16,0)*100 -> 0
C17: 212-05 공유수면사용료 | I17: =F17-G17-H17 -> 0 | J17: =I17-K17 -> 0 | L17: =IFERROR(G17/E17,0)*100 -> 0 | M17: =IFERROR(G17/F17,0)*100 -> 0
C18: 212-06 시장사용료 | I18: =F18-G18-H18 -> 0 | J18: =I18-K18 -> 0 | L18: =IFERROR(G18/E18,0)*100 -> 0 | M18: =IFERROR(G18/F18,0)*100 -> 0
C19: 212-07 입장료수입 | I19: =F19-G19-H19 -> 0 | J19: =I19-K19 -> 0 | L19: =IFERROR(G19/E19,0)*100 -> 0 | M19: =IFERROR(G19/F19,0)*100 -> 0
C20: 212-08 주차요금수입 | E20: 2880000000 | F20: 3183414777 | G20: 3176235077 | H20: 0 | I20: =F20-G20-H20 -> 7179700 | J20: =I20-K20 -> 7179700 | L20: =IFERROR(G20/E20,0)*100 -> 110.28594 | M20: =IFERROR(G20/F20,0)*100 -> 99.774465
C21: 212-09 기타사용료 | E21: 1150000 | F21: 2506263 | G21: 2506263 | H21: 0 | I21: =F21-G21-H21 -> 0 | J21: =I21-K21 -> 0 | L21: =IFERROR(G21/E21,0)*100 -> 217.93591 | M21: =IFERROR(G21/F21,0)*100 -> 100
B22: 213 수수료수입 | E22: =SUM(E23:E27) -> 45000000 | F22: =SUM(F23:F27) -> 44030677 | G22: =SUM(G23:G27) -> 44030677 | H22: =SUM(H23:H27) -> 0 | I22: =SUM(I23:I27) -> 0 | J22: =SUM(J23:J27) -> 0 | K22: =SUM(K23:K27) -> 0 | L22: =IFERROR(G22/E22,0)*100 -> 97.845949 | M22: =IFERROR(G22/F22,0)*100 -> 100
C23: 213-01 증지수입 | I23: =F23-G23-H23 -> 0 | J23: =I23-K23 -> 0 | L23: =IFERROR(G23/E23,0)*100 -> 0 | M23: =IFERROR(G23/F23,0)*100 -> 0
C24: 213-02 폐기물처리수수료 | I24: =F24-G24-H24 -> 0 | J24: =I24-K24 -> 0 | L24: =IFERROR(G24/E24,0)*100 -> 0 | M24: =IFERROR(G24/F24,0)*100 -> 0
C25: 213-03 재활용품수거판매수입 | I25: =F25-G25-H25 -> 0 | J25: =I25-K25 -> 0 | L25: =IFERROR(G25/E25,0)*100 -> 0 | M25: =IFERROR(G25/F25,0)*100 -> 0
C26: 213-04 보건의료수수료 | I26: =F26-G26-H26 -> 0 | J26: =I26-K26 -> 0
C27: 213-05 기타수수료 | E27: 45000000 | F27: 44030677 | G27: 44030677 | I27: =F27-G27-H27 -> 0 | J27: =I27-K27 -> 0 | L27: =IFERROR(G27/E27,0)*100 -> 97.845949 | M27: =IFERROR(G27/F27,0)*100 -> 100
B28: 214 사업수입 | E28: =SUM(E29:E33) -> 32400000 | F28: =SUM(F29:F33) -> 10900200 | G28: =SUM(G29:G33) -> 10810500 | H28: =SUM(H29:H33) -> 0 | I28: =SUM(I29:I33) -> 89700 | J28: =SUM(J29:J33) -> 89700 | K28: =SUM(K29:K33) -> 0 | L28: =IFERROR(G28/E28,0)*100 -> 33.365741 | M28: =IFERROR(G28/F28,0)*100 -> 99.177079
C29: 214-01 사업장생산수입 | I29: =F29-G29-H29 -> 0 | J29: =I29-K29 -> 0 | L29: =IFERROR(G29/E29,0)*100 -> 0 | M29: =IFERROR(G29/F29,0)*100 -> 0
C30: 214-02 청산금수입 | I30: =F30-G30-H30 -> 0 | J30: =I30-K30 -> 0 | L30: =IFERROR(G30/E30,0)*100 -> 0 | M30: =IFERROR(G30/F30,0)*100 -> 0
C31: 214-03 매각사업수입 | I31: =F31-G31-H31 -> 0 | J31: =I31-K31 -> 0 | L31: =IFERROR(G31/E31,0)*100 -> 0 | M31: =IFERROR(G31/F31,0)*100 -> 0
C32: 214-04 배당금수입 | I32: =F32-G32-H32 -> 0 | J32: =I32-K32 -> 0 | L32: =IFERROR(G32/E32,0)*100 -> 0 | M32: =IFERROR(G32/F32,0)*100 -> 0
C33: 214-05 기타사업수입 | E33: 32400000 | F33: 10900200 | G33: 10810500 | H33: 0 | I33: =F33-G33-H33 -> 89700 | J33: =I33-K33 -> 89700 | L33: =IFERROR(G33/E33,0)*100 -> 33.365741 | M33: =IFERROR(G33/F33,0)*100 -> 99.177079
B34: 215 징수교부금수입 | E34: 205212000 | F34: 205212000 | G34: 205212000 | H34: 0 | I34: =I35 -> 0 | J34: =J35 -> 0 | K34: =K35 -> 0 | L34: =IFERROR(G34/E34,0)*100 -> 100 | M34: =IFERROR(G34/F34,0)*100 -> 100
C35: 215-01 징수교부금수입 | E35: 205212000 | F35: 205212000 | G35: 205212000 | H35: 0 | I35: =F35-G35-H35 -> 0 | J35: =I35-K35 -> 0 | L35: =IFERROR(G35/E35,0)*100 -> 100 | M35: =IFERROR(G35/F35,0)*100 -> 100
B36: 216 이자수입 | E36: 219103000 | F36: 262883203 | G36: 262883203 | H36: 0 | I36: =SUM(I37:I39) -> 0 | J36: =SUM(J37:J39) -> 0 | K36: =SUM(K37:K39) -> 0 | L36: =IFERROR(G36/E36,0)*100 -> 119.98156 | M36: =IFERROR(G36/F36,0)*100 -> 100
C37: 216-01 공공예금이자수입 | E37: 199103000 | F37: 202561770 | G37: 202561770 | H37: 0 | I37: =F37-G37-H37 -> 0 | J37: =I37-K37 -> 0 | L37: =IFERROR(G37/#REF!,0)*100 -> 0 | M37: =IFERROR(G37/F37,0)*100 -> 100
C38: 216-02 융자금회수이자수입 | E38: 0 | F38: 0 | G38: 0 | H38: 0 | I38: =F38-G38-H38 -> 0 | J38: =I38-K38 -> 0 | L38: =IFERROR(G38/E38,0)*100 -> 0 | M38: =IFERROR(G38/F38,0)*100 -> 0
C39: 216-03 기타이자수입 | E39: 20000000 | F39: 60321433 | G39: 60321433 | H39: 0 | I39: =F39-G39-H39 -> 0 | J39: =I39-K39 -> 0 | L39: =IFERROR(G39/E39,0)*100 -> 301.60717 | M39: =IFERROR(G39/F39,0)*100 -> 100
B40: 220 임시적세외수입 | E40: 801152000 | F40: 5463994683 | G40: 682901730 | H40: 217217875 | I40: =I41+I46+I48+I52+I60 -> 4962003998 | J40: =J41+J46+J48+J52+J60 -> 4962003998 | K40: =K41+K46+K48+K52+K60 -> 0 | L40: =IFERROR(G40/E40,0)*100 -> 85.239971 | M40: =IFERROR(G40/F40,0)*100 -> 12.498214
B41: 221 재산매각수입 | E41: 0 | F41: 0 | G41: 0 | H41: 0 | I41: =SUM(I42:I45) -> 0 | J41: =SUM(J42:J45) -> 0 | K41: =SUM(K42:K45) -> 0 | L41: =IFERROR(G41/E41,0)*100 -> 0 | M41: =IFERROR(G41/F41,0)*100 -> 0
C42: 221-01 국유재산매각귀속수입금 | E42: 0 | F42: 0 | G42: 0 | H42: 0 | I42: =F42-G42-H42 -> 0 | J42: =I42-K42 -> 0 | L42: =IFERROR(G42/E42,0)*100 -> 0 | M42: =IFERROR(G42/F42,0)*100 -> 0
C43: 221-02 시도유재산매각귀속수입금 | E43: 0 | F43: 0 | G43: 0 | H43: 0 | I43: =F43-G43-H43 -> 0 | J43: =I43-K43 -> 0 | L43: =IFERROR(G43/E43,0)*100 -> 0 | M43: =IFERROR(G43/F43,0)*100 -> 0
C44: 221-03 공유재산매각수입금 | E44: 0 | F44: 0 | G44: 0 | H44: 0 | I44: =F44-G44-H44 -> 0 | J44: =I44-K44 -> 0 | L44: =IFERROR(G44/E44,0)*100 -> 0 | M44: =IFERROR(G44/F44,0)*100 -> 0
C45: 221-04 불용품매각대금 | E45: 0 | F45: 0 | G45: 0 | H45: 0 | I45: =F45-G45-H45 -> 0 | J45: =I45-K45 -> 0 | L45: =IFERROR(G45/E45,0)*100 -> 0 | M45: =IFERROR(G45/F45,0)*100 -> 0
B46: 222 자치단체간부담금 | E46: 0 | F46: 0 | G46: 0 | H46: 0 | I46: =I47 -> 0 | J46: =J47 -> 0 | K46: =K47 -> 0 | L46: =IFERROR(G46/E46,0)*100 -> 0 | M46: =IFERROR(G46/F46,0)*100 -> 0
C47: 222-01 자치단체간부담금 | E47: 0 | F47: 0 | G47: 0 | H47: 0 | I47: =F47-G47-H47 -> 0 | J47: =I47-K47 -> 0 | L47: =IFERROR(G47/E47,0)*100 -> 0 | M47: =IFERROR(G47/F47,0)*100 -> 0
B48: 223 보조금반환수입 | E48: 1152000 | F48: 0 | G48: 0 | H48: 0 | I48: =SUM(I49:I51) -> 0 | J48: =SUM(J49:J51) -> 0 | K48: =SUM(K49:K51) -> 0 | L48: =IFERROR(G48/E48,0)*100 -> 0 | M48: =IFERROR(G48/F48,0)*100 -> 0
C49: 223-01 시ㆍ도비보조금등반환수입 | E49: 1152000 | F49: 0 | G49: 0 | H49: 0 | I49: =F49-G49-H49 -> 0 | J49: =I49-K49 -> 0 | L49: =IFERROR(G49/E49,0)*100 -> 0 | M49: =IFERROR(G49/F49,0)*100 -> 0
C50: 223-02 자체보조금등반환수입 | E50: 0 | F50: 0 | G50: 0 | H50: 0 | I50: =F50-G50-H50 -> 0 | J50: =I50-K50 -> 0 | L50: =IFERROR(G50/E50,0)*100 -> 0 | M50: =IFERROR(G50/F50,0)*100 -> 0
C51: 223-03 위탁비반환수입 | E51: 0 | F51: 0 | G51: 0 | H51: 0 | I51: =F51-G51-H51 -> 0 | J51: =I51-K51 -> 0 | L51: =IFERROR(G51/E51,0)*100 -> 0 | M51: =IFERROR(G51/F51,0)*100 -> 0
B52: 224 기타수입 | E52: 70000000 | F52: 131347700 | G52: 76311560 | H52: 0 | I52: =SUM(I53:I59) -> 55054140 | J52: =SUM(J53:J59) -> 55054140 | K52: =SUM(K53:K59) -> 0 | L52: =IFERROR(G52/E52,0)*100 -> 109.01651 | M52: =IFERROR(G52/F52,0)*100 -> 58.098893
C53: 224-01 체납처분수입 | E53: 0 | F53: 0 | G53: 0 | H53: 0 | I53: =F53-G53-H53 -> 0 | J53: =I53-K53 -> 0 | L53: =IFERROR(G53/E53,0)*100 -> 0 | M53: =IFERROR(G53/F53,0)*100 -> 0
C54: 224-02 보상금수납금 | E54: 0 | F54: 0 | G54: 0 | H54: 0 | I54: =F54-G54-H54 -> 0 | J54: =I54-K54 -> 0 | L54: =IFERROR(G54/E54,0)*100 -> 0 | M54: =IFERROR(G54/F54,0)*100 -> 0
C55: 224-03 기부금수입 | E55: 0 | F55: 0 | G55: 0 | H55: 0 | I55: =F55-G55-H55 -> 0 | J55: =I55-K55 -> 0 | L55: =IFERROR(G55/E55,0)*100 -> 0 | M55: =IFERROR(G55/F55,0)*100 -> 0
C56: 224-04 지적재조사조정금 | E56: 0 | F56: 0 | G56: 0 | H56: 0 | I56: =F56-G56-H56 -> 0 | J56: =I56-K56 -> 0 | L56: =IFERROR(G56/E56,0)*100 -> 0 | M56: =IFERROR(G56/F56,0)*100 -> 0
C57: 224-05 지방교부세감소분보전수입 | E57: 0 | F57: 0 | G57: 0 | H57: 0 | I57: =F57-G57-H57 -> 0 | J57: =I57-K57 -> 0 | L57: =IFERROR(G57/E57,0)*100 -> 0 | M57: =IFERROR(G57/F57,0)*100 -> 0
C58: 224-06 위약금 | E58: 0 | F58: 0 | G58: 0 | H58: 0 | I58: =F58-G58-H58 -> 0 | J58: =I58-K58 -> 0 | L58: =IFERROR(G58/E58,0)*100 -> 0 | M58: =IFERROR(G58/F58,0)*100 -> 0
C59: 224-07 그외수입 | E59: 70000000 | F59: 142407200 | G59: 87353060 | H59: 0 | I59: =F59-G59-H59 -> 55054140 | J59: =I59-K59 -> 55054140 | L59: =IFERROR(G59/E59,0)*100 -> 124.79009 | M59: =IFERROR(G59/F59,0)*100 -> 61.34034
B60: 225 지난년도수입 | E60: 730000000 | F60: 5332646983 | G60: 606590170 | H60: 217217875 | I60: =I61 -> 4906949858 | J60: =J61 -> 4906949858 | K60: =K61 -> 0 | L60: =IFERROR(G60/E60,0)*100 -> 83.094544 | M60: =IFERROR(G60/F60,0)*100 -> 11.37503
C61: 225-01 지난년도수입 | E61: 730000000 | F61: 5746554663 | G61: 622386930 | H61: 217217875 | I61: =F61-G61-H61 -> 4906949858 | J61: =I61-K61 -> 4906949858 | L61: =IFERROR(G61/E61,0)*100 -> 85.258484 | M61: =IFERROR(G61/F61,0)*100 -> 10.83061
B62: 230 지방행정제재‧부과금 | E62: 2100000000 | F62: 3281467850 | G62: 2492634890 | H62: 0 | I62: =I63+I65+I67+I69+I72+I74+I76 -> 788832960 | J62: =J63+J65+J67+J69+J72+J74+J76 -> 788832960 | K62: =K63+K65+K67+K69+K72+K74+K76 -> 0 | L62: =IFERROR(G62/E62,0)*100 -> 118.6969 | M62: =IFERROR(G62/F62,0)*100 -> 75.960972
B63: 231 과징금 | E63: 0 | F63: 0 | G63: 0 | H63: 0 | I63: =I64 -> 0 | J63: =J64 -> 0 | K63: =K64 -> 0 | L63: =IFERROR(G63/E63,0)*100 -> 0 | M63: =IFERROR(G63/F63,0)*100 -> 0
C64: 231-01 과징금 | E64: 0 | F64: 0 | G64: 0 | H64: 0 | I64: =F64-G64-H64 -> 0 | J64: =I64-K64 -> 0 | L64: =IFERROR(G64/E64,0)*100 -> 0 | M64: =IFERROR(G64/F64,0)*100 -> 0
B65: 232 이행강제금 | E65: 0 | F65: 0 | G65: 0 | H65: 0 | I65: =I66 -> 0 | J65: =J66 -> 0 | K65: =K66 -> 0 | L65: =IFERROR(G65/E65,0)*100 -> 0 | M65: =IFERROR(G65/F65,0)*100 -> 0
C66: 232-01 이행강제금 | E66: 0 | F66: 0 | G66: 0 | H66: 0 | I66: =F66-G66-H66 -> 0 | J66: =I66-K66 -> 0 | L66: =IFERROR(G66/E66,0)*100 -> 0 | M66: =IFERROR(G66/F66,0)*100 -> 0
B67: 233 변상금 | E67: 0 | F67: 0 | G67: 0 | H67: 0 | I67: =I68 -> 0 | J67: =J68 -> 0 | K67: =K68 -> 0 | L67: =IFERROR(G67/E67,0)*100 -> 0 | M67: =IFERROR(G67/F67,0)*100 -> 0
C68: 233-01 변상금 | E68: 0 | F68: 0 | G68: 0 | H68: 0 | I68: =F68-G68-H68 -> 0 | J68: =I68-K68 -> 0 | L68: =IFERROR(G68/E68,0)*100 -> 0 | M68: =IFERROR(G68/F68,0)*100 -> 0
B69: 234 과태료 | E69: 2100000000 | F69: 3281467850 | G69: 2492634890 | H69: 0 | I69: =SUM(I70:I71) -> 788832960 | J69: =SUM(J70:J71) -> 788832960 | K69: =SUM(K70:K71) -> 0 | L69: =IFERROR(G69/E69,0)*100 -> 118.6969 | M69: =IFERROR(G69/F69,0)*100 -> 75.960972
C70: 234-01 차량관련과태료 | E70: 2100000000 | F70: 3281467850 | G70: 2492634890 | H70: 0 | I70: =F70-G70-H70 -> 788832960 | J70: =I70-K70 -> 788832960 | L70: =IFERROR(G70/E70,0)*100 -> 118.6969 | M70: =IFERROR(G70/F70,0)*100 -> 75.960972
C71: 234-02 기타과태료 | E71: 0 | F71: 0 | G71: 0 | H71: 0 | I71: =F71-G71-H71 -> 0 | J71: =I71-K71 -> 0 | L71: =IFERROR(G71/E71,0)*100 -> 0 | M71: =IFERROR(G71/F71,0)*100 -> 0
B72: 235 환수금 | E72: 0 | F72: 0 | G72: 0 | H72: 0 | I72: =I73 -> 0 | J72: =J73 -> 0 | K72: =K73 -> 0 | L72: =IFERROR(G72/E72,0)*100 -> 0 | M72: =IFERROR(G72/F72,0)*100 -> 0
C73: 235-01 부정이익환수금 | E73: 0 | F73: 0 | G73: 0 | H73: 0 | I73: =F73-G73-H73 -> 0 | J73: =I73-K73 -> 0 | L73: =IFERROR(G73/E73,0)*100 -> 0 | M73: =IFERROR(G73/F73,0)*100 -> 0
B74: 236 부담금 | E74: 0 | F74: 0 | G74: 0 | H74: 0 | I74: =I75 -> 0 | J74: =J75 -> 0 | K74: =K75 -> 0 | L74: =IFERROR(G74/E74,0)*100 -> 0 | M74: =IFERROR(G74/F74,0)*100 -> 0
C75: 236-01 부담금 | E75: 0 | F75: 0 | G75: 0 | H75: 0 | I75: =F75-G75-H75 -> 0 | J75: =I75-K75 -> 0 | K75: 0 | L75: =IFERROR(G75/E75,0)*100 -> 0 | M75: =IFERROR(G75/F75,0)*100 -> 0
B76: 237 범칙금 | E76: 0 | F76: 0 | G76: 0 | H76: 0 | I76: =I77 -> 0 | J76: =J77 -> 0 | K76: =K77 -> 0 | L76: =IFERROR(G76/E76,0)*100 -> 0 | M76: =IFERROR(G76/F76,0)*100 -> 0
C77: 237-01 범칙금 | E77: 0 | F77: 0 | G77: 0 | H77: 0 | I77: =F77-G77-H77 -> 0 | J77: =I77-K77 -> 0 | L77: =IFERROR(G77/E77,0)*100 -> 0 | M77: =IFERROR(G77/F77,0)*100 -> 0

Sheet 군구 과목별
B2: =B4&L3&" 과목별 세외수입 징수현황" -> 2023년 12월 미추홀구 과목별 세외수입 징수현황
K3: 기관명 | L3: 미추홀구
B4: 2023년 12월 | L4: (단위:원,%)
D5: 구 분 | E5: 최종예산액 | F5: 징수결정액 | G5: 징 수 액 | H5: 정리보류액 | I5: 미수납액 | L5: 징수율
B6: 항 목 별 | E6: (A) | F6: (B) | G6: (C) | H6: (D) | I6: 미수납액 (E=B-C-D) | J6: 체납액 (F=E-G) | K6: 납기미도래 (G) | L6: (C/A) | M6: (C/B)
B7: 합 계 | E7: =SUM(E8:E9) -> 3712723000 | F7: =SUM(F8:F9) -> 22862205519 | G7: =SUM(G8:G9) -> 5422308388 | H7: =SUM(H8:H9) -> 1217843565 | I7: =F7-G7-H7 -> 16222053566 | J7: =I7-K7 -> 16047829146 | K7: =SUM(K8:K9) -> 174224420 | L7: =IFERROR(G7/E7,0)*100 -> 146.04667 | M7: =IFERROR(G7/F7,0)*100 -> 23.717346
C8: 현년도 | E8: =E11+E32 -> 2982723000 | F8: =F11+F32 -> 6771405340 | G8: =G11+G32 -> 3908524210 | H8: =H11+H32 -> 0 | I8: =F8-G8-H8 -> 2862881130 | J8: =I8-K8 -> 2689260670 | K8: =K11+K32 -> 173620460 | L8: =IFERROR(G8/E8,0)*100 -> 131.03879 | M8: =IFERROR(G8/F8,0)*100 -> 57.72102
C9: 과년도 | E9: =E12+E33 -> 730000000 | F9: =F12+F33 -> 16090800179 | G9: =G12+G33 -> 1513784178 | H9: =H12+H33 -> 1217843565 | I9: =F9-G9-H9 -> 13359172436 | J9: =I9-K9 -> 13358568476 | K9: =K12+K33 -> 603960 | L9: =IFERROR(G9/E9,0)*100 -> 207.3677 | M9: =IFERROR(G9/F9,0)*100 -> 9.407762
B10: 일반회계 | E10: =SUM(E11:E12) -> 882723000 | F10: =SUM(F11:F12) -> 15873670691 | G10: =SUM(G11:G12) -> 2331528308 | H10: =SUM(H11:H12) -> 1000625690 | I10: =F10-G10-H10 -> 12541516693 | J10: =I10-K10 -> 12367292273 | K10: =SUM(K11:K12) -> 174224420 | L10: =IFERROR(G10/E10,0)*100 -> 264.1291 | M10: =IFERROR(G10/F10,0)*100 -> 14.688022
C11: 현년도 | E11: =E14+E17+E20+E23+E26+E29 -> 882723000 | F11: =F14+F17+F20+F23+F26+F29 -> 3489937490 | G11: =G14+G17+G20+G23+G26+G29 -> 1415889320 | H11: =H14+H17+H20+H23+H26+H29 -> 0 | I11: =I14+I17+I20+I23+I26+I29 -> 2074048170 | J11: =J14+J17+J20+J23+J26+J29 -> 1900427710 | K11: =K14+K17+K20+K23+K26+K29 -> 173620460 | L11: =IFERROR(G11/E11,0)*100 -> 160.40018 | M11: =IFERROR(G11/F11,0)*100 -> 40.570621
C12: 과년도 | E12: =E15+E18+E21+E24+E27+E30 -> 0 | F12: =F15+F18+F21+F24+F27+F30 -> 12383733201 | G12: =G15+G18+G21+G24+G27+G30 -> 915638988 | H12: =H15+H18+H21+H24+H27+H30 -> 1000625690 | I12: =I15+I18+I21+I24+I27+I30 -> 10467468523 | J12: =J15+J18+J21+J24+J27+J30 -> 10466864563 | K12: =K15+K18+K21+K24+K27+K30 -> 603960 | L12: =IFERROR(G12/E12,0)*100 -> 0 | M12: =IFERROR(G12/F12,0)*100 -> 7.393885
B13: 국공유변상금 | E13: =SUM(E14:E15) -> 35723000 | F13: =SUM(F14:F15) -> 874506759 | G13: =SUM(G14:G15) -> 617814750 | H13: =SUM(H14:H15) -> 31503920 | I13: =SUM(I14:I15) -> 225188089 | J13: =SUM(J14:J15) -> 223980169 | K13: =SUM(K14:K15) -> 1207920 | L13: =IFERROR(G13/E13,0)*100 -> 1729.4593 | M13: =IFERROR(G13/F13,0)*100 -> 70.647224 | N13: 286-005 국유재산변상금 | O13: 286-006 시유재산변상금 | P13: 286-007 구유재산변상금 | Q13: 286-017 공유재산무단점유변상금
C14: 현년도 | E14: 35723000 | F14: 608849750 | G14: 575852120 | H14: 0 | I14: =F14-G14-H14 -> 32997630 | J14: =I14-K14 -> 32393670 | K14: 603960 | L14: =IFERROR(G14/E14,0)*100 -> 1611.9926 | M14: =IFERROR(G14/F14,0)*100 -> 94.580333
C15: 과년도 | F15: 265657009 | G15: 41962630 | H15: 31503920 | I15: =F15-G15-H15 -> 192190459 | J15: =I15-K15 -> 191586499 | K15: 603960 | L15: =IFERROR(G15/E15,0)*100 -> 0 | M15: =IFERROR(G15/F15,0)*100 -> 15.795793
B16: 책임보험미가입과태료 | E16: =SUM(E17:E18) -> 275000000 | F16: =SUM(F17:F18) -> 7721223133 | G16: =SUM(G17:G18) -> 769083881 | H16: =SUM(H17:H18) -> 600065820 | I16: =SUM(I17:I18) -> 6352073432 | J16: =SUM(J17:J18) -> 6302707632 | K16: =SUM(K17:K18) -> 49365800 | L16: =IFERROR(G16/E16,0)*100 -> 279.66687 | M16: =IFERROR(G16/F16,0)*100 -> 9.9606483 | N16: 288-080 자동차손해배상보장법위반과태료
C17: 현년도 | E17: 275000000 | F17: 786744400 | G17: 247991010 | H17: 0 | I17: =F17-G17-H17 -> 538753390 | J17: =I17-K17 -> 489387590 | K17: 49365800 | L17: =IFERROR(G17/E17,0)*100 -> 90.178549 | M17: =IFERROR(G17/F17,0)*100 -> 31.521166
C18: 과년도 | F18: 6934478733 | G18: 521092871 | H18: 600065820 | I18: =F18-G18-H18 -> 5813320042 | J18: =I18-K18 -> 5813320042 | K18: 0 | L18: =IFERROR(G18/E18,0)*100 -> 0 | M18: =IFERROR(G18/F18,0)*100 -> 7.5145211
B19: 자동차검사지연과태료 | E19: =SUM(E20:E21) -> 250000000 | F19: =SUM(F20:F21) -> 3003697191 | G19: =SUM(G20:G21) -> 600893757 | H19: =SUM(H20:H21) -> 134834200 | I19: =SUM(I20:I21) -> 2267969234 | J19: =SUM(J20:J21) -> 2213049234 | K19: =SUM(K20:K21) -> 54920000 | L19: =IFERROR(G19/E19,0)*100 -> 240.3575 | M19: =IFERROR(G19/F19,0)*100 -> 20.005138 | N19: 288-131 자동차검사지연과태료
C20: 현년도 | E20: 250000000 | F20: 809526170 | G20: 346125050 | H20: 0 | I20: =F20-G20-H20 -> 463401120 | J20: =I20-K20 -> 408481120 | K20: 54920000 | L20: =IFERROR(G20/E20,0)*100 -> 138.45002 | M20: =IFERROR(G20/F20,0)*100 -> 42.756499
C21: 과년도 | F21: 2194171021 | G21: 254768707 | H21: 134834200 | I21: =F21-G21-H21 -> 1804568114 | J21: =I21-K21 -> 1804568114 | K21: 0 | L21: =IFERROR(G21/E21,0)*100 -> 0 | M21: =IFERROR(G21/F21,0)*100 -> 11.61116
B22: 자동차정밀검사과태료 | E22: =SUM(E23:E24) -> 0 | F22: =SUM(F23:F24) -> 286031315 | G22: =SUM(G23:G24) -> 23743680 | H22: =SUM(H23:H24) -> 17917700 | I22: =SUM(I23:I24) -> 244369935 | J22: =SUM(J23:J24) -> 244369935 | K22: =SUM(K23:K24) -> 0 | L22: =IFERROR(G22/E22,0)*100 -> 0 | M22: =IFERROR(G22/F22,0)*100 -> 8.3010771 | N22: 288-330 배출가스정밀검사과태료
C23: 현년도 | E23: 0 | F23: 0 | G23: 0 | H23: 0 | I23: =F23-G23-H23 -> 0 | J23: =I23-K23 -> 0 | K23: 0 | L23: =IFERROR(G23/E23,0)*100 -> 0 | M23: =IFERROR(G23/F23,0)*100 -> 0
C24: 과년도 | F24: 286031315 | G24: 23743680 | H24: 17917700 | I24: =F24-G24-H24 -> 244369935 | J24: =I24-K24 -> 244369935 | K24: 0 | L24: =IFERROR(G24/E24,0)*100 -> 0 | M24: =IFERROR(G24/F24,0)*100 -> 8.3010771
B25: 부동산실명법과징금 | E25: =SUM(E26:E27) -> 1000000 | G25: =SUM(G26:G27) -> 10000 | H25: =SUM(H26:H27) -> 0 | I25: =SUM(I26:I27) -> 3264440363 | J25: =SUM(J26:J27) -> 3264440363 | K25: =SUM(K26:K27) -> 0 | L25: =IFERROR(G25/E25,0)*100 -> 1 | M25: =IFERROR(G25/F25,0)*100 -> 0 | N25: 288-211 부동산실권리자명의등기법과징금
C26: 현년도 | E26: 1000000 | F26: 879868500 | G26: 0 | H26: 0 | I26: =F26-G26-H26 -> 879868500 | J26: =I26-K26 -> 879868500 | K26: 0 | L26: =IFERROR(G26/E26,0)*100 -> 0 | M26: =IFERROR(G26/F26,0)*100 -> 0
C27: 과년도 | F27: 2384581863 | G27: 10000 | H27: 0 | I27: =F27-G27-H27 -> 2384571863 | J27: =I27-K27 -> 2384571863 | K27: 0 | L27: =IFERROR(G27/E27,0)*100 -> 0 | M27: =IFERROR(G27/F27,0)*100 -> 0.00041936073
B28: 건축법이행강제금 | E28: =SUM(E29:E30) -> 321000000 | F28: =SUM(F29:F30) -> 723761930 | G28: =SUM(G29:G30) -> 319982240 | H28: =SUM(H29:H30) -> 216304050 | I28: =SUM(I29:I30) -> 187475640 | J28: =SUM(J29:J30) -> 118744940 | K28: =SUM(K29:K30) -> 68730700 | L28: =IFERROR(G28/E28,0)*100 -> 99.682941 | M28: =IFERROR(G28/F28,0)*100 -> 44.21098 | N28: 288-263 건축법이행강제금
C29: 현년도 | E29: 321000000 | F29: 404948670 | G29: 245921140 | H29: 0 | I29: =F29-G29-H29 -> 159027530 | J29: =I29-K29 -> 90296830 | K29: 68730700 | L29: =IFERROR(G29/E29,0)*100 -> 76.610947 | M29: =IFERROR(G29/F29,0)*100 -> 60.728966
C30: 과년도 | F30: 318813260 | G30: 74061100 | H30: 216304050 | I30: =F30-G30-H30 -> 28448110 | J30: =I30-K30 -> 28448110 | L30: =IFERROR(G30/E30,0)*100 -> 0 | M30: =IFERROR(G30/F30,0)*100 -> 23.230245
B31: 특별회계 | E31: =SUM(E32:E33) -> 2830000000 | F31: =SUM(F32:F33) -> 6988534828 | G31: =SUM(G32:G33) -> 3090780080 | H31: =SUM(H32:H33) -> 217217875 | I31: =F31-G31-H31 -> 3680536873 | J31: =I31-K31 -> 3680536873 | K31: =SUM(K32:K33) -> 0 | L31: =IFERROR(G31/E31,0)*100 -> 109.21484 | M31: =IFERROR(G31/F31,0)*100 -> 44.226439
C32: 현년도 | E32: =E35 -> 2100000000 | F32: =F35 -> 3281467850 | G32: =G35 -> 2492634890 | H32: =H35 -> 0 | I32: =I35 -> 788832960 | J32: =J35 -> 788832960 | K32: =K35 -> 0 | L32: =IFERROR(G32/E32,0)*100 -> 118.6969 | M32: =IFERROR(G32/F32,0)*100 -> 75.960972
C33: 과년도 | E33: =E36 -> 730000000 | F33: =F36 -> 3707066978 | G33: =G36 -> 598145190 | H33: =H36 -> 217217875 | I33: =I36 -> 2891703913 | J33: =J36 -> 2891703913 | K33: =K36 -> 0 | L33: =IFERROR(G33/E33,0)*100 -> 81.937697 | M33: =IFERROR(G33/F33,0)*100 -> 16.135268
B34: 주정차위반과태료 | E34: =SUM(E35:E36) -> 2830000000 | F34: =SUM(F35:F36) -> 6988534828 | G34: =SUM(G35:G36) -> 3090780080 | H34: =SUM(H35:H36) -> 217217875 | I34: =SUM(I35:I36) -> 3680536873 | J34: =SUM(J35:J36) -> 3680536873 | K34: =SUM(K35:K36) -> 0 | L34: =IFERROR(G34/E34,0)*100 -> 109.21484 | M34: =IFERROR(G34/F34,0)*100 -> 44.226439
C35: 현년도 | E35: 2100000000 | F35: 3281467850 | G35: 2492634890 | H35: 0 | I35: =F35-G35-H35 -> 788832960 | J35: =I35-K35 -> 788832960 | L35: =IFERROR(G35/E35,0)*100 -> 118.6969 | M35: =IFERROR(G35/F35,0)*100 -> 75.960972
C36: 과년도 | E36: 730000000 | F36: 3707066978 | G36: 598145190 | H36: 217217875 | I36: =F36-G36-H36 -> 2891703913 | J36: =I36-K36 -> 2891703913 | L36: =IFERROR(G36/E36,0)*100 -> 81.937697 | M36: =IFERROR(G36/F36,0)*100 -> 16.135268

Sheet 시세외 특별회계(위임)
B2: =B4&L3&" 특별회계 세외수입 징수현황" -> 2023년 12월 미추홀구 특별회계 세외수입 징수현황
K3: 기관명 | L3: ='군구세외 일반회계'!L3:M3 -> 미추홀구
B4: ='군구세외 일반회계'!B4:D4 -> 2023년 12월 | L4: (단위:원,%)
D5: 구 분 | E5: 최종예산액 | F5: 징수결정액 | G5: 징 수 액 | H5: 정리보류액 | I5: 미수납액 | L5: 징수율
B6: 항 목 별 | E6: (A) | F6: (B) | G6: (C) | H6: (D) | I6: 미수납액 (E=B-C-D) | J6: 체납액 (F=E-G) | K6: 납기미도래 (G) | L6: (C/A) | M6: (C/B)
B7: 200 세외수입 | E7: 0 | F7: 5048898370 | G7: 4910434470 | H7: 0 | I7: 138463900 | J7: 138463900 | K7: 0 | L7: 0 | M7: 97.257542
B8: 210 경상적세외수입 | E8: 0 | F8: 412949050 | G8: 412560450 | H8: 0 | I8: 388600 | J8: 388600 | K8: 0 | L8: 0 | M8: 99.905896
B9: 211 재산임대수입 | E9: 0 | F9: 0 | G9: 0 | H9: 0 | I9: 0 | J9: 0 | K9: 0 | L9: 0 | M9: 0
C10: 211-01 국유재산임대료 | I10: 0 | J10: 0 | L10: 0 | M10: 0
C11: 211-02 공유재산임대료 | I11: 0 | J11: 0 | L11: 0 | M11: 0
B12: 212 사용료수입 | E12: 0 | F12: 264436600 | G12: 264048000 | H12: 0 | I12: 388600 | J12: 388600 | K12: 0 | L12: 0 | M12: 99.853046
C13: 212-01 도로사용료 | I13: 0 | J13: 0 | L13: 0 | M13: 0
C14: 212-02 하천사용료 | I14: 0 | J14: 0 | L14: 0 | M14: 0
C15: 212-03 하수도사용료 | I15: 0 | J15: 0 | L15: 0 | M15: 0
C16: 212-04 상수도사용료 | I16: 0 | J16: 0 | L16: 0 | M16: 0
C17: 212-05 공유수면사용료 | I17: 0 | J17: 0 | L17: 0 | M17: 0
C18: 212-06 시장사용료 | I18: 0 | J18: 0 | L18: 0 | M18: 0
C19: 212-07 입장료수입 | I19: 0 | J19: 0 | L19: 0 | M19: 0
C20: 212-08 주차요금수입 | E20: 0 | F20: 264436600 | G20: 264048000 | H20: 0 | I20: 388600 | J20: 388600 | L20: 0 | M20: 99.853046
C21: 212-09 기타사용료 | I21: 0 | J21: 0 | L21: 0 | M21: 0
B22: 213 수수료수입 | E22: 0 | F22: 0 | G22: 0 | H22: 0 | I22: 0 | J22: 0 | K22: 0 | L22: 0 | M22: 0
C23: 213-01 증지수입 | I23: 0 | J23: 0 | L23: 0 | M23: 0
C24: 213-02 폐기물처리수수료 | I24: 0 | J24: 0 | L24: 0 | M24: 0
C25: 213-03 재활용품수거판매수입 | I25: 0 | J25: 0 | L25: 0 | M25: 0
C26: 213-04 보건의료수수료 | I26: 0 | J26: 0
C27: 213-05 기타수수료 | I27: 0 | J27: 0 | L27: 0 | M27: 0
B28: 214 사업수입 | E28: 0 | F28: 148512450 | G28: 148512450 | H28: 0 | I28: 0 | J28: 0 | K28: 0 | L28: 0 | M28: 100
C29: 214-01 사업장생산수입 | I29: 0 | J29: 0 | L29: 0 | M29: 0
C30: 214-02 청산금수입 | I30: 0 | J30: 0 | L30: 0 | M30: 0
C31: 214-03 매각사업수입 | F31: 126285380 | G31: 126285380 | I31: 0 | J31: 0 | L31: 0 | M31: 100
C32: 214-04 배당금수입 | I32: 0 | J32: 0 | L32: 0 | M32: 0
C33: 214-05 기타사업수입 | F33: 22227070 | G33: 22227070 | I33: 0 | J33: 0 | L33: 0 | M33: 100
B34: 215 징수교부금수입 | E34: 0 | F34: 0 | G34: 0 | H34: 0 | I34: 0 | J34: 0 | K34: 0 | L34: 0 | M34: 0
C35: 215-01 징수교부금수입 | I35: 0 | J35: 0 | L35: 0 | M35: 0
B36: 216 이자수입 | E36: 0 | F36: 0 | G36: 0 | H36: 0 | I36: 0 | J36: 0 | K36: 0 | L36: 0 | M36: 0
C37: 216-01 공공예금이자수입 | I37: 0 | J37: 0 | L37: 0 | M37: 0
C38: 216-02 융자금회수이자수입 | I38: 0 | J38: 0 | L38: 0 | M38: 0
C39: 216-03 기타이자수입 | I39: 0 | J39: 0 | L39: 0 | M39: 0
B40: 220 임시적세외수입 | E40: 0 | F40: 3575705790 | G40: 3439730490 | H40: 0 | I40: 135975300 | J40: 135975300 | K40: 0 | L40: 0 | M40: 96.197246
B41: 221 재산매각수입 | E41: 0 | F41: 0 | G41: 0 | H41: 0 | I41: 0 | J41: 0 | K41: 0 | L41: 0 | M41: 0
C42: 221-01 국유재산매각귀속수입금 | I42: 0 | J42: 0 | L42: 0 | M42: 0
C43: 221-02 시도유재산매각귀속수입금 | I43: 0 | J43: 0 | L43: 0 | M43: 0
C44: 221-03 공유재산매각수입금 | I44: 0 | J44: 0
C45: 221-04 불용품매각대금 | I45: 0 | J45: 0 | L45: 0 | M45: 0
B46: 222 자치단체간부담금 | E46: 0 | F46: 0 | G46: 0 | H46: 0 | I46: 0 | J46: 0 | K46: 0 | L46: 0 | M46: 0
C47: 222-01 자치단체간부담금 | I47: 0 | J47: 0 | L47: 0 | M47: 0
B48: 223 보조금반환수입 | E48: 0 | F48: 0 | G48: 0 | H48: 0 | I48: 0 | J48: 0 | K48: 0 | L48: 0 | M48: 0
C49: 223-01 시ㆍ도비보조금등반환수입 | I49: 0 | J49: 0 | L49: 0 | M49: 0
C50: 223-02 자체보조금등반환수입 | I50: 0 | J50: 0 | L50: 0 | M50: 0
C51: 223-03 위탁비반환수입 | I51: 0 | J51: 0 | L51: 0 | M51: 0
B52: 224 기타수입 | E52: 0 | F52: 0 | G52: 0 | H52: 0 | I52: 0 | J52: 0 | K52: 0 | L52: 0 | M52: 0
C53: 224-01 체납처분수입 | I53: 0 | J53: 0 | L53: 0 | M53: 0
C54: 224-02 보상금수납금 | I54: 0 | J54: 0 | L54: 0 | M54: 0
C55: 224-03 기부금수입 | I55: 0 | J55: 0 | L55: 0 | M55: 0
C56: 224-04 지적재조사조정금 | I56: 0 | J56: 0 | L56: 0 | M56: 0
C57: 224-05 지방교부세감소분보전수입 | I57: 0 | J57: 0 | L57: 0 | M57: 0
C58: 224-06 위약금 | I58: 0 | J58: 0
C59: 224-07 그외수입 | I59: 0 | J59: 0 | L59: 0 | M59: 0
B60: 225 지난년도수입 | E60: 0 | F60: 3575705790 | G60: 3439730490 | H60: 0 | I60: 135975300 | J60: 135975300 | K60: 0 | L60: 0 | M60: 96.197246
C61: 주차요금수입 | F61: 851900 | G61: 851900 | I61: 0 | J61: 0 | L61: 0 | M61: 100
C62: 청산금수입 | I62: 0 | J62: 0 | L62: 0 | M62: 0
C63: 매각사업수입 | I63: 0 | J63: 0 | L63: 0 | M63: 0
C64: 기타사업수입 | F64: -1165300 | I64: -1165300 | J64: -1165300 | L64: 0 | M64: 0
C65: 그외수입 | I65: 0 | J65: 0 | L65: 0 | M65: 0
C66: 여객자동차운수사업법위반 과징금 | F66: 33942000 | G66: 18900000 | I66: 15042000 | J66: 15042000 | L66: 0 | M66: 55.683224
C67: 기타과징금 | I67: 0 | J67: 0 | L67: 0 | M67: 0
C68: 변상금 | F68: 1240390 | G68: 1240390 | I68: 0 | J68: 0 | L68: 0 | M68: 100
C69: 학교용지부담금 | I69: 0 | J69: 0 | L69: 0 | M69: 0
C70: 교통유발부담금 | F70: 3540836800 | G70: 3418738200 | I70: 122098600 | J70: 122098600 | L70: 0 | M70: 96.551702
C71: 기반시설부담금 | I71: 0 | J71: 0 | L71: 0 | M71: 0
C72: 지난년도수입 | I72: 0 | J72: 0 | L72: 0 | M72: 0
B73: 230 지방행정제재‧부과금 | E73: 0 | F73: 1060243530 | G73: 1058143530 | H73: 0 | I73: 2100000 | J73: 2100000 | K73: 0 | L73: 0 | M73: 99.801932
B74: 231 과징금 | E74: 0 | F74: 3600000 | G74: 1500000 | H74: 0 | I74: 2100000 | J74: 2100000 | K74: 0 | L74: 0 | M74: 41.666667
C75: 여객자동차운수사업법위반 과징금 | F75: 3600000 | G75: 1500000 | I75: 2100000 | J75: 2100000 | L75: 0 | M75: 41.666667
C76: 과징금 | I76: 0 | J76: 0
B77: 232 이행강제금 | E77: 0 | F77: 0 | G77: 0 | H77: 0 | I77: 0 | J77: 0 | K77: 0 | L77: 0 | M77: 0
C78: 232-01 이행강제금 | I78: 0 | J78: 0 | L78: 0 | M78: 0
B79: 233 변상금 | E79: 0 | F79: 12732410 | G79: 12732410 | H79: 0 | I79: 0 | J79: 0 | K79: 0 | L79: 0 | M79: 100
C80: 233-01 변상금 | F80: 12732410 | G80: 12732410 | I80: 0 | J80: 0 | L80: 0 | M80: 100
B81: 234 과태료 | E81: 0 | F81: 0 | G81: 0 | H81: 0 | I81: 0 | J81: 0 | K81: 0 | L81: 0 | M81: 0
C82: 234-01 차량관련과태료 | I82: 0 | J82: 0 | L82: 0 | M82: 0
C83: 234-02 기타과태료 | I83: 0 | J83: 0 | L83: 0 | M83: 0
B84: 235 환수금 | E84: 0 | F84: 0 | G84: 0 | H84: 0 | I84: 0 | J84: 0 | K84: 0 | L84: 0 | M84: 0
C85: 235-01 부정이익환수금 | I85: 0 | J85: 0 | L85: 0 | M85: 0
B86: 236 부담금 | E86: 0 | F86: 1043911120 | G86: 1043911120 | H86: 0 | I86: 0 | J86: 0 | K86: 0 | L86: 0 | M86: 100
C87: 학교용지부담금 | F87: 1043911120 | G87: 1043911120 | I87: 0 | J87: 0 | L87: 0 | M87: 100
C88: 교통유발부담금 | I88: 0 | J88: 0
C89: 기반시설부담금 | I89: 0 | J89: 0
C90: 부담금 | I90: 0 | J90: 0
B91: 237 범칙금 | E91: 0 | F91: 0 | G91: 0 | H91: 0 | I91: 0 | J91: 0 | K91: 0 | L91: 0 | M91: 0
C92: 237-01 범칙금 | I92: 0 | J92: 0 | L92: 0 | M92: 0
