Workbook

Sheet 군구세외 일반회계
B2: 2023년 12월 미추홀구 일반회계 세외수입 징수현황
K3: 기관명 | L3: 미추홀구
B4: 2023년 12월 | L4: (단위:원,%)
D5: 구 분 | E5: 최종예산액 | F5: 징수결정액 | G5: 징 수 액 | H5: 정리보류액 | I5: 미수납액 | L5: 징수율
B6: 항 목 별 | E6: (A) | F6: (B) | G6: (C) | H6: (D) | I6: 미수납액 (E=B-C-D) | J6: 체납액 (F=E-G) | K6: 납기미도래 (G) | L6: (C/A) | M6: (C/B)
B7: 200 세외수입 | E7: =E8+E40+E62 -> 40600861000 | F7: =F8+F40+F62 -> 65344617403 | G7: =G8+G40+G62 -> 42748251985 | H7: =H8+H40+H62 -> 1236284840 | I7: =I8+I40+I62 -> 21360080578 | J7: =J8+J40+J62 -> 20239429816 | K7: =K8+K40+K62 -> 1120650762 | L7: =IFERROR(G7/E7,0)*100 -> 105.28903 | M7: =IFERROR(G7/F7,0)*100 -> 65.419699
B8: 210 경상적세외수입 | E8: =E9+E12+E22+E28+E34+E36 -> 30187170000 | F8: =F9+F12+F22+F28+F34+F36 -> 31615388302 | G8: =G9+G12+G22+G28+G34+G36 -> 31411140892 | H8: =H9+H12+H22+H28+H34+H36 -> 0 | I8: =I9+I12+I22+I28+I34+I36 -> 204247410 | J8: =J9+J12+J22+J28+J34+J36 -> 40834270 | K8: =K9+K12+K22+K28+K34+K36 -> 163413140 | L8: =IFERROR(G8/E8,0)*100 -> 104.05461 | M8: =IFERROR(G8/F8,0)*100 -> 99.353962
B9: 211 재산임대수입 | E9: =SUM(E10:E11) -> 413704000 | F9: =SUM(F10:F11) -> 241562890 | G9: =SUM(G10:G11) -> 222702290 | H9: =SUM(H10:H11) -> 0 | I9: =SUM(I10:I11) -> 18860600 | J9: =SUM(J10:J11) -> 14595110 | K9: =SUM(K10:K11) -> 4265490 | L9: =IFERROR(G9/E9,0)*100 -> 53.831312 | M9: =IFERROR(G9/F9,0)*100 -> 92.192261
C10: 211-01 국유재산임대료 | E10: 50000000 | F10: 59342120 | G10: 55241830 | H10: 0 | I10: =F10-G10-H10 -> 4100290 | J10: =I10-K10 -> 4100290 | K10: 0 | L10: =IFERROR(G10/E10,0)*100 -> 110.48366 | M10: =IFERROR(G10/F10,0)*100 -> 93.090422
C11: 211-02 공유재산임대료 | E11: 363704000 | F11: 182220770 | G11: 167460460 | H11: 0 | I11: =F11-G11-H11 -> 14760310 | J11: =I11-K11 -> 10494820 | K11: 4265490 | L11: =IFERROR(G11/E11,0)*100 -> 46.043062 | M11: =IFERROR(G11/F11,0)*100 -> 91.899765
B12: 212 사용료수입 | E12: =SUM(E13:E21) -> 2613271000 | F12: =SUM(F13:F21) -> 2572225073 | G12: =SUM(G13:G21) -> 2546183603 | H12: =SUM(H13:H21) -> 0 | I12: =SUM(I13:I21) -> 26041470 | J12: =SUM(J13:J21) -> 24820670 | K12: =SUM(K13:K21) -> 1220800 | L12: =IFERROR(G12/E12,0)*100 -> 97.432819 | M12: =IFERROR(G12/F12,0)*100 -> 98.98759
C13: 212-01 도로사용료 | E13: 1150000000 | F13: 1158385750 | G13: 1132495220 | H13: 0 | I13: =F13-G13-H13 -> 25890530 | J13: =I13-K13 -> 24669730 | K13: 1220800 | L13: =IFERROR(G13/E13,0)*100 -> 98.477845 | M13: =IFERROR(G13/F13,0)*100 -> 97.764947
C14: 212-02 하천사용료 | I14: =F14-G14-H14 -> 0 | J14: =I14-K14 -> 0 | L14: =IFERROR(G14/E14,0)*100 -> 0 | M14: =IFERROR(G14/F14,0)*100 -> 0
C15: 212-03 하수도사용료 | I15: =F15-G15-H15 -> 0 | J15: =I15-K15 -> 0 | L15: =IFERROR(G15/E15,0)*100 -> 0 | M15: =IFERROR(G15/F15,0)*100 -> 0
C16: 212-04 상수도사용료 | I16: =F16-G16-H16 -> 0 | J16: =I16-K16 -> 0 | L16: =IFERROR(G16/E16,0)*100 -> 0 | M16: =IFERROR(G16/F16,0)*100 -> 0
C17: 212-05 공유수면사용료 | I17: =F17-G17-H17 -> 0 | J17: =I17-K17 -> 0 | L17: =IFERROR(G17/E17,0)*100 -> 0 | M17: =IFERROR(G17/F17,0)*100 -> 0
C18: 212-06 시장사용료 | I18: =F18-G18-H18 -> 0 | J18: =I18-K18 -> 0 | L18: =IFERROR(G18/E18,0)*100 -> 0 | M18: =IFERROR(G18/F18,0)*100 -> 0
C19: 212-07 입장료수입 | I19: =F19-G19-H19 -> 0 | J19: =I19-K19 -> 0 | L19: =IFERROR(G19/E19,0)*100 -> 0 | M19: =IFERROR(G19/F19,0)*100 -> 0
C20: 212-08 주차요금수입 | I20: =F20-G20-H20 -> 0 | J20: =I20-K20 -> 0
C21: 212-09 기타사용료 | E21: 1463271000 | F21: 1413839323 | G21: 1413688383 | H21: 0 | I21: =F21-G21-H21 -> 150940 | J21: =I21-K21 -> 150940 | K21: 0 | L21: =IFERROR(G21/E21,0)*100 -> 96.611522 | M21: =IFERROR(G21/F21,0)*100 -> 99.989324
B22: 213 수수료수입 | E22: =SUM(E23:E27) -> 12629060000 | F22: =SUM(F23:F27) -> 12701069976 | G22: =SUM(G23:G27) -> 12541724636 | H22: =SUM(H23:H27) -> 0 | I22: =SUM(I23:I27) -> 159345340 | J22: =SUM(J23:J27) -> 1418490 | K22: =SUM(K23:K27) -> 157926850 | L22: =IFERROR(G22/E22,0)*100 -> 99.308457 | M22: =IFERROR(G22/F22,0)*100 -> 98.745418
C23: 213-01 증지수입 | E23: 1250000000 | F23: 1294746894 | G23: 1279720294 | H23: 0 | I23: =F23-G23-H23 -> 15026600 | J23: =I23-K23 -> 1214100 | K23: 13812500 | L23: =IFERROR(G23/E23,0)*100 -> 102.37762 | M23: =IFERROR(G23/F23,0)*100 -> 98.839418
C24: 213-02 폐기물처리수수료 | E24: 10790000000 | F24: 10819946361 | G24: 10675779011 | H24: 0 | I24: =F24-G24-H24 -> 144167350 | J24: =I24-K24 -> 228940 | K24: 143938410 | L24: =IFERROR(G24/E24,0)*100 -> 98.941418 | M24: =IFERROR(G24/F24,0)*100 -> 98.667578
C25: 213-03 재활용품수거판매수입 | I25: =F25-G25-H25 -> 0 | J25: =I25-K25 -> 0 | L25: =IFERROR(G25/E25,0)*100 -> 0 | M25: =IFERROR(G25/F25,0)*100 -> 0
C26: 213-04 보건의료수수료 | E26: 165290000 | F26: 139853010 | G26: 139677070 | H26: 0 | I26: =F26-G26-H26 -> 175940 | J26: =I26-K26 -> 0 | K26: 175940
C27: 213-05 기타수수료 | E27: 423770000 | F27: 446523711 | G27: 446548261 | H27: 0 | I27: =F27-G27-H27 -> -24550 | J27: =I27-K27 -> -24550 | K27: 0 | L27: =IFERROR(G27/E27,0)*100 -> 105.37515 | M27: =IFERROR(G27/F27,0)*100 -> 100.0055
B28: 214 사업수입 | E28: =SUM(E29:E33) -> 571737000 | F28: =SUM(F29:F33) -> 546099449 | G28: =SUM(G29:G33) -> 546099449 | H28: =SUM(H29:H33) -> 0 | I28: =SUM(I29:I33) -> 0 | J28: =SUM(J29:J33) -> 0 | K28: =SUM(K29:K33) -> 0 | L28: =IFERROR(G28/E28,0)*100 -> 95.515849 | M28: =IFERROR(G28/F28,0)*100 -> 100
C29: 214-01 사업장생산수입 | I29: =F29-G29-H29 -> 0 | J29: =I29-K29 -> 0 | L29: =IFERROR(G29/E29,0)*100 -> 0 | M29: =IFERROR(G29/F29,0)*100 -> 0
C30: 214-02 청산금수입 | I30: =F30-G30-H30 -> 0 | J30: =I30-K30 -> 0 | L30: =IFERROR(G30/E30,0)*100 -> 0 | M30: =IFERROR(G30/F30,0)*100 -> 0
C31: 214-03 매각사업수입 | I31: =F31-G31-H31 -> 0 | J31: =I31-K31 -> 0 | L31: =IFERROR(G31/E31,0)*100 -> 0 | M31: =IFERROR(G31/F31,0)*100 -> 0
C32: 214-04 배당금수입 | I32: =F32-G32-H32 -> 0 | J32: =I32-K32 -> 0 | L32: =IFERROR(G32/E32,0)*100 -> 0 | M32: =IFERROR(G32/F32,0)*100 -> 0
C33: 214-05 기타사업수입 | E33: 571737000 | F33: 546099449 | G33: 546099449 | H33: 0 | I33: =F33-G33-H33 -> 0 | J33: =I33-K33 -> 0 | K33: 0 | L33: =IFERROR(G33/#REF!,0)*100 -> 0 | M33: =IFERROR(G33/F33,0)*100 -> 100
B34: 215 징수교부금수입 | E34: =SUM(E35) -> 10615635000 | F34: =F35 -> 11756819370 | G34: =G35 -> 11756819370 | H34: =H35 -> 0 | I34: =I35 -> 0 | J34: =J35 -> 0 | K34: =K35 -> 0 | L34: =IFERROR(G34/E34,0)*100 -> 110.75003 | M34: =IFERROR(G34/F34,0)*100 -> 100
C35: 215-01 징수교부금수입 | E35: 10615635000 | F35: 11756819370 | G35: 11756819370 | H35: 0 | I35: =F35-G35-H35 -> 0 | J35: =I35-K35 -> 0 | K35: 0 | L35: =IFERROR(G35/E35,0)*100 -> 110.75003 | M35: =IFERROR(G35/F35,0)*100 -> 100
B36: 216 이자수입 | E36: =SUM(E37:E39) -> 3343763000 | F36: =SUM(F37:F39) -> 3797611544 | G36: =SUM(G37:G39) -> 3797611544 | H36: =SUM(H37:H39) -> 0 | I36: =SUM(I37:I39) -> 0 | J36: =SUM(J37:J39) -> 0 | K36: =SUM(K37:K39) -> 0 | L36: =IFERROR(G36/E36,0)*100 -> 113.57299 | M36: =IFERROR(G36/F36,0)*100 -> 100
C37: 216-01 공공예금이자수입 | E37: 3240081000 | F37: 3494961802 | G37: 3494961802 | H37: 0 | I37: =F37-G37-H37 -> 0 | J37: =I37-K37 -> 0 | K37: 0 | L37: =IFERROR(G37/E37,0)*100 -> 107.86649 | M37: =IFERROR(G37/F37,0)*100 -> 100
C38: 216-02 융자금회수이자수입 | I38: =F38-G38-H38 -> 0 | J38: =I38-K38 -> 0 | L38: =IFERROR(G38/E38,0)*100 -> 0 | M38: =IFERROR(G38/F38,0)*100 -> 0
C39: 216-03 기타이자수입 | E39: 103682000 | F39: 302649742 | G39: 302649742 | H39: 0 | I39: =F39-G39-H39 -> 0 | J39: =I39-K39 -> 0 | K39: 0 | L39: =IFERROR(G39/E33,0)*100 -> 52.935133 | M39: =IFERROR(G39/F39,0)*100 -> 100
B40: 220 임시적세외수입 | E40: =E41+E46+E48+E52+E60 -> 7085625000 | F40: =F41+F46+F48+F52+F60 -> 25896536631 | G40: =G41+G46+G48+G52+G60 -> 7851744873 | H40: =H41+H46+H48+H52+H60 -> 1236284840 | I40: =I41+I46+I48+I52+I60 -> 16808506918 | J40: =J41+J46+J48+J52+J60 -> 16596272866 | K40: =K41+K46+K48+K52+K60 -> 212234052 | L40: =IFERROR(G40/E40,0)*100 -> 110.81231 | M40: =IFERROR(G40/F40,0)*100 -> 30.319672
B41: 221 재산매각수입 | E41: =SUM(E42:E45) -> 2366502000 | F41: =SUM(F42:F45) -> 2614102130 | G41: =SUM(G42:G45) -> 2370472360 | H41: =SUM(H42:H45) -> 0 | I41: =SUM(I42:I45) -> 243629770 | J41: =SUM(J42:J45) -> 243629770 | K41: =SUM(K42:K45) -> 0 | L41: =IFERROR(G41/E41,0)*100 -> 100.16777 | M41: =IFERROR(G41/F41,0)*100 -> 90.680174
...

Sheet 군구세외 일반회계_지난년도
B2: 2023년 12월 미추홀구 일반회계 지난년도 세외수입 징수현황
K3: 기관명 | L3: 미추홀구
B4: ='군구세외 일반회계'!B4:D4 -> 2023년 12월 | L4: (단위:원,%)
D5: 구 분 | E5: 최종예산액 | F5: 징수결정액 | G5: 징 수 액 | H5: 정리보류액 | I5: 미수납액 | L5: 징수율
B6: 항 목 별 | E6: (A) | F6: (B) | G6: (C) | H6: (D) | I6: 미수납액 (E=B-C-D) | J6: 체납액 (F=E-G) | K6: 납기미도래 (G) | L6: (C/A) | M6: (C/B)
B7: 200 세외수입 | E7: 1500000000 | F7: =F8+F40+F61 -> 18417528780 | G7: =G8+G40+G61 -> 1540513991 | H7: =H8+H40+H61 -> 1236284840 | I7: =I8+I40+I61 -> 15640729949 | J7: =J8+J40+J61 -> 15640729949 | K7: =K8+K40+K61 -> 0 | L7: =IFERROR(G7/E7,0)*100 -> 102.70093 | M7: =IFERROR(G7/F7,0)*100 -> 8.3643903
B8: 210 경상적세외수입 | E8: =E9+E12+E22+E28+E34+E36 -> 0 | F8: =F9+F12+F22+F28+F34+F36 -> 364618945 | G8: =G9+G12+G22+G28+G34+G36 -> 163589550 | H8: =H9+H12+H22+H28+H34+H36 -> 16719570 | I8: =I9+I12+I22+I28+I34+I36 -> 184309825 | J8: =J9+J12+J22+J28+J34+J36 -> 184309825 | K8: =K9+K12+K22+K28+K34+K36 -> 0 | L8: =IFERROR(G8/E8,0)*100 -> 0 | M8: =IFERROR(G8/F8,0)*100 -> 44.865894
B9: 211 재산임대수입 | E9: =SUM(E10:E11) -> 0 | F9: =SUM(F10:F11) -> 192927424 | G9: =SUM(G10:G11) -> 44352660 | H9: =SUM(H10:H11) -> 9060650 | I9: =SUM(I10:I11) -> 139514114 | J9: =SUM(J10:J11) -> 139514114 | K9: =SUM(K10:K11) -> 0 | L9: =IFERROR(G9/E9,0)*100 -> 0 | M9: =IFERROR(G9/F9,0)*100 -> 22.989298
C10: 211-01 국유재산임대료 | F10: 21990154 | G10: 4536630 | H10: 5882670 | I10: =F10-G10-H10 -> 11570854 | J10: =I10-K10 -> 11570854 | L10: =IFERROR(G10/E10,0)*100 -> 0 | M10: =IFERROR(G10/F10,0)*100 -> 20.630278
C11: 211-02 공유재산임대료 | F11: 170937270 | G11: 39816030 | H11: 3177980 | I11: =F11-G11-H11 -> 127943260 | J11: =I11-K11 -> 127943260 | L11: =IFERROR(G11/E11,0)*100 -> 0 | M11: =IFERROR(G11/F11,0)*100 -> 23.292773
B12: 212 사용료수입 | E12: =SUM(E13:E21) -> 0 | F12: =SUM(F13:F21) -> 77170881 | G12: =SUM(G13:G21) -> 21522130 | H12: =SUM(H13:H21) -> 7658920 | I12: =SUM(I13:I21) -> 47989831 | J12: =SUM(J13:J21) -> 47989831 | K12: =SUM(K13:K21) -> 0 | L12: =IFERROR(G12/E12,0)*100 -> 0 | M12: =IFERROR(G12/F12,0)*100 -> 27.888926
C13: 212-01 도로사용료 | F13: 82530661 | G13: 27252330 | H13: 7658920 | I13: =F13-G13-H13 -> 47619411 | J13: =I13-K13 -> 47619411 | L13: =IFERROR(G13/E13,0)*100 -> 0 | M13: =IFERROR(G13/F13,0)*100 -> 33.020855
C14: 212-02 하천사용료 | I14: =F14-G14-H14 -> 0 | J14: =I14-K14 -> 0 | L14: =IFERROR(G14/E14,0)*100 -> 0 | M14: =IFERROR(G14/F14,0)*100 -> 0
C15: 212-03 하수도사용료 | I15: =F15-G15-H15 -> 0 | J15: =I15-K15 -> 0 | L15: =IFERROR(G15/E15,0)*100 -> 0 | M15: =IFERROR(G15/F15,0)*100 -> 0
C16: 212-04 상수도사용료 | I16: =F16-G16-H16 -> 0 | J16: =I16-K16 -> 0 | L16: =IFERROR(G16/E16,0)*100 -> 0 | M16: =IFERROR(G16/F16,0)*100 -> 0
C17: 212-05 공유수면사용료 | I17: =F17-G17-H17 -> 0 | J17: =I17-K17 -> 0 | L17: =IFERROR(G17/E17,0)*100 -> 0 | M17: =IFERROR(G17/F17,0)*100 -> 0
C18: 212-06 시장사용료 | I18: =F18-G18-H18 -> 0 | J18: =I18-K18 -> 0 | L18: =IFERROR(G18/E18,0)*100 -> 0 | M18: =IFERROR(G18/F18,0)*100 -> 0
C19: 212-07 입장료수입 | I19: =F19-G19-H19 -> 0 | J19: =I19-K19 -> 0 | L19: =IFERROR(G19/E19,0)*100 -> 0 | M19: =IFERROR(G19/F19,0)*100 -> 0
C20: 212-08 주차요금수입 | I20: =F20-G20-H20 -> 0 | J20: =I20-K20 -> 0
C21: 212-09 기타사용료 | F21: -5359780 | G21: -5730200 | H21: 0 | I21: =F21-G21-H21 -> 370420 | J21: =I21-K21 -> 370420 | L21: =IFERROR(G21/E21,0)*100 -> 0 | M21: =IFERROR(G21/F21,0)*100 -> 106.9111
B22: 213 수수료수입 | E22: =SUM(E23:E27) -> 0 | F22: =SUM(F23:F27) -> 94520640 | G22: =SUM(G23:G27) -> 97714760 | H22: =SUM(H23:H27) -> 0 | I22: =SUM(I23:I27) -> -3194120 | J22: =SUM(J23:J27) -> -3194120 | K22: =SUM(K23:K27) -> 0 | L22: =IFERROR(G22/E22,0)*100 -> 0 | M22: =IFERROR(G22/F22,0)*100 -> 103.37928
C23: 213-01 증지수입 | F23: 9238620 | G23: 9238820 | H23: 0 | I23: =F23-G23-H23 -> -200 | J23: =I23-K23 -> -200 | L23: =IFERROR(G23/E23,0)*100 -> 0 | M23: =IFERROR(G23/F23,0)*100 -> 100.00216
C24: 213-02 폐기물처리수수료 | F24: 85274360 | G24: 88454280 | H24: 0 | I24: =F24-G24-H24 -> -3179920 | J24: =I24-K24 -> -3179920 | L24: =IFERROR(G24/E24,0)*100 -> 0 | M24: =IFERROR(G24/F24,0)*100 -> 103.72905
C25: 213-03 재활용품수거판매수입 | I25: =F25-G25-H25 -> 0 | J25: =I25-K25 -> 0 | L25: =IFERROR(G25/E25,0)*100 -> 0 | M25: =IFERROR(G25/F25,0)*100 -> 0
C26: 213-04 보건의료수수료 | F26: 0 | G26: 0 | H26: 0 | I26: =F26-G26-H26 -> 0 | J26: =I26-K26 -> 0
C27: 213-05 기타수수료 | F27: 7660 | G27: 21660 | H27: 0 | I27: =F27-G27-H27 -> -14000 | J27: =I27-K27 -> -14000 | L27: =IFERROR(G27/E27,0)*100 -> 0 | M27: =IFERROR(G27/F27,0)*100 -> 282.76762
B28: 214 사업수입 | E28: =SUM(E29:E33) -> 0 | F28: =SUM(F29:F33) -> 0 | G28: =SUM(G29:G33) -> 0 | H28: =SUM(H29:H33) -> 0 | I28: =SUM(I29:I33) -> 0 | J28: =SUM(J29:J33) -> 0 | K28: =SUM(K29:K33) -> 0 | L28: =IFERROR(G28/E28,0)*100 -> 0 | M28: =IFERROR(G28/F28,0)*100 -> 0
C29: 214-01 사업장생산수입 | I29: =F29-G29-H29 -> 0 | J29: =I29-K29 -> 0 | L29: =IFERROR(G29/E29,0)*100 -> 0 | M29: =IFERROR(G29/F29,0)*100 -> 0
C30: 214-02 청산금수입 | I30: =F30-G30-H30 -> 0 | J30: =I30-K30 -> 0 | L30: =IFERROR(G30/E30,0)*100 -> 0 | M30: =IFERROR(G30/F30,0)*100 -> 0
C31: 214-03 매각사업수입 | I31: =F31-G31-H31 -> 0 | J31: =I31-K31 -> 0 | L31: =IFERROR(G31/E31,0)*100 -> 0 | M31: =IFERROR(G31/F31,0)*100 -> 0
C32: 214-04 배당금수입 | I32: =F32-G32-H32 -> 0 | J32: =I32-K32 -> 0 | L32: =IFERROR(G32/E32,0)*100 -> 0 | M32: =IFERROR(G32/F32,0)*100 -> 0
C33: 214-05 기타사업수입 | I33: =F33-G33-H33 -> 0 | J33: =I33-K33 -> 0 | L33: =IFERROR(G33/E33,0)*100 -> 0 | M33: =IFERROR(G33/F33,0)*100 -> 0
B34: 215 징수교부금수입 | E34: =E35 -> 0 | F34: =F35 -> 0 | G34: =G35 -> 0 | H34: =H35 -> 0 | I34: =I35 -> 0 | J34: =J35 -> 0 | K34: =K35 -> 0 | L34: =IFERROR(G34/E34,0)*100 -> 0 | M34: =IFERROR(G34/F34,0)*100 -> 0
C35: 215-01 징수교부금수입 | I35: =F35-G35-H35 -> 0 | J35: =I35-K35 -> 0 | L35: =IFERROR(G35/E35,0)*100 -> 0 | M35: =IFERROR(G35/F35,0)*100 -> 0
B36: 216 이자수입 | E36: =SUM(E37:E39) -> 0 | F36: =SUM(F37:F39) -> 0 | G36: =SUM(G37:G39) -> 0 | H36: =SUM(H37:H39) -> 0 | I36: =SUM(I37:I39) -> 0 | J36: =SUM(J37:J39) -> 0 | K36: =SUM(K37:K39) -> 0 | L36: =IFERROR(G36/E36,0)*100 -> 0 | M36: =IFERROR(G36/F36,0)*100 -> 0
C37: 216-01 공공예금이자수입 | I37: =F37-G37-H37 -> 0 | J37: =I37-K37 -> 0 | L37: =IFERROR(G37/E37,0)*100 -> 0 | M37: =IFERROR(G37/F37,0)*100 -> 0
C38: 216-02 융자금회수이자수입 | I38: =F38-G38-H38 -> 0 | J38: =I38-K38 -> 0 | L38: =IFERROR(G38/E38,0)*100 -> 0 | M38: =IFERROR(G38/F38,0)*100 -> 0
C39: 216-03 기타이자수입 | I39: =F39-G39-H39 -> 0 | J39: =I39-K39 -> 0 | L39: =IFERROR(G39/E39,0)*100 -> 0 | M39: =IFERROR(G39/F39,0)*100 -> 0
B40: 220 임시적세외수입 | E40: =E41+E46+E49+E53 -> 0 | F40: =F41+F46+F49+F53 -> 2254537791 | G40: =G41+G46+G49+G53 -> 100566396 | H40: =H41+H46+H49+H53 -> 3167110 | I40: =I41+I46+I49+I53 -> 2150804285 | J40: =J41+J46+J49+J53 -> 2150804285 | K40: =K41+K46+K49+K53 -> 0 | L40: =L41+L46+L49+L53 -> 0 | M40: =M41+M46+M49+M53 -> 4.4606214
B41: 221 재산매각수입 | E41: =SUM(E42:E45) -> 0 | F41: =SUM(F42:F45) -> 0 | G41: =SUM(G42:G45) -> 0 | H41: =SUM(H42:H45) -> 0 | I41: =SUM(I42:I45) -> 0 | J41: =SUM(J42:J45) -> 0 | K41: =SUM(K42:K45) -> 0 | L41: =IFERROR(G41/E41,0)*100 -> 0 | M41: =IFERROR(G41/F41,0)*100 -> 0
...

Sheet 군구세외 특별회계
B2: =B4&L3&" 기타특별회계 세외수입 징수현황" -> 2023년 12월 미추홀구 기타특별회계 세외수입 징수현황
K3: 기관명 | L3: ='군구세외 일반회계'!L3:M3 -> 미추홀구
B4: ='군구세외 일반회계'!B4:D4 -> 2023년 12월 | L4: (단위:원,%)
D5: 구 분 | E5: 최종예산액 | F5: 징수결정액 | G5: 징 수 액 | H5: 정리보류액 | I5: 미수납액 | L5: 징수율
B6: 항 목 별 | E6: (A) | F6: (B) | G6: (C) | H6: (D) | I6: 미수납액 (E=B-C-D) | J6: 체납액 (F=E-G) | K6: 납기미도래 (G) | L6: (C/A) | M6: (C/B)
B7: 200 세외수입 | E7: =E8+E40+E62 -> 6284017000 | F7: =F8+F40+F62 -> 12454409653 | G7: =G8+G40+G62 -> 6877214340 | H7: =H8+H40+H62 -> 217217875 | I7: =I8+I40+I62 -> 5758106358 | J7: =J8+J40+J62 -> 5758106358 | K7: =K8+K40+K62 -> 0 | L7: =IFERROR(G7/E7,0)*100 -> 109.43978 | M7: =IFERROR(G7/F7,0)*100 -> 55.219111
B8: 210 경상적세외수입 | E8: =E9+E12+E22+E28+E34+E36 -> 3382865000 | F8: =F9+F12+F22+F28+F34+F36 -> 3708947120 | G8: =G9+G12+G22+G28+G34+G36 -> 3701677720 | H8: =H9+H12+H22+H28+H34+H36 -> 0 | I8: =I9+I12+I22+I28+I34+I36 -> 7269400 | J8: =J9+J12+J22+J28+J34+J36 -> 7269400 | K8: =K9+K12+K22+K28+K34+K36 -> 0 | L8: =IFERROR(G8/E8,0)*100 -> 109.42434 | M8: =IFERROR(G8/F8,0)*100 -> 99.804004
B9: 211 재산임대수입 | E9: =SUM(E10:E11) -> 0 | F9: =SUM(F10:F11) -> 0 | G9: =SUM(G10:G11) -> 0 | H9: =SUM(H10:H11) -> 0 | I9: =SUM(I10:I11) -> 0 | J9: =SUM(J10:J11) -> 0 | K9: =SUM(K10:K11) -> 0 | L9: =IFERROR(G9/E9,0)*100 -> 0 | M9: =IFERROR(G9/F9,0)*100 -> 0
C10: 211-01 국유재산임대료 | I10: =F10-G10-H10 -> 0 | J10: =I10-K10 -> 0 | L10: =IFERROR(G10/E10,0)*100 -> 0 | M10: =IFERROR(G10/F10,0)*100 -> 0
C11: 211-02 공유재산임대료 | I11: =F11-G11-H11 -> 0 | J11: =I11-K11 -> 0 | L11: =IFERROR(G11/E11,0)*100 -> 0 | M11: =IFERROR(G11/F11,0)*100 -> 0
B12: 212 사용료수입 | E12: =SUM(E13:E21) -> 2881150000 | F12: =SUM(F13:F21) -> 3185921040 | G12: =SUM(G13:G21) -> 3178741340 | H12: =SUM(H13:H21) -> 0 | I12: =SUM(I13:I21) -> 7179700 | J12: =SUM(J13:J21) -> 7179700 | K12: =SUM(K13:K21) -> 0 | L12: =IFERROR(G12/E12,0)*100 -> 110.32891 | M12: =IFERROR(G12/F12,0)*100 -> 99.774643
C13: 212-01 도로사용료 | I13: =F13-G13-H13 -> 0 | J13: =I13-K13 -> 0 | L13: =IFERROR(G13/E13,0)*100 -> 0 | M13: =IFERROR(G13/F13,0)*100 -> 0
C14: 212-02 하천사용료 | I14: =F14-G14-H14 -> 0 | J14: =I14-K14 -> 0 | L14: =IFERROR(G14/E14,0)*100 -> 0 | M14: =IFERROR(G14/F14,0)*100 -> 0
C15: 212-03 하수도사용료 | I15: =F15-G15-H15 -> 0 | J15: =I15-K15 -> 0 | L15: =IFERROR(G15/E15,0)*100 -> 0 | M15: =IFERROR(G15/F15,0)*100 -> 0
C16: 212-04 상수도사용료 | I16: =F16-G16-H16 -> 0 | J16: =I16-K16 -> 0 | L16: =IFERROR(G16/E16,0)*100 -> 0 | M16: =IFERROR(G16/F16,0)*100 -> 0
C17: 212-05 공유수면사용료 | I17: =F17-G17-H17 -> 0 | J17: =I17-K17 -> 0 | L17: =IFERROR(G17/E17,0)*100 -> 0 | M17: =IFERROR(G17/F17,0)*100 -> 0
C18: 212-06 시장사용료 | I18: =F18-G18-H18 -> 0 | J18: =I18-K18 -> 0 | L18: =IFERROR(G18/E18,0)*100 -> 0 | M18: =IFERROR(G18/F18,0)*100 -> 0
C19: 212-07 입장료수입 | I19: =F19-G19-H19 -> 0 | J19: =I19-K19 -> 0 | L19: =IFERROR(G19/E19,0)*100 -> 0 | M19: =IFERROR(G19/F19,0)*100 -> 0
C20: 212-08 주차요금수입 | E20: 2880000000 | F20: 3183414777 | G20: 3176235077 | H20: 0 | I20: =F20-G20-H20 -> 7179700 | J20: =I20-K20 -> 7179700 | L20: =IFERROR(G20/E20,0)*100 -> 110.28594 | M20: =IFERROR(G20/F20,0)*100 -> 99.774465
C21: 212-09 기타사용료 | E21: 1150000 | F21: 2506263 | G21: 2506263 | H21: 0 | I21: =F21-G21-H21 -> 0 | J21: =I21-K21 -> 0 | L21: =IFERROR(G21/E21,0)*100 -> 217.93591 | M21: =IFERROR(G21/F21,0)*100 -> 100
B22: 213 수수료수입 | E22: =SUM(E23:E27) -> 45000000 | F22: =SUM(F23:F27) -> 44030677 | G22: =SUM(G23:G27) -> 44030677 | H22: =SUM(H23:H27) -> 0 | I22: =SUM(I23:I27) -> 0 | J22: =SUM(J23:J27) -> 0 | K22: =SUM(K23:K27) -> 0 | L22: =IFERROR(G22/E22,0)*100 -> 97.845949 | M22: =IFERROR(G22/F22,0)*100 -> 100
C23: 213-01 증지수입 | I23: =F23-G23-H23 -> 0 | J23: =I23-K23 -> 0 | L23: =IFERROR(G23/E23,0)*100 -> 0 | M23: =IFERROR(G23/F23,0)*100 -> 0
C24: 213-02 폐기물처리수수료 | I24: =F24-G24-H24 -> 0 | J24: =I24-K24 -> 0 | L24: =IFERROR(G24/E24,0)*100 -> 0 | M24: =IFERROR(G24/F24,0)*100 -> 0
C25: 213-03 재활용품수거판매수입 | I25: =F25-G25-H25 -> 0 | J25: =I25-K25 -> 0 | L25: =IFERROR(G25/E25,0)*100 -> 0 | M25: =IFERROR(G25/F25,0)*100 -> 0
C26: 213-04 보건의료수수료 | I26: =F26-G26-H26 -> 0 | J26: =I26-K26 -> 0
C27: 213-05 기타수수료 | E27: 45000000 | F27: 44030677 | G27: 44030677 | I27: =F27-G27-H27 -> 0 | J27: =I27-K27 -> 0 | L27: =IFERROR(G27/E27,0)*100 -> 97.845949 | M27: =IFERROR(G27/F27,0)*100 -> 100
B28: 214 사업수입 | E28: =SUM(E29:E33) -> 32400000 | F28: =SUM(F29:F33) -> 10900200 | G28: =SUM(G29:G33) -> 10810500 | H28: =SUM(H29:H33) -> 0 | I28: =SUM(I29:I33) -> 89700 | J28: =SUM(J29:J33) -> 89700 | K28: =SUM(K29:K33) -> 0 | L28: =IFERROR(G28/E28,0)*100 -> 33.365741 | M28: =IFERROR(G28/F28,0)*100 -> 99.177079
C29: 214-01 사업장생산수입 | I29: =F29-G29-H29 -> 0 | J29: =I29-K29 -> 0 | L29: =IFERROR(G29/E29,0)*100 -> 0 | M29: =IFERROR(G29/F29,0)*100 -> 0
C30: 214-02 청산금수입 | I30: =F30-G30-H30 -> 0 | J30: =I30-K30 -> 0 | L30: =IFERROR(G30/E30,0)*100 -> 0 | M30: =IFERROR(G30/F30,0)*100 -> 0
C31: 214-03 매각사업수입 | I31: =F31-G31-H31 -> 0 | J31: =I31-K31 -> 0 | L31: =IFERROR(G31/E31,0)*100 -> 0 | M31: =IFERROR(G31/F31,0)*100 -> 0
C32: 214-04 배당금수입 | I32: =F32-G32-H32 -> 0 | J32: =I32-K32 -> 0 | L32: =IFERROR(G32/E32,0)*100 -> 0 | M32: =IFERROR(G32/F32,0)*100 -> 0
C33: 214-05 기타사업수입 | E33: 32400000 | F33: 10900200 | G33: 10810500 | H33: 0 | I33: =F33-G33-H33 -> 89700 | J33: =I33-K33 -> 89700 | L33: =IFERROR(G33/E33,0)*100 -> 33.365741 | M33: =IFERROR(G33/F33,0)*100 -> 99.177079
B34: 215 징수교부금수입 | E34: 205212000 | F34: 205212000 | G34: 205212000 | H34: 0 | I34: =I35 -> 0 | J34: =J35 -> 0 | K34: =K35 -> 0 | L34: =IFERROR(G34/E34,0)*100 -> 100 | M34: =IFERROR(G34/F34,0)*100 -> 100
C35: 215-01 징수교부금수입 | E35: 205212000 | F35: 205212000 | G35: 205212000 | H35: 0 | I35: =F35-G35-H35 -> 0 | J35: =I35-K35 -> 0 | L35: =IFERROR(G35/E35,0)*100 -> 100 | M35: =IFERROR(G35/F35,0)*100 -> 100
B36: 216 이자수입 | E36: 219103000 | F36: 262883203 | G36: 262883203 | H36: 0 | I36: =SUM(I37:I39) -> 0 | J36: =SUM(J37:J39) -> 0 | K36: =SUM(K37:K39) -> 0 | L36: =IFERROR(G36/E36,0)*100 -> 119.98156 | M36: =IFERROR(G36/F36,0)*100 -> 100
C37: 216-01 공공예금이자수입 | E37: 199103000 | F37: 202561770 | G37: 202561770 | H37: 0 | I37: =F37-G37-H37 -> 0 | J37: =I37-K37 -> 0 | L37: =IFERROR(G37/#REF!,0)*100 -> 0 | M37: =IFERROR(G37/F37,0)*100 -> 100
C38: 216-02 융자금회수이자수입 | E38: 0 | F38: 0 | G38: 0 | H38: 0 | I38: =F38-G38-H38 -> 0 | J38: =I38-K38 -> 0 | L38: =IFERROR(G38/E38,0)*100 -> 0 | M38: =IFERROR(G38/F38,0)*100 -> 0
C39: 216-03 기타이자수입 | E39: 20000000 | F39: 60321433 | G39: 60321433 | H39: 0 | I39: =F39-G39-H39 -> 0 | J39: =I39-K39 -> 0 | L39: =IFERROR(G39/E39,0)*100 -> 301.60717 | M39: =IFERROR(G39/F39,0)*100 -> 100
B40: 220 임시적세외수입 | E40: 801152000 | F40: 5463994683 | G40: 682901730 | H40: 217217875 | I40: =I41+I46+I48+I52+I60 -> 4962003998 | J40: =J41+J46+J48+J52+J60 -> 4962003998 | K40: =K41+K46+K48+K52+K60 -> 0 | L40: =IFERROR(G40/E40,0)*100 -> 85.239971 | M40: =IFERROR(G40/F40,0)*100 -> 12.498214
B41: 221 재산매각수입 | E41: 0 | F41: 0 | G41: 0 | H41: 0 | I41: =SUM(I42:I45) -> 0 | J41: =SUM(J42:J45) -> 0 | K41: =SUM(K42:K45) -> 0 | L41: =IFERROR(G41/E41,0)*100 -> 0 | M41: =IFERROR(G41/F41,0)*100 -> 0
...

Sheet 군구 과목별
B2: =B4&L3&" 과목별 세외수입 징수현황" -> 2023년 12월 미추홀구 과목별 세외수입 징수현황
K3: 기관명 | L3: 미추홀구
B4: 2023년 12월 | L4: (단위:원,%)
D5: 구 분 | E5: 최종예산액 | F5: 징수결정액 | G5: 징 수 액 | H5: 정리보류액 | I5: 미수납액 | L5: 징수율
B6: 항 목 별 | E6: (A) | F6: (B) | G6: (C) | H6: (D) | I6: 미수납액 (E=B-C-D) | J6: 체납액 (F=E-G) | K6: 납기미도래 (G) | L6: (C/A) | M6: (C/B)
B7: 합 계 | E7: =SUM(E8:E9) -> 3712723000 | F7: =SUM(F8:F9) -> 22862205519 | G7: =SUM(G8:G9) -> 5422308388 | H7: =SUM(H8:H9) -> 1217843565 | I7: =F7-G7-H7 -> 16222053566 | J7: =I7-K7 -> 16047829146 | K7: =SUM(K8:K9) -> 174224420 | L7: =IFERROR(G7/E7,0)*100 -> 146.04667 | M7: =IFERROR(G7/F7,0)*100 -> 23.717346
C8: 현년도 | E8: =E11+E32 -> 2982723000 | F8: =F11+F32 -> 6771405340 | G8: =G11+G32 -> 3908524210 | H8: =H11+H32 -> 0 | I8: =F8-G8-H8 -> 2862881130 | J8: =I8-K8 -> 2689260670 | K8: =K11+K32 -> 173620460 | L8: =IFERROR(G8/E8,0)*100 -> 131.03879 | M8: =IFERROR(G8/F8,0)*100 -> 57.72102
C9: 과년도 | E9: =E12+E33 -> 730000000 | F9: =F12+F33 -> 16090800179 | G9: =G12+G33 -> 1513784178 | H9: =H12+H33 -> 1217843565 | I9: =F9-G9-H9 -> 13359172436 | J9: =I9-K9 -> 13358568476 | K9: =K12+K33 -> 603960 | L9: =IFERROR(G9/E9,0)*100 -> 207.3677 | M9: =IFERROR(G9/F9,0)*100 -> 9.407762
B10: 일반회계 | E10: =SUM(E11:E12) -> 882723000 | F10: =SUM(F11:F12) -> 15873670691 | G10: =SUM(G11:G12) -> 2331528308 | H10: =SUM(H11:H12) -> 1000625690 | I10: =F10-G10-H10 -> 12541516693 | J10: =I10-K10 -> 12367292273 | K10: =SUM(K11:K12) -> 174224420 | L10: =IFERROR(G10/E10,0)*100 -> 264.1291 | M10: =IFERROR(G10/F10,0)*100 -> 14.688022
C11: 현년도 | E11: =E14+E17+E20+E23+E26+E29 -> 882723000 | F11: =F14+F17+F20+F23+F26+F29 -> 3489937490 | G11: =G14+G17+G20+G23+G26+G29 -> 1415889320 | H11: =H14+H17+H20+H23+H26+H29 -> 0 | I11: =I14+I17+I20+I23+I26+I29 -> 2074048170 | J11: =J14+J17+J20+J23+J26+J29 -> 1900427710 | K11: =K14+K17+K20+K23+K26+K29 -> 173620460 | L11: =IFERROR(G11/E11,0)*100 -> 160.40018 | M11: =IFERROR(G11/F11,0)*100 -> 40.570621
C12: 과년도 | E12: =E15+E18+E21+E24+E27+E30 -> 0 | F12: =F15+F18+F21+F24+F27+F30 -> 12383733201 | G12: =G15+G18+G21+G24+G27+G30 -> 915638988 | H12: =H15+H18+H21+H24+H27+H30 -> 1000625690 | I12: =I15+I18+I21+I24+I27+I30 -> 10467468523 | J12: =J15+J18+J21+J24+J27+J30 -> 10466864563 | K12: =K15+K18+K21+K24+K27+K30 -> 603960 | L12: =IFERROR(G12/E12,0)*100 -> 0 | M12: =IFERROR(G12/F12,0)*100 -> 7.393885
B13: 국공유변상금 | E13: =SUM(E14:E15) -> 35723000 | F13: =SUM(F14:F15) -> 874506759 | G13: =SUM(G14:G15) -> 617814750 | H13: =SUM(H14:H15) -> 31503920 | I13: =SUM(I14:I15) -> 225188089 | J13: =SUM(J14:J15) -> 223980169 | K13: =SUM(K14:K15) -> 1207920 | L13: =IFERROR(G13/E13,0)*100 -> 1729.4593 | M13: =IFERROR(G13/F13,0)*100 -> 70.647224 | N13: 286-005 국유재산변상금 | O13: 286-006 시유재산변상금 | P13: 286-007 구유재산변상금 | Q13: 286-017 공유재산무단점유변상금
C14: 현년도 | E14: 35723000 | F14: 608849750 | G14: 575852120 | H14: 0 | I14: =F14-G14-H14 -> 32997630 | J14: =I14-K14 -> 32393670 | K14: 603960 | L14: =IFERROR(G14/E14,0)*100 -> 1611.9926 | M14: =IFERROR(G14/F14,0)*100 -> 94.580333
C15: 과년도 | F15: 265657009 | G15: 41962630 | H15: 31503920 | I15: =F15-G15-H15 -> 192190459 | J15: =I15-K15 -> 191586499 | K15: 603960 | L15: =IFERROR(G15/E15,0)*100 -> 0 | M15: =IFERROR(G15/F15,0)*100 -> 15.795793
B16: 책임보험미가입과태료 | E16: =SUM(E17:E18) -> 275000000 | F16: =SUM(F17:F18) -> 7721223133 | G16: =SUM(G17:G18) -> 769083881 | H16: =SUM(H17:H18) -> 600065820 | I16: =SUM(I17:I18) -> 6352073432 | J16: =SUM(J17:J18) -> 6302707632 | K16: =SUM(K17:K18) -> 49365800 | L16: =IFERROR(G16/E16,0)*100 -> 279.66687 | M16: =IFERROR(G16/F16,0)*100 -> 9.9606483 | N16: 288-080 자동차손해배상보장법위반과태료
C17: 현년도 | E17: 275000000 | F17: 786744400 | G17: 247991010 | H17: 0 | I17: =F17-G17-H17 -> 538753390 | J17: =I17-K17 -> 489387590 | K17: 49365800 | L17: =IFERROR(G17/E17,0)*100 -> 90.178549 | M17: =IFERROR(G17/F17,0)*100 -> 31.521166
C18: 과년도 | F18: 6934478733 | G18: 521092871 | H18: 600065820 | I18: =F18-G18-H18 -> 5813320042 | J18: =I18-K18 -> 5813320042 | K18: 0 | L18: =IFERROR(G18/E18,0)*100 -> 0 | M18: =IFERROR(G18/F18,0)*100 -> 7.5145211
B19: 자동차검사지연과태료 | E19: =SUM(E20:E21) -> 250000000 | F19: =SUM(F20:F21) -> 3003697191 | G19: =SUM(G20:G21) -> 600893757 | H19: =SUM(H20:H21) -> 134834200 | I19: =SUM(I20:I21) -> 2267969234 | J19: =SUM(J20:J21) -> 2213049234 | K19: =SUM(K20:K21) -> 54920000 | L19: =IFERROR(G19/E19,0)*100 -> 240.3575 | M19: =IFERROR(G19/F19,0)*100 -> 20.005138 | N19: 288-131 자동차검사지연과태료
C20: 현년도 | E20: 250000000 | F20: 809526170 | G20: 346125050 | H20: 0 | I20: =F20-G20-H20 -> 463401120 | J20: =I20-K20 -> 408481120 | K20: 54920000 | L20: =IFERROR(G20/E20,0)*100 -> 138.45002 | M20: =IFERROR(G20/F20,0)*100 -> 42.756499
C21: 과년도 | F21: 2194171021 | G21: 254768707 | H21: 134834200 | I21: =F21-G21-H21 -> 1804568114 | J21: =I21-K21 -> 1804568114 | K21: 0 | L21: =IFERROR(G21/E21,0)*100 -> 0 | M21: =IFERROR(G21/F21,0)*100 -> 11.61116
B22: 자동차정밀검사과태료 | E22: =SUM(E23:E24) -> 0 | F22: =SUM(F23:F24) -> 286031315 | G22: =SUM(G23:G24) -> 23743680 | H22: =SUM(H23:H24) -> 17917700 | I22: =SUM(I23:I24) -> 244369935 | J22: =SUM(J23:J24) -> 244369935 | K22: =SUM(K23:K24) -> 0 | L22: =IFERROR(G22/E22,0)*100 -> 0 | M22: =IFERROR(G22/F22,0)*100 -> 8.3010771 | N22: 288-330 배출가스정밀검사과태료
C23: 현년도 | E23: 0 | F23: 0 | G23: 0 | H23: 0 | I23: =F23-G23-H23 -> 0 | J23: =I23-K23 -> 0 | K23: 0 | L23: =IFERROR(G23/E23,0)*100 -> 0 | M23: =IFERROR(G23/F23,0)*100 -> 0
C24: 과년도 | F24: 286031315 | G24: 23743680 | H24: 17917700 | I24: =F24-G24-H24 -> 244369935 | J24: =I24-K24 -> 244369935 | K24: 0 | L24: =IFERROR(G24/E24,0)*100 -> 0 | M24: =IFERROR(G24/F24,0)*100 -> 8.3010771
B25: 부동산실명법과징금 | E25: =SUM(E26:E27) -> 1000000 | G25: =SUM(G26:G27) -> 10000 | H25: =SUM(H26:H27) -> 0 | I25: =SUM(I26:I27) -> 3264440363 | J25: =SUM(J26:J27) -> 3264440363 | K25: =SUM(K26:K27) -> 0 | L25: =IFERROR(G25/E25,0)*100 -> 1 | M25: =IFERROR(G25/F25,0)*100 -> 0 | N25: 288-211 부동산실권리자명의등기법과징금
C26: 현년도 | E26: 1000000 | F26: 879868500 | G26: 0 | H26: 0 | I26: =F26-G26-H26 -> 879868500 | J26: =I26-K26 -> 879868500 | K26: 0 | L26: =IFERROR(G26/E26,0)*100 -> 0 | M26: =IFERROR(G26/F26,0)*100 -> 0
C27: 과년도 | F27: 2384581863 | G27: 10000 | H27: 0 | I27: =F27-G27-H27 -> 2384571863 | J27: =I27-K27 -> 2384571863 | K27: 0 | L27: =IFERROR(G27/E27,0)*100 -> 0 | M27: =IFERROR(G27/F27,0)*100 -> 0.00041936073
B28: 건축법이행강제금 | E28: =SUM(E29:E30) -> 321000000 | F28: =SUM(F29:F30) -> 723761930 | G28: =SUM(G29:G30) -> 319982240 | H28: =SUM(H29:H30) -> 216304050 | I28: =SUM(I29:I30) -> 187475640 | J28: =SUM(J29:J30) -> 118744940 | K28: =SUM(K29:K30) -> 68730700 | L28: =IFERROR(G28/E28,0)*100 -> 99.682941 | M28: =IFERROR(G28/F28,0)*100 -> 44.21098 | N28: 288-263 건축법이행강제금
C29: 현년도 | E29: 321000000 | F29: 404948670 | G29: 245921140 | H29: 0 | I29: =F29-G29-H29 -> 159027530 | J29: =I29-K29 -> 90296830 | K29: 68730700 | L29: =IFERROR(G29/E29,0)*100 -> 76.610947 | M29: =IFERROR(G29/F29,0)*100 -> 60.728966
C30: 과년도 | F30: 318813260 | G30: 74061100 | H30: 216304050 | I30: =F30-G30-H30 -> 28448110 | J30: =I30-K30 -> 28448110 | L30: =IFERROR(G30/E30,0)*100 -> 0 | M30: =IFERROR(G30/F30,0)*100 -> 23.230245
B31: 특별회계 | E31: =SUM(E32:E33) -> 2830000000 | F31: =SUM(F32:F33) -> 6988534828 | G31: =SUM(G32:G33) -> 3090780080 | H31: =SUM(H32:H33) -> 217217875 | I31: =F31-G31-H31 -> 3680536873 | J31: =I31-K31 -> 3680536873 | K31: =SUM(K32:K33) -> 0 | L31: =IFERROR(G31/E31,0)*100 -> 109.21484 | M31: =IFERROR(G31/F31,0)*100 -> 44.226439
C32: 현년도 | E32: =E35 -> 2100000000 | F32: =F35 -> 3281467850 | G32: =G35 -> 2492634890 | H32: =H35 -> 0 | I32: =I35 -> 788832960 | J32: =J35 -> 788832960 | K32: =K35 -> 0 | L32: =IFERROR(G32/E32,0)*100 -> 118.6969 | M32: =IFERROR(G32/F32,0)*100 -> 75.960972
C33: 과년도 | E33: =E36 -> 730000000 | F33: =F36 -> 3707066978 | G33: =G36 -> 598145190 | H33: =H36 -> 217217875 | I33: =I36 -> 2891703913 | J33: =J36 -> 2891703913 | K33: =K36 -> 0 | L33: =IFERROR(G33/E33,0)*100 -> 81.937697 | M33: =IFERROR(G33/F33,0)*100 -> 16.135268
B34: 주정차위반과태료 | E34: =SUM(E35:E36) -> 2830000000 | F34: =SUM(F35:F36) -> 6988534828 | G34: =SUM(G35:G36) -> 3090780080 | H34: =SUM(H35:H36) -> 217217875 | I34: =SUM(I35:I36) -> 3680536873 | J34: =SUM(J35:J36) -> 3680536873 | K34: =SUM(K35:K36) -> 0 | L34: =IFERROR(G34/E34,0)*100 -> 109.21484 | M34: =IFERROR(G34/F34,0)*100 -> 44.226439
C35: 현년도 | E35: 2100000000 | F35: 3281467850 | G35: 2492634890 | H35: 0 | I35: =F35-G35-H35 -> 788832960 | J35: =I35-K35 -> 788832960 | L35: =IFERROR(G35/E35,0)*100 -> 118.6969 | M35: =IFERROR(G35/F35,0)*100 -> 75.960972
C36: 과년도 | E36: 730000000 | F36: 3707066978 | G36: 598145190 | H36: 217217875 | I36: =F36-G36-H36 -> 2891703913 | J36: =I36-K36 -> 2891703913 | L36: =IFERROR(G36/E36,0)*100 -> 81.937697 | M36: =IFERROR(G36/F36,0)*100 -> 16.135268

Sheet 시세외 특별회계(위임)
B2: =B4&L3&" 특별회계 세외수입 징수현황" -> 2023년 12월 미추홀구 특별회계 세외수입 징수현황
K3: 기관명 | L3: ='군구세외 일반회계'!L3:M3 -> 미추홀구
B4: ='군구세외 일반회계'!B4:D4 -> 2023년 12월 | L4: (단위:원,%)
D5: 구 분 | E5: 최종예산액 | F5: 징수결정액 | G5: 징 수 액 | H5: 정리보류액 | I5: 미수납액 | L5: 징수율
B6: 항 목 별 | E6: (A) | F6: (B) | G6: (C) | H6: (D) | I6: 미수납액 (E=B-C-D) | J6: 체납액 (F=E-G) | K6: 납기미도래 (G) | L6: (C/A) | M6: (C/B)
B7: 200 세외수입 | E7: 0 | F7: 5048898370 | G7: 4910434470 | H7: 0 | I7: 138463900 | J7: 138463900 | K7: 0 | L7: 0 | M7: 97.257542
B8: 210 경상적세외수입 | E8: 0 | F8: 412949050 | G8: 412560450 | H8: 0 | I8: 388600 | J8: 388600 | K8: 0 | L8: 0 | M8: 99.905896
B9: 211 재산임대수입 | E9: 0 | F9: 0 | G9: 0 | H9: 0 | I9: 0 | J9: 0 | K9: 0 | L9: 0 | M9: 0
C10: 211-01 국유재산임대료 | I10: 0 | J10: 0 | L10: 0 | M10: 0
C11: 211-02 공유재산임대료 | I11: 0 | J11: 0 | L11: 0 | M11: 0
B12: 212 사용료수입 | E12: 0 | F12: 264436600 | G12: 264048000 | H12: 0 | I12: 388600 | J12: 388600 | K12: 0 | L12: 0 | M12: 99.853046
C13: 212-01 도로사용료 | I13: 0 | J13: 0 | L13: 0 | M13: 0
C14: 212-02 하천사용료 | I14: 0 | J14: 0 | L14: 0 | M14: 0
C15: 212-03 하수도사용료 | I15: 0 | J15: 0 | L15: 0 | M15: 0
C16: 212-04 상수도사용료 | I16: 0 | J16: 0 | L16: 0 | M16: 0
C17: 212-05 공유수면사용료 | I17: 0 | J17: 0 | L17: 0 | M17: 0
C18: 212-06 시장사용료 | I18: 0 | J18: 0 | L18: 0 | M18: 0
C19: 212-07 입장료수입 | I19: 0 | J19: 0 | L19: 0 | M19: 0
C20: 212-08 주차요금수입 | E20: 0 | F20: 264436600 | G20: 264048000 | H20: 0 | I20: 388600 | J20: 388600 | L20: 0 | M20: 99.853046
C21: 212-09 기타사용료 | I21: 0 | J21: 0 | L21: 0 | M21: 0
B22: 213 수수료수입 | E22: 0 | F22: 0 | G22: 0 | H22: 0 | I22: 0 | J22: 0 | K22: 0 | L22: 0 | M22: 0
C23: 213-01 증지수입 | I23: 0 | J23: 0 | L23: 0 | M23: 0
C24: 213-02 폐기물처리수수료 | I24: 0 | J24: 0 | L24: 0 | M24: 0
C25: 213-03 재활용품수거판매수입 | I25: 0 | J25: 0 | L25: 0 | M25: 0
C26: 213-04 보건의료수수료 | I26: 0 | J26: 0
C27: 213-05 기타수수료 | I27: 0 | J27: 0 | L27: 0 | M27: 0
B28: 214 사업수입 | E28: 0 | F28: 148512450 | G28: 148512450 | H28: 0 | I28: 0 | J28: 0 | K28: 0 | L28: 0 | M28: 100
C29: 214-01 사업장생산수입 | I29: 0 | J29: 0 | L29: 0 | M29: 0
C30: 214-02 청산금수입 | I30: 0 | J30: 0 | L30: 0 | M30: 0
C31: 214-03 매각사업수입 | F31: 126285380 | G31: 126285380 | I31: 0 | J31: 0 | L31: 0 | M31: 100
C32: 214-04 배당금수입 | I32: 0 | J32: 0 | L32: 0 | M32: 0
C33: 214-05 기타사업수입 | F33: 22227070 | G33: 22227070 | I33: 0 | J33: 0 | L33: 0 | M33: 100
B34: 215 징수교부금수입 | E34: 0 | F34: 0 | G34: 0 | H34: 0 | I34: 0 | J34: 0 | K34: 0 | L34: 0 | M34: 0
C35: 215-01 징수교부금수입 | I35: 0 | J35: 0 | L35: 0 | M35: 0
B36: 216 이자수입 | E36: 0 | F36: 0 | G36: 0 | H36: 0 | I36: 0 | J36: 0 | K36: 0 | L36: 0 | M36: 0
C37: 216-01 공공예금이자수입 | I37: 0 | J37: 0 | L37: 0 | M37: 0
C38: 216-02 융자금회수이자수입 | I38: 0 | J38: 0 | L38: 0 | M38: 0
C39: 216-03 기타이자수입 | I39: 0 | J39: 0 | L39: 0 | M39: 0
B40: 220 임시적세외수입 | E40: 0 | F40: 3575705790 | G40: 3439730490 | H40: 0 | I40: 135975300 | J40: 135975300 | K40: 0 | L40: 0 | M40: 96.197246
B41: 221 재산매각수입 | E41: 0 | F41: 0 | G41: 0 | H41: 0 | I41: 0 | J41: 0 | K41: 0 | L41: 0 | M41: 0
...
