Workbook

Sheet 입력
J1: < 작성방법 >
B2: 1. 미수납액 | C2: 2. 정기분 (납기내) 수납 | D2: 3. 정기분 (납기후) 수납 | E2: 4. 정기분 (체납) 수납 | F2: 5. 수시분 | G2: 6. 과오납금 | H2: 7. 결손내역 | J2: 사전작업 : 군구 시트에 누계금액을 전월분으로 옮겨준다.(징수결정액, 수납액, 환부액, 불납결손액 각각 옮겨야함)
A3: 가정용 | B3: 95009030 | C3: 991262260 | F3: 1337730 | G3: 30890
A4: 업무용 | B4: 6486010 | C4: 242547940 | F4: 29560 | G4: 0
A5: 영업용 | B5: 143889650 | C5: 677969250 | F5: 4114980 | G5: 26000
A6: 욕탕용 | B6: 8775790 | C6: =9014730+15201630 -> 24216360
A7: 산업용 | B7: 1976090 | C7: 63852940
A9: 당년도원인자부담금
A10: 2023년원인자부담금
A11: 2022년이전원인자
A12: 2024 | B12: 594442730 | D12: 93391780 | E12: 114938130 | G12: 1303240
A13: 2023 | B13: 31980950 | E13: 669280
A14: 2022 | B14: 13411390 | E14: 46920
A15: 2021 | B15: 5124170 | E15: 9740
A16: 2020 | B16: 470710
A17: 2019 | B17: 1768420
A18: 2018 | B18: 1810160
A19: 2017 | B19: 403050
A20: 2016 | B20: 115400
A21: 2015 | B21: 457610
A22: 2014 | B22: 250530
A23: 2013 | B23: 95790
A24: 2012 | B24: 561040
A25: 2011 | B25: 514290
A26: 2010 | B26: 371660
A27: 2009 | B27: 103850
... A34: 2002 | B34: 0
J80: 4. "3. 정기분 (체납) 년도별 업종별 납입집계" 파일 내 연두색 셀의 연도를 확인하여 당년도, 과년도 구분하여 입력 (당년도의 경우 업종별로 입력)
J81: 예시) 아래 사진을 기준, 2020년 셀에 3,460원 입력
J98: 예시) 당년도가 2023년이라고 가정할 경우, 왼쪽 표 욕탕용 셀에 7,050원 입력
J120: 5. "하수도 수시분 사용료 조정 및 수납 미수 내역서" 파일 내 업종별 납부액 입력
J121: 예시) 아래 사진 기준, 가정용에 97,440원, 업무용에 6,960원 입력
J154: 6. "과오납금 환부내역" 파일 내 환부및정산금액 입력(고지년도, 업종 구분 필수)
J155: 예시) 아래 사진 기준, 57,480원을 "2023년-영업용" 셀에 입력(2023년이 과년도일 경우 업종 구분없이 값만 입력 / 같은 업종 및 고지년도의 환부액이 여러건일 경우 합계액 입력)
J164: 7. "x월 하수도 결손내역" 파일 내 부과년도별 결손금액 입력
J165: 예시) 아래 사진 기준, 118,630원을 2022년 셀에 입력(같은 년도에 여러 건이 있을 경우 합계액을 입력)
J173: 8~9. 원인자부담금은 해당 월 징수결정액, 수납액을 입력
J174: (환급금은 당년도 환금액만 결과 시트에 직접 입력, 과년도 환급금은 입력하지 않음)

Sheet 결과
B2: 징수결정액 | C2: 총수납액 | D2: 실수납액 | E2: 환급액 | F2: 결손액 | G2: 미수납액
A3: 가정용 | B3: =D3+F3+G3 -> 1087578130 | C3: =입력!C3+입력!D3+입력!E3+입력!F3 -> 992599990 | D3: =C3-E3 -> 992569100 | E3: =입력!G3 -> 30890 | G3: =입력!B3 -> 95009030
A4: 업무용 | B4: =D4+F4+G4 -> 249063510 | C4: =입력!C4+입력!D4+입력!E4+입력!F4 -> 242577500 | D4: =C4-E4 -> 242577500 | E4: =입력!G4 -> 0 | G4: =입력!B4 -> 6486010
A5: 영업용 | B5: =D5+F5+G5 -> 825947880 | C5: =입력!C5+입력!D5+입력!E5+입력!F5 -> 682084230 | D5: =C5-E5 -> 682058230 | E5: =입력!G5 -> 26000 | G5: =입력!B5 -> 143889650
A6: 욕탕용 | B6: =D6+F6+G6 -> 32992150 | C6: =입력!C6+입력!D6+입력!E6+입력!F6 -> 24216360 | D6: =C6-E6 -> 24216360 | E6: =입력!G6 -> 0 | G6: =입력!B6 -> 8775790
A7: 산업용 | B7: =D7+F7+G7 -> 65829030 | C7: =입력!C7+입력!D7+입력!E7+입력!F7 -> 63852940 | D7: =C7-E7 -> 63852940 | E7: =입력!G7 -> 0 | G7: =입력!B7 -> 1976090
A9: 당년도 원인자 | B9: =D9+F9+G9 -> 0 | C9: =입력!C9+입력!D9+입력!E9+입력!F9 -> 0 | D9: =C9-E9 -> 0 | G9: =입력!B9 -> 0
A10: 2023년 원인자 | B10: =D10+F10+G10 -> 0 | C10: =입력!C10+입력!D10+입력!E10+입력!F10 -> 0 | D10: =C10-E10 -> 0 | G10: =입력!B10 -> 0
A11: 2022년이전원인자 | B11: =D11+F11+G11 -> 0 | C11: =입력!C11+입력!D11+입력!E11+입력!F11 -> 0 | D11: =C11-E11 -> 0 | G11: =입력!B11 -> 0
A12: 2023 | B12: =D12+F12+G12 -> 801469400 | C12: =입력!C12+입력!D12+입력!E12+입력!F12 -> 208329910 | D12: =C12-E12 -> 207026670 | E12: =입력!G12 -> 1303240 | F12: =입력!H12 -> 0 | G12: =입력!B12 -> 594442730
A13: 2022 | B13: =D13+F13+G13 -> 32650230 | C13: =입력!C13+입력!D13+입력!E13+입력!F13 -> 669280 | D13: =C13-E13 -> 669280 | E13: =입력!G13 -> 0 | F13: =입력!H13 -> 0 | G13: =입력!B13 -> 31980950
A14: 2021 | B14: =D14+F14+G14 -> 13458310 | C14: =입력!C14+입력!D14+입력!E14+입력!F14 -> 46920 | D14: =C14-E14 -> 46920 | E14: =입력!G14 -> 0 | F14: =입력!H14 -> 0 | G14: =입력!B14 -> 13411390
A15: 2020 | B15: =D15+F15+G15 -> 5133910 | C15: =입력!C15+입력!D15+입력!E15+입력!F15 -> 9740 | D15: =C15-E15 -> 9740 | E15: =입력!G15 -> 0 | F15: =입력!H15 -> 0 | G15: =입력!B15 -> 5124170
A16: 2019 | B16: =D16+F16+G16 -> 470710 | C16: =입력!C16+입력!D16+입력!E16+입력!F16 -> 0 | D16: =C16-E16 -> 0 | E16: =입력!G16 -> 0 | F16: =입력!H16 -> 0 | G16: =입력!B16 -> 470710
A17: 2018 | B17: =D17+F17+G17 -> 1768420 | C17: =입력!C17+입력!D17+입력!E17+입력!F17 -> 0 | D17: =C17-E17 -> 0 | E17: =입력!G17 -> 0 | F17: =입력!H17 -> 0 | G17: =입력!B17 -> 1768420
A18: 2017 | B18: =D18+F18+G18 -> 1810160 | C18: =입력!C18+입력!D18+입력!E18+입력!F18 -> 0 | D18: =C18-E18 -> 0 | E18: =입력!G18 -> 0 | F18: =입력!H18 -> 0 | G18: =입력!B18 -> 1810160
A19: 2016 | B19: =D19+F19+G19 -> 403050 | C19: =입력!C19+입력!D19+입력!E19+입력!F19 -> 0 | D19: =C19-E19 -> 0 | E19: =입력!G19 -> 0 | F19: =입력!H19 -> 0 | G19: =입력!B19 -> 403050
A20: 2015 | B20: =D20+F20+G20 -> 115400 | C20: =입력!C20+입력!D20+입력!E20+입력!F20 -> 0 | D20: =C20-E20 -> 0 | E20: =입력!G20 -> 0 | F20: =입력!H20 -> 0 | G20: =입력!B20 -> 115400
A21: 2014 | B21: =D21+F21+G21 -> 457610 | C21: =입력!C21+입력!D21+입력!E21+입력!F21 -> 0 | D21: =C21-E21 -> 0 | E21: =입력!G21 -> 0 | F21: =입력!H21 -> 0 | G21: =입력!B21 -> 457610
A22: 2013 | B22: =D22+F22+G22 -> 250530 | C22: =입력!C22+입력!D22+입력!E22+입력!F22 -> 0 | D22: =C22-E22 -> 0 | E22: =입력!G22 -> 0 | F22: =입력!H22 -> 0 | G22: =입력!B22 -> 250530
A23: 2012 | B23: =D23+F23+G23 -> 95790 | C23: =입력!C23+입력!D23+입력!E23+입력!F23 -> 0 | D23: =C23-E23 -> 0 | E23: =입력!G23 -> 0 | F23: =입력!H23 -> 0 | G23: =입력!B23 -> 95790
... A33: 2002 | B33: =D33+F33+G33 -> 0 | C33: =입력!C33+입력!D33+입력!E33+입력!F33 -> 0 | D33: =C33-E33 -> 0 | E33: =입력!G33 -> 0 | F33: =입력!H33 -> 0 | G33: =입력!B33 -> 0

Sheet 군구
A1: 세 입 징 수 액 계 산 서
D2: 20ㅇㅇ. ㅇㅇ월분(ㅇㅇ구) | M2: (단위 : 원) | O2: 전월분 세입징수계산서
A3: 과 목 | E3: 징 수 결 정 액 | G3: 수 납 액 | I3: 환 부 액 | K3: 불 납 결 손 액 | M3: 미 수 납 액 | S3: 징수액 | T3: 수납액 | U3: 환부액 | V3: 불납결손액
E4: 본 기 (월) 분 | F4: 본기(월)까지 누 계 | G4: 본 기 (월) 분 | H4: 본기(월)까지 누 계 | I4: 본 기 (월) 분 | J4: 본기(월)까지 | K4: 본 기 (월) 분 | L4: 본기(월)까지 누 계 | O4: 과 목 | S4: 본기(월)까지의 | T4: 본기(월)까지의 | U4: 과오납금 | V4: 불납결손
J5: 누 계 | S5: 누 계 | T5: 누 계
A6: 세 입 합 계 | E6: =SUM(E7+E35) -> 4019505830 | F6: =SUM(F7+F35) -> 4019505830 | G6: =SUM(G7+G35) -> 3111331340 | H6: =SUM(H7+H35) -> 3111331340 | I6: =SUM(I7+I35) -> 1360130 | J6: =SUM(J7+J35) -> 1360130 | K6: =SUM(K7+K35) -> 0 | L6: =SUM(L7+L35) -> 0 | M6: =SUM(M7+M35) -> 908174490 | O6: 세 입 합 계
A7: 600 하수도 사업수익 | E7: =E8 -> 2261410700 | F7: =F8 -> 2261410700 | G7: =G8 -> 2005274130 | H7: =H8 -> 2005274130 | I7: =I8 -> 56890 | J7: =J8 -> 56890 | K7: =K8 -> 0 | L7: =L8 -> 0 | M7: =M8 -> 256136570 | O7: 600 하 수 도 사 업 수 익
A8: 610 영 업 수 익 | B8: 610 영 업 수 익 | E8: =E9 -> 2261410700 | F8: =F9 -> 2261410700 | G8: =G9 -> 2005274130 | H8: =H9 -> 2005274130 | I8: =I9 -> 56890 | J8: =J9 -> 56890 | K8: =K9 -> 0 | L8: =L9 -> 0 | M8: =M9 -> 256136570 | P8: 610 영 업 수 익
B9: 611 사 용 료 수 입 | C9: 611 사 용 료 수 입 | E9: =SUM(E10:E14) -> 2261410700 | F9: =SUM(F10:F14) -> 2261410700 | G9: =SUM(G10:G14) -> 2005274130 | H9: =SUM(H10:H14) -> 2005274130 | I9: =SUM(I10:I14) -> 56890 | J9: =SUM(J10:J14) -> 56890 | K9: =SUM(K10:K14) -> 0 | L9: =SUM(L10:L14) -> 0 | M9: =SUM(M10:M14) -> 256136570 | Q9: 611 사 용 료 수 입
D10: 02 가정용하수도사용료 | E10: =F10-S10 -> 1087578130 | F10: =G10+K10+M10+T10+V10 -> 1087578130 | G10: =결과!D3 -> 992569100 | H10: =SUM(G10+T10) -> 992569100 | I10: =결과!E3 -> 30890 | J10: =SUM(I10+U10) -> 30890 | K10: =결과!F3 -> 0 | L10: =SUM(K10+V10) -> 0 | M10: =결과!G3 -> 95009030 | R10: 611-1 가 정 용
D11: 04 공공용하수도사용료 | E11: =F11-S11 -> 249063510 | F11: =G11+K11+M11+T11+V11 -> 249063510 | G11: =결과!D4 -> 242577500 | H11: =SUM(G11+T11) -> 242577500 | I11: =결과!E4 -> 0 | J11: =SUM(I11+U11) -> 0 | K11: =결과!F4 -> 0 | L11: =SUM(K11+V11) -> 0 | M11: =결과!G4 -> 6486010 | R11: 611-2 업 무 용
D12: 06 일반용하수도사용료 | E12: =F12-S12 -> 825947880 | F12: =G12+K12+M12+T12+V12 -> 825947880 | G12: =결과!D5 -> 682058230 | H12: =SUM(G12+T12) -> 682058230 | I12: =결과!E5 -> 26000 | J12: =SUM(I12+U12) -> 26000 | K12: =결과!F5 -> 0 | L12: =SUM(K12+V12) -> 0 | M12: =결과!G5 -> 143889650 | R12: 611-3 영 업 용
D13: 08 대중탕용하수도사용료 | E13: =F13-S13 -> 32992150 | F13: =G13+K13+M13+T13+V13 -> 32992150 | G13: =결과!D6 -> 24216360 | H13: =SUM(G13+T13) -> 24216360 | I13: =결과!E6 -> 0 | J13: =SUM(I13+U13) -> 0 | K13: =결과!F6 -> 0 | L13: =SUM(K13+V13) -> 0 | M13: =결과!G6 -> 8775790 | R13: 611-4 욕 탕 1 종
D14: 10 산업및공업용하수도사용료 | E14: =F14-S14 -> 65829030 | F14: =G14+K14+M14+T14+V14 -> 65829030 | G14: =결과!D7 -> 63852940 | H14: =SUM(G14+T14) -> 63852940 | I14: =결과!E7 -> 0 | J14: =SUM(I14+U14) -> 0 | K14: =결과!F7 -> 0 | L14: =SUM(K14+V14) -> 0 | M14: =결과!G7 -> 1976090 | R14: 611-6 산 업 용
B15: 661 기타영업수익 | E15: =F15-S15 -> 0 | F15: =F16 -> 0 | G15: =결과!D8 -> 0 | H15: =SUM(H16) -> 0 | I15: =결과!E8 -> 0 | J15: =SUM(J16) -> 0 | K15: =SUM(K16) -> 0 | L15: =SUM(L16) -> 0 | M15: =F15-H15-L15 -> 0 | Q15: 614 기타영업수익 | S15: 0 | T15: 0 | U15: 0 | V15: 0
D16: 661-09 기타수수료수입 | E16: =F16-S16 -> 0 | F16: =SUM(E16+S16) -> 0 | G16: =결과!D9 -> 0 | H16: =SUM(G16+T16) -> 0 | I16: =결과!E9 -> 0 | J16: =SUM(I16+U16) -> 0 | M16: =F16-H16-L16 -> 0 | R16: 614-1 기타영업수익 | S16: 0 | T16: 0 | U16: 0
E17: =F17-S17 -> 0 | F17: =SUM(F18+F20+F27) -> 0 | G17: =결과!D10 -> 0 | H17: =H18+H20+H27 -> 679020 | I17: =결과!E10 -> 0 | J17: =J18+J20+J27 -> 0 | K17: =K18+K20+K27 -> 0 | L17: =L18+L20+L27 -> 0 | M17: =F17-H17 -> 0 | P17: 620 영 업 외 수 익 | S17: 0 | T17: 0 | U17: 0 | V17: 0
B18: 621 수입이자 및 배당금 | E18: =F18-S18 -> 0 | F18: =F19 -> 0 | G18: =결과!D12 -> 207026670 | H18: =H19 -> 669280 | I18: =결과!E12 -> 1303240 | J18: =J19 -> 0 | K18: =K19 -> 0 | L18: =L19 -> 0 | M18: =F18-H18 -> 0 | Q18: 621 수입이자 및 배당금 | S18: 0 | T18: 0 | U18: 0 | V18: 0
D19: 621-1예금이자 | E19: =F19-S19 -> 0 | F19: =SUM(E19+S19) -> 0 | G19: =결과!D13 -> 669280 | H19: =SUM(G19+T19) -> 669280 | I19: =결과!E13 -> 0 | J19: =SUM(I19+U19) -> 0 | M19: =F19-H19 -> 0 | R19: 621-1예금이자 | S19: 0 | T19: 0 | U19: 0
B20: 622 타회계부담금 | E20: =F20-S20 -> 0 | F20: =F21+F22 -> 0 | G20: =결과!D14 -> 46920 | H20: =H21+H22 -> 9740 | I20: =결과!E14 -> 0 | J20: =J21+J22 -> 0 | K20: =K21+K22 -> 0 | L20: =L21+L22 -> 0 | M20: =F20-H20 -> 0 | Q20: 622 타회계부담금 | S20: 0 | T20: 0 | U20: 0 | V20: 0
D21: 622-1 일반회계부담금 | E21: =F21-S21 -> 0 | F21: =SUM(E21+S21) -> 0 | G21: =결과!D15 -> 9740 | H21: =SUM(G21+T21) -> 9740 | I21: =결과!E15 -> 0 | J21: =SUM(I21+U21) -> 0 | M21: =F21-H21 -> 0 | R21: 622-1 일반회계부담금 | S21: 0 | T21: 0 | U21: 0
D22: 622-2 타특별회계부담금 | E22: =F22-S22 -> 0 | F22: =SUM(E22+S22) -> 0 | G22: =결과!D16 -> 0 | H22: =SUM(G22+T22) -> 0 | I22: =결과!E16 -> 0 | M22: =F22-H22 -> 0 | R22: 622-2 타특별회계부담금 | S22: 0 | T22: 0
M23: (단위 : 원)
A24: 과 목 | E24: 징 수 결 정 액 | G24: 수 납 액 | I24: 환 부 액 | K24: 불 납 결 손 액 | M24: 미 수 납 액
E25: 본 기 (월) 분 | F25: 본기(월)까지 누 계 | G25: 본 기 (월) 분 | H25: 본기(월)까지 누 계 | I25: 본 기 (월) 분 | J25: 본기(월)까지 누 계 | K25: 본 기 (월) 분 | L25: 본기(월)까지 누 계 | O25: 과 목 | S25: 본기(월)까지 누 계 | T25: 본기(월)까지 누 계 | U25: 본기(월)까지 누 계 | V25: 본기(월)까지 누 계
B27: 679 기타영업외수익 | E27: =SUM(E28:E31) -> 0 | F27: =SUM(F28:F31) -> 0 | G27: =SUM(G28:G31) -> 0 | H27: =SUM(H28:H31) -> 0 | I27: =SUM(I28:I31) -> 0 | J27: =SUM(I27+U27) -> 0 | K27: =SUM(K28:K31) -> 0 | L27: =SUM(K27+V27) -> 0 | M27: =F27-H27 -> 0 | Q27: 623 기타영업외수익 | S27: 0 | T27: 0 | U27: 0 | V27: 0
D28: 679-1 기타임대수익 | E28: 0 | G28: 0 | J28: =SUM(I28+U28) -> 0 | L28: =SUM(K28+V28) -> 0 | M28: =F28-H28 -> 0 | R28: 623-1 기본재산임대수입 | U28: 0 | V28: 0
D29: 679-3 불용품매각수입 | E29: 0 | F29: =SUM(E29+S29) -> 0 | G29: 0 | H29: =SUM(G29+S29) -> 0 | J29: =SUM(I29+U29) -> 0 | L29: =SUM(K29+V29) -> 0 | M29: =F29-H29 -> 0 | R29: 623-2 불용품매각수입 | S29: 0 | T29: 0 | U29: 0 | V29: 0
D30: 679-4 변상금및위약금 | E30: 0 | G30: 0 | J30: =SUM(I30+U30) -> 0 | L30: =SUM(K30+V30) -> 0 | M30: =F30-H30 -> 0 | R30: 623-3 변상금 및 위약금 | U30: 0 | V30: 0
D31: 679-4 기타영업외수익 | E31: 0 | F31: =SUM(E31+S31) -> 0 | G31: 0 | H31: =SUM(G31+T31) -> 0 | J31: =SUM(I31+U31) -> 0 | L31: =SUM(K31+V31) -> 0 | M31: =F31-H31 -> 0 | R31: 623-4 잡수익 | S31: 0 | T31: 0 | U31: 0 | V31: 0
E32: =E33 -> 0 | F32: =F33 -> 0 | G32: =G33 -> 0 | H32: =H33 -> 0 | I32: =I33 -> 0 | J32: =SUM(I32+U32) -> 0 | K32: =K33 -> 0 | L32: =SUM(K32+V32) -> 0 | M32: =F32-H32 -> 0 | P32: 630 특별이익 | S32: 0 | T32: 0 | U32: 0 | V32: 0
B33: 681전기손익수정이익 | E33: =E34 -> 0 | F33: =F34 -> 0 | G33: =G34 -> 0 | H33: =H34 -> 0 | I33: =I34 -> 0 | J33: =SUM(I33+U33) -> 0 | K33: =K34 -> 0 | L33: =SUM(K33+V33) -> 0 | M33: =F33-H33 -> 0 | R33: 633 기타특별이익 | S33: 0 | T33: 0 | U33: 0 | V33: 0
D34: 681-1전기손익수정이익 | E34: 0 | F34: =SUM(E34+S34) -> 0 | G34: 0 | H34: =SUM(G34+T34) -> 0 | J34: =SUM(I34+U34) -> 0 | L34: =SUM(K34+V34) -> 0 | M34: =F34-H34 -> 0 | R34: 633-1 기타특별이익 | S34: 0 | T34: 0 | U34: 0 | V34: 0
A35: 100 자본적수입 | E35: =E41+E52 -> 1758095130 | F35: =F41+F52 -> 1758095130 | G35: =G41+G52 -> 1106057210 | H35: =H41+H52 -> 1106057210 | I35: =I41+I52 -> 1303240 | J35: =J41+J52 -> 1303240 | K35: =K41+K52 -> 0 | L35: =L41+L52 -> 0 | M35: =F35-H35-L35 -> 652037920 | O35: 100 자본적수입
B36: 220 고정부채수입 | H36: =H37+H39 -> 0 | I36: =I37+I39 -> 0 | J36: =SUM(I36+U36) -> 0 | K36: =K37+K39 -> 0 | L36: =SUM(K36+V36) -> 0 | M36: =F36-H36-L36 -> 0 | P36: 220 고정부채수입
B37: 223 지역개발기금 | H37: =H38 -> 0 | I37: =I38 -> 0 | J37: =SUM(I37+U37) -> 0 | K37: =K38 -> 0 | L37: =SUM(K37+V37) -> 0 | M37: =F37-H37-L37 -> 0 | Q37: 222 지역개발기금
D38: 223-1시·도융자금수입 | E38: 0 | F38: =SUM(E38+S38) -> 0 | G38: 0 | H38: =SUM(G38+T38) -> 0 | J38: =SUM(I38+U38) -> 0 | L38: =SUM(K38+V38) -> 0 | M38: =F38-H38-L38 -> 0 | R38: 222-1 차입금
B39: 153 금융기관차입금수입 | E39: 0 | F39: =F40 -> 0 | G39: 0 | H39: =H40 -> 0 | I39: =I40 -> 0 | J39: =SUM(I39+U39) -> 0 | K39: =K40 -> 0 | L39: =SUM(K39+V39) -> 0 | M39: =F39-H39-L39 -> 0 | Q39: 223 정부투.융자금
D40: 153-1 금융기관차입금 | E40: 0 | F40: =SUM(E40+S40) -> 0 | G40: 0 | H40: =SUM(G40+T40) -> 0 | J40: =SUM(I40+U40) -> 0 | L40: =SUM(K40+V40) -> 0 | M40: =F40-H40-L40 -> 0 | R40: 223-1 차입금
B41: 170 자본잉여금수입 | E41: =E46 -> 898304600 | F41: =F46 -> 898304600 | G41: =G46 -> 898304600 | H41: =H46 -> 898304600 | I41: =I46 -> 0 | J41: =J46 -> 0 | K41: =K46 -> 0 | L41: =L46 -> 0 | M41: =F41-H41-L41 -> 0 | P41: 320 자본잉여금수입
B42: 171 시설분담금수입 | E42: 0 | F42: =F43 -> 0 | G42: 0 | H42: =H43 -> 0 | I42: =I43 -> 0 | J42: =SUM(I42+U42) -> 0 | K42: =K43 -> 0 | L42: =SUM(K42+V42) -> 0 | M42: =F42-H42-L42 -> 0 | Q42: 321 자본잉여금수입
D43: 171-1 시설분담금수입 | E43: 0 | F43: =SUM(E43+S43) -> 0 | G43: 0 | H43: =SUM(G43+T43) -> 0 | J43: =SUM(I43+U43) -> 0 | L43: =SUM(K43+V43) -> 0 | M43: =F43-H43-L43 -> 0 | R43: 321-1 국고보조금수입
B44: 173 타회계건설보조금수입 | E44: 0 | F44: =F45 -> 0 | G44: 0 | H44: =H45 -> 0 | I44: =I45 -> 0 | J44: =SUM(I44+U44) -> 0 | K44: =K45 -> 0 | L44: =SUM(K44+V44) -> 0 | M44: =F44-H44-L44 -> 0 | Q44: 322 타회계건설보조금수입
D45: 173-1 국고보조금 | E45: 0 | F45: =SUM(E45+S45) -> 0 | G45: 0 | H45: =SUM(G45+T45) -> 0 | I45: 0 | J45: =SUM(I45+U45) -> 0 | L45: =SUM(K45+V45) -> 0 | M45: =F45-H45-L45 -> 0 | R45: 322-1 타회계건설보조금
B46: 175 공사부담금수입 | C46: 175 공사부담금수입 | E46: =E47 -> 898304600 | F46: =F47 -> 898304600 | G46: =G47 -> 898304600 | H46: =H47 -> 898304600 | I46: =I47 -> 0 | J46: =J47 -> 0 | K46: =K47 -> 0 | L46: =L47 -> 0 | M46: =F46-H46-L46 -> 0 | Q46: 323 원인자부담금수입
D47: 09 기타공사부담금수입 | E47: 898304600 | F47: =SUM(E47+S47) -> 898304600 | G47: 898304600 | H47: =SUM(G47+T47) -> 898304600 | I47: =결과!E9 -> 0 | J47: =SUM(I47+U47) -> 0 | K47: =결과!F9 -> 0 | L47: =K47+V47 -> 0 | M47: =F47-H47-L47 -> 0 | R47: 323-1 원인자부담금수입
M48: (단위 : 원)
A49: 과 목 | E49: 징 수 결 정 액 | G49: 수 납 액 | I49: 환 부 액 | K49: 불 납 결 손 액 | M49: 미 수 납 액
E50: 본 기 (월) 분 | F50: 본기(월)까지 누 계 | G50: 본 기 (월) 분 | H50: 본기(월)까지 누 계 | I50: 본 기 (월) 분 | J50: 본기(월)까지 누 계 | K50: 본 기 (월) 분 | L50: 본기(월)까지 누 계 | O50: 과 목
B52: 180 유보자금 | E52: =E53 -> 859790530 | F52: =F53 -> 859790530 | G52: =G53 -> 207752610 | H52: =H53 -> 207752610 | I52: =I53 -> 1303240 | J52: =J53 -> 1303240 | K52: =K53 -> 0 | L52: =L53 -> 0 | M52: =F52-H52-L52 -> 652037920 | O52: 이 월 금
C53: 182 미수금 | E53: =E54+E55 -> 859790530 | F53: =F54+F55 -> 859790530 | G53: =G54+G55 -> 207752610 | H53: =H54+H55 -> 207752610 | I53: =I54+I55 -> 1303240 | J53: =J54+J55 -> 1303240 | K53: =K54+K55 -> 0 | L53: =L54+L55 -> 0 | M53: =M54+M55 -> 652037920
D54: 01 영업미수금 | E54: =E63 -> 859790530 | F54: =F63 -> 859790530 | G54: =G63 -> 207752610 | H54: =H63 -> 207752610 | I54: =I63 -> 1303240 | J54: =J63 -> 1303240 | K54: =K63 -> 0 | L54: =L63 -> 0 | M54: =M63 -> 652037920 | O54: 영업미수금
D55: 02 기타미수금 | E55: =E60 -> 0 | F55: =F60 -> 0 | G55: =G60 -> 0 | H55: =H60 -> 0 | I55: =I60 -> 0 | J55: =J60 -> 0 | K55: =K60 -> 0 | L55: =L60 -> 0 | M55: =M60 -> 0 | S55: 0 | T55: 0 | U55: 0 | V55: 0
M56: (단위 : 원)
A57: 과 목 | E57: 징 수 결 정 액 | G57: 수 납 액 | I57: 환 부 액 | K57: 불 납 결 손 액 | M57: 미 수 납 액
E58: 본 기 (월) 분 | F58: 본기(월)까지 누 계 | G58: 본 기 (월) 분 | H58: 본기(월)까지 누 계 | I58: 본 기 (월) 분 | J58: 본기(월)까지 누 계 | K58: 본 기 (월) 분 | L58: 본기(월)까지 누 계 | S58: 본기(월)까지 누 계 | T58: 본기(월)까지 누 계 | U58: 본기(월)까지 누 계 | V58: 본기(월)까지 누 계
D60: 과년도원인자부담금 미수금소계 | E60: =SUM(E61:E62) -> 0 | F60: =SUM(F61:F62) -> 0 | G60: =SUM(G61:G62) -> 0 | H60: =SUM(H61:H62) -> 0 | I60: =SUM(I61:I62) -> 0 | J60: =SUM(J61:J62) -> 0 | K60: =SUM(K61:K62) -> 0 | L60: =SUM(L61:L62) -> 0 | M60: =F60-H60-L60 -> 0 | S60: 0 | T60: 0 | U60: 0 | V60: 0
D61: 2024년 원인자부담금 | E61: =결과!B10 -> 0 | F61: =SUM(E61+S61) -> 0 | G61: =결과!D10 -> 0 | H61: =SUM(G61+T61) -> 0 | I61: =결과!E10 -> 0 | J61: =SUM(I61+U61) -> 0 | K61: =결과!F10 -> 0 | L61: =SUM(K61+V61) -> 0 | M61: =F61-H61-L61 -> 0 | P61: 2024년 원인자부담금
D62: 2023년이전 원인자부담금 | E62: =결과!B11 -> 0 | F62: =SUM(E62+S62) -> 0 | G62: =결과!D11 -> 0 | H62: =SUM(G62+T62) -> 0 | I62: =결과!E11 -> 0 | J62: =SUM(I62+U62) -> 0 | K62: =결과!F11 -> 0 | L62: =SUM(K62+V62) -> 0 | M62: =F62-H62-L62 -> 0 | P62: 2023년이전원인자부담금
D63: 과년도하수도사용료 미수금소계 | E63: =SUM(E64:E85) -> 859790530 | F63: =SUM(F64:F85) -> 859790530 | G63: =SUM(G64:G85) -> 207752610 | H63: =SUM(H64:H85) -> 207752610 | I63: =SUM(I64:I85) -> 1303240 | J63: =SUM(J64:J85) -> 1303240 | K63: =SUM(K64:K85) -> 0 | L63: =SUM(L64:L85) -> 0 | M63: =SUM(M64:M85) -> 652037920 | P63: 소계
D64: 2024년도 미수금 | E64: =F64-S64 -> 801469400 | F64: =G64+K64+M64+T64+V64 -> 801469400 | G64: =결과!D12 -> 207026670 | H64: =G64+T64 -> 207026670 | I64: =결과!E12 -> 1303240 | J64: =SUM(I64+U64) -> 1303240 | K64: =결과!F12 -> 0 | L64: =SUM(K64+V64) -> 0 | M64: =결과!G12 -> 594442730 | P64: 2024년도 미수금
D65: 2023년도 미수금 | E65: =F65-S65 -> 32650230 | F65: =G65+K65+M65+T65+V65 -> 32650230 | G65: =결과!D13 -> 669280 | H65: =G65+T65 -> 669280 | I65: =결과!E13 -> 0 | J65: =SUM(I65+U65) -> 0 | K65: =결과!F13 -> 0 | L65: =SUM(K65+V65) -> 0 | M65: =결과!G13 -> 31980950 | P65: 2023년도 미수금
D66: 2022년도 미수금 | E66: =F66-S66 -> 13458310 | F66: =G66+K66+M66+T66+V66 -> 13458310 | G66: =결과!D14 -> 46920 | H66: =G66+T66 -> 46920 | I66: =결과!E14 -> 0 | J66: =SUM(I66+U66) -> 0 | K66: =결과!F14 -> 0 | L66: =SUM(K66+V66) -> 0 | M66: =결과!G14 -> 13411390 | P66: 2022년도 미수금
D67: 2021년도 미수금 | E67: =F67-S67 -> 5133910 | F67: =G67+K67+M67+T67+V67 -> 5133910 | G67: =결과!D15 -> 9740 | H67: =G67+T67 -> 9740 | I67: =결과!E15 -> 0 | J67: =SUM(I67+U67) -> 0 | K67: =결과!F15 -> 0 | L67: =SUM(K67+V67) -> 0 | M67: =결과!G15 -> 5124170 | P67: 2021년도 미수금
D68: 2020년도 미수금 | E68: =F68-S68 -> 470710 | F68: =G68+K68+M68+T68+V68 -> 470710 | G68: =결과!D16 -> 0 | H68: =G68+T68 -> 0 | I68: =결과!E16 -> 0 | J68: =SUM(I68+U68) -> 0 | K68: =결과!F16 -> 0 | L68: =SUM(K68+V68) -> 0 | M68: =결과!G16 -> 470710 | P68: 2020년도 미수금
D69: 2019년도 미수금 | E69: =F69-S69 -> 1768420 | F69: =G69+K69+M69+T69+V69 -> 1768420 | G69: =결과!D17 -> 0 | H69: =G69+T69 -> 0 | I69: =결과!E17 -> 0 | J69: =SUM(I69+U69) -> 0 | K69: =결과!F17 -> 0 | L69: =SUM(K69+V69) -> 0 | M69: =결과!G17 -> 1768420 | P69: 2019년도 미수금
D70: 2018년도 미수금 | E70: =F70-S70 -> 1810160 | F70: =G70+K70+M70+T70+V70 -> 1810160 | G70: =결과!D18 -> 0 | H70: =G70+T70 -> 0 | I70: =결과!E18 -> 0 | J70: =SUM(I70+U70) -> 0 | K70: =결과!F18 -> 0 | L70: =SUM(K70+V70) -> 0 | M70: =결과!G18 -> 1810160 | P70: 2018년도 미수금
D71: 2017년도 미수금 | E71: =F71-S71 -> 403050 | F71: =G71+K71+M71+T71+V71 -> 403050 | G71: =결과!D19 -> 0 | H71: =G71+T71 -> 0 | I71: =결과!E19 -> 0 | J71: =SUM(I71+U71) -> 0 | K71: =결과!F19 -> 0 | L71: =SUM(K71+V71) -> 0 | M71: =결과!G19 -> 403050 | P71: 2017년도 미수금
D72: 2016년도 미수금 | E72: =F72-S72 -> 115400 | F72: =G72+K72+M72+T72+V72 -> 115400 | G72: =결과!D20 -> 0 | H72: =G72+T72 -> 0 | I72: =결과!E20 -> 0 | J72: =SUM(I72+U72) -> 0 | K72: =결과!F20 -> 0 | L72: =SUM(K72+V72) -> 0 | M72: =결과!G20 -> 115400 | P72: 2016년도 미수금
D73: 2015년도 미수금 | E73: =F73-S73 -> 457610 | F73: =G73+K73+M73+T73+V73 -> 457610 | G73: =결과!D21 -> 0 | H73: =G73+T73 -> 0 | I73: =결과!E21 -> 0 | J73: =SUM(I73+U73) -> 0 | K73: =결과!F21 -> 0 | L73: =SUM(K73+V73) -> 0 | M73: =결과!G21 -> 457610 | P73: 2015년도 미수금
D74: 2014년도 미수금 | E74: =F74-S74 -> 250530 | F74: =G74+K74+M74+T74+V74 -> 250530 | G74: =결과!D22 -> 0 | H74: =G74+T74 -> 0 | I74: =결과!E22 -> 0 | J74: =SUM(I74+U74) -> 0 | K74: =결과!F22 -> 0 | L74: =SUM(K74+V74) -> 0 | M74: =결과!G22 -> 250530 | P74: 2014년도 미수금
D75: 2013년도 미수금 | E75: =F75-S75 -> 95790 | F75: =G75+K75+M75+T75+V75 -> 95790 | G75: =결과!D23 -> 0 | H75: =G75+T75 -> 0 | I75: =결과!E23 -> 0 | J75: =SUM(I75+U75) -> 0 | K75: =결과!F23 -> 0 | L75: =SUM(K75+V75) -> 0 | M75: =결과!G23 -> 95790 | P75: 2013년도 미수금
... D85: 2003년도 미수금 | E85: =F85-S85 -> 0 | F85: =G85+K85+M85+T85+V85 -> 0 | G85: =결과!D33 -> 0 | H85: =G85+T85 -> 0 | I85: =결과!E33 -> 0 | J85: =SUM(I85+U85) -> 0 | K85: =결과!F33 -> 0 | L85: =SUM(K85+V85) -> 0 | M85: =결과!G33 -> 0 | P85: 2003년도 미수금
D86: 2002년도 미수금 | P86: 2002년도 미수금
