Workbook

Sheet 군구세외 일반회계
B2: =B4&L3&" 일반회계 세외수입 징수현황" -> 2024년 2월 미추홀구 일반회계 세외수입 징수현황
K3: 기관명 | L3: 미추홀구
B4: 2024년 2월 | E4: =VLOOKUP("세외수입합계 (200-00)",구세외징수보고서!$A:$U,6,FALSE) -> 48834156000 | F4: =VLOOKUP("세외수입합계 (200-00)",구세외징수보고서!$A:$U,10,FALSE) -> 32834790316 | G4: =VLOOKUP("세외수입합계 (200-00)",구세외징수보고서!$A:$U,12,FALSE) -> 7768252833 | H4: =VLOOKUP("세외수입합계 (200-00)",구세외징수보고서!$A:$U,16,FALSE) -> 177121930 | I4: =VLOOKUP("세외수입합계 (200-00)",구세외징수보고서!$A:$U,17,FALSE) -> 24889415553 | K4: =VLOOKUP("세외수입합계 (200-00)",구세외징수보고서!$A:$U,19,FALSE) -> 4276186640 | L4: (단위:원,%)
D5: 구 분 | E5: 최종예산액 | F5: 징수결정액 | G5: 징 수 액 | H5: 정리보류액 | I5: 미수납액 | L5: 징수율
B6: 항 목 별 | E6: (A) | F6: (B) | G6: (C) | H6: (D) | I6: 미수납액 (E=B-C-D) | J6: 체납액 (F=E-G) | K6: 납기미도래 (G) | L6: (C/A) | M6: (C/B)
B7: 200 세외수입 | E7: =E8+E40+E62 -> 48834156000 | F7: =F8+F40+F62 -> 32834790316 | G7: =G8+G40+G62 -> 7768252833 | H7: =H8+H40+H62 -> 177121930 | I7: =I8+I40+I62 -> 24889415553 | J7: =J8+J40+J62 -> 20613228913 | K7: =K8+K40+K62 -> 4276186640 | L7: =IFERROR(G7/E7,0)*100 -> 15.907417 | M7: =IFERROR(G7/F7,0)*100 -> 23.658603
B8: 210 경상적세외수입 | E8: =E9+E12+E22+E28+E34+E36 -> 29388726000 | F8: =F9+F12+F22+F28+F34+F36 -> 5292951484 | G8: =G9+G12+G22+G28+G34+G36 -> 5108815261 | H8: =H9+H12+H22+H28+H34+H36 -> 0 | I8: =I9+I12+I22+I28+I34+I36 -> 184136223 | J8: =J9+J12+J22+J28+J34+J36 -> 1046740 | K8: =K9+K12+K22+K28+K34+K36 -> 183089483 | L8: =IFERROR(G8/E8,0)*100 -> 17.383589 | M8: =IFERROR(G8/F8,0)*100 -> 96.521105
B9: 211 재산임대수입 | E9: =SUM(E10:E11) -> 182458000 | F9: =SUM(F10:F11) -> 68889850 | G9: =SUM(G10:G11) -> 30050760 | H9: =SUM(H10:H11) -> 0 | I9: =SUM(I10:I11) -> 38839090 | J9: =SUM(J10:J11) -> 250760 | K9: =SUM(K10:K11) -> 38588330 | L9: =IFERROR(G9/E9,0)*100 -> 16.46996 | M9: =IFERROR(G9/F9,0)*100 -> 43.621462
C10: 211-01 국유재산대부료 | E10: =SUMIF(구세외징수보고서!$AA:$AA,MID($C10,8,99),구세외징수보고서!F:F) -> 50000000 | F10: =SUMIF(구세외징수보고서!$AA:$AA,MID($C10,8,99),구세외징수보고서!J:J) -> 0 | G10: =SUMIF(구세외징수보고서!$AA:$AA,MID($C10,8,99),구세외징수보고서!L:L) -> 0 | H10: =SUMIF(구세외징수보고서!$AA:$AA,MID($C10,8,99),구세외징수보고서!P:P) -> 0 | I10: =F10-G10-H10 -> 0 | J10: =I10-K10 -> 0 | K10: =SUMIF(구세외징수보고서!$AA:$AA,MID($C10,8,99),구세외징수보고서!S:S) -> 0 | L10: =IFERROR(G10/E10,0)*100 -> 0 | M10: =IFERROR(G10/F10,0)*100 -> 0
C11: 211-02 공유재산임대료 | E11: =SUMIF(구세외징수보고서!$AA:$AA,MID($C11,8,99),구세외징수보고서!F:F) -> 132458000 | F11: =SUMIF(구세외징수보고서!$AA:$AA,MID($C11,8,99),구세외징수보고서!J:J) -> 68889850 | G11: =SUMIF(구세외징수보고서!$AA:$AA,MID($C11,8,99),구세외징수보고서!L:L) -> 30050760 | H11: =SUMIF(구세외징수보고서!$AA:$AA,MID($C11,8,99),구세외징수보고서!P:P) -> 0 | I11: =F11-G11-H11 -> 38839090 | J11: =I11-K11 -> 250760 | K11: =SUMIF(구세외징수보고서!$AA:$AA,MID($C11,8,99),구세외징수보고서!S:S) -> 38588330 | L11: =IFERROR(G11/E11,0)*100 -> 22.68701 | M11: =IFERROR(G11/F11,0)*100 -> 43.621462
B12: 212 사용료수입 | E12: =SUM(E13:E21) -> 2603862000 | F12: =SUM(F13:F21) -> 287799592 | G12: =SUM(G13:G21) -> 280946922 | H12: =SUM(H13:H21) -> 0 | I12: =SUM(I13:I21) -> 6852670 | J12: =SUM(J13:J21) -> 207640 | K12: =SUM(K13:K21) -> 6645030 | L12: =IFERROR(G12/E12,0)*100 -> 10.789624 | M12: =IFERROR(G12/F12,0)*100 -> 97.618944
C13: 212-01 도로사용료 | E13: =SUMIF(구세외징수보고서!$AA:$AA,MID($C13,8,99),구세외징수보고서!F:F) -> 1150000000 | F13: =SUMIF(구세외징수보고서!$AA:$AA,MID($C13,8,99),구세외징수보고서!J:J) -> 13611840 | G13: =SUMIF(구세외징수보고서!$AA:$AA,MID($C13,8,99),구세외징수보고서!L:L) -> 12486800 | H13: =SUMIF(구세외징수보고서!$AA:$AA,MID($C13,8,99),구세외징수보고서!P:P) -> 0 | I13: =F13-G13-H13 -> 1125040 | J13: =I13-K13 -> 207640 | K13: =SUMIF(구세외징수보고서!$AA:$AA,MID($C13,8,99),구세외징수보고서!S:S) -> 917400 | L13: =IFERROR(G13/E13,0)*100 -> 1.0858087 | M13: =IFERROR(G13/F13,0)*100 -> 91.734843
C14: 212-02 하천사용료 | E14: =SUMIF(구세외징수보고서!$AA:$AA,MID($C14,8,99),구세외징수보고서!F:F) -> 0 | F14: =SUMIF(구세외징수보고서!$AA:$AA,MID($C14,8,99),구세외징수보고서!J:J) -> 0 | G14: =SUMIF(구세외징수보고서!$AA:$AA,MID($C14,8,99),구세외징수보고서!L:L) -> 0 | H14: =SUMIF(구세외징수보고서!$AA:$AA,MID($C14,8,99),구세외징수보고서!P:P) -> 0 | I14: =F14-G14-H14 -> 0 | J14: =I14-K14 -> 0 | K14: =SUMIF(구세외징수보고서!$AA:$AA,MID($C14,8,99),구세외징수보고서!S:S) -> 0 | L14: =IFERROR(G14/E14,0)*100 -> 0 | M14: =IFERROR(G14/F14,0)*100 -> 0
C15: 212-03 하수도사용료 | E15: =SUMIF(구세외징수보고서!$AA:$AA,MID($C15,8,99),구세외징수보고서!F:F) -> 0 | F15: =SUMIF(구세외징수보고서!$AA:$AA,MID($C15,8,99),구세외징수보고서!J:J) -> 0 | G15: =SUMIF(구세외징수보고서!$AA:$AA,MID($C15,8,99),구세외징수보고서!L:L) -> 0 | H15: =SUMIF(구세외징수보고서!$AA:$AA,MID($C15,8,99),구세외징수보고서!P:P) -> 0 | I15: =F15-G15-H15 -> 0 | J15: =I15-K15 -> 0 | K15: =SUMIF(구세외징수보고서!$AA:$AA,MID($C15,8,99),구세외징수보고서!S:S) -> 0 | L15: =IFERROR(G15/E15,0)*100 -> 0 | M15: =IFERROR(G15/F15,0)*100 -> 0
C16: 212-04 상수도사용료 | E16: =SUMIF(구세외징수보고서!$AA:$AA,MID($C16,8,99),구세외징수보고서!F:F) -> 0 | F16: =SUMIF(구세외징수보고서!$AA:$AA,MID($C16,8,99),구세외징수보고서!J:J) -> 0 | G16: =SUMIF(구세외징수보고서!$AA:$AA,MID($C16,8,99),구세외징수보고서!L:L) -> 0 | H16: =SUMIF(구세외징수보고서!$AA:$AA,MID($C16,8,99),구세외징수보고서!P:P) -> 0 | I16: =F16-G16-H16 -> 0 | J16: =I16-K16 -> 0 | K16: =SUMIF(구세외징수보고서!$AA:$AA,MID($C16,8,99),구세외징수보고서!S:S) -> 0 | L16: =IFERROR(G16/E16,0)*100 -> 0 | M16: =IFERROR(G16/F16,0)*100 -> 0
C17: 212-05 공유수면사용료 | E17: =SUMIF(구세외징수보고서!$AA:$AA,MID($C17,8,99),구세외징수보고서!F:F) -> 0 | F17: =SUMIF(구세외징수보고서!$AA:$AA,MID($C17,8,99),구세외징수보고서!J:J) -> 0 | G17: =SUMIF(구세외징수보고서!$AA:$AA,MID($C17,8,99),구세외징수보고서!L:L) -> 0 | H17: =SUMIF(구세외징수보고서!$AA:$AA,MID($C17,8,99),구세외징수보고서!P:P) -> 0 | I17: =F17-G17-H17 -> 0 | J17: =I17-K17 -> 0 | K17: =SUMIF(구세외징수보고서!$AA:$AA,MID($C17,8,99),구세외징수보고서!S:S) -> 0 | L17: =IFERROR(G17/E17,0)*100 -> 0 | M17: =IFERROR(G17/F17,0)*100 -> 0
C18: 212-06 시장사용료 | E18: =SUMIF(구세외징수보고서!$AA:$AA,MID($C18,8,99),구세외징수보고서!F:F) -> 0 | F18: =SUMIF(구세외징수보고서!$AA:$AA,MID($C18,8,99),구세외징수보고서!J:J) -> 0 | G18: =SUMIF(구세외징수보고서!$AA:$AA,MID($C18,8,99),구세외징수보고서!L:L) -> 0 | H18: =SUMIF(구세외징수보고서!$AA:$AA,MID($C18,8,99),구세외징수보고서!P:P) -> 0 | I18: =F18-G18-H18 -> 0 | J18: =I18-K18 -> 0 | K18: =SUMIF(구세외징수보고서!$AA:$AA,MID($C18,8,99),구세외징수보고서!S:S) -> 0 | L18: =IFERROR(G18/E18,0)*100 -> 0 | M18: =IFERROR(G18/F18,0)*100 -> 0
C19: 212-07 입장료수입 | E19: =SUMIF(구세외징수보고서!$AA:$AA,MID($C19,8,99),구세외징수보고서!F:F) -> 0 | F19: =SUMIF(구세외징수보고서!$AA:$AA,MID($C19,8,99),구세외징수보고서!J:J) -> 0 | G19: =SUMIF(구세외징수보고서!$AA:$AA,MID($C19,8,99),구세외징수보고서!L:L) -> 0 | H19: =SUMIF(구세외징수보고서!$AA:$AA,MID($C19,8,99),구세외징수보고서!P:P) -> 0 | I19: =F19-G19-H19 -> 0 | J19: =I19-K19 -> 0 | K19: =SUMIF(구세외징수보고서!$AA:$AA,MID($C19,8,99),구세외징수보고서!S:S) -> 0 | L19: =IFERROR(G19/E19,0)*100 -> 0 | M19: =IFERROR(G19/F19,0)*100 -> 0
C20: 212-08 주차요금수입 | E20: =SUMIF(구세외징수보고서!$AA:$AA,MID($C20,8,99),구세외징수보고서!F:F) -> 0 | F20: =SUMIF(구세외징수보고서!$AA:$AA,MID($C20,8,99),구세외징수보고서!J:J) -> 0 | G20: =SUMIF(구세외징수보고서!$AA:$AA,MID($C20,8,99),구세외징수보고서!L:L) -> 0 | H20: =SUMIF(구세외징수보고서!$AA:$AA,MID($C20,8,99),구세외징수보고서!P:P) -> 0 | I20: =F20-G20-H20 -> 0 | J20: =I20-K20 -> 0 | K20: =SUMIF(구세외징수보고서!$AA:$AA,MID($C20,8,99),구세외징수보고서!S:S) -> 0
C21: 212-09 기타사용료 | E21: =SUMIF(구세외징수보고서!$AA:$AA,MID($C21,8,99),구세외징수보고서!F:F) -> 1453862000 | F21: =SUMIF(구세외징수보고서!$AA:$AA,MID($C21,8,99),구세외징수보고서!J:J) -> 274187752 | G21: =SUMIF(구세외징수보고서!$AA:$AA,MID($C21,8,99),구세외징수보고서!L:L) -> 268460122 | H21: =SUMIF(구세외징수보고서!$AA:$AA,MID($C21,8,99),구세외징수보고서!P:P) -> 0 | I21: =F21-G21-H21 -> 5727630 | J21: =I21-K21 -> 0 | K21: =SUMIF(구세외징수보고서!$AA:$AA,MID($C21,8,99),구세외징수보고서!S:S) -> 5727630 | L21: =IFERROR(G21/E21,0)*100 -> 18.46531 | M21: =IFERROR(G21/F21,0)*100 -> 97.911055
B22: 213 수수료수입 | E22: =SUM(E23:E27) -> 13905956000 | F22: =SUM(F23:F27) -> 2120452365 | G22: =SUM(G23:G27) -> 1982026480 | H22: =SUM(H23:H27) -> 0 | I22: =SUM(I23:I27) -> 138425885 | J22: =SUM(J23:J27) -> 588340 | K22: =SUM(K23:K27) -> 137837545 | L22: =IFERROR(G22/E22,0)*100 -> 14.253076 | M22: =IFERROR(G22/F22,0)*100 -> 93.47187
C23: 213-01 증지수입 | E23: =SUMIF(구세외징수보고서!$AA:$AA,MID($C23,8,99),구세외징수보고서!F:F) -> 1300000000 | F23: =SUMIF(구세외징수보고서!$AA:$AA,MID($C23,8,99),구세외징수보고서!J:J) -> 216840260 | G23: =SUMIF(구세외징수보고서!$AA:$AA,MID($C23,8,99),구세외징수보고서!L:L) -> 204149360 | H23: =SUMIF(구세외징수보고서!$AA:$AA,MID($C23,8,99),구세외징수보고서!P:P) -> 0 | I23: =F23-G23-H23 -> 12690900 | J23: =I23-K23 -> 100000 | K23: =SUMIF(구세외징수보고서!$AA:$AA,MID($C23,8,99),구세외징수보고서!S:S) -> 12590900 | L23: =IFERROR(G23/E23,0)*100 -> 15.703797 | M23: =IFERROR(G23/F23,0)*100 -> 94.147351
C24: 213-02 폐기물처리수수료 | E24: =SUMIF(구세외징수보고서!$AA:$AA,MID($C24,8,99),구세외징수보고서!F:F) -> 11985000000 | F24: =SUMIF(구세외징수보고서!$AA:$AA,MID($C24,8,99),구세외징수보고서!J:J) -> 1809203537 | G24: =SUMIF(구세외징수보고서!$AA:$AA,MID($C24,8,99),구세외징수보고서!L:L) -> 1693074662 | H24: =SUMIF(구세외징수보고서!$AA:$AA,MID($C24,8,99),구세외징수보고서!P:P) -> 0 | I24: =F24-G24-H24 -> 116128875 | J24: =I24-K24 -> 488340 | K24: =SUMIF(구세외징수보고서!$AA:$AA,MID($C24,8,99),구세외징수보고서!S:S) -> 115640535 | L24: =IFERROR(G24/E24,0)*100 -> 14.126614 | M24: =IFERROR(G24/F24,0)*100 -> 93.581216
C25: 213-03 재활용품수거판매수입 | E25: =SUMIF(구세외징수보고서!$AA:$AA,MID($C25,8,99),구세외징수보고서!F:F) -> 0 | F25: =SUMIF(구세외징수보고서!$AA:$AA,MID($C25,8,99),구세외징수보고서!J:J) -> 0 | G25: =SUMIF(구세외징수보고서!$AA:$AA,MID($C25,8,99),구세외징수보고서!L:L) -> 0 | H25: =SUMIF(구세외징수보고서!$AA:$AA,MID($C25,8,99),구세외징수보고서!P:P) -> 0 | I25: =F25-G25-H25 -> 0 | J25: =I25-K25 -> 0 | K25: =SUMIF(구세외징수보고서!$AA:$AA,MID($C25,8,99),구세외징수보고서!S:S) -> 0 | L25: =IFERROR(G25/E25,0)*100 -> 0 | M25: =IFERROR(G25/F25,0)*100 -> 0
C26: 213-04 보건의료수수료 | E26: =SUMIF(구세외징수보고서!$AA:$AA,MID($C26,8,99),구세외징수보고서!F:F) -> 210672000 | F26: =SUMIF(구세외징수보고서!$AA:$AA,MID($C26,8,99),구세외징수보고서!J:J) -> 28925050 | G26: =SUMIF(구세외징수보고서!$AA:$AA,MID($C26,8,99),구세외징수보고서!L:L) -> 19755360 | H26: =SUMIF(구세외징수보고서!$AA:$AA,MID($C26,8,99),구세외징수보고서!P:P) -> 0 | I26: =F26-G26-H26 -> 9169690 | J26: =I26-K26 -> 0 | K26: =SUMIF(구세외징수보고서!$AA:$AA,MID($C26,8,99),구세외징수보고서!S:S) -> 9169690
C27: 213-05 기타수수료 | E27: =SUMIF(구세외징수보고서!$AA:$AA,MID($C27,8,99),구세외징수보고서!F:F) -> 410284000 | F27: =SUMIF(구세외징수보고서!$AA:$AA,MID($C27,8,99),구세외징수보고서!J:J) -> 65483518 | G27: =SUMIF(구세외징수보고서!$AA:$AA,MID($C27,8,99),구세외징수보고서!L:L) -> 65047098 | H27: =SUMIF(구세외징수보고서!$AA:$AA,MID($C27,8,99),구세외징수보고서!P:P) -> 0 | I27: =F27-G27-H27 -> 436420 | J27: =I27-K27 -> 0 | K27: =SUMIF(구세외징수보고서!$AA:$AA,MID($C27,8,99),구세외징수보고서!S:S) -> 436420 | L27: =IFERROR(G27/E27,0)*100 -> 15.854164 | M27: =IFERROR(G27/F27,0)*100 -> 99.333542
B28: 214 사업수입 | E28: =SUM(E29:E33) -> 498048000 | F28: =SUM(F29:F33) -> 127795209 | G28: =SUM(G29:G33) -> 127795209 | H28: =SUM(H29:H33) -> 0 | I28: =SUM(I29:I33) -> 0 | J28: =SUM(J29:J33) -> 0 | K28: =SUM(K29:K33) -> 0 | L28: =IFERROR(G28/E28,0)*100 -> 25.659215 | M28: =IFERROR(G28/F28,0)*100 -> 100
C29: 214-01 사업장생산수입 | E29: =SUMIF(구세외징수보고서!$AA:$AA,MID($C29,8,99),구세외징수보고서!F:F) -> 0 | F29: =SUMIF(구세외징수보고서!$AA:$AA,MID($C29,8,99),구세외징수보고서!J:J) -> 0 | G29: =SUMIF(구세외징수보고서!$AA:$AA,MID($C29,8,99),구세외징수보고서!L:L) -> 0 | H29: =SUMIF(구세외징수보고서!$AA:$AA,MID($C29,8,99),구세외징수보고서!P:P) -> 0 | I29: =F29-G29-H29 -> 0 | J29: =I29-K29 -> 0 | K29: =SUMIF(구세외징수보고서!$AA:$AA,MID($C29,8,99),구세외징수보고서!S:S) -> 0 | L29: =IFERROR(G29/E29,0)*100 -> 0 | M29: =IFERROR(G29/F29,0)*100 -> 0
C30: 214-02 청산금수입 | E30: =SUMIF(구세외징수보고서!$AA:$AA,MID($C30,8,99),구세외징수보고서!F:F) -> 0 | F30: =SUMIF(구세외징수보고서!$AA:$AA,MID($C30,8,99),구세외징수보고서!J:J) -> 0 | G30: =SUMIF(구세외징수보고서!$AA:$AA,MID($C30,8,99),구세외징수보고서!L:L) -> 0 | H30: =SUMIF(구세외징수보고서!$AA:$AA,MID($C30,8,99),구세외징수보고서!P:P) -> 0 | I30: =F30-G30-H30 -> 0 | J30: =I30-K30 -> 0 | K30: =SUMIF(구세외징수보고서!$AA:$AA,MID($C30,8,99),구세외징수보고서!S:S) -> 0 | L30: =IFERROR(G30/E30,0)*100 -> 0 | M30: =IFERROR(G30/F30,0)*100 -> 0
C31: 214-03 매각사업수입 | E31: =SUMIF(구세외징수보고서!$AA:$AA,MID($C31,8,99),구세외징수보고서!F:F) -> 0 | F31: =SUMIF(구세외징수보고서!$AA:$AA,MID($C31,8,99),구세외징수보고서!J:J) -> 0 | G31: =SUMIF(구세외징수보고서!$AA:$AA,MID($C31,8,99),구세외징수보고서!L:L) -> 0 | H31: =SUMIF(구세외징수보고서!$AA:$AA,MID($C31,8,99),구세외징수보고서!P:P) -> 0 | I31: =F31-G31-H31 -> 0 | J31: =I31-K31 -> 0 | K31: =SUMIF(구세외징수보고서!$AA:$AA,MID($C31,8,99),구세외징수보고서!S:S) -> 0 | L31: =IFERROR(G31/E31,0)*100 -> 0 | M31: =IFERROR(G31/F31,0)*100 -> 0
C32: 214-04 배당금수입 | E32: =SUMIF(구세외징수보고서!$AA:$AA,MID($C32,8,99),구세외징수보고서!F:F) -> 0 | F32: =SUMIF(구세외징수보고서!$AA:$AA,MID($C32,8,99),구세외징수보고서!J:J) -> 0 | G32: =SUMIF(구세외징수보고서!$AA:$AA,MID($C32,8,99),구세외징수보고서!L:L) -> 0 | H32: =SUMIF(구세외징수보고서!$AA:$AA,MID($C32,8,99),구세외징수보고서!P:P) -> 0 | I32: =F32-G32-H32 -> 0 | J32: =I32-K32 -> 0 | K32: =SUMIF(구세외징수보고서!$AA:$AA,MID($C32,8,99),구세외징수보고서!S:S) -> 0 | L32: =IFERROR(G32/E32,0)*100 -> 0 | M32: =IFERROR(G32/F32,0)*100 -> 0
C33: 214-05 기타사업수입 | E33: =SUMIF(구세외징수보고서!$AA:$AA,MID($C33,8,99),구세외징수보고서!F:F) -> 498048000 | F33: =SUMIF(구세외징수보고서!$AA:$AA,MID($C33,8,99),구세외징수보고서!J:J) -> 127795209 | G33: =SUMIF(구세외징수보고서!$AA:$AA,MID($C33,8,99),구세외징수보고서!L:L) -> 127795209 | H33: =SUMIF(구세외징수보고서!$AA:$AA,MID($C33,8,99),구세외징수보고서!P:P) -> 0 | I33: =F33-G33-H33 -> 0 | J33: =I33-K33 -> 0 | K33: =SUMIF(구세외징수보고서!$AA:$AA,MID($C33,8,99),구세외징수보고서!S:S) -> 0 | L33: =IFERROR(G33/#REF!,0)*100 -> 0 | M33: =IFERROR(G33/F33,0)*100 -> 100
B34: 215 징수교부금수입 | E34: =SUM(E35) -> 9949152000 | F34: =F35 -> 1688998000 | G34: =G35 -> 1688998000 | H34: =H35 -> 0 | I34: =I35 -> 0 | J34: =J35 -> 0 | K34: =K35 -> 0 | L34: =IFERROR(G34/E34,0)*100 -> 16.976301 | M34: =IFERROR(G34/F34,0)*100 -> 100
C35: 215-01 징수교부금수입 | E35: =SUMIF(구세외징수보고서!$AA:$AA,MID($C35,8,99),구세외징수보고서!F:F) -> 9949152000 | F35: =SUMIF(구세외징수보고서!$AA:$AA,MID($C35,8,99),구세외징수보고서!J:J) -> 1688998000 | G35: =SUMIF(구세외징수보고서!$AA:$AA,MID($C35,8,99),구세외징수보고서!L:L) -> 1688998000 | H35: =SUMIF(구세외징수보고서!$AA:$AA,MID($C35,8,99),구세외징수보고서!P:P) -> 0 | I35: =F35-G35-H35 -> 0 | J35: =I35-K35 -> 0 | K35: =SUMIF(구세외징수보고서!$AA:$AA,MID($C35,8,99),구세외징수보고서!S:S) -> 0 | L35: =IFERROR(G35/E35,0)*100 -> 16.976301 | M35: =IFERROR(G35/F35,0)*100 -> 100
B36: 216 이자수입 | E36: =SUM(E37:E39) -> 2249250000 | F36: =SUM(F37:F39) -> 999016468 | G36: =SUM(G37:G39) -> 998997890 | H36: =SUM(H37:H39) -> 0 | I36: =SUM(I37:I39) -> 18578 | J36: =SUM(J37:J39) -> 0 | K36: =SUM(K37:K39) -> 18578 | L36: =IFERROR(G36/E36,0)*100 -> 44.414711 | M36: =IFERROR(G36/F36,0)*100 -> 99.99814
C37: 216-01 공공예금이자수입 | E37: =SUMIF(구세외징수보고서!$AA:$AA,MID($C37,8,99),구세외징수보고서!F:F) -> 2159250000 | F37: =SUMIF(구세외징수보고서!$AA:$AA,MID($C37,8,99),구세외징수보고서!J:J) -> 995270069 | G37: =SUMIF(구세외징수보고서!$AA:$AA,MID($C37,8,99),구세외징수보고서!L:L) -> 995270069 | H37: =SUMIF(구세외징수보고서!$AA:$AA,MID($C37,8,99),구세외징수보고서!P:P) -> 0 | I37: =F37-G37-H37 -> 0 | J37: =I37-K37 -> 0 | K37: =SUMIF(구세외징수보고서!$AA:$AA,MID($C37,8,99),구세외징수보고서!S:S) -> 0 | L37: =IFERROR(G37/E37,0)*100 -> 46.093323 | M37: =IFERROR(G37/F37,0)*100 -> 100
C38: 216-02 융자금회수이자수입 | E38: =SUMIF(구세외징수보고서!$AA:$AA,MID($C38,8,99),구세외징수보고서!F:F) -> 0 | F38: =SUMIF(구세외징수보고서!$AA:$AA,MID($C38,8,99),구세외징수보고서!J:J) -> 0 | G38: =SUMIF(구세외징수보고서!$AA:$AA,MID($C38,8,99),구세외징수보고서!L:L) -> 0 | H38: =SUMIF(구세외징수보고서!$AA:$AA,MID($C38,8,99),구세외징수보고서!P:P) -> 0 | I38: =F38-G38-H38 -> 0 | J38: =I38-K38 -> 0 | K38: =SUMIF(구세외징수보고서!$AA:$AA,MID($C38,8,99),구세외징수보고서!S:S) -> 0 | L38: =IFERROR(G38/E38,0)*100 -> 0 | M38: =IFERROR(G38/F38,0)*100 -> 0
C39: 216-03 기타이자수입 | E39: =SUMIF(구세외징수보고서!$AA:$AA,MID($C39,8,99),구세외징수보고서!F:F) -> 90000000 | F39: =SUMIF(구세외징수보고서!$AA:$AA,MID($C39,8,99),구세외징수보고서!J:J) -> 3746399 | G39: =SUMIF(구세외징수보고서!$AA:$AA,MID($C39,8,99),구세외징수보고서!L:L) -> 3727821 | H39: =SUMIF(구세외징수보고서!$AA:$AA,MID($C39,8,99),구세외징수보고서!P:P) -> 0 | I39: =F39-G39-H39 -> 18578 | J39: =I39-K39 -> 0 | K39: =SUMIF(구세외징수보고서!$AA:$AA,MID($C39,8,99),구세외징수보고서!S:S) -> 18578 | L39: =IFERROR(G39/E33,0)*100 -> 0.74848629 | M39: =IFERROR(G39/F39,0)*100 -> 99.50411
B40: 220 임시적세외수입 | E40: =E41+E46+E48+E52+E60 -> 16926091000 | F40: =F41+F46+F48+F52+F60 -> 25839454922 | G40: =G41+G46+G48+G52+G60 -> 2289621052 | H40: =H41+H46+H48+H52+H60 -> 177121930 | I40: =I41+I46+I48+I52+I60 -> 23372711940 | J40: =J41+J46+J48+J52+J60 -> 20520058243 | K40: =K41+K46+K48+K52+K60 -> 2852653697 | L40: =IFERROR(G40/E40,0)*100 -> 13.52717 | M40: =IFERROR(G40/F40,0)*100 -> 8.8609495
B41: 221 재산매각수입 | E41: =SUM(E42:E45) -> 12076085000 | F41: =SUM(F42:F45) -> 267051680 | G41: =SUM(G42:G45) -> 251273370 | H41: =SUM(H42:H45) -> 0 | I41: =SUM(I42:I45) -> 15778310 | J41: =SUM(J42:J45) -> 0 | K41: =SUM(K42:K45) -> 15778310 | L41: =IFERROR(G41/E41,0)*100 -> 2.0807519 | M41: =IFERROR(G41/F41,0)*100 -> 94.091664
C42: 221-01 국유재산매각귀속수입금 | E42: =SUMIF(구세외징수보고서!$AA:$AA,MID($C42,8,99),구세외징수보고서!F:F) -> 0 | F42: =SUMIF(구세외징수보고서!$AA:$AA,MID($C42,8,99),구세외징수보고서!J:J) -> 0 | G42: =SUMIF(구세외징수보고서!$AA:$AA,MID($C42,8,99),구세외징수보고서!L:L) -> 0 | H42: =SUMIF(구세외징수보고서!$AA:$AA,MID($C42,8,99),구세외징수보고서!P:P) -> 0 | I42: =F42-G42-H42 -> 0 | J42: =I42-K42 -> 0 | K42: =SUMIF(구세외징수보고서!$AA:$AA,MID($C42,8,99),구세외징수보고서!S:S) -> 0 | L42: =IFERROR(G42/E42,0)*100 -> 0 | M42: =IFERROR(G42/F42,0)*100 -> 0
C43: 221-02 시도유재산매각귀속수입금 | E43: =SUMIF(구세외징수보고서!$AA:$AA,MID($C43,8,99),구세외징수보고서!F:F) -> 0 | F43: =SUMIF(구세외징수보고서!$AA:$AA,MID($C43,8,99),구세외징수보고서!J:J) -> 0 | G43: =SUMIF(구세외징수보고서!$AA:$AA,MID($C43,8,99),구세외징수보고서!L:L) -> 0 | H43: =SUMIF(구세외징수보고서!$AA:$AA,MID($C43,8,99),구세외징수보고서!P:P) -> 0 | I43: =F43-G43-H43 -> 0 | J43: =I43-K43 -> 0 | K43: =SUMIF(구세외징수보고서!$AA:$AA,MID($C43,8,99),구세외징수보고서!S:S) -> 0 | L43: =IFERROR(G43/E43,0)*100 -> 0 | M43: =IFERROR(G43/F43,0)*100 -> 0
C44: 221-03 공유재산매각수입금 | E44: =SUMIF(구세외징수보고서!$AA:$AA,MID($C44,8,99),구세외징수보고서!F:F) -> 12044085000 | F44: =SUMIF(구세외징수보고서!$AA:$AA,MID($C44,8,99),구세외징수보고서!J:J) -> 267043680 | G44: =SUMIF(구세외징수보고서!$AA:$AA,MID($C44,8,99),구세외징수보고서!L:L) -> 251265370 | H44: =SUMIF(구세외징수보고서!$AA:$AA,MID($C44,8,99),구세외징수보고서!P:P) -> 0 | I44: =F44-G44-H44 -> 15778310 | J44: =I44-K44 -> 0 | K44: =SUMIF(구세외징수보고서!$AA:$AA,MID($C44,8,99),구세외징수보고서!S:S) -> 15778310
C45: 221-04 불용품매각대금 | E45: =SUMIF(구세외징수보고서!$AA:$AA,MID($C45,8,99),구세외징수보고서!F:F) -> 32000000 | F45: =SUMIF(구세외징수보고서!$AA:$AA,MID($C45,8,99),구세외징수보고서!J:J) -> 8000 | G45: =SUMIF(구세외징수보고서!$AA:$AA,MID($C45,8,99),구세외징수보고서!L:L) -> 8000 | H45: =SUMIF(구세외징수보고서!$AA:$AA,MID($C45,8,99),구세외징수보고서!P:P) -> 0 | I45: =F45-G45-H45 -> 0 | J45: =I45-K45 -> 0 | K45: =SUMIF(구세외징수보고서!$AA:$AA,MID($C45,8,99),구세외징수보고서!S:S) -> 0 | L45: =IFERROR(G45/E45,0)*100 -> 0.025 | M45: =IFERROR(G45/F45,0)*100 -> 100
B46: 222 자치단체간부담금 | E46: =SUM(E47) -> 0 | F46: =F47 -> 0 | G46: =G47 -> 0 | H46: =H47 -> 0 | I46: =I47 -> 0 | J46: =J47 -> 0 | K46: =K47 -> 0 | L46: =IFERROR(G46/E46,0)*100 -> 0 | M46: =IFERROR(G46/F46,0)*100 -> 0
C47: 222-01 자치단체간부담금 | E47: =SUMIF(구세외징수보고서!$AA:$AA,MID($C47,8,99),구세외징수보고서!F:F) -> 0 | F47: =SUMIF(구세외징수보고서!$AA:$AA,MID($C47,8,99),구세외징수보고서!J:J) -> 0 | G47: =SUMIF(구세외징수보고서!$AA:$AA,MID($C47,8,99),구세외징수보고서!L:L) -> 0 | H47: =SUMIF(구세외징수보고서!$AA:$AA,MID($C47,8,99),구세외징수보고서!P:P) -> 0 | I47: =F47-G47-H47 -> 0 | J47: =I47-K47 -> 0 | K47: =SUMIF(구세외징수보고서!$AA:$AA,MID($C47,8,99),구세외징수보고서!S:S) -> 0 | L47: =IFERROR(G47/E47,0)*100 -> 0 | M47: =IFERROR(G47/F47,0)*100 -> 0
B48: 223 보조금반환수입 | E48: =SUM(E49:E51) -> 1222000000 | F48: =SUM(F49:F51) -> 192471940 | G48: =SUM(G49:G51) -> 192470255 | H48: =SUM(H49:H51) -> 0 | I48: =SUM(I49:I51) -> 1685 | J48: =SUM(J49:J51) -> 0 | K48: =SUM(K49:K51) -> 1685 | L48: =IFERROR(G48/E48,0)*100 -> 15.75043 | M48: =IFERROR(G48/F48,0)*100 -> 99.999125
C49: 223-01 시ㆍ도비보조금등반환수입 | E49: =SUMIF(구세외징수보고서!$AA:$AA,MID($C49,8,99),구세외징수보고서!F:F) -> 0 | F49: =SUMIF(구세외징수보고서!$AA:$AA,MID($C49,8,99),구세외징수보고서!J:J) -> 0 | G49: =SUMIF(구세외징수보고서!$AA:$AA,MID($C49,8,99),구세외징수보고서!L:L) -> 0 | H49: =SUMIF(구세외징수보고서!$AA:$AA,MID($C49,8,99),구세외징수보고서!P:P) -> 0 | I49: =F49-G49-H49 -> 0 | J49: =I49-K49 -> 0 | K49: =SUMIF(구세외징수보고서!$AA:$AA,MID($C49,8,99),구세외징수보고서!S:S) -> 0 | L49: =IFERROR(G49/E49,0)*100 -> 0 | M49: =IFERROR(G49/F49,0)*100 -> 0
C50: 223-02 자체보조금등반환수입 | E50: =SUMIF(구세외징수보고서!$AA:$AA,MID($C50,8,99),구세외징수보고서!F:F) -> 4000000 | F50: =SUMIF(구세외징수보고서!$AA:$AA,MID($C50,8,99),구세외징수보고서!J:J) -> 127735609 | G50: =SUMIF(구세외징수보고서!$AA:$AA,MID($C50,8,99),구세외징수보고서!L:L) -> 127733924 | H50: =SUMIF(구세외징수보고서!$AA:$AA,MID($C50,8,99),구세외징수보고서!P:P) -> 0 | I50: =F50-G50-H50 -> 1685 | J50: =I50-K50 -> 0 | K50: =SUMIF(구세외징수보고서!$AA:$AA,MID($C50,8,99),구세외징수보고서!S:S) -> 1685 | L50: =IFERROR(G50/E50,0)*100 -> 3193.3481 | M50: =IFERROR(G50/F50,0)*100 -> 99.998681
C51: 223-03 위탁비반환수입 | E51: =SUMIF(구세외징수보고서!$AA:$AA,MID($C51,8,99),구세외징수보고서!F:F) -> 1218000000 | F51: =SUMIF(구세외징수보고서!$AA:$AA,MID($C51,8,99),구세외징수보고서!J:J) -> 64736331 | G51: =SUMIF(구세외징수보고서!$AA:$AA,MID($C51,8,99),구세외징수보고서!L:L) -> 64736331 | H51: =SUMIF(구세외징수보고서!$AA:$AA,MID($C51,8,99),구세외징수보고서!P:P) -> 0 | I51: =F51-G51-H51 -> 0 | J51: =I51-K51 -> 0 | K51: =SUMIF(구세외징수보고서!$AA:$AA,MID($C51,8,99),구세외징수보고서!S:S) -> 0 | L51: =IFERROR(G51/E51,0)*100 -> 5.3149697 | M51: =IFERROR(G51/F51,0)*100 -> 100
B52: 224 기타수입 | E52: =SUM(E53:E59) -> 1528006000 | F52: =SUM(F53:F59) -> 3884739916 | G52: =SUM(G53:G59) -> 1446244834 | H52: =SUM(H53:H59) -> 0 | I52: =SUM(I53:I59) -> 2438495082 | J52: =SUM(J53:J59) -> 0 | K52: =SUM(K53:K59) -> 2438495082 | L52: =IFERROR(G52/E52,0)*100 -> 94.649159 | M52: =IFERROR(G52/F52,0)*100 -> 37.228872
C53: 224-01 체납처분수입 | E53: =SUMIF(구세외징수보고서!$AA:$AA,MID($C53,8,99),구세외징수보고서!F:F) -> 0 | F53: =SUMIF(구세외징수보고서!$AA:$AA,MID($C53,8,99),구세외징수보고서!J:J) -> 0 | G53: =SUMIF(구세외징수보고서!$AA:$AA,MID($C53,8,99),구세외징수보고서!L:L) -> 0 | H53: =SUMIF(구세외징수보고서!$AA:$AA,MID($C53,8,99),구세외징수보고서!P:P) -> 0 | I53: =F53-G53-H53 -> 0 | J53: =I53-K53 -> 0 | K53: =SUMIF(구세외징수보고서!$AA:$AA,MID($C53,8,99),구세외징수보고서!S:S) -> 0 | L53: =IFERROR(G53/E53,0)*100 -> 0 | M53: =IFERROR(G53/F53,0)*100 -> 0
C54: 224-02 보상금수납금 | E54: =SUMIF(구세외징수보고서!$AA:$AA,MID($C54,8,99),구세외징수보고서!F:F) -> 0 | F54: =SUMIF(구세외징수보고서!$AA:$AA,MID($C54,8,99),구세외징수보고서!J:J) -> 0 | G54: =SUMIF(구세외징수보고서!$AA:$AA,MID($C54,8,99),구세외징수보고서!L:L) -> 0 | H54: =SUMIF(구세외징수보고서!$AA:$AA,MID($C54,8,99),구세외징수보고서!P:P) -> 0 | I54: =F54-G54-H54 -> 0 | J54: =I54-K54 -> 0 | K54: =SUMIF(구세외징수보고서!$AA:$AA,MID($C54,8,99),구세외징수보고서!S:S) -> 0 | L54: =IFERROR(G54/E54,0)*100 -> 0 | M54: =IFERROR(G54/F54,0)*100 -> 0
C55: 224-03 기부금수입 | E55: =SUMIF(구세외징수보고서!$AA:$AA,MID($C55,8,99),구세외징수보고서!F:F) -> 0 | F55: =SUMIF(구세외징수보고서!$AA:$AA,MID($C55,8,99),구세외징수보고서!J:J) -> 0 | G55: =SUMIF(구세외징수보고서!$AA:$AA,MID($C55,8,99),구세외징수보고서!L:L) -> 0 | H55: =SUMIF(구세외징수보고서!$AA:$AA,MID($C55,8,99),구세외징수보고서!P:P) -> 0 | I55: =F55-G55-H55 -> 0 | J55: =I55-K55 -> 0 | K55: =SUMIF(구세외징수보고서!$AA:$AA,MID($C55,8,99),구세외징수보고서!S:S) -> 0 | L55: =IFERROR(G55/E55,0)*100 -> 0 | M55: =IFERROR(G55/F55,0)*100 -> 0
C56: 224-04 지적재조사조정금 | E56: =SUMIF(구세외징수보고서!$AA:$AA,MID($C56,8,99),구세외징수보고서!F:F) -> 434966000 | F56: =SUMIF(구세외징수보고서!$AA:$AA,MID($C56,8,99),구세외징수보고서!J:J) -> 2444137370 | G56: =SUMIF(구세외징수보고서!$AA:$AA,MID($C56,8,99),구세외징수보고서!L:L) -> 7273500 | H56: =SUMIF(구세외징수보고서!$AA:$AA,MID($C56,8,99),구세외징수보고서!P:P) -> 0 | I56: =F56-G56-H56 -> 2436863870 | J56: =I56-K56 -> 0 | K56: =SUMIF(구세외징수보고서!$AA:$AA,MID($C56,8,99),구세외징수보고서!S:S) -> 2436863870 | L56: =IFERROR(G56/E56,0)*100 -> 1.6721997 | M56: =IFERROR(G56/F56,0)*100 -> 0.29758966
C57: 224-05 지방교부세감소분보전수입 | E57: =SUMIF(구세외징수보고서!$AA:$AA,MID($C57,8,99),구세외징수보고서!F:F) -> 0 | F57: =SUMIF(구세외징수보고서!$AA:$AA,MID($C57,8,99),구세외징수보고서!J:J) -> 0 | G57: =SUMIF(구세외징수보고서!$AA:$AA,MID($C57,8,99),구세외징수보고서!L:L) -> 0 | H57: =SUMIF(구세외징수보고서!$AA:$AA,MID($C57,8,99),구세외징수보고서!P:P) -> 0 | I57: =F57-G57-H57 -> 0 | J57: =I57-K57 -> 0 | K57: =SUMIF(구세외징수보고서!$AA:$AA,MID($C57,8,99),구세외징수보고서!S:S) -> 0 | L57: =IFERROR(G57/E57,0)*100 -> 0 | M57: =IFERROR(G57/F57,0)*100 -> 0
C58: 224-06 위약금 | E58: =SUMIF(구세외징수보고서!$AA:$AA,MID($C58,8,99),구세외징수보고서!F:F) -> 0 | F58: =SUMIF(구세외징수보고서!$AA:$AA,MID($C58,8,99),구세외징수보고서!J:J) -> 239090 | G58: =SUMIF(구세외징수보고서!$AA:$AA,MID($C58,8,99),구세외징수보고서!L:L) -> 239090 | H58: =SUMIF(구세외징수보고서!$AA:$AA,MID($C58,8,99),구세외징수보고서!P:P) -> 0 | I58: =F58-G58-H58 -> 0 | J58: =I58-K58 -> 0 | K58: =SUMIF(구세외징수보고서!$AA:$AA,MID($C58,8,99),구세외징수보고서!S:S) -> 0
C59: 224-07 그외수입 | E59: =SUMIF(구세외징수보고서!$AA:$AA,MID($C59,8,99),구세외징수보고서!F:F) -> 1093040000 | F59: =SUMIF(구세외징수보고서!$AA:$AA,MID($C59,8,99),구세외징수보고서!J:J) -> 1440363456 | G59: =SUMIF(구세외징수보고서!$AA:$AA,MID($C59,8,99),구세외징수보고서!L:L) -> 1438732244 | H59: =SUMIF(구세외징수보고서!$AA:$AA,MID($C59,8,99),구세외징수보고서!P:P) -> 0 | I59: =F59-G59-H59 -> 1631212 | J59: =I59-K59 -> 0 | K59: =SUMIF(구세외징수보고서!$AA:$AA,MID($C59,8,99),구세외징수보고서!S:S) -> 1631212 | L59: =IFERROR(G59/E59,0)*100 -> 131.62668 | M59: =IFERROR(G59/F59,0)*100 -> 99.88675
B60: 225 지난년도수입 | E60: =SUM(E61) -> 2100000000 | F60: =F61 -> 21495191386 | G60: =G61 -> 399632593 | H60: =H61 -> 177121930 | I60: =I61 -> 20918436863 | J60: =J61 -> 20520058243 | K60: =K61 -> 398378620 | L60: =IFERROR(G60/E60,0)*100 -> 19.030123 | M60: =IFERROR(G60/F60,0)*100 -> 1.8591721
C61: 225-01 지난년도수입 | E61: =SUMIF(구세외징수보고서!$AA:$AA,MID($C61,8,99),구세외징수보고서!F:F) -> 2100000000 | F61: =SUMIF(구세외징수보고서!$AA:$AA,MID($C61,8,99),구세외징수보고서!J:J) -> 21495191386 | G61: =SUMIF(구세외징수보고서!$AA:$AA,MID($C61,8,99),구세외징수보고서!L:L) -> 399632593 | H61: =SUMIF(구세외징수보고서!$AA:$AA,MID($C61,8,99),구세외징수보고서!P:P) -> 177121930 | I61: =F61-G61-H61 -> 20918436863 | J61: =I61-K61 -> 20520058243 | K61: =SUMIF(구세외징수보고서!$AA:$AA,MID($C61,8,99),구세외징수보고서!S:S) -> 398378620 | L61: =IFERROR(G61/E61,0)*100 -> 19.030123 | M61: =IFERROR(G61/F61,0)*100 -> 1.8591721
B62: 230 지방행정제재‧부과금 | E62: =E63+E65+E67+E69+E72+E74+E76 -> 2519339000 | F62: =F63+F65+F67+F69+F72+F74+F76 -> 1702383910 | G62: =G63+G65+G67+G69+G72+G74+G76 -> 369816520 | H62: =H63+H65+H67+H69+H72+H74+H76 -> 0 | I62: =I63+I65+I67+I69+I72+I74+I76 -> 1332567390 | J62: =J63+J65+J67+J69+J72+J74+J76 -> 92123930 | K62: =K63+K65+K67+K69+K72+K74+K76 -> 1240443460 | L62: =IFERROR(G62/E62,0)*100 -> 14.679109 | M62: =IFERROR(G62/F62,0)*100 -> 21.72345
B63: 231 과징금 | E63: =SUM(E64) -> 160046000 | F63: =F64 -> 19655000 | G63: =G64 -> 1025000 | H63: =H64 -> 0 | I63: =I64 -> 18630000 | J63: =J64 -> 200000 | K63: =K64 -> 18430000 | L63: =IFERROR(G63/E63,0)*100 -> 0.64044087 | M63: =IFERROR(G63/F63,0)*100 -> 5.214958
C64: 231-01 과징금 | E64: =SUMIF(구세외징수보고서!$AA:$AA,MID($C64,8,99),구세외징수보고서!F:F) -> 160046000 | F64: =SUMIF(구세외징수보고서!$AA:$AA,MID($C64,8,99),구세외징수보고서!J:J) -> 19655000 | G64: =SUMIF(구세외징수보고서!$AA:$AA,MID($C64,8,99),구세외징수보고서!L:L) -> 1025000 | H64: =SUMIF(구세외징수보고서!$AA:$AA,MID($C64,8,99),구세외징수보고서!P:P) -> 0 | I64: =F64-G64-H64 -> 18630000 | J64: =I64-K64 -> 200000 | K64: =SUMIF(구세외징수보고서!$AA:$AA,MID($C64,8,99),구세외징수보고서!S:S) -> 18430000 | L64: =IFERROR(G64/E64,0)*100 -> 0.64044087 | M64: =IFERROR(G64/F64,0)*100 -> 5.214958
B65: 232 이행강제금 | E65: =SUM(E66) -> 321500000 | F65: =F66 -> 50304830 | G65: =G66 -> 10992850 | H65: =H66 -> 0 | I65: =I66 -> 39311980 | J65: =J66 -> 16764610 | K65: =K66 -> 22547370 | L65: =IFERROR(G65/E65,0)*100 -> 3.4192379 | M65: =IFERROR(G65/F65,0)*100 -> 21.852474
C66: 232-01 이행강제금 | E66: =SUMIF(구세외징수보고서!$AA:$AA,MID($C66,8,99),구세외징수보고서!F:F) -> 321500000 | F66: =SUMIF(구세외징수보고서!$AA:$AA,MID($C66,8,99),구세외징수보고서!J:J) -> 50304830 | G66: =SUMIF(구세외징수보고서!$AA:$AA,MID($C66,8,99),구세외징수보고서!L:L) -> 10992850 | H66: =SUMIF(구세외징수보고서!$AA:$AA,MID($C66,8,99),구세외징수보고서!P:P) -> 0 | I66: =F66-G66-H66 -> 39311980 | J66: =I66-K66 -> 16764610 | K66: =SUMIF(구세외징수보고서!$AA:$AA,MID($C66,8,99),구세외징수보고서!S:S) -> 22547370 | L66: =IFERROR(G66/E66,0)*100 -> 3.4192379 | M66: =IFERROR(G66/F66,0)*100 -> 21.852474
B67: 233 변상금 | E67: =SUM(E68) -> 82603000 | F67: =F68 -> 388737880 | G67: =G68 -> 65909750 | H67: =H68 -> 0 | I67: =I68 -> 322828130 | J67: =J68 -> 0 | K67: =K68 -> 322828130 | L67: =IFERROR(G67/E67,0)*100 -> 79.790988 | M67: =IFERROR(G67/F67,0)*100 -> 16.954805
C68: 233-01 변상금 | E68: =SUMIF(구세외징수보고서!$AA:$AA,MID($C68,8,99),구세외징수보고서!F:F) -> 82603000 | F68: =SUMIF(구세외징수보고서!$AA:$AA,MID($C68,8,99),구세외징수보고서!J:J) -> 388737880 | G68: =SUMIF(구세외징수보고서!$AA:$AA,MID($C68,8,99),구세외징수보고서!L:L) -> 65909750 | H68: =SUMIF(구세외징수보고서!$AA:$AA,MID($C68,8,99),구세외징수보고서!P:P) -> 0 | I68: =F68-G68-H68 -> 322828130 | J68: =I68-K68 -> 0 | K68: =SUMIF(구세외징수보고서!$AA:$AA,MID($C68,8,99),구세외징수보고서!S:S) -> 322828130 | L68: =IFERROR(G68/E68,0)*100 -> 79.790988 | M68: =IFERROR(G68/F68,0)*100 -> 16.954805
B69: 234 과태료 | E69: =SUM(E70:E71) -> 1537340000 | F69: =SUM(F70:F71) -> 355930790 | G69: =SUM(G70:G71) -> 163644280 | H69: =SUM(H70:H71) -> 0 | I69: =SUM(I70:I71) -> 192286510 | J69: =SUM(J70:J71) -> 74242530 | K69: =SUM(K70:K71) -> 118043980 | L69: =IFERROR(G69/E69,0)*100 -> 10.644638 | M69: =IFERROR(G69/F69,0)*100 -> 45.976433
C70: 234-01 차량관련과태료 | E70: =SUMIF(구세외징수보고서!$AA:$AA,MID($C70,8,99),구세외징수보고서!F:F) -> 545000000 | F70: =SUMIF(구세외징수보고서!$AA:$AA,MID($C70,8,99),구세외징수보고서!J:J) -> 158401380 | G70: =SUMIF(구세외징수보고서!$AA:$AA,MID($C70,8,99),구세외징수보고서!L:L) -> 48186060 | H70: =SUMIF(구세외징수보고서!$AA:$AA,MID($C70,8,99),구세외징수보고서!P:P) -> 0 | I70: =F70-G70-H70 -> 110215320 | J70: =I70-K70 -> 104974520 | K70: =SUMIF(구세외징수보고서!$AA:$AA,MID($C70,8,99),구세외징수보고서!S:S) -> 5240800 | L70: =IFERROR(G70/E70,0)*100 -> 8.8414789 | M70: =IFERROR(G70/F70,0)*100 -> 30.420227
C71: 234-02 기타과태료 | E71: =SUMIF(구세외징수보고서!$AA:$AA,MID($C71,8,99),구세외징수보고서!F:F) -> 992340000 | F71: =SUMIF(구세외징수보고서!$AA:$AA,MID($C71,8,99),구세외징수보고서!J:J) -> 197529410 | G71: =SUMIF(구세외징수보고서!$AA:$AA,MID($C71,8,99),구세외징수보고서!L:L) -> 115458220 | H71: =SUMIF(구세외징수보고서!$AA:$AA,MID($C71,8,99),구세외징수보고서!P:P) -> 0 | I71: =F71-G71-H71 -> 82071190 | J71: =I71-K71 -> -30731990 | K71: =SUMIF(구세외징수보고서!$AA:$AA,MID($C71,8,99),구세외징수보고서!S:S) -> 112803180 | L71: =IFERROR(G71/E71,0)*100 -> 11.634946 | M71: =IFERROR(G71/F71,0)*100 -> 58.451154
B72: 235 환수금 | E72: =SUM(E73) -> 45000000 | F72: =F73 -> 37850100 | G72: =G73 -> 33782420 | H72: =H73 -> 0 | I72: =I73 -> 4067680 | J72: =J73 -> 700570 | K72: =K73 -> 3367110 | L72: =IFERROR(G72/E72,0)*100 -> 75.072044 | M72: =IFERROR(G72/F72,0)*100 -> 89.253186
C73: 235-01 부정이익환수금 | E73: =SUMIF(구세외징수보고서!$AA:$AA,MID($C73,8,99),구세외징수보고서!F:F) -> 45000000 | F73: =SUMIF(구세외징수보고서!$AA:$AA,MID($C73,8,99),구세외징수보고서!J:J) -> 37850100 | G73: =SUMIF(구세외징수보고서!$AA:$AA,MID($C73,8,99),구세외징수보고서!L:L) -> 33782420 | H73: =SUMIF(구세외징수보고서!$AA:$AA,MID($C73,8,99),구세외징수보고서!P:P) -> 0 | I73: =F73-G73-H73 -> 4067680 | J73: =I73-K73 -> 700570 | K73: =SUMIF(구세외징수보고서!$AA:$AA,MID($C73,8,99),구세외징수보고서!S:S) -> 3367110 | L73: =IFERROR(G73/E73,0)*100 -> 75.072044 | M73: =IFERROR(G73/F73,0)*100 -> 89.253186
B74: 236 부담금 | E74: =SUM(E75) -> 372850000 | F74: =F75 -> 845895310 | G74: =G75 -> 90452220 | H74: =H75 -> 0 | I74: =I75 -> 755443090 | J74: =J75 -> 216220 | K74: =K75 -> 755226870 | L74: =IFERROR(G74/E74,0)*100 -> 24.259681 | M74: =IFERROR(G74/F74,0)*100 -> 10.693075
C75: 236-01 부담금 | E75: =SUMIF(구세외징수보고서!$AA:$AA,MID($C75,8,99),구세외징수보고서!F:F) -> 372850000 | F75: =SUMIF(구세외징수보고서!$AA:$AA,MID($C75,8,99),구세외징수보고서!J:J) -> 845895310 | G75: =SUMIF(구세외징수보고서!$AA:$AA,MID($C75,8,99),구세외징수보고서!L:L) -> 90452220 | H75: =SUMIF(구세외징수보고서!$AA:$AA,MID($C75,8,99),구세외징수보고서!P:P) -> 0 | I75: =F75-G75-H75 -> 755443090 | J75: =I75-K75 -> 216220 | K75: =SUMIF(구세외징수보고서!$AA:$AA,MID($C75,8,99),구세외징수보고서!S:S) -> 755226870 | L75: =IFERROR(G75/E75,0)*100 -> 24.259681 | M75: =IFERROR(G75/F75,0)*100 -> 10.693075
B76: 237 범칙금 | E76: =SUM(E77) -> 0 | F76: =F77 -> 4010000 | G76: =G77 -> 4010000 | H76: =H77 -> 0 | I76: =I77 -> 0 | J76: =J77 -> 0 | K76: =K77 -> 0 | L76: =IFERROR(G76/E76,0)*100 -> 0 | M76: =IFERROR(G76/F76,0)*100 -> 100
C77: 237-01 범칙금 | E77: =SUMIF(구세외징수보고서!$AA:$AA,MID($C77,8,99),구세외징수보고서!F:F) -> 0 | F77: =SUMIF(구세외징수보고서!$AA:$AA,MID($C77,8,99),구세외징수보고서!J:J) -> 4010000 | G77: =SUMIF(구세외징수보고서!$AA:$AA,MID($C77,8,99),구세외징수보고서!L:L) -> 4010000 | H77: =SUMIF(구세외징수보고서!$AA:$AA,MID($C77,8,99),구세외징수보고서!P:P) -> 0 | I77: =F77-G77-H77 -> 0 | J77: =I77-K77 -> 0 | K77: =SUMIF(구세외징수보고서!$AA:$AA,MID($C77,8,99),구세외징수보고서!S:S) -> 0 | L77: =IFERROR(G77/E77,0)*100 -> 0 | M77: =IFERROR(G77/F77,0)*100 -> 100

Sheet 군구세외 특별회계
B2: =B4&L3&" 기타특별회계 세외수입 징수현황" -> 2024년 2월 미추홀구 기타특별회계 세외수입 징수현황
K3: 기관명 | L3: ='군구세외 일반회계'!L3:M3 -> 미추홀구
B4: ='군구세외 일반회계'!B4:D4 -> 2024년 2월 | L4: (단위:원,%)
D5: 구 분 | E5: 최종예산액 | F5: 징수결정액 | G5: 징 수 액 | H5: 정리보류액 | I5: 미수납액 | L5: 징수율
B6: 항 목 별 | E6: (A) | F6: (B) | G6: (C) | H6: (D) | I6: 미수납액 (E=B-C-D) | J6: 체납액 (F=E-G) | K6: 납기미도래 (G) | L6: (C/A) | M6: (C/B)
B7: 200 세외수입 | E7: =E8+E40+E62 -> 6166368000 | F7: =F8+F40+F62 -> 5670050292 | G7: =G8+G40+G62 -> 1617283743 | H7: =H8+H40+H62 -> 0 | I7: =I8+I40+I62 -> 4052766549 | J7: =J8+J40+J62 -> 4052766549 | K7: =K8+K40+K62 -> 0 | L7: =IFERROR(G7/E7,0)*100 -> 26.227493 | M7: =IFERROR(G7/F7,0)*100 -> 28.52327 | O7: 목
B8: 210 경상적세외수입 | E8: =E9+E12+E22+E28+E34+E36 -> 3277368000 | F8: =F9+F12+F22+F28+F34+F36 -> 406740683 | G8: =G9+G12+G22+G28+G34+G36 -> 535860023 | H8: =H9+H12+H22+H28+H34+H36 -> 0 | I8: =I9+I12+I22+I28+I34+I36 -> -129119340 | J8: =J9+J12+J22+J28+J34+J36 -> -129119340 | K8: =K9+K12+K22+K28+K34+K36 -> 0 | L8: =IFERROR(G8/E8,0)*100 -> 16.350316 | M8: =IFERROR(G8/F8,0)*100 -> 131.74488 | O8: =C8 -> 0
B9: 211 재산임대수입 | E9: 0 | F9: =SUM(F10:F11) -> 0 | G9: =SUM(G10:G11) -> 0 | H9: =SUM(H10:H11) -> 0 | I9: =SUM(I10:I11) -> 0 | J9: =SUM(J10:J11) -> 0 | K9: =SUM(K10:K11) -> 0 | L9: =IFERROR(G9/E9,0)*100 -> 0 | M9: =IFERROR(G9/F9,0)*100 -> 0 | O9: =C9 -> 0
C10: 211-01 국유재산임대료 | E10: 0 | F10: =SUMIF('시군구특별징수보고서(부서+운영항목+장관합계출력)'!$B:$B,$O10,'시군구특별징수보고서(부서+운영항목+장관합계출력)'!E:E) -> 0 | G10: =SUMIF('시군구특별징수보고서(부서+운영항목+장관합계출력)'!$B:$B,$O10,'시군구특별징수보고서(부서+운영항목+장관합계출력)'!G:G) -> 0 | H10: =SUMIF('시군구특별징수보고서(부서+운영항목+장관합계출력)'!$B:$B,$O10,'시군구특별징수보고서(부서+운영항목+장관합계출력)'!K:K) -> 0 | I10: =F10-G10-H10 -> 0 | J10: =I10-K10 -> 0 | L10: =IFERROR(G10/E10,0)*100 -> 0 | M10: =IFERROR(G10/F10,0)*100 -> 0 | O10: =C10 -> 211-01 국유재산임대료
C11: 211-02 공유재산임대료 | E11: 0 | F11: =SUMIF('시군구특별징수보고서(부서+운영항목+장관합계출력)'!$B:$B,$O11,'시군구특별징수보고서(부서+운영항목+장관합계출력)'!E:E) -> 0 | G11: =SUMIF('시군구특별징수보고서(부서+운영항목+장관합계출력)'!$B:$B,$O11,'시군구특별징수보고서(부서+운영항목+장관합계출력)'!G:G) -> 0 | H11: =SUMIF('시군구특별징수보고서(부서+운영항목+장관합계출력)'!$B:$B,$O11,'시군구특별징수보고서(부서+운영항목+장관합계출력)'!K:K) -> 0 | I11: =F11-G11-H11 -> 0 | J11: =I11-K11 -> 0 | L11: =IFERROR(G11/E11,0)*100 -> 0 | M11: =IFERROR(G11/F11,0)*100 -> 0 | O11: =C11 -> 211-02 공유재산임대료
B12: 212 사용료수입 | E12: 2501368000 | F12: =SUM(F13:F21) -> 319624483 | G12: =SUM(G13:G21) -> 451933943 | H12: =SUM(H13:H21) -> 0 | I12: =SUM(I13:I21) -> -132309460 | J12: =SUM(J13:J21) -> -132309460 | K12: =SUM(K13:K21) -> 0 | L12: =IFERROR(G12/E12,0)*100 -> 18.067471 | M12: =IFERROR(G12/F12,0)*100 -> 141.39528 | O12: =C12 -> 0
C13: 212-01 도로사용료 | E13: 0 | F13: =SUMIF('시군구특별징수보고서(부서+운영항목+장관합계출력)'!$B:$B,$O13,'시군구특별징수보고서(부서+운영항목+장관합계출력)'!E:E) -> 0 | G13: =SUMIF('시군구특별징수보고서(부서+운영항목+장관합계출력)'!$B:$B,$O13,'시군구특별징수보고서(부서+운영항목+장관합계출력)'!G:G) -> 0 | H13: =SUMIF('시군구특별징수보고서(부서+운영항목+장관합계출력)'!$B:$B,$O13,'시군구특별징수보고서(부서+운영항목+장관합계출력)'!K:K) -> 0 | I13: =F13-G13-H13 -> 0 | J13: =I13-K13 -> 0 | L13: =IFERROR(G13/E13,0)*100 -> 0 | M13: =IFERROR(G13/F13,0)*100 -> 0 | O13: =C13 -> 212-01 도로사용료
C14: 212-02 하천사용료 | E14: 0 | F14: =SUMIF('시군구특별징수보고서(부서+운영항목+장관합계출력)'!$B:$B,$O14,'시군구특별징수보고서(부서+운영항목+장관합계출력)'!E:E) -> 0 | G14: =SUMIF('시군구특별징수보고서(부서+운영항목+장관합계출력)'!$B:$B,$O14,'시군구특별징수보고서(부서+운영항목+장관합계출력)'!G:G) -> 0 | H14: =SUMIF('시군구특별징수보고서(부서+운영항목+장관합계출력)'!$B:$B,$O14,'시군구특별징수보고서(부서+운영항목+장관합계출력)'!K:K) -> 0 | I14: =F14-G14-H14 -> 0 | J14: =I14-K14 -> 0 | L14: =IFERROR(G14/E14,0)*100 -> 0 | M14: =IFERROR(G14/F14,0)*100 -> 0 | O14: =C14 -> 212-02 하천사용료
C15: 212-03 하수도사용료 | E15: 0 | F15: =SUMIF('시군구특별징수보고서(부서+운영항목+장관합계출력)'!$B:$B,$O15,'시군구특별징수보고서(부서+운영항목+장관합계출력)'!E:E) -> 0 | G15: =SUMIF('시군구특별징수보고서(부서+운영항목+장관합계출력)'!$B:$B,$O15,'시군구특별징수보고서(부서+운영항목+장관합계출력)'!G:G) -> 0 | H15: =SUMIF('시군구특별징수보고서(부서+운영항목+장관합계출력)'!$B:$B,$O15,'시군구특별징수보고서(부서+운영항목+장관합계출력)'!K:K) -> 0 | I15: =F15-G15-H15 -> 0 | J15: =I15-K15 -> 0 | L15: =IFERROR(G15/E15,0)*100 -> 0 | M15: =IFERROR(G15/F15,0)*100 -> 0 | O15: =C15 -> 212-03 하수도사용료
C16: 212-04 상수도사용료 | E16: 0 | F16: =SUMIF('시군구특별징수보고서(부서+운영항목+장관합계출력)'!$B:$B,$O16,'시군구특별징수보고서(부서+운영항목+장관합계출력)'!E:E) -> 0 | G16: =SUMIF('시군구특별징수보고서(부서+운영항목+장관합계출력)'!$B:$B,$O16,'시군구특별징수보고서(부서+운영항목+장관합계출력)'!G:G) -> 0 | H16: =SUMIF('시군구특별징수보고서(부서+운영항목+장관합계출력)'!$B:$B,$O16,'시군구특별징수보고서(부서+운영항목+장관합계출력)'!K:K) -> 0 | I16: =F16-G16-H16 -> 0 | J16: =I16-K16 -> 0 | L16: =IFERROR(G16/E16,0)*100 -> 0 | M16: =IFERROR(G16/F16,0)*100 -> 0 | O16: =C16 -> 212-04 상수도사용료
C17: 212-05 공유수면사용료 | E17: 0 | F17: =SUMIF('시군구특별징수보고서(부서+운영항목+장관합계출력)'!$B:$B,$O17,'시군구특별징수보고서(부서+운영항목+장관합계출력)'!E:E) -> 0 | G17: =SUMIF('시군구특별징수보고서(부서+운영항목+장관합계출력)'!$B:$B,$O17,'시군구특별징수보고서(부서+운영항목+장관합계출력)'!G:G) -> 0 | H17: =SUMIF('시군구특별징수보고서(부서+운영항목+장관합계출력)'!$B:$B,$O17,'시군구특별징수보고서(부서+운영항목+장관합계출력)'!K:K) -> 0 | I17: =F17-G17-H17 -> 0 | J17: =I17-K17 -> 0 | L17: =IFERROR(G17/E17,0)*100 -> 0 | M17: =IFERROR(G17/F17,0)*100 -> 0 | O17: =C17 -> 212-05 공유수면사용료
C18: 212-06 시장사용료 | E18: 0 | F18: =SUMIF('시군구특별징수보고서(부서+운영항목+장관합계출력)'!$B:$B,$O18,'시군구특별징수보고서(부서+운영항목+장관합계출력)'!E:E) -> 0 | G18: =SUMIF('시군구특별징수보고서(부서+운영항목+장관합계출력)'!$B:$B,$O18,'시군구특별징수보고서(부서+운영항목+장관합계출력)'!G:G) -> 0 | H18: =SUMIF('시군구특별징수보고서(부서+운영항목+장관합계출력)'!$B:$B,$O18,'시군구특별징수보고서(부서+운영항목+장관합계출력)'!K:K) -> 0 | I18: =F18-G18-H18 -> 0 | J18: =I18-K18 -> 0 | L18: =IFERROR(G18/E18,0)*100 -> 0 | M18: =IFERROR(G18/F18,0)*100 -> 0 | O18: =C18 -> 212-06 시장사용료
C19: 212-07 입장료수입 | E19: 0 | F19: =SUMIF('시군구특별징수보고서(부서+운영항목+장관합계출력)'!$B:$B,$O19,'시군구특별징수보고서(부서+운영항목+장관합계출력)'!E:E) -> 0 | G19: =SUMIF('시군구특별징수보고서(부서+운영항목+장관합계출력)'!$B:$B,$O19,'시군구특별징수보고서(부서+운영항목+장관합계출력)'!G:G) -> 0 | H19: =SUMIF('시군구특별징수보고서(부서+운영항목+장관합계출력)'!$B:$B,$O19,'시군구특별징수보고서(부서+운영항목+장관합계출력)'!K:K) -> 0 | I19: =F19-G19-H19 -> 0 | J19: =I19-K19 -> 0 | L19: =IFERROR(G19/E19,0)*100 -> 0 | M19: =IFERROR(G19/F19,0)*100 -> 0 | O19: =C19 -> 212-07 입장료수입
C20: 212-08 주차요금수입 | E20: 2500000000 | F20: =SUMIF('시군구특별징수보고서(부서+운영항목+장관합계출력)'!$B:$B,$O20,'시군구특별징수보고서(부서+운영항목+장관합계출력)'!E:E) -> 318783501 | G20: =SUMIF('시군구특별징수보고서(부서+운영항목+장관합계출력)'!$B:$B,$O20,'시군구특별징수보고서(부서+운영항목+장관합계출력)'!G:G) -> 451092961 | H20: =SUMIF('시군구특별징수보고서(부서+운영항목+장관합계출력)'!$B:$B,$O20,'시군구특별징수보고서(부서+운영항목+장관합계출력)'!K:K) -> 0 | I20: =F20-G20-H20 -> -132309460 | J20: =I20-K20 -> -132309460 | L20: =IFERROR(G20/E20,0)*100 -> 18.043718 | M20: =IFERROR(G20/F20,0)*100 -> 141.50449 | O20: =C20 -> 212-08 주차요금수입
C21: 212-09 기타사용료 | E21: 1368000 | F21: =SUMIF('시군구특별징수보고서(부서+운영항목+장관합계출력)'!$B:$B,$O21,'시군구특별징수보고서(부서+운영항목+장관합계출력)'!E:E) -> 840982 | G21: =SUMIF('시군구특별징수보고서(부서+운영항목+장관합계출력)'!$B:$B,$O21,'시군구특별징수보고서(부서+운영항목+장관합계출력)'!G:G) -> 840982 | H21: =SUMIF('시군구특별징수보고서(부서+운영항목+장관합계출력)'!$B:$B,$O21,'시군구특별징수보고서(부서+운영항목+장관합계출력)'!K:K) -> 0 | I21: =F21-G21-H21 -> 0 | J21: =I21-K21 -> 0 | L21: =IFERROR(G21/E21,0)*100 -> 61.475292 | M21: =IFERROR(G21/F21,0)*100 -> 100 | O21: =C21 -> 212-09 기타사용료
B22: 213 수수료수입 | E22: 0 | F22: =SUM(F23:F27) -> 0 | G22: =SUM(G23:G27) -> 0 | H22: =SUM(H23:H27) -> 0 | I22: =SUM(I23:I27) -> 0 | J22: =SUM(J23:J27) -> 0 | K22: =SUM(K23:K27) -> 0 | L22: =IFERROR(G22/E22,0)*100 -> 0 | M22: =IFERROR(G22/F22,0)*100 -> 0 | O22: =C22 -> 0
C23: 213-01 증지수입 | E23: 0 | F23: =SUMIF('시군구특별징수보고서(부서+운영항목+장관합계출력)'!$B:$B,$O23,'시군구특별징수보고서(부서+운영항목+장관합계출력)'!E:E) -> 0 | G23: =SUMIF('시군구특별징수보고서(부서+운영항목+장관합계출력)'!$B:$B,$O23,'시군구특별징수보고서(부서+운영항목+장관합계출력)'!G:G) -> 0 | H23: =SUMIF('시군구특별징수보고서(부서+운영항목+장관합계출력)'!$B:$B,$O23,'시군구특별징수보고서(부서+운영항목+장관합계출력)'!K:K) -> 0 | I23: =F23-G23-H23 -> 0 | J23: =I23-K23 -> 0 | L23: =IFERROR(G23/E23,0)*100 -> 0 | M23: =IFERROR(G23/F23,0)*100 -> 0 | O23: =C23 -> 213-01 증지수입
C24: 213-02 폐기물처리수수료 | E24: 0 | F24: =SUMIF('시군구특별징수보고서(부서+운영항목+장관합계출력)'!$B:$B,$O24,'시군구특별징수보고서(부서+운영항목+장관합계출력)'!E:E) -> 0 | G24: =SUMIF('시군구특별징수보고서(부서+운영항목+장관합계출력)'!$B:$B,$O24,'시군구특별징수보고서(부서+운영항목+장관합계출력)'!G:G) -> 0 | H24: =SUMIF('시군구특별징수보고서(부서+운영항목+장관합계출력)'!$B:$B,$O24,'시군구특별징수보고서(부서+운영항목+장관합계출력)'!K:K) -> 0 | I24: =F24-G24-H24 -> 0 | J24: =I24-K24 -> 0 | L24: =IFERROR(G24/E24,0)*100 -> 0 | M24: =IFERROR(G24/F24,0)*100 -> 0 | O24: =C24 -> 213-02 폐기물처리수수료
C25: 213-03 재활용품수거판매수입 | E25: 0 | F25: =SUMIF('시군구특별징수보고서(부서+운영항목+장관합계출력)'!$B:$B,$O25,'시군구특별징수보고서(부서+운영항목+장관합계출력)'!E:E) -> 0 | G25: =SUMIF('시군구특별징수보고서(부서+운영항목+장관합계출력)'!$B:$B,$O25,'시군구특별징수보고서(부서+운영항목+장관합계출력)'!G:G) -> 0 | H25: =SUMIF('시군구특별징수보고서(부서+운영항목+장관합계출력)'!$B:$B,$O25,'시군구특별징수보고서(부서+운영항목+장관합계출력)'!K:K) -> 0 | I25: =F25-G25-H25 -> 0 | J25: =I25-K25 -> 0 | L25: =IFERROR(G25/E25,0)*100 -> 0 | M25: =IFERROR(G25/F25,0)*100 -> 0 | O25: =C25 -> 213-03 재활용품수거판매수입
C26: 213-04 보건의료수수료 | E26: 0 | F26: =SUMIF('시군구특별징수보고서(부서+운영항목+장관합계출력)'!$B:$B,$O26,'시군구특별징수보고서(부서+운영항목+장관합계출력)'!E:E) -> 0 | G26: =SUMIF('시군구특별징수보고서(부서+운영항목+장관합계출력)'!$B:$B,$O26,'시군구특별징수보고서(부서+운영항목+장관합계출력)'!G:G) -> 0 | H26: =SUMIF('시군구특별징수보고서(부서+운영항목+장관합계출력)'!$B:$B,$O26,'시군구특별징수보고서(부서+운영항목+장관합계출력)'!K:K) -> 0 | I26: =F26-G26-H26 -> 0 | J26: =I26-K26 -> 0 | O26: =C26 -> 213-04 보건의료수수료
C27: 213-05 기타수수료 | E27: 0 | F27: =SUMIF('시군구특별징수보고서(부서+운영항목+장관합계출력)'!$B:$B,$O27,'시군구특별징수보고서(부서+운영항목+장관합계출력)'!E:E) -> 0 | G27: =SUMIF('시군구특별징수보고서(부서+운영항목+장관합계출력)'!$B:$B,$O27,'시군구특별징수보고서(부서+운영항목+장관합계출력)'!G:G) -> 0 | H27: =SUMIF('시군구특별징수보고서(부서+운영항목+장관합계출력)'!$B:$B,$O27,'시군구특별징수보고서(부서+운영항목+장관합계출력)'!K:K) -> 0 | I27: =F27-G27-H27 -> 0 | J27: =I27-K27 -> 0 | L27: =IFERROR(G27/E27,0)*100 -> 0 | M27: =IFERROR(G27/F27,0)*100 -> 0 | O27: =C27 -> 213-05 기타수수료
B28: 214 사업수입 | E28: 422000000 | F28: =SUM(F29:F33) -> 575050 | G28: =SUM(G29:G33) -> 575050 | H28: =SUM(H29:H33) -> 0 | I28: =SUM(I29:I33) -> 0 | J28: =SUM(J29:J33) -> 0 | K28: =SUM(K29:K33) -> 0 | L28: =IFERROR(G28/E28,0)*100 -> 0.13626777 | M28: =IFERROR(G28/F28,0)*100 -> 100 | O28: =C28 -> 0
C29: 214-01 사업장생산수입 | E29: 0 | F29: =SUMIF('시군구특별징수보고서(부서+운영항목+장관합계출력)'!$B:$B,$O29,'시군구특별징수보고서(부서+운영항목+장관합계출력)'!E:E) -> 0 | G29: =SUMIF('시군구특별징수보고서(부서+운영항목+장관합계출력)'!$B:$B,$O29,'시군구특별징수보고서(부서+운영항목+장관합계출력)'!G:G) -> 0 | H29: =SUMIF('시군구특별징수보고서(부서+운영항목+장관합계출력)'!$B:$B,$O29,'시군구특별징수보고서(부서+운영항목+장관합계출력)'!K:K) -> 0 | I29: =F29-G29-H29 -> 0 | J29: =I29-K29 -> 0 | L29: =IFERROR(G29/E29,0)*100 -> 0 | M29: =IFERROR(G29/F29,0)*100 -> 0 | O29: =C29 -> 214-01 사업장생산수입
C30: 214-02 청산금수입 | E30: 0 | F30: =SUMIF('시군구특별징수보고서(부서+운영항목+장관합계출력)'!$B:$B,$O30,'시군구특별징수보고서(부서+운영항목+장관합계출력)'!E:E) -> 0 | G30: =SUMIF('시군구특별징수보고서(부서+운영항목+장관합계출력)'!$B:$B,$O30,'시군구특별징수보고서(부서+운영항목+장관합계출력)'!G:G) -> 0 | H30: =SUMIF('시군구특별징수보고서(부서+운영항목+장관합계출력)'!$B:$B,$O30,'시군구특별징수보고서(부서+운영항목+장관합계출력)'!K:K) -> 0 | I30: =F30-G30-H30 -> 0 | J30: =I30-K30 -> 0 | L30: =IFERROR(G30/E30,0)*100 -> 0 | M30: =IFERROR(G30/F30,0)*100 -> 0 | O30: =C30 -> 214-02 청산금수입
C31: 214-03 매각사업수입 | E31: 0 | F31: =SUMIF('시군구특별징수보고서(부서+운영항목+장관합계출력)'!$B:$B,$O31,'시군구특별징수보고서(부서+운영항목+장관합계출력)'!E:E) -> 0 | G31: =SUMIF('시군구특별징수보고서(부서+운영항목+장관합계출력)'!$B:$B,$O31,'시군구특별징수보고서(부서+운영항목+장관합계출력)'!G:G) -> 0 | H31: =SUMIF('시군구특별징수보고서(부서+운영항목+장관합계출력)'!$B:$B,$O31,'시군구특별징수보고서(부서+운영항목+장관합계출력)'!K:K) -> 0 | I31: =F31-G31-H31 -> 0 | J31: =I31-K31 -> 0 | L31: =IFERROR(G31/E31,0)*100 -> 0 | M31: =IFERROR(G31/F31,0)*100 -> 0 | O31: =C31 -> 214-03 매각사업수입
C32: 214-04 배당금수입 | E32: 0 | F32: =SUMIF('시군구특별징수보고서(부서+운영항목+장관합계출력)'!$B:$B,$O32,'시군구특별징수보고서(부서+운영항목+장관합계출력)'!E:E) -> 0 | G32: =SUMIF('시군구특별징수보고서(부서+운영항목+장관합계출력)'!$B:$B,$O32,'시군구특별징수보고서(부서+운영항목+장관합계출력)'!G:G) -> 0 | H32: =SUMIF('시군구특별징수보고서(부서+운영항목+장관합계출력)'!$B:$B,$O32,'시군구특별징수보고서(부서+운영항목+장관합계출력)'!K:K) -> 0 | I32: =F32-G32-H32 -> 0 | J32: =I32-K32 -> 0 | L32: =IFERROR(G32/E32,0)*100 -> 0 | M32: =IFERROR(G32/F32,0)*100 -> 0 | O32: =C32 -> 214-04 배당금수입
C33: 214-05 기타사업수입 | E33: 422000000 | F33: =SUMIF('시군구특별징수보고서(부서+운영항목+장관합계출력)'!$B:$B,$O33,'시군구특별징수보고서(부서+운영항목+장관합계출력)'!E:E) -> 575050 | G33: =SUMIF('시군구특별징수보고서(부서+운영항목+장관합계출력)'!$B:$B,$O33,'시군구특별징수보고서(부서+운영항목+장관합계출력)'!G:G) -> 575050 | H33: =SUMIF('시군구특별징수보고서(부서+운영항목+장관합계출력)'!$B:$B,$O33,'시군구특별징수보고서(부서+운영항목+장관합계출력)'!K:K) -> 0 | I33: =F33-G33-H33 -> 0 | J33: =I33-K33 -> 0 | L33: =IFERROR(G33/E33,0)*100 -> 0.13626777 | M33: =IFERROR(G33/F33,0)*100 -> 100 | O33: =C33 -> 214-05 기타사업수입
B34: 215 징수교부금수입 | E34: 205000000 | F34: =F35 -> 0 | G34: =G35 -> 0 | H34: =H35 -> 0 | I34: =I35 -> 0 | J34: =J35 -> 0 | K34: =K35 -> 0 | L34: =IFERROR(G34/E34,0)*100 -> 0 | M34: =IFERROR(G34/F34,0)*100 -> 0 | O34: =C34 -> 0
C35: 215-01 징수교부금수입 | E35: 205000000 | F35: =SUMIF('시군구특별징수보고서(부서+운영항목+장관합계출력)'!$B:$B,$O35,'시군구특별징수보고서(부서+운영항목+장관합계출력)'!E:E) -> 0 | G35: =SUMIF('시군구특별징수보고서(부서+운영항목+장관합계출력)'!$B:$B,$O35,'시군구특별징수보고서(부서+운영항목+장관합계출력)'!G:G) -> 0 | H35: =SUMIF('시군구특별징수보고서(부서+운영항목+장관합계출력)'!$B:$B,$O35,'시군구특별징수보고서(부서+운영항목+장관합계출력)'!K:K) -> 0 | I35: =F35-G35-H35 -> 0 | J35: =I35-K35 -> 0 | L35: =IFERROR(G35/E35,0)*100 -> 0 | M35: =IFERROR(G35/F35,0)*100 -> 0 | O35: =C35 -> 215-01 징수교부금수입
B36: 216 이자수입 | E36: 149000000 | F36: =SUM(F37:F39) -> 86541150 | G36: =SUM(G37:G39) -> 83351030 | H36: =SUM(H37:H39) -> 0 | I36: =SUM(I37:I39) -> 3190120 | J36: =SUM(J37:J39) -> 3190120 | K36: =SUM(K37:K39) -> 0 | L36: =IFERROR(G36/E36,0)*100 -> 55.940289 | M36: =IFERROR(G36/F36,0)*100 -> 96.313754 | O36: =C36 -> 0
C37: 216-01 공공예금이자수입 | E37: 124000000 | F37: =SUMIF('시군구특별징수보고서(부서+운영항목+장관합계출력)'!$B:$B,$O37,'시군구특별징수보고서(부서+운영항목+장관합계출력)'!E:E) -> 86541150 | G37: =SUMIF('시군구특별징수보고서(부서+운영항목+장관합계출력)'!$B:$B,$O37,'시군구특별징수보고서(부서+운영항목+장관합계출력)'!G:G) -> 83351030 | H37: =SUMIF('시군구특별징수보고서(부서+운영항목+장관합계출력)'!$B:$B,$O37,'시군구특별징수보고서(부서+운영항목+장관합계출력)'!K:K) -> 0 | I37: =F37-G37-H37 -> 3190120 | J37: =I37-K37 -> 3190120 | L37: =IFERROR(G37/#REF!,0)*100 -> 0 | M37: =IFERROR(G37/F37,0)*100 -> 96.313754 | O37: =C37 -> 216-01 공공예금이자수입
C38: 216-02 융자금회수이자수입 | E38: 0 | F38: =SUMIF('시군구특별징수보고서(부서+운영항목+장관합계출력)'!$B:$B,$O38,'시군구특별징수보고서(부서+운영항목+장관합계출력)'!E:E) -> 0 | G38: =SUMIF('시군구특별징수보고서(부서+운영항목+장관합계출력)'!$B:$B,$O38,'시군구특별징수보고서(부서+운영항목+장관합계출력)'!G:G) -> 0 | H38: =SUMIF('시군구특별징수보고서(부서+운영항목+장관합계출력)'!$B:$B,$O38,'시군구특별징수보고서(부서+운영항목+장관합계출력)'!K:K) -> 0 | I38: =F38-G38-H38 -> 0 | J38: =I38-K38 -> 0 | L38: =IFERROR(G38/E38,0)*100 -> 0 | M38: =IFERROR(G38/F38,0)*100 -> 0 | O38: =C38 -> 216-02 융자금회수이자수입
C39: 216-03 기타이자수입 | E39: 25000000 | F39: =SUMIF('시군구특별징수보고서(부서+운영항목+장관합계출력)'!$B:$B,$O39,'시군구특별징수보고서(부서+운영항목+장관합계출력)'!E:E) -> 0 | G39: =SUMIF('시군구특별징수보고서(부서+운영항목+장관합계출력)'!$B:$B,$O39,'시군구특별징수보고서(부서+운영항목+장관합계출력)'!G:G) -> 0 | H39: =SUMIF('시군구특별징수보고서(부서+운영항목+장관합계출력)'!$B:$B,$O39,'시군구특별징수보고서(부서+운영항목+장관합계출력)'!K:K) -> 0 | I39: =F39-G39-H39 -> 0 | J39: =I39-K39 -> 0 | L39: =IFERROR(G39/E39,0)*100 -> 0 | M39: =IFERROR(G39/F39,0)*100 -> 0 | O39: =C39 -> 216-03 기타이자수입
B40: 220 임시적세외수입 | E40: 789000000 | F40: =F41+F46+F48+F52+F60 -> 4202634329 | G40: =G41+G46+G48+G52+G60 -> 127974700 | H40: =H41+H46+H48+H52+H60 -> 0 | I40: =I41+I46+I48+I52+I60 -> 4074659629 | J40: =J41+J46+J48+J52+J60 -> 4074659629 | K40: =K41+K46+K48+K52+K60 -> 0 | L40: =IFERROR(G40/E40,0)*100 -> 16.219861 | M40: =IFERROR(G40/F40,0)*100 -> 3.0451067 | O40: =C40 -> 0
B41: 221 재산매각수입 | E41: 0 | I41: =SUM(I42:I45) -> 0 | J41: =SUM(J42:J45) -> 0 | K41: =SUM(K42:K45) -> 0 | L41: =IFERROR(G41/E41,0)*100 -> 0 | M41: =IFERROR(G41/F41,0)*100 -> 0 | O41: =C41 -> 0
C42: 221-01 국유재산매각귀속수입금 | E42: 0 | F42: =SUMIF('시군구특별징수보고서(부서+운영항목+장관합계출력)'!$B:$B,$O42,'시군구특별징수보고서(부서+운영항목+장관합계출력)'!E:E) -> 0 | G42: =SUMIF('시군구특별징수보고서(부서+운영항목+장관합계출력)'!$B:$B,$O42,'시군구특별징수보고서(부서+운영항목+장관합계출력)'!G:G) -> 0 | H42: =SUMIF('시군구특별징수보고서(부서+운영항목+장관합계출력)'!$B:$B,$O42,'시군구특별징수보고서(부서+운영항목+장관합계출력)'!K:K) -> 0 | I42: =F42-G42-H42 -> 0 | J42: =I42-K42 -> 0 | L42: =IFERROR(G42/E42,0)*100 -> 0 | M42: =IFERROR(G42/F42,0)*100 -> 0 | O42: =C42 -> 221-01 국유재산매각귀속수입금
C43: 221-02 시도유재산매각귀속수입금 | E43: 0 | F43: =SUMIF('시군구특별징수보고서(부서+운영항목+장관합계출력)'!$B:$B,$O43,'시군구특별징수보고서(부서+운영항목+장관합계출력)'!E:E) -> 0 | G43: =SUMIF('시군구특별징수보고서(부서+운영항목+장관합계출력)'!$B:$B,$O43,'시군구특별징수보고서(부서+운영항목+장관합계출력)'!G:G) -> 0 | H43: =SUMIF('시군구특별징수보고서(부서+운영항목+장관합계출력)'!$B:$B,$O43,'시군구특별징수보고서(부서+운영항목+장관합계출력)'!K:K) -> 0 | I43: =F43-G43-H43 -> 0 | J43: =I43-K43 -> 0 | L43: =IFERROR(G43/E43,0)*100 -> 0 | M43: =IFERROR(G43/F43,0)*100 -> 0 | O43: =C43 -> 221-02 시도유재산매각귀속수입금
C44: 221-03 공유재산매각수입금 | E44: 0 | F44: =SUMIF('시군구특별징수보고서(부서+운영항목+장관합계출력)'!$B:$B,$O44,'시군구특별징수보고서(부서+운영항목+장관합계출력)'!E:E) -> 0 | G44: =SUMIF('시군구특별징수보고서(부서+운영항목+장관합계출력)'!$B:$B,$O44,'시군구특별징수보고서(부서+운영항목+장관합계출력)'!G:G) -> 0 | H44: =SUMIF('시군구특별징수보고서(부서+운영항목+장관합계출력)'!$B:$B,$O44,'시군구특별징수보고서(부서+운영항목+장관합계출력)'!K:K) -> 0 | I44: =F44-G44-H44 -> 0 | J44: =I44-K44 -> 0 | L44: =IFERROR(G44/E44,0)*100 -> 0 | M44: =IFERROR(G44/F44,0)*100 -> 0 | O44: =C44 -> 221-03 공유재산매각수입금
C45: 221-04 불용품매각대금 | E45: 0 | F45: =SUMIF('시군구특별징수보고서(부서+운영항목+장관합계출력)'!$B:$B,$O45,'시군구특별징수보고서(부서+운영항목+장관합계출력)'!E:E) -> 0 | G45: =SUMIF('시군구특별징수보고서(부서+운영항목+장관합계출력)'!$B:$B,$O45,'시군구특별징수보고서(부서+운영항목+장관합계출력)'!G:G) -> 0 | H45: =SUMIF('시군구특별징수보고서(부서+운영항목+장관합계출력)'!$B:$B,$O45,'시군구특별징수보고서(부서+운영항목+장관합계출력)'!K:K) -> 0 | I45: =F45-G45-H45 -> 0 | J45: =I45-K45 -> 0 | L45: =IFERROR(G45/E45,0)*100 -> 0 | M45: =IFERROR(G45/F45,0)*100 -> 0 | O45: =C45 -> 221-04 불용품매각대금
B46: 222 자치단체간부담금 | E46: 0 | F46: =F47 -> 0 | G46: =G47 -> 0 | H46: =H47 -> 0 | I46: =I47 -> 0 | J46: =J47 -> 0 | K46: =K47 -> 0 | L46: =IFERROR(G46/E46,0)*100 -> 0 | M46: =IFERROR(G46/F46,0)*100 -> 0 | O46: =C46 -> 0
C47: 222-01 자치단체간부담금 | E47: 0 | F47: =SUMIF('시군구특별징수보고서(부서+운영항목+장관합계출력)'!$B:$B,$O47,'시군구특별징수보고서(부서+운영항목+장관합계출력)'!E:E) -> 0 | G47: =SUMIF('시군구특별징수보고서(부서+운영항목+장관합계출력)'!$B:$B,$O47,'시군구특별징수보고서(부서+운영항목+장관합계출력)'!G:G) -> 0 | H47: =SUMIF('시군구특별징수보고서(부서+운영항목+장관합계출력)'!$B:$B,$O47,'시군구특별징수보고서(부서+운영항목+장관합계출력)'!K:K) -> 0 | I47: =F47-G47-H47 -> 0 | J47: =I47-K47 -> 0 | L47: =IFERROR(G47/E47,0)*100 -> 0 | M47: =IFERROR(G47/F47,0)*100 -> 0 | O47: =C47 -> 222-01 자치단체간부담금
B48: 223 보조금반환수입 | E48: 0 | F48: =SUM(F49:F51) -> 0 | G48: =SUM(G49:G51) -> 0 | H48: =SUM(H49:H51) -> 0 | I48: =SUM(I49:I51) -> 0 | J48: =SUM(J49:J51) -> 0 | K48: =SUM(K49:K51) -> 0 | L48: =IFERROR(G48/E48,0)*100 -> 0 | M48: =IFERROR(G48/F48,0)*100 -> 0 | O48: =C48 -> 0
C49: 223-01 시ㆍ도비보조금등반환수입 | E49: 0 | F49: =SUMIF('시군구특별징수보고서(부서+운영항목+장관합계출력)'!$B:$B,$O49,'시군구특별징수보고서(부서+운영항목+장관합계출력)'!E:E) -> 0 | G49: =SUMIF('시군구특별징수보고서(부서+운영항목+장관합계출력)'!$B:$B,$O49,'시군구특별징수보고서(부서+운영항목+장관합계출력)'!G:G) -> 0 | H49: =SUMIF('시군구특별징수보고서(부서+운영항목+장관합계출력)'!$B:$B,$O49,'시군구특별징수보고서(부서+운영항목+장관합계출력)'!K:K) -> 0 | I49: =F49-G49-H49 -> 0 | J49: =I49-K49 -> 0 | L49: =IFERROR(G49/E49,0)*100 -> 0 | M49: =IFERROR(G49/F49,0)*100 -> 0 | O49: =C49 -> 223-01 시ㆍ도비보조금등반환수입
C50: 223-02 자체보조금등반환수입 | E50: 0 | F50: =SUMIF('시군구특별징수보고서(부서+운영항목+장관합계출력)'!$B:$B,$O50,'시군구특별징수보고서(부서+운영항목+장관합계출력)'!E:E) -> 0 | G50: =SUMIF('시군구특별징수보고서(부서+운영항목+장관합계출력)'!$B:$B,$O50,'시군구특별징수보고서(부서+운영항목+장관합계출력)'!G:G) -> 0 | H50: =SUMIF('시군구특별징수보고서(부서+운영항목+장관합계출력)'!$B:$B,$O50,'시군구특별징수보고서(부서+운영항목+장관합계출력)'!K:K) -> 0 | I50: =F50-G50-H50 -> 0 | J50: =I50-K50 -> 0 | L50: =IFERROR(G50/E50,0)*100 -> 0 | M50: =IFERROR(G50/F50,0)*100 -> 0 | O50: =C50 -> 223-02 자체보조금등반환수입
C51: 223-03 위탁비반환수입 | E51: 0 | F51: =SUMIF('시군구특별징수보고서(부서+운영항목+장관합계출력)'!$B:$B,$O51,'시군구특별징수보고서(부서+운영항목+장관합계출력)'!E:E) -> 0 | G51: =SUMIF('시군구특별징수보고서(부서+운영항목+장관합계출력)'!$B:$B,$O51,'시군구특별징수보고서(부서+운영항목+장관합계출력)'!G:G) -> 0 | H51: =SUMIF('시군구특별징수보고서(부서+운영항목+장관합계출력)'!$B:$B,$O51,'시군구특별징수보고서(부서+운영항목+장관합계출력)'!K:K) -> 0 | I51: =F51-G51-H51 -> 0 | J51: =I51-K51 -> 0 | L51: =IFERROR(G51/E51,0)*100 -> 0 | M51: =IFERROR(G51/F51,0)*100 -> 0 | O51: =C51 -> 223-03 위탁비반환수입
B52: 224 기타수입 | E52: 59000000 | F52: =SUM(F53:F59) -> 12768020 | G52: =SUM(G53:G59) -> 5995160 | H52: =SUM(H53:H59) -> 0 | I52: =SUM(I53:I59) -> 6772860 | J52: =SUM(J53:J59) -> 6772860 | K52: =SUM(K53:K59) -> 0 | L52: =IFERROR(G52/E52,0)*100 -> 10.161288 | M52: =IFERROR(G52/F52,0)*100 -> 46.9545 | O52: =C52 -> 0
C53: 224-01 체납처분수입 | E53: 0 | F53: =SUMIF('시군구특별징수보고서(부서+운영항목+장관합계출력)'!$B:$B,$O53,'시군구특별징수보고서(부서+운영항목+장관합계출력)'!E:E) -> 0 | G53: =SUMIF('시군구특별징수보고서(부서+운영항목+장관합계출력)'!$B:$B,$O53,'시군구특별징수보고서(부서+운영항목+장관합계출력)'!G:G) -> 0 | H53: =SUMIF('시군구특별징수보고서(부서+운영항목+장관합계출력)'!$B:$B,$O53,'시군구특별징수보고서(부서+운영항목+장관합계출력)'!K:K) -> 0 | I53: =F53-G53-H53 -> 0 | J53: =I53-K53 -> 0 | L53: =IFERROR(G53/E53,0)*100 -> 0 | M53: =IFERROR(G53/F53,0)*100 -> 0 | O53: =C53 -> 224-01 체납처분수입
C54: 224-02 보상금수납금 | E54: 0 | F54: =SUMIF('시군구특별징수보고서(부서+운영항목+장관합계출력)'!$B:$B,$O54,'시군구특별징수보고서(부서+운영항목+장관합계출력)'!E:E) -> 0 | G54: =SUMIF('시군구특별징수보고서(부서+운영항목+장관합계출력)'!$B:$B,$O54,'시군구특별징수보고서(부서+운영항목+장관합계출력)'!G:G) -> 0 | H54: =SUMIF('시군구특별징수보고서(부서+운영항목+장관합계출력)'!$B:$B,$O54,'시군구특별징수보고서(부서+운영항목+장관합계출력)'!K:K) -> 0 | I54: =F54-G54-H54 -> 0 | J54: =I54-K54 -> 0 | L54: =IFERROR(G54/E54,0)*100 -> 0 | M54: =IFERROR(G54/F54,0)*100 -> 0 | O54: =C54 -> 224-02 보상금수납금
C55: 224-03 기부금수입 | E55: 0 | F55: =SUMIF('시군구특별징수보고서(부서+운영항목+장관합계출력)'!$B:$B,$O55,'시군구특별징수보고서(부서+운영항목+장관합계출력)'!E:E) -> 2491200 | G55: =SUMIF('시군구특별징수보고서(부서+운영항목+장관합계출력)'!$B:$B,$O55,'시군구특별징수보고서(부서+운영항목+장관합계출력)'!G:G) -> 4761500 | H55: =SUMIF('시군구특별징수보고서(부서+운영항목+장관합계출력)'!$B:$B,$O55,'시군구특별징수보고서(부서+운영항목+장관합계출력)'!K:K) -> 0 | I55: =F55-G55-H55 -> -2270300 | J55: =I55-K55 -> -2270300 | L55: =IFERROR(G55/E55,0)*100 -> 0 | M55: =IFERROR(G55/F55,0)*100 -> 191.13279 | O55: =C55 -> 224-03 기부금수입
C56: 224-04 지적재조사조정금 | E56: 0 | F56: =SUMIF('시군구특별징수보고서(부서+운영항목+장관합계출력)'!$B:$B,$O56,'시군구특별징수보고서(부서+운영항목+장관합계출력)'!E:E) -> 0 | G56: =SUMIF('시군구특별징수보고서(부서+운영항목+장관합계출력)'!$B:$B,$O56,'시군구특별징수보고서(부서+운영항목+장관합계출력)'!G:G) -> 0 | H56: =SUMIF('시군구특별징수보고서(부서+운영항목+장관합계출력)'!$B:$B,$O56,'시군구특별징수보고서(부서+운영항목+장관합계출력)'!K:K) -> 0 | I56: =F56-G56-H56 -> 0 | J56: =I56-K56 -> 0 | L56: =IFERROR(G56/E56,0)*100 -> 0 | M56: =IFERROR(G56/F56,0)*100 -> 0 | O56: =C56 -> 224-04 지적재조사조정금
C57: 224-05 지방교부세감소분보전수입 | E57: 0 | F57: =SUMIF('시군구특별징수보고서(부서+운영항목+장관합계출력)'!$B:$B,$O57,'시군구특별징수보고서(부서+운영항목+장관합계출력)'!E:E) -> 0 | G57: =SUMIF('시군구특별징수보고서(부서+운영항목+장관합계출력)'!$B:$B,$O57,'시군구특별징수보고서(부서+운영항목+장관합계출력)'!G:G) -> 0 | H57: =SUMIF('시군구특별징수보고서(부서+운영항목+장관합계출력)'!$B:$B,$O57,'시군구특별징수보고서(부서+운영항목+장관합계출력)'!K:K) -> 0 | I57: =F57-G57-H57 -> 0 | J57: =I57-K57 -> 0 | L57: =IFERROR(G57/E57,0)*100 -> 0 | M57: =IFERROR(G57/F57,0)*100 -> 0 | O57: =C57 -> 224-05 지방교부세감소분보전수입
C58: 224-06 위약금 | E58: 0 | F58: =SUMIF('시군구특별징수보고서(부서+운영항목+장관합계출력)'!$B:$B,$O58,'시군구특별징수보고서(부서+운영항목+장관합계출력)'!E:E) -> 0 | G58: =SUMIF('시군구특별징수보고서(부서+운영항목+장관합계출력)'!$B:$B,$O58,'시군구특별징수보고서(부서+운영항목+장관합계출력)'!G:G) -> 0 | H58: =SUMIF('시군구특별징수보고서(부서+운영항목+장관합계출력)'!$B:$B,$O58,'시군구특별징수보고서(부서+운영항목+장관합계출력)'!K:K) -> 0 | I58: =F58-G58-H58 -> 0 | J58: =I58-K58 -> 0 | L58: =IFERROR(G58/E58,0)*100 -> 0 | M58: =IFERROR(G58/F58,0)*100 -> 0 | O58: =C58 -> 224-06 위약금
C59: 224-07 그외수입 | E59: 59000000 | F59: =SUMIF('시군구특별징수보고서(부서+운영항목+장관합계출력)'!$B:$B,$O59,'시군구특별징수보고서(부서+운영항목+장관합계출력)'!E:E) -> 10276820 | G59: =SUMIF('시군구특별징수보고서(부서+운영항목+장관합계출력)'!$B:$B,$O59,'시군구특별징수보고서(부서+운영항목+장관합계출력)'!G:G) -> 1233660 | H59: =SUMIF('시군구특별징수보고서(부서+운영항목+장관합계출력)'!$B:$B,$O59,'시군구특별징수보고서(부서+운영항목+장관합계출력)'!K:K) -> 0 | I59: =F59-G59-H59 -> 9043160 | J59: =I59-K59 -> 9043160 | L59: =IFERROR(G59/E59,0)*100 -> 2.0909492 | M59: =IFERROR(G59/F59,0)*100 -> 12.004297 | O59: =C59 -> 224-07 그외수입
B60: 225 지난년도수입 | E60: 730000000 | F60: =F61 -> 4189866309 | G60: =G61 -> 121979540 | H60: =H61 -> 0 | I60: =I61 -> 4067886769 | J60: =J61 -> 4067886769 | K60: =K61 -> 0 | L60: =IFERROR(G60/E60,0)*100 -> 16.709526 | M60: =IFERROR(G60/F60,0)*100 -> 2.9112991 | O60: =C60 -> 0
C61: 225-01 지난년도수입 | E61: 730000000 | F61: =SUMIF('시군구특별징수보고서(부서+운영항목+장관합계출력)'!$B:$B,$O61,'시군구특별징수보고서(부서+운영항목+장관합계출력)'!E:E) -> 4189866309 | G61: =SUMIF('시군구특별징수보고서(부서+운영항목+장관합계출력)'!$B:$B,$O61,'시군구특별징수보고서(부서+운영항목+장관합계출력)'!G:G) -> 121979540 | H61: =SUMIF('시군구특별징수보고서(부서+운영항목+장관합계출력)'!$B:$B,$O61,'시군구특별징수보고서(부서+운영항목+장관합계출력)'!K:K) -> 0 | I61: =F61-G61-H61 -> 4067886769 | J61: =I61-K61 -> 4067886769 | L61: =IFERROR(G61/E61,0)*100 -> 16.709526 | M61: =IFERROR(G61/F61,0)*100 -> 2.9112991 | O61: =C61 -> 225-01 지난년도수입
B62: 230 지방행정제재‧부과금 | E62: 2100000000 | F62: =F63+F65+F67+F69+F72+F74+F76 -> 1060675280 | G62: =G63+G65+G67+G69+G72+G74+G76 -> 953449020 | H62: =H63+H65+H67+H69+H72+H74+H76 -> 0 | I62: =I63+I65+I67+I69+I72+I74+I76 -> 107226260 | J62: =J63+J65+J67+J69+J72+J74+J76 -> 107226260 | K62: =K63+K65+K67+K69+K72+K74+K76 -> 0 | L62: =IFERROR(G62/E62,0)*100 -> 45.402334 | M62: =IFERROR(G62/F62,0)*100 -> 89.890755 | O62: =C62 -> 0
B63: 231 과징금 | E63: 0 | F63: =SUM(F64) -> 0 | G63: =SUM(G64) -> 0 | H63: =SUM(H64) -> 0 | I63: =SUM(I64) -> 0 | J63: =SUM(J64) -> 0 | K63: =SUM(K64) -> 0 | L63: =IFERROR(G63/E63,0)*100 -> 0 | M63: =IFERROR(G63/F63,0)*100 -> 0 | O63: =C63 -> 0
C64: 231-01 과징금 | E64: 0 | F64: =SUMIF('시군구특별징수보고서(부서+운영항목+장관합계출력)'!$B:$B,$O64,'시군구특별징수보고서(부서+운영항목+장관합계출력)'!E:E) -> 0 | G64: =SUMIF('시군구특별징수보고서(부서+운영항목+장관합계출력)'!$B:$B,$O64,'시군구특별징수보고서(부서+운영항목+장관합계출력)'!G:G) -> 0 | H64: =SUMIF('시군구특별징수보고서(부서+운영항목+장관합계출력)'!$B:$B,$O64,'시군구특별징수보고서(부서+운영항목+장관합계출력)'!K:K) -> 0 | I64: =F64-G64-H64 -> 0 | J64: =I64-K64 -> 0 | L64: =IFERROR(G64/E64,0)*100 -> 0 | M64: =IFERROR(G64/F64,0)*100 -> 0 | O64: =C64 -> 231-01 과징금
B65: 232 이행강제금 | E65: 0 | F65: =F66 -> 0 | G65: =G66 -> 0 | H65: =H66 -> 0 | I65: =I66 -> 0 | J65: =J66 -> 0 | K65: =K66 -> 0 | L65: =IFERROR(G65/E65,0)*100 -> 0 | M65: =IFERROR(G65/F65,0)*100 -> 0 | O65: =C65 -> 0
C66: 232-01 이행강제금 | E66: 0 | F66: =SUMIF('시군구특별징수보고서(부서+운영항목+장관합계출력)'!$B:$B,$O66,'시군구특별징수보고서(부서+운영항목+장관합계출력)'!E:E) -> 0 | G66: =SUMIF('시군구특별징수보고서(부서+운영항목+장관합계출력)'!$B:$B,$O66,'시군구특별징수보고서(부서+운영항목+장관합계출력)'!G:G) -> 0 | H66: =SUMIF('시군구특별징수보고서(부서+운영항목+장관합계출력)'!$B:$B,$O66,'시군구특별징수보고서(부서+운영항목+장관합계출력)'!K:K) -> 0 | I66: =F66-G66-H66 -> 0 | J66: =I66-K66 -> 0 | L66: =IFERROR(G66/E66,0)*100 -> 0 | M66: =IFERROR(G66/F66,0)*100 -> 0 | O66: =C66 -> 232-01 이행강제금
B67: 233 변상금 | E67: 0 | F67: =F68 -> 0 | G67: =G68 -> 0 | H67: =H68 -> 0 | I67: =I68 -> 0 | J67: =J68 -> 0 | K67: =K68 -> 0 | L67: =IFERROR(G67/E67,0)*100 -> 0 | M67: =IFERROR(G67/F67,0)*100 -> 0 | O67: =C67 -> 0
C68: 233-01 변상금 | E68: 0 | F68: =SUMIF('시군구특별징수보고서(부서+운영항목+장관합계출력)'!$B:$B,$O68,'시군구특별징수보고서(부서+운영항목+장관합계출력)'!E:E) -> 0 | G68: =SUMIF('시군구특별징수보고서(부서+운영항목+장관합계출력)'!$B:$B,$O68,'시군구특별징수보고서(부서+운영항목+장관합계출력)'!G:G) -> 0 | H68: =SUMIF('시군구특별징수보고서(부서+운영항목+장관합계출력)'!$B:$B,$O68,'시군구특별징수보고서(부서+운영항목+장관합계출력)'!K:K) -> 0 | I68: =F68-G68-H68 -> 0 | J68: =I68-K68 -> 0 | L68: =IFERROR(G68/E68,0)*100 -> 0 | M68: =IFERROR(G68/F68,0)*100 -> 0 | O68: =C68 -> 233-01 변상금
B69: 234 과태료 | E69: 2100000000 | F69: =SUM(F70:F71) -> 265867420 | G69: =SUM(G70:G71) -> 158641160 | H69: =SUM(H70:H71) -> 0 | I69: =SUM(I70:I71) -> 107226260 | J69: =SUM(J70:J71) -> 107226260 | K69: =SUM(K70:K71) -> 0 | L69: =IFERROR(G69/E69,0)*100 -> 7.554341 | M69: =IFERROR(G69/F69,0)*100 -> 59.669274 | O69: =C69 -> 0
C70: 234-01 차량관련과태료 | E70: 2100000000 | F70: =SUMIF('시군구특별징수보고서(부서+운영항목+장관합계출력)'!$B:$B,$O70,'시군구특별징수보고서(부서+운영항목+장관합계출력)'!E:E) -> 265867420 | G70: =SUMIF('시군구특별징수보고서(부서+운영항목+장관합계출력)'!$B:$B,$O70,'시군구특별징수보고서(부서+운영항목+장관합계출력)'!G:G) -> 158641160 | H70: =SUMIF('시군구특별징수보고서(부서+운영항목+장관합계출력)'!$B:$B,$O70,'시군구특별징수보고서(부서+운영항목+장관합계출력)'!K:K) -> 0 | I70: =F70-G70-H70 -> 107226260 | J70: =I70-K70 -> 107226260 | L70: =IFERROR(G70/E70,0)*100 -> 7.554341 | M70: =IFERROR(G70/F70,0)*100 -> 59.669274 | O70: =C70 -> 234-01 차량관련과태료
C71: 234-02 기타과태료 | E71: 0 | F71: =SUMIF('시군구특별징수보고서(부서+운영항목+장관합계출력)'!$B:$B,$O71,'시군구특별징수보고서(부서+운영항목+장관합계출력)'!E:E) -> 0 | G71: =SUMIF('시군구특별징수보고서(부서+운영항목+장관합계출력)'!$B:$B,$O71,'시군구특별징수보고서(부서+운영항목+장관합계출력)'!G:G) -> 0 | H71: =SUMIF('시군구특별징수보고서(부서+운영항목+장관합계출력)'!$B:$B,$O71,'시군구특별징수보고서(부서+운영항목+장관합계출력)'!K:K) -> 0 | I71: =F71-G71-H71 -> 0 | J71: =I71-K71 -> 0 | L71: =IFERROR(G71/E71,0)*100 -> 0 | M71: =IFERROR(G71/F71,0)*100 -> 0 | O71: =C71 -> 234-02 기타과태료
B72: 235 환수금 | E72: 0 | F72: =F73 -> 0 | G72: =G73 -> 0 | H72: =H73 -> 0 | I72: =I73 -> 0 | J72: =J73 -> 0 | K72: =K73 -> 0 | L72: =IFERROR(G72/E72,0)*100 -> 0 | M72: =IFERROR(G72/F72,0)*100 -> 0 | O72: =C72 -> 0
C73: 235-01 부정이익환수금 | E73: 0 | F73: =SUMIF('시군구특별징수보고서(부서+운영항목+장관합계출력)'!$B:$B,$O73,'시군구특별징수보고서(부서+운영항목+장관합계출력)'!E:E) -> 0 | G73: =SUMIF('시군구특별징수보고서(부서+운영항목+장관합계출력)'!$B:$B,$O73,'시군구특별징수보고서(부서+운영항목+장관합계출력)'!G:G) -> 0 | H73: =SUMIF('시군구특별징수보고서(부서+운영항목+장관합계출력)'!$B:$B,$O73,'시군구특별징수보고서(부서+운영항목+장관합계출력)'!K:K) -> 0 | I73: =F73-G73-H73 -> 0 | J73: =I73-K73 -> 0 | L73: =IFERROR(G73/E73,0)*100 -> 0 | M73: =IFERROR(G73/F73,0)*100 -> 0 | O73: =C73 -> 235-01 부정이익환수금
B74: 236 부담금 | E74: 0 | F74: =F75 -> 794807860 | G74: =G75 -> 794807860 | H74: =H75 -> 0 | I74: =I75 -> 0 | J74: =J75 -> 0 | K74: =K75 -> 0 | L74: =IFERROR(G74/E74,0)*100 -> 0 | M74: =IFERROR(G74/F74,0)*100 -> 100 | O74: =C74 -> 0
C75: 236-01 부담금 | E75: 0 | F75: =SUMIF('시군구특별징수보고서(부서+운영항목+장관합계출력)'!$B:$B,$O75,'시군구특별징수보고서(부서+운영항목+장관합계출력)'!E:E) -> 794807860 | G75: =SUMIF('시군구특별징수보고서(부서+운영항목+장관합계출력)'!$B:$B,$O75,'시군구특별징수보고서(부서+운영항목+장관합계출력)'!G:G) -> 794807860 | H75: =SUMIF('시군구특별징수보고서(부서+운영항목+장관합계출력)'!$B:$B,$O75,'시군구특별징수보고서(부서+운영항목+장관합계출력)'!K:K) -> 0 | I75: =F75-G75-H75 -> 0 | J75: =I75-K75 -> 0 | K75: 0 | L75: =IFERROR(G75/E75,0)*100 -> 0 | M75: =IFERROR(G75/F75,0)*100 -> 100 | O75: =C75 -> 236-01 부담금
B76: 237 범칙금 | E76: 0 | F76: =F77 -> 0 | G76: =G77 -> 0 | H76: =H77 -> 0 | I76: =I77 -> 0 | J76: =J77 -> 0 | K76: =K77 -> 0 | L76: =IFERROR(G76/E76,0)*100 -> 0 | M76: =IFERROR(G76/F76,0)*100 -> 0 | O76: =C76 -> 0
C77: 237-01 범칙금 | E77: 0 | F77: =SUMIF('시군구특별징수보고서(부서+운영항목+장관합계출력)'!$B:$B,$O77,'시군구특별징수보고서(부서+운영항목+장관합계출력)'!E:E) -> 0 | G77: =SUMIF('시군구특별징수보고서(부서+운영항목+장관합계출력)'!$B:$B,$O77,'시군구특별징수보고서(부서+운영항목+장관합계출력)'!G:G) -> 0 | H77: =SUMIF('시군구특별징수보고서(부서+운영항목+장관합계출력)'!$B:$B,$O77,'시군구특별징수보고서(부서+운영항목+장관합계출력)'!K:K) -> 0 | I77: =F77-G77-H77 -> 0 | J77: =I77-K77 -> 0 | L77: =IFERROR(G77/E77,0)*100 -> 0 | M77: =IFERROR(G77/F77,0)*100 -> 0 | O77: =C77 -> 237-01 범칙금
O78: =C78 -> 0
O79: =C79 -> 0
O80: =C80 -> 0
O81: =C81 -> 0
O82: =C82 -> 0
O83: =C83 -> 0
O84: =C84 -> 0
O85: =C85 -> 0
O86: =C86 -> 0
O87: =C87 -> 0
O88: =C88 -> 0
O89: =C89 -> 0
... O92: =C92 -> 0

Sheet 구세외징수보고서
I1: 2024년 2월분 일반회계 시군구 세외수입(운영항목별) 징수보고서
U2: (단위:원)
A3: 과 목 | F3: 예산액 | I3: 징수결정액 | K3: 수 납 액 | M3: 과오납 환부액 | O3: 불납결손액 | Q3: 미 수 납 액 | T3: 징수비율(%)
A4: 장 | B4: 관 | C4: 항 | D4: 목 | E4: 운영항목 | F4: 예산액 | G4: 전년도예산액 | H4: 비교증감 | I4: 본월분 | J4: 누계 | K4: 본월분 | L4: 누계 | M4: 본월분 | N4: 누계 | O4: 본월분 | P4: 누계 | Q4: 미수납액 (E=B-C-D) | R4: 체납액 (F=E-G) | S4: 납기미도래 (G) | T4: 대목표 | U4: 대조정 | V4: 관 | W4: 항 | X4: 목 | Y4: 장, 관, 항, 목, 운영항목 | Z4: 항 | AA4: 목
A5: 세 입 총 계 (200-00~700-00) | F5: =F6+F299 -> 891687920000 | G5: =G6+G299 -> 841118075000 | H5: =H6+H299 -> 50569845000 | I5: =I6+I299 -> 108604151282 | J5: =J6+J299 -> 237998018833 | K5: =K6+K299 -> 108792134765 | L5: =L6+L299 -> 212931481350 | M5: =M6+M299 -> 27390586 | ... S5: =S6+S299 -> 4276186640 | T5: =IFERROR((L5/F5)*100,"") -> 23.879597 | U5: =IFERROR((L5/J5)*100,"") -> 89.467754 | V5: v | Z5: =MID(C5,8,99) | AA5: =MID(D5,8,99)
A6: 세외수입합계 (200-00) | F6: =F7+F68+F208 -> 48834156000 | G6: =G7+G68+G208 -> 39853030000 | H6: =H7+H68+H208 -> 8981126000 | I6: =I7+I68+I208 -> 2979540689 | J6: =J7+J68+J208 -> 32834790316 | K6: =K7+K68+K208 -> 3167343542 | L6: =L7+L68+L208 -> 7768252833 | M6: =M7+M68+M208 -> 27390586 | ... S6: =S7+S68+S208 -> 4276186640 | T6: =IFERROR((L6/F6)*100,"") -> 15.907417 | U6: =IFERROR((L6/J6)*100,"") -> 23.658603 | V6: v | Z6: =MID(C6,8,99) | AA6: =MID(D6,8,99)
B7: 210-00 경상적세외수입 | F7: =F8+F18+F33+F51+F54+F63 -> 29388726000 | G7: =G8+G18+G33+G51+G54+G63 -> 29755437000 | H7: =H8+H18+H33+H51+H54+H63 -> -366711000 | I7: =I8+I18+I33+I51+I54+I63 -> 2425170589 | J7: =J8+J18+J33+J51+J54+J63 -> 5292951484 | K7: =K8+K18+K33+K51+K54+K63 -> 2376119316 | L7: =L8+L18+L33+L51+L54+L63 -> 5108815261 | M7: =M8+M18+M33+M51+M54+M63 -> 3516420 | ... S7: =S8+S18+S33+S51+S54+S63 -> 183089483 | T7: =IFERROR((L7/F7)*100,"") -> 17.383589 | U7: =IFERROR((L7/J7)*100,"") -> 96.521105 | V7: v | Z7: =MID(C7,8,99) | AA7: =MID(D7,8,99)
C8: =W10 -> 211-00 재산임대수입 | F8: =F9+F11 -> 182458000 | G8: =G9+G11 -> 173813000 | H8: =H9+H11 -> 8645000 | I8: =I9+I11 -> 47546260 | J8: =J9+J11 -> 68889850 | K8: =K9+K11 -> 20870270 | L8: =L9+L11 -> 30050760 | M8: =M9+M11 -> 0 | ... S8: =S9+S11 -> 38588330 | T8: =IFERROR((L8/F8)*100,"") -> 16.46996 | U8: =IFERROR((L8/J8)*100,"") -> 43.621462 | W8: v | Z8: =MID(C8,8,99) -> 재산임대수입 | AA8: =MID(D8,8,99)
D9: =X10 -> 211-01 국유재산대부료 | F9: 50000000 | G9: 50000000 | H9: 0 | I9: =SUM(I10:I10) -> 0 | J9: =SUM(J10:J10) -> 0 | K9: =SUM(K10:K10) -> 0 | L9: =SUM(L10:L10) -> 0 | M9: =SUM(M10:M10) -> 0 | N9: =SUM(N10:N10) -> 0 | O9: =SUM(O10:O10) -> 0 | P9: =SUM(P10:P10) -> 0 | ... S9: =SUM(S10:S10) -> 0 | T9: =IFERROR((L9/F9)*100,"") -> 0 | U9: =IFERROR((L9/J9)*100,"") | X9: v | Z9: =MID(C9,8,99) | AA9: =MID(D9,8,99) -> 국유재산대부료
E10: =Y10 -> 211-001-000 국유재산사용료 | F10: 0 | H10: =F10 -> 0 | I10: 0 | J10: 0 | K10: 0 | L10: 0 | M10: 0 | N10: 0 | O10: 0 | P10: 0 | Q10: =J10-L10-P10 -> 0 | R10: =Q10-S10 -> 0 | S10: 0 | T10: =IFERROR((L10/F10)*100,"") | U10: =IFERROR((L10/J10)*100,"") | W10: 211-00 재산임대수입 | X10: 211-01 국유재산대부료 | Y10: 211-001-000 국유재산사용료 | Z10: =MID(C10,8,99) | AA10: =MID(D10,8,99)
D11: =X12 -> 211-02 공유재산임대료 | F11: 132458000 | G11: 123813000 | H11: 8645000 | I11: =SUM(I12:I17) -> 47546260 | J11: =SUM(J12:J17) -> 68889850 | K11: =SUM(K12:K17) -> 20870270 | L11: =SUM(L12:L17) -> 30050760 | M11: =SUM(M12:M17) -> 0 | N11: =SUM(N12:N17) -> 0 | O11: =SUM(O12:O17) -> 0 | P11: =SUM(P12:P17) -> 0 | ... S11: =SUM(S12:S17) -> 38588330 | T11: =IFERROR((L11/F11)*100,"") -> 22.68701 | U11: =IFERROR((L11/J11)*100,"") -> 43.621462 | X11: v | Z11: =MID(C11,8,99) | AA11: =MID(D11,8,99) -> 공유재산임대료
E12: =Y12 -> 211-051-006 공유재산사용료 | F12: 0 | H12: =F12 -> 0 | I12: 0 | J12: 0 | K12: 0 | L12: 0 | M12: 0 | N12: 0 | O12: 0 | P12: 0 | Q12: =J12-L12-P12 -> 0 | R12: =Q12-S12 -> 0 | S12: 0 | T12: =IFERROR((L12/F12)*100,"") | U12: =IFERROR((L12/J12)*100,"") | W12: 211-00 재산임대수입 | X12: 211-02 공유재산임대료 | Y12: 211-051-006 공유재산사용료 | Z12: =MID(C12,8,99) | AA12: =MID(D12,8,99)
E13: =Y13 -> 211-051-008 행정재산사용료 | F13: 0 | H13: =F13 -> 0 | I13: 34054210 | J13: 34054210 | K13: 0 | L13: 0 | M13: 0 | N13: 0 | O13: 0 | P13: 0 | Q13: =J13-L13-P13 -> 34054210 | R13: =Q13-S13 -> 0 | S13: 34054210 | T13: =IFERROR((L13/F13)*100,"") | U13: =IFERROR((L13/J13)*100,"") -> 0 | W13: 211-00 재산임대수입 | X13: 211-02 공유재산임대료 | Y13: 211-051-008 행정재산사용료 | Z13: =MID(C13,8,99) | AA13: =MID(D13,8,99)
E14: =Y14 -> 211-051-009 시군구재산사용료 | F14: 0 | H14: =F14 -> 0 | I14: 0 | J14: 6226080 | K14: 0 | L14: 6226080 | M14: 0 | N14: 0 | O14: 0 | P14: 0 | Q14: =J14-L14-P14 -> 0 | R14: =Q14-S14 -> 0 | S14: 0 | T14: =IFERROR((L14/F14)*100,"") | U14: =IFERROR((L14/J14)*100,"") -> 100 | W14: 211-00 재산임대수입 | X14: 211-02 공유재산임대료 | Y14: 211-051-009 시군구재산사용료 | Z14: =MID(C14,8,99) | AA14: =MID(D14,8,99)
E15: =Y15 -> 211-052-001 기타공유재산대부료 | F15: 0 | H15: =F15 -> 0 | I15: 0 | J15: 0 | K15: 0 | L15: 0 | M15: 0 | N15: 0 | O15: 0 | P15: 0 | Q15: =J15-L15-P15 -> 0 | R15: =Q15-S15 -> 0 | S15: 0 | T15: =IFERROR((L15/F15)*100,"") | U15: =IFERROR((L15/J15)*100,"") | W15: 211-00 재산임대수입 | X15: 211-02 공유재산임대료 | Y15: 211-052-001 기타공유재산대부료 | Z15: =MID(C15,8,99) | AA15: =MID(D15,8,99)
E16: =Y16 -> 211-052-034 시도유재산대부료 | F16: 0 | H16: =F16 -> 0 | I16: 7890800 | J16: 9557550 | K16: 7849870 | L16: 9480130 | M16: 0 | N16: 0 | O16: 0 | P16: 0 | Q16: =J16-L16-P16 -> 77420 | R16: =Q16-S16 -> 0 | S16: 77420 | T16: =IFERROR((L16/F16)*100,"") | U16: =IFERROR((L16/J16)*100,"") -> 99.18996 | W16: 211-00 재산임대수입 | X16: 211-02 공유재산임대료 | Y16: 211-052-034 시도유재산대부료 | Z16: =MID(C16,8,99) | AA16: =MID(D16,8,99)
E17: =Y17 -> 211-052-035 시군구재산대부료 | F17: 0 | H17: =F17 -> 0 | I17: 5601250 | J17: 19052010 | K17: 13020400 | L17: 14344550 | M17: 0 | N17: 0 | O17: 0 | P17: 0 | Q17: =J17-L17-P17 -> 4707460 | R17: =Q17-S17 -> 250760 | S17: 4456700 | T17: =IFERROR((L17/F17)*100,"") | U17: =IFERROR((L17/J17)*100,"") -> 75.291531 | W17: 211-00 재산임대수입 | X17: 211-02 공유재산임대료 | Y17: 211-052-035 시군구재산대부료 | Z17: =MID(C17,8,99) | AA17: =MID(D17,8,99)
C18: =W20 -> 212-00 사용료수입 | F18: =F19+F29 -> 2603862000 | G18: =G19+G29 -> 3160817000 | H18: =H19+H29 -> -556955000 | I18: =I19+I29 -> 96518185 | J18: =J19+J29 -> 287799592 | K18: =K19+K29 -> 90018315 | L18: =L19+L29 -> 280946922 | M18: =M19+M29 -> 3429000 | ... S18: =S19+S29 -> 6645030 | T18: =IFERROR((L18/F18)*100,"") -> 10.789624 | U18: =IFERROR((L18/J18)*100,"") -> 97.618944 | W18: v | Z18: =MID(C18,8,99) -> 사용료수입 | AA18: =MID(D18,8,99)
D19: =X20 -> 212-01 도로사용료 | F19: 1150000000 | G19: 1150000000 | H19: 0 | I19: =SUM(I20:I28) -> 4594640 | J19: =SUM(J20:J28) -> 13611840 | K19: =SUM(K20:K28) -> 3822400 | L19: =SUM(L20:L28) -> 12486800 | M19: =SUM(M20:M28) -> 0 | N19: =SUM(N20:N28) -> 92400 | O19: =SUM(O20:O28) -> 0 | P19: =SUM(P20:P28) -> 0 | ... S19: =SUM(S20:S28) -> 917400 | T19: =IFERROR((L19/F19)*100,"") -> 1.0858087 | U19: =IFERROR((L19/J19)*100,"") -> 91.734843 | X19: v | Z19: =MID(C19,8,99) | AA19: =MID(D19,8,99) -> 도로사용료
E20: =Y20 -> 212-001-001 건축현장도로점용료 | F20: 0 | H20: =F20 -> 0 | I20: 0 | J20: 0 | K20: 0 | L20: 0 | M20: 0 | N20: 0 | O20: 0 | P20: 0 | Q20: =J20-L20-P20 -> 0 | R20: =Q20-S20 -> 0 | S20: 0 | T20: =IFERROR((L20/F20)*100,"") | U20: =IFERROR((L20/J20)*100,"") | W20: 212-00 사용료수입 | X20: 212-01 도로사용료 | Y20: 212-001-001 건축현장도로점용료 | Z20: =MID(C20,8,99) | AA20: =MID(D20,8,99)
E21: =Y21 -> 212-001-003 굴착수반점용료 | I21: 0 | J21: 12900 | K21: 0 | L21: 12900 | M21: 0 | N21: 48000 | O21: 0 | P21: 0 | Q21: =J21-L21-P21 -> 0 | R21: =Q21-S21 -> 0 | S21: 0 | T21: =IFERROR((L21/F21)*100,"") | U21: =IFERROR((L21/J21)*100,"") -> 100 | W21: 212-00 사용료수입 | X21: 212-01 도로사용료 | Y21: 212-001-003 굴착수반점용료 | Z21: =MID(C21,8,99) | AA21: =MID(D21,8,99)
E22: =Y22 -> 212-001-005 도로점용료(공사공단) | I22: 0 | J22: 0 | K22: 0 | L22: 0 | M22: 0 | N22: 0 | O22: 0 | P22: 0 | Q22: =J22-L22-P22 -> 0 | R22: =Q22-S22 -> 0 | S22: 0 | T22: =IFERROR((L22/F22)*100,"") | U22: =IFERROR((L22/J22)*100,"") | W22: 212-00 사용료수입 | X22: 212-01 도로사용료 | Y22: 212-001-005 도로점용료(공사공단) | Z22: =MID(C22,8,99) | AA22: =MID(D22,8,99)
E23: =Y23 -> 212-001-006 기타도로사용료 | I23: 203740 | J23: 5010140 | K23: 258000 | L23: 4711600 | M23: 0 | N23: 0 | O23: 0 | P23: 0 | Q23: =J23-L23-P23 -> 298540 | R23: =Q23-S23 -> 207640 | S23: 90900 | T23: =IFERROR((L23/F23)*100,"") | U23: =IFERROR((L23/J23)*100,"") -> 94.041284 | W23: 212-00 사용료수입 | X23: 212-01 도로사용료 | Y23: 212-001-006 기타도로사용료 | Z23: =MID(C23,8,99) | AA23: =MID(D23,8,99)
E24: =Y24 -> 212-001-010 차량출입시설 | I24: 826500 | J24: 1636700 | K24: 0 | L24: 810200 | M24: 0 | N24: 0 | O24: 0 | P24: 0 | Q24: =J24-L24-P24 -> 826500 | R24: =Q24-S24 -> 0 | S24: 826500 | T24: =IFERROR((L24/F24)*100,"") | U24: =IFERROR((L24/J24)*100,"") -> 49.502047 | W24: 212-00 사용료수입 | X24: 212-01 도로사용료 | Y24: 212-001-010 차량출입시설 | Z24: =MID(C24,8,99) | AA24: =MID(D24,8,99)
E25: =Y25 -> 212-001-012 도로점용료(현수막) | I25: 3553800 | J25: 6901500 | K25: 3553800 | L25: 6901500 | M25: 0 | N25: 0 | O25: 0 | P25: 0 | Q25: =J25-L25-P25 -> 0 | R25: =Q25-S25 -> 0 | S25: 0 | T25: =IFERROR((L25/F25)*100,"") | U25: =IFERROR((L25/J25)*100,"") -> 100 | W25: 212-00 사용료수입 | X25: 212-01 도로사용료 | Y25: 212-001-012 도로점용료(현수막) | Z25: =MID(C25,8,99) | AA25: =MID(D25,8,99)
E26: =Y26 -> 212-001-013 도로점용료(돌출간판) | I26: 0 | J26: 0 | K26: 0 | L26: 0 | M26: 0 | N26: 0 | O26: 0 | P26: 0 | Q26: =J26-L26-P26 -> 0 | R26: =Q26-S26 -> 0 | S26: 0 | T26: =IFERROR((L26/F26)*100,"") | U26: =IFERROR((L26/J26)*100,"") | W26: 212-00 사용료수입 | X26: 212-01 도로사용료 | Y26: 212-001-013 도로점용료(돌출간판) | Z26: =MID(C26,8,99) | AA26: =MID(D26,8,99)
E27: =Y27 -> 212-001-014 사설안내표지판 | I27: 0 | J27: 0 | K27: 0 | L27: 0 | M27: 0 | N27: 0 | O27: 0 | P27: 0 | Q27: =J27-L27-P27 -> 0 | R27: =Q27-S27 -> 0 | S27: 0 | T27: =IFERROR((L27/F27)*100,"") | U27: =IFERROR((L27/J27)*100,"") | W27: 212-00 사용료수입 | X27: 212-01 도로사용료 | Y27: 212-001-014 사설안내표지판 | Z27: =MID(C27,8,99) | AA27: =MID(D27,8,99)
E28: =Y28 -> 212-001-022 매설물점용료 | I28: 10600 | J28: 50600 | K28: 10600 | L28: 50600 | M28: 0 | N28: 44400 | O28: 0 | P28: 0 | Q28: =J28-L28-P28 -> 0 | R28: =Q28-S28 -> 0 | S28: 0 | T28: =IFERROR((L28/F28)*100,"") | U28: =IFERROR((L28/J28)*100,"") -> 100 | W28: 212-00 사용료수입 | X28: 212-01 도로사용료 | Y28: 212-001-022 매설물점용료 | Z28: =MID(C28,8,99) | AA28: =MID(D28,8,99)
D29: =X30 -> 212-09 기타사용료 | F29: 1453862000 | G29: 2010817000 | H29: -556955000 | I29: =SUM(I30:I32) -> 91923545 | J29: =SUM(J30:J32) -> 274187752 | K29: =SUM(K30:K32) -> 86195915 | L29: =SUM(L30:L32) -> 268460122 | M29: =SUM(M30:M32) -> 3429000 | N29: =SUM(N30:N32) -> 8838540 | O29: =SUM(O30:O32) -> 0 | P29: =SUM(P30:P32) -> 0 | ... S29: =SUM(S30:S32) -> 5727630 | T29: =IFERROR((L29/F29)*100,"") -> 18.46531 | U29: =IFERROR((L29/J29)*100,"") -> 97.911055 | X29: v | Z29: =MID(C29,8,99) | AA29: =MID(D29,8,99) -> 기타사용료
E30: =Y30 -> 212-402-003 도시공원점용료 | F30: 0 | H30: =F30 -> 0 | I30: 0 | J30: 46942600 | K30: 0 | L30: 46942600 | M30: 0 | N30: 0 | O30: 0 | P30: 0 | Q30: =J30-L30-P30 -> 0 | R30: =Q30-S30 -> 0 | S30: 0 | T30: =IFERROR((L30/F30)*100,"") | U30: =IFERROR((L30/J30)*100,"") -> 100 | W30: 212-00 사용료수입 | X30: 212-09 기타사용료 | Y30: 212-402-003 도시공원점용료 | Z30: =MID(C30,8,99) | AA30: =MID(D30,8,99)
E31: =Y31 -> 212-420-000 기타사용료 | F31: 0 | H31: =F31 -> 0 | I31: 37480695 | J31: 92328842 | K31: 37480695 | L31: 92328842 | M31: 0 | N31: 0 | O31: 0 | P31: 0 | Q31: =J31-L31-P31 -> 0 | R31: =Q31-S31 -> 0 | S31: 0 | T31: =IFERROR((L31/F31)*100,"") | U31: =IFERROR((L31/J31)*100,"") -> 100 | W31: 212-00 사용료수입 | X31: 212-09 기타사용료 | Y31: 212-420-000 기타사용료 | Z31: =MID(C31,8,99) | AA31: =MID(D31,8,99)
E32: =Y32 -> 212-420-002 기타사용료(공사공단) | F32: 0 | H32: =F32 -> 0 | I32: 54442850 | J32: 134916310 | K32: 48715220 | L32: 129188680 | M32: 3429000 | N32: 8838540 | O32: 0 | P32: 0 | Q32: =J32-L32-P32 -> 5727630 | R32: =Q32-S32 -> 0 | S32: 5727630 | T32: =IFERROR((L32/F32)*100,"") | U32: =IFERROR((L32/J32)*100,"") -> 95.754679 | W32: 212-00 사용료수입 | X32: 212-09 기타사용료 | Y32: 212-420-002 기타사용료(공사공단) | Z32: =MID(C32,8,99) | AA32: =MID(D32,8,99)
C33: =W35 -> 213-00 수수료수입 | F33: =F34+F38+F42+F44 -> 13905956000 | G33: =G34+G38+G42+G44 -> 12822261000 | H33: =H34+H38+H42+H44 -> 1083695000 | I33: =I34+I38+I42+I44 -> 996104946 | J33: =J34+J38+J42+J44 -> 2120452365 | K33: =K34+K38+K42+K44 -> 980100681 | L33: =L34+L38+L42+L44 -> 1982026480 | M33: =M34+M38+M42+M44 -> 87420 | ... S33: =S34+S38+S42+S44 -> 137837545 | T33: =IFERROR((L33/F33)*100,"") -> 14.253076 | U33: =IFERROR((L33/J33)*100,"") -> 93.47187 | W33: v | Z33: =MID(C33,8,99) -> 수수료수입 | AA33: =MID(D33,8,99)
D34: =X35 -> 213-01 증지수입 | F34: 1300000000 | G34: 1350000000 | H34: -50000000 | I34: =SUM(I35:I37) -> 99622290 | J34: =SUM(J35:J37) -> 216840260 | K34: =SUM(K35:K37) -> 98998290 | L34: =SUM(L35:L37) -> 204149360 | M34: =SUM(M35:M37) -> 87420 | N34: =SUM(N35:N37) -> 115020 | O34: =SUM(O35:O37) -> 0 | P34: =SUM(P35:P37) -> 0 | ... S34: =SUM(S35:S37) -> 12590900 | T34: =IFERROR((L34/F34)*100,"") -> 15.703797 | U34: =IFERROR((L34/J34)*100,"") -> 94.147351 | X34: v | Z34: =MID(C34,8,99) | AA34: =MID(D34,8,99) -> 증지수입
E35: =Y35 -> 213-001-000 인증기용증지수입 | F35: 0 | H35: =F35 -> 0 | I35: 90274490 | J35: 199282260 | K35: 89683890 | L35: 186641360 | M35: 87420 | N35: 115020 | O35: 0 | P35: 0 | Q35: =J35-L35-P35 -> 12640900 | R35: =Q35-S35 -> 100000 | S35: 12540900 | T35: =IFERROR((L35/F35)*100,"") | U35: =IFERROR((L35/J35)*100,"") -> 93.656786 | W35: 213-00 수수료수입 | X35: 213-01 증지수입 | Y35: 213-001-000 인증기용증지수입 | Z35: =MID(C35,8,99) | AA35: =MID(D35,8,99)
E36: =Y36 -> 213-001-007 인증기용증지(공사공단) | I36: 6111200 | J36: 11452400 | K36: 6111200 | L36: 11452400 | M36: 0 | N36: 0 | O36: 0 | P36: 0 | Q36: =J36-L36-P36 -> 0 | R36: =Q36-S36 -> 0 | S36: 0 | T36: =IFERROR((L36/F36)*100,"") | U36: =IFERROR((L36/J36)*100,"") -> 100 | W36: 213-00 수수료수입 | X36: 213-01 증지수입 | Y36: 213-001-007 인증기용증지(공사공단) | Z36: =MID(C36,8,99) | AA36: =MID(D36,8,99)
E37: =Y37 -> 213-204-000 무인민원발급기증지수입 | I37: 3236600 | J37: 6105600 | K37: 3203200 | L37: 6055600 | M37: 0 | N37: 0 | O37: 0 | P37: 0 | Q37: =J37-L37-P37 -> 50000 | R37: =Q37-S37 -> 0 | S37: 50000 | T37: =IFERROR((L37/F37)*100,"") | U37: =IFERROR((L37/J37)*100,"") -> 99.18108 | W37: 213-00 수수료수입 | X37: 213-01 증지수입 | Y37: 213-204-000 무인민원발급기증지수입 | Z37: =MID(C37,8,99) | AA37: =MID(D37,8,99)
D38: =X39 -> 213-02 폐기물처리수수료 | F38: 11985000000 | G38: 10806000000 | H38: 1179000000 | I38: =SUM(I39:I41) -> 845700096 | J38: =SUM(J39:J41) -> 1809203537 | K38: =SUM(K39:K41) -> 839797241 | L38: =SUM(L39:L41) -> 1693074662 | M38: =SUM(M39:M41) -> 0 | N38: =SUM(N39:N41) -> 0 | O38: =SUM(O39:O41) -> 0 | P38: =SUM(P39:P41) -> 0 | ... S38: =SUM(S39:S41) -> 115640535 | T38: =IFERROR((L38/F38)*100,"") -> 14.126614 | U38: =IFERROR((L38/J38)*100,"") -> 93.581216 | X38: v | Z38: =MID(C38,8,99) | AA38: =MID(D38,8,99) -> 폐기물처리수수료
E39: =Y39 -> 213-051-002 쓰레기처리봉투판매수입(생활) | F39: 0 | H39: =F39 -> 0 | I39: 752102185 | J39: 1619088465 | K39: 745217600 | L39: 1504182610 | M39: 0 | N39: 0 | O39: 0 | P39: 0 | Q39: =J39-L39-P39 -> 114905855 | R39: =Q39-S39 -> 0 | S39: 114905855 | T39: =IFERROR((L39/F39)*100,"") | U39: =IFERROR((L39/J39)*100,"") -> 92.903053 | W39: 213-00 수수료수입 | X39: 213-02 폐기물처리수수료 | Y39: 213-051-002 쓰레기처리봉투판매수입(생활) | Z39: =MID(C39,8,99) | AA39: =MID(D39,8,99)
E40: =Y40 -> 213-052-000 대형폐기물스티커판매수입 | F40: 0 | H40: =F40 -> 0 | I40: 32279091 | J40: 64727932 | K40: 32279091 | L40: 64727932 | M40: 0 | N40: 0 | O40: 0 | P40: 0 | Q40: =J40-L40-P40 -> 0 | R40: =Q40-S40 -> 0 | S40: 0 | T40: =IFERROR((L40/F40)*100,"") | U40: =IFERROR((L40/J40)*100,"") -> 100 | W40: 213-00 수수료수입 | X40: 213-02 폐기물처리수수료 | Y40: 213-052-000 대형폐기물스티커판매수입 | Z40: =MID(C40,8,99) | AA40: =MID(D40,8,99)
E41: =Y41 -> 213-053-000 음식물쓰레기수거운반처리수수료 | F41: 0 | H41: =F41 -> 0 | I41: 61318820 | J41: 125387140 | K41: 62300550 | L41: 124164120 | M41: 0 | N41: 0 | O41: 0 | P41: 0 | Q41: =J41-L41-P41 -> 1223020 | R41: =Q41-S41 -> 488340 | S41: 734680 | T41: =IFERROR((L41/F41)*100,"") | U41: =IFERROR((L41/J41)*100,"") -> 99.024605 | W41: 213-00 수수료수입 | X41: 213-02 폐기물처리수수료 | Y41: 213-053-000 음식물쓰레기수거운반처리수수료 | Z41: =MID(C41,8,99) | AA41: =MID(D41,8,99)
D42: =X43 -> 213-04 보건의료수수료 | F42: 210672000 | G42: 327290000 | H42: -116618000 | I42: =SUM(I43:I43) -> 15542770 | J42: =SUM(J43:J43) -> 28925050 | K42: =SUM(K43:K43) -> 6501780 | L42: =SUM(L43:L43) -> 19755360 | M42: =SUM(M43:M43) -> 0 | N42: =SUM(N43:N43) -> 0 | O42: =SUM(O43:O43) -> 0 | P42: =SUM(P43:P43) -> 0 | ... S42: =SUM(S43:S43) -> 9169690 | T42: =IFERROR((L42/F42)*100,"") -> 9.3773069 | U42: =IFERROR((L42/J42)*100,"") -> 68.298447 | X42: v | Z42: =MID(C42,8,99) | AA42: =MID(D42,8,99) -> 보건의료수수료
E43: =Y43 -> 213-154-014 의료사업수입 | F43: 0 | H43: =F43 -> 0 | I43: 15542770 | J43: 28925050 | K43: 6501780 | L43: 19755360 | M43: 0 | N43: 0 | O43: 0 | P43: 0 | Q43: =J43-L43-P43 -> 9169690 | R43: =Q43-S43 -> 0 | S43: 9169690 | T43: =IFERROR((L43/F43)*100,"") | U43: =IFERROR((L43/J43)*100,"") -> 68.298447 | W43: 213-00 수수료수입 | X43: 213-04 보건의료수수료 | Y43: 213-154-014 의료사업수입 | Z43: =MID(C43,8,99) | AA43: =MID(D43,8,99)
D44: =X45 -> 213-05 기타수수료 | F44: 410284000 | G44: 338971000 | H44: 71313000 | I44: =SUM(I45:I50) -> 35239790 | J44: =SUM(J45:J50) -> 65483518 | K44: =SUM(K45:K50) -> 34803370 | L44: =SUM(L45:L50) -> 65047098 | M44: =SUM(M45:M50) -> 0 | N44: =SUM(N45:N50) -> 15900 | O44: =SUM(O45:O50) -> 0 | P44: =SUM(P45:P50) -> 0 | ... S44: =SUM(S45:S50) -> 436420 | T44: =IFERROR((L44/F44)*100,"") -> 15.854164 | U44: =IFERROR((L44/J44)*100,"") -> 99.333542 | X44: v | Z44: =MID(C44,8,99) | AA44: =MID(D44,8,99) -> 기타수수료
E45: =Y45 -> 213-201-004 정부24수수료 | F45: 0 | H45: =F45 -> 0 | I45: 2991830 | J45: 6905330 | K45: 2991830 | L45: 6905330 | M45: 0 | N45: 15900 | O45: 0 | P45: 0 | Q45: =J45-L45-P45 -> 0 | R45: =Q45-S45 -> 0 | S45: 0 | T45: =IFERROR((L45/F45)*100,"") | U45: =IFERROR((L45/J45)*100,"") -> 100 | W45: 213-00 수수료수입 | X45: 213-05 기타수수료 | Y45: 213-201-004 정부24수수료 | Z45: =MID(C45,8,99) | AA45: =MID(D45,8,99)
E46: =Y46 -> 213-202-003 인터넷민원수수료 | F46: 0 | H46: =F46 -> 0 | I46: 4000 | J46: 9000 | K46: 4000 | L46: 9000 | M46: 0 | N46: 0 | O46: 0 | P46: 0 | Q46: =J46-L46-P46 -> 0 | R46: =Q46-S46 -> 0 | S46: 0 | T46: =IFERROR((L46/F46)*100,"") | U46: =IFERROR((L46/J46)*100,"") -> 100 | W46: 213-00 수수료수입 | X46: 213-05 기타수수료 | Y46: 213-202-003 인터넷민원수수료 | Z46: =MID(C46,8,99) | AA46: =MID(D46,8,99)
E47: =Y47 -> 213-207-004 광고물안전도검사수수료 | F47: 0 | H47: =F47 -> 0 | I47: 2212060 | J47: 3379410 | K47: 1775640 | L47: 2942990 | M47: 0 | N47: 0 | O47: 0 | P47: 0 | Q47: =J47-L47-P47 -> 436420 | R47: =Q47-S47 -> 0 | S47: 436420 | T47: =IFERROR((L47/F47)*100,"") | U47: =IFERROR((L47/J47)*100,"") -> 87.085911 | W47: 213-00 수수료수입 | X47: 213-05 기타수수료 | Y47: 213-207-004 광고물안전도검사수수료 | Z47: =MID(C47,8,99) | AA47: =MID(D47,8,99)
E48: =Y48 -> 213-205-003 정보공개수수료 | F48: 0 | H48: =F48 -> 0 | I48: 0 | J48: 77538 | K48: 0 | L48: 77538 | M48: 0 | N48: 0 | O48: 0 | P48: 0 | Q48: =J48-L48-P48 -> 0 | R48: =Q48-S48 -> 0 | S48: 0 | T48: =IFERROR((L48/F48)*100,"") | U48: =IFERROR((L48/J48)*100,"") -> 100 | W48: 213-00 수수료수입 | X48: 213-05 기타수수료 | Y48: 213-205-003 정보공개수수료 | Z48: =MID(C48,8,99) | AA48: =MID(D48,8,99)
E49: =Y49 -> 213-208-000 여권발급수수료 | F49: 0 | H49: =F49 -> 0 | I49: 14086900 | J49: 26021240 | K49: 14086900 | L49: 26021240 | M49: 0 | N49: 0 | O49: 0 | P49: 0 | Q49: =J49-L49-P49 -> 0 | R49: =Q49-S49 -> 0 | S49: 0 | T49: =IFERROR((L49/F49)*100,"") | U49: =IFERROR((L49/J49)*100,"") -> 100 | W49: 213-00 수수료수입 | X49: 213-05 기타수수료 | Y49: 213-208-000 여권발급수수료 | Z49: =MID(C49,8,99) | AA49: =MID(D49,8,99)
E50: =Y50 -> 213-213-002 기타수수료(공사공단) | F50: 0 | H50: =F50 -> 0 | I50: 15945000 | J50: 29091000 | K50: 15945000 | L50: 29091000 | M50: 0 | N50: 0 | O50: 0 | P50: 0 | Q50: =J50-L50-P50 -> 0 | R50: =Q50-S50 -> 0 | S50: 0 | T50: =IFERROR((L50/F50)*100,"") | U50: =IFERROR((L50/J50)*100,"") -> 100 | W50: 213-00 수수료수입 | X50: 213-05 기타수수료 | Y50: 213-213-002 기타수수료(공사공단) | Z50: =MID(C50,8,99) | AA50: =MID(D50,8,99)
C51: =W53 -> 214-00 사업수입 | F51: =F52 -> 498048000 | G51: =G52 -> 571737000 | H51: =H52 -> -73689000 | I51: =I52 -> 78634049 | J51: =J52 -> 127795209 | K51: =K52 -> 78634049 | L51: =L52 -> 127795209 | M51: =M52 -> 0 | ... S51: =S52 -> 0 | T51: =IFERROR((L51/F51)*100,"") -> 25.659215 | U51: =IFERROR((L51/J51)*100,"") -> 100 | W51: v | Z51: =MID(C51,8,99) -> 사업수입 | AA51: =MID(D51,8,99)
D52: =X53 -> 214-05 기타사업수입 | F52: 498048000 | G52: 571737000 | H52: -73689000 | I52: =SUM(I53:I53) -> 78634049 | J52: =SUM(J53:J53) -> 127795209 | K52: =SUM(K53:K53) -> 78634049 | L52: =SUM(L53:L53) -> 127795209 | M52: =SUM(M53:M53) -> 0 | N52: =SUM(N53:N53) -> 0 | O52: =SUM(O53:O53) -> 0 | P52: =SUM(P53:P53) -> 0 | ... S52: =SUM(S53:S53) -> 0 | T52: =IFERROR((L52/F52)*100,"") -> 25.659215 | U52: =IFERROR((L52/J52)*100,"") -> 100 | X52: v | Z52: =MID(C52,8,99) | AA52: =MID(D52,8,99) -> 기타사업수입
E53: =Y53 -> 214-206-000 기타사업수입 | F53: 0 | H53: =F53 -> 0 | I53: 78634049 | J53: 127795209 | K53: 78634049 | L53: 127795209 | M53: 0 | N53: 0 | O53: 0 | P53: 0 | Q53: =J53-L53-P53 -> 0 | R53: =Q53-S53 -> 0 | S53: 0 | T53: =IFERROR((L53/F53)*100,"") | U53: =IFERROR((L53/J53)*100,"") -> 100 | W53: 214-00 사업수입 | X53: 214-05 기타사업수입 | Y53: 214-206-000 기타사업수입 | Z53: =MID(C53,8,99) | AA53: =MID(D53,8,99)
C54: =W56 -> 215-00 징수교부금수입 | F54: =F55 -> 9949152000 | G54: =G55 -> 10534204000 | H54: =H55 -> -585052000 | I54: =I55 -> 1204163000 | J54: =J55 -> 1688998000 | K54: =K55 -> 1204163000 | L54: =L55 -> 1688998000 | M54: =M55 -> 0 | ... S54: =S55 -> 0 | T54: =IFERROR((L54/F54)*100,"") -> 16.976301 | U54: =IFERROR((L54/J54)*100,"") -> 100 | W54: v | Z54: =MID(C54,8,99) -> 징수교부금수입 | AA54: =MID(D54,8,99)
D55: =X56 -> 215-01 징수교부금수입 | F55: 9949152000 | G55: 10534204000 | H55: -585052000 | I55: =SUM(I56:I62) -> 1204163000 | J55: =SUM(J56:J62) -> 1688998000 | K55: =SUM(K56:K62) -> 1204163000 | L55: =SUM(L56:L62) -> 1688998000 | M55: =SUM(M56:M62) -> 0 | N55: =SUM(N56:N62) -> 0 | O55: =SUM(O56:O62) -> 0 | P55: =SUM(P56:P62) -> 0 | ... S55: =SUM(S56:S62) -> 0 | T55: =IFERROR((L55/F55)*100,"") -> 16.976301 | U55: =IFERROR((L55/J55)*100,"") -> 100 | X55: v | Z55: =MID(C55,8,99) | AA55: =MID(D55,8,99) -> 징수교부금수입
E56: =Y56 -> 215-002-000 시도세징수교부금 | F56: 0 | H56: =F56 -> 0 | I56: 1204163000 | J56: 1688998000 | K56: 1204163000 | L56: 1688998000 | M56: 0 | N56: 0 | O56: 0 | P56: 0 | Q56: =J56-L56-P56 -> 0 | R56: =Q56-S56 -> 0 | S56: 0 | T56: =IFERROR((L56/F56)*100,"") | U56: =IFERROR((L56/J56)*100,"") -> 100 | W56: 215-00 징수교부금수입 | X56: 215-01 징수교부금수입 | Y56: 215-002-000 시도세징수교부금 | Z56: =MID(C56,8,99) | AA56: =MID(D56,8,99)
E57: =Y57 -> 215-003-000 도로점용료징수교부금 | F57: 0 | H57: =F57 -> 0 | I57: 0 | J57: 0 | K57: 0 | L57: 0 | M57: 0 | N57: 0 | O57: 0 | P57: 0 | Q57: =J57-L57-P57 -> 0 | R57: =Q57-S57 -> 0 | S57: 0 | T57: =IFERROR((L57/F57)*100,"") | U57: =IFERROR((L57/J57)*100,"") | W57: 215-00 징수교부금수입 | X57: 215-01 징수교부금수입 | Y57: 215-003-000 도로점용료징수교부금 | Z57: =MID(C57,8,99) | AA57: =MID(D57,8,99)
E58: =Y58 -> 215-005-000 교통유발부담금징수교부금 | F58: 0 | H58: =F58 -> 0 | I58: 0 | J58: 0 | K58: 0 | L58: 0 | M58: 0 | N58: 0 | O58: 0 | P58: 0 | Q58: =J58-L58-P58 -> 0 | R58: =Q58-S58 -> 0 | S58: 0 | T58: =IFERROR((L58/F58)*100,"") | U58: =IFERROR((L58/J58)*100,"") | W58: 215-00 징수교부금수입 | X58: 215-01 징수교부금수입 | Y58: 215-005-000 교통유발부담금징수교부금 | Z58: =MID(C58,8,99) | AA58: =MID(D58,8,99)
E59: =Y59 -> 215-006-000 환경개선부담금징수교부금 | F59: 0 | H59: =F59 -> 0 | I59: 0 | J59: 0 | K59: 0 | L59: 0 | M59: 0 | N59: 0 | O59: 0 | P59: 0 | Q59: =J59-L59-P59 -> 0 | R59: =Q59-S59 -> 0 | S59: 0 | T59: =IFERROR((L59/F59)*100,"") | U59: =IFERROR((L59/J59)*100,"") | W59: 215-00 징수교부금수입 | X59: 215-01 징수교부금수입 | Y59: 215-006-000 환경개선부담금징수교부금 | Z59: =MID(C59,8,99) | AA59: =MID(D59,8,99)
E60: =Y60 -> 215-013-000 학교용지부담금징수교부금 | F60: 0 | H60: =F60 -> 0 | I60: 0 | J60: 0 | K60: 0 | L60: 0 | M60: 0 | N60: 0 | O60: 0 | P60: 0 | Q60: =J60-L60-P60 -> 0 | R60: =Q60-S60 -> 0 | S60: 0 | T60: =IFERROR((L60/F60)*100,"") | U60: =IFERROR((L60/J60)*100,"") | W60: 215-00 징수교부금수입 | X60: 215-01 징수교부금수입 | Y60: 215-013-000 학교용지부담금징수교부금 | Z60: =MID(C60,8,99) | AA60: =MID(D60,8,99)
E61: =Y61 -> 215-014-000 개발부담금징수교부금 | F61: 0 | H61: =F61 -> 0 | I61: 0 | J61: 0 | K61: 0 | L61: 0 | M61: 0 | N61: 0 | O61: 0 | P61: 0 | Q61: =J61-L61-P61 -> 0 | R61: =Q61-S61 -> 0 | S61: 0 | T61: =IFERROR((L61/F61)*100,"") | U61: =IFERROR((L61/J61)*100,"") | W61: 215-00 징수교부금수입 | X61: 215-01 징수교부금수입 | Y61: 215-014-000 개발부담금징수교부금 | Z61: =MID(C61,8,99) | AA61: =MID(D61,8,99)
E62: =Y62 -> 215-010-000 환경오염배출부과금징수교부금 | F62: 0 | H62: =F62 -> 0 | I62: 0 | J62: 0 | K62: 0 | L62: 0 | M62: 0 | N62: 0 | O62: 0 | P62: 0 | Q62: =J62-L62-P62 -> 0 | R62: =Q62-S62 -> 0 | S62: 0 | T62: =IFERROR((L62/F62)*100,"") | U62: =IFERROR((L62/J62)*100,"") | W62: 215-00 징수교부금수입 | X62: 215-01 징수교부금수입 | Y62: 215-010-000 환경오염배출부과금징수교부금 | Z62: =MID(C62,8,99) | AA62: =MID(D62,8,99)
C63: =W65 -> 216-00 이자수입 | F63: =F64+F66 -> 2249250000 | G63: =G64+G66 -> 2492605000 | H63: =H64+H66 -> -243355000 | I63: =I64+I66 -> 2204149 | J63: =J64+J66 -> 999016468 | K63: =K64+K66 -> 2333001 | L63: =L64+L66 -> 998997890 | M63: =M64+M66 -> 0 | ... S63: =S64+S66 -> 18578 | T63: =IFERROR((L63/F63)*100,"") -> 44.414711 | U63: =IFERROR((L63/J63)*100,"") -> 99.99814 | W63: v | Z63: =MID(C63,8,99) -> 이자수입 | AA63: =MID(D63,8,99)
D64: =X65 -> 216-01 공공예금이자수입 | F64: 2159250000 | G64: 2376833000 | H64: -217583000 | I64: =SUM(I65:I65) -> 0 | J64: =SUM(J65:J65) -> 995270069 | K64: =SUM(K65:K65) -> 0 | L64: =SUM(L65:L65) -> 995270069 | M64: =SUM(M65:M65) -> 0 | N64: =SUM(N65:N65) -> 0 | O64: =SUM(O65:O65) -> 0 | P64: =SUM(P65:P65) -> 0 | ... S64: =SUM(S65:S65) -> 0 | T64: =IFERROR((L64/F64)*100,"") -> 46.093323 | U64: =IFERROR((L64/J64)*100,"") -> 100 | X64: v | Z64: =MID(C64,8,99) | AA64: =MID(D64,8,99) -> 공공예금이자수입
E65: =Y65 -> 216-001-000 공공예금이자수입 | F65: 0 | H65: =F65 -> 0 | I65: 0 | J65: 995270069 | K65: 0 | L65: 995270069 | M65: 0 | N65: 0 | O65: 0 | P65: 0 | Q65: =J65-L65-P65 -> 0 | R65: =Q65-S65 -> 0 | S65: 0 | T65: =IFERROR((L65/F65)*100,"") | U65: =IFERROR((L65/J65)*100,"") -> 100 | W65: 216-00 이자수입 | X65: 216-01 공공예금이자수입 | Y65: 216-001-000 공공예금이자수입 | Z65: =MID(C65,8,99) | AA65: =MID(D65,8,99)
D66: =X67 -> 216-03 기타이자수입 | F66: 90000000 | G66: 115772000 | H66: -25772000 | I66: =SUM(I67:I67) -> 2204149 | J66: =SUM(J67:J67) -> 3746399 | K66: =SUM(K67:K67) -> 2333001 | L66: =SUM(L67:L67) -> 3727821 | M66: =SUM(M67:M67) -> 0 | N66: =SUM(N67:N67) -> 0 | O66: =SUM(O67:O67) -> 0 | P66: =SUM(P67:P67) -> 0 | ... S66: =SUM(S67:S67) -> 18578 | T66: =IFERROR((L66/F66)*100,"") -> 4.1420233 | U66: =IFERROR((L66/J66)*100,"") -> 99.50411 | X66: v | Z66: =MID(C66,8,99) | AA66: =MID(D66,8,99) -> 기타이자수입
E67: =Y67 -> 216-104-000 기타이자수입 | F67: 0 | H67: =F67 -> 0 | I67: 2204149 | J67: 3746399 | K67: 2333001 | L67: 3727821 | M67: 0 | N67: 0 | O67: 0 | P67: 0 | Q67: =J67-L67-P67 -> 18578 | R67: =Q67-S67 -> 0 | S67: 18578 | T67: =IFERROR((L67/F67)*100,"") | U67: =IFERROR((L67/J67)*100,"") -> 99.50411 | W67: 216-00 이자수입 | X67: 216-03 기타이자수입 | Y67: 216-104-000 기타이자수입 | Z67: =MID(C67,8,99) | AA67: =MID(D67,8,99)
B68: 220-00 임시적세외수입 | F68: =F69+F75+F80+F95 -> 16926091000 | G68: =G69+G75+G80+G95 -> 7169638000 | H68: =H69+H75+H80+H95 -> 9756453000 | I68: =I69+I75+I80+I95 -> 40859700 | J68: =J69+J75+J80+J95 -> 25839454922 | K68: =K69+K75+K80+K95 -> 621628466 | L68: =L69+L75+L80+L95 -> 2289621052 | M68: =M69+M75+M80+M95 -> 23824146 | ... S68: =S69+S75+S80+S95 -> 2852653697 | T68: =IFERROR((L68/F68)*100,"") -> 13.52717 | U68: =IFERROR((L68/J68)*100,"") -> 8.8609495 | V68: v | Z68: =MID(C68,8,99) | AA68: =MID(D68,8,99)
C69: =W71 -> 221-00 재산매각수입 | F69: =F70+F73 -> 12076085000 | G69: =G70+G73 -> 3068000000 | H69: =H70+H73 -> 9008085000 | I69: =I70+I73 -> 118841400 | J69: =J70+J73 -> 267051680 | K69: =K70+K73 -> 249520220 | L69: =L70+L73 -> 251273370 | M69: =M70+M73 -> 0 | ... S69: =S70+S73 -> 15778310 | T69: =IFERROR((L69/F69)*100,"") -> 2.0807519 | U69: =IFERROR((L69/J69)*100,"") -> 94.091664 | W69: v | Z69: =MID(C69,8,99) -> 재산매각수입 | AA69: =MID(D69,8,99)
D70: =X71 -> 221-03 공유재산매각수입금 | F70: 12044085000 | G70: 3038000000 | H70: 9006085000 | I70: =SUM(I71:I72) -> 118833400 | J70: =SUM(J71:J72) -> 267043680 | K70: =SUM(K71:K72) -> 249512220 | L70: =SUM(L71:L72) -> 251265370 | M70: =SUM(M71:M72) -> 0 | N70: =SUM(N71:N72) -> 0 | O70: =SUM(O71:O72) -> 0 | P70: =SUM(P71:P72) -> 0 | ... S70: =SUM(S71:S72) -> 15778310 | T70: =IFERROR((L70/F70)*100,"") -> 2.0862139 | U70: =IFERROR((L70/J70)*100,"") -> 94.091487 | X70: v | Z70: =MID(C70,8,99) | AA70: =MID(D70,8,99) -> 공유재산매각수입금
E71: =Y71 -> 221-101-000 공유재산매각수입 | F71: 0 | H71: =F71 -> 0 | I71: 0 | J71: 148210280 | K71: 130678820 | L71: 132431970 | M71: 0 | N71: 0 | O71: 0 | P71: 0 | Q71: =J71-L71-P71 -> 15778310 | R71: =Q71-S71 -> 0 | S71: 15778310 | T71: =IFERROR((L71/F71)*100,"") | U71: =IFERROR((L71/J71)*100,"") -> 89.354106 | W71: 221-00 재산매각수입 | X71: 221-03 공유재산매각수입금 | Y71: 221-101-000 공유재산매각수입 | Z71: =MID(C71,8,99) | AA71: =MID(D71,8,99)
E72: =Y72 -> 221-101-006 시군구유재산매각수입금 | I72: 118833400 | J72: 118833400 | K72: 118833400 | L72: 118833400 | M72: 0 | N72: 0 | O72: 0 | P72: 0 | Q72: =J72-L72-P72 -> 0 | R72: =Q72-S72 -> 0 | S72: 0 | T72: =IFERROR((L72/F72)*100,"") | U72: =IFERROR((L72/J72)*100,"") -> 100 | W72: 221-00 재산매각수입 | X72: 221-03 공유재산매각수입금 | Y72: 221-101-006 시군구유재산매각수입금 | Z72: =MID(C72,8,99) | AA72: =MID(D72,8,99)
D73: =X74 -> 221-04 불용품매각대금 | F73: 32000000 | G73: 30000000 | H73: 2000000 | I73: =SUM(I74) -> 8000 | J73: =SUM(J74) -> 8000 | K73: =SUM(K74) -> 8000 | L73: =SUM(L74) -> 8000 | M73: =SUM(M74) -> 0 | N73: =SUM(N74) -> 0 | O73: =SUM(O74) -> 0 | P73: =SUM(P74) -> 0 | ... S73: =SUM(S74) -> 0 | T73: =IFERROR((L73/F73)*100,"") -> 0.025 | U73: =IFERROR((L73/J73)*100,"") -> 100 | X73: v | Z73: =MID(C73,8,99) | AA73: =MID(D73,8,99) -> 불용품매각대금
E74: =Y74 -> 221-151-000 불용품매각대 | F74: 0 | H74: =F74 -> 0 | I74: 8000 | J74: 8000 | K74: 8000 | L74: 8000 | M74: 0 | N74: 0 | O74: 0 | P74: 0 | Q74: =J74-L74-P74 -> 0 | R74: =Q74-S74 -> 0 | S74: 0 | T74: =IFERROR((L74/F74)*100,"") | U74: =IFERROR((L74/J74)*100,"") -> 100 | W74: 221-00 재산매각수입 | X74: 221-04 불용품매각대금 | Y74: 221-151-000 불용품매각대 | Z74: =MID(C74,8,99) | AA74: =MID(D74,8,99)
C75: =W77 -> 223-00 보조금반환수입 | F75: =F76+F78 -> 1222000000 | G75: =G76+G78 -> 0 | H75: =H76+H78 -> 1222000000 | I75: =I76+I78 -> 112105594 | J75: =J76+J78 -> 192471940 | K75: =K76+K78 -> 152301012 | L75: =L76+L78 -> 192470255 | M75: =M76+M78 -> 15816 | ... S75: =S76+S78 -> 1685 | T75: =IFERROR((L75/F75)*100,"") -> 15.75043 | U75: =IFERROR((L75/J75)*100,"") -> 99.999125 | W75: v | Z75: =MID(C75,8,99) -> 보조금반환수입 | AA75: =MID(D75,8,99)
D76: =X77 -> 223-02 자체보조금등반환수입 | F76: 4000000 | G76: 0 | H76: 4000000 | I76: =SUM(I77:I77) -> 55660063 | J76: =SUM(J77:J77) -> 127735609 | K76: =SUM(K77:K77) -> 95855481 | L76: =SUM(L77:L77) -> 127733924 | M76: =SUM(M77:M77) -> 15816 | N76: =SUM(N77:N77) -> 15816 | O76: =SUM(O77:O77) -> 0 | P76: =SUM(P77:P77) -> 0 | ... S76: =SUM(S77:S77) -> 1685 | T76: =IFERROR((L76/F76)*100,"") -> 3193.3481 | U76: =IFERROR((L76/J76)*100,"") -> 99.998681 | X76: v | Z76: =MID(C76,8,99) | AA76: =MID(D76,8,99) -> 자체보조금등반환수입
E77: =Y77 -> 223-051-000 자체보조금등반환수입 | F77: 0 | H77: =F77 -> 0 | I77: 55660063 | J77: 127735609 | K77: 95855481 | L77: 127733924 | M77: 15816 | N77: 15816 | O77: 0 | P77: 0 | Q77: =J77-L77-P77 -> 1685 | R77: =Q77-S77 -> 0 | S77: 1685 | T77: =IFERROR((L77/F77)*100,"") | U77: =IFERROR((L77/J77)*100,"") -> 99.998681 | W77: 223-00 보조금반환수입 | X77: 223-02 자체보조금등반환수입 | Y77: 223-051-000 자체보조금등반환수입 | Z77: =MID(C77,8,99) | AA77: =MID(D77,8,99)
D78: =X79 -> 223-03 위탁비반환수입 | F78: 1218000000 | G78: 0 | H78: 1218000000 | I78: =SUM(I79:I79) -> 56445531 | J78: =SUM(J79:J79) -> 64736331 | K78: =SUM(K79:K79) -> 56445531 | L78: =SUM(L79:L79) -> 64736331 | M78: =SUM(M79:M79) -> 0 | N78: =SUM(N79:N79) -> 0 | O78: =SUM(O79:O79) -> 0 | P78: =SUM(P79:P79) -> 0 | ... S78: =SUM(S79:S79) -> 0 | T78: =IFERROR((L78/F78)*100,"") -> 5.3149697 | U78: =IFERROR((L78/J78)*100,"") -> 100 | X78: v | Z78: =MID(C78,8,99) | AA78: =MID(D78,8,99) -> 위탁비반환수입
E79: =Y79 -> 223-101-000 위탁비반환수입 | F79: 0 | G79: 0 | H79: =F79 -> 0 | I79: 56445531 | J79: 64736331 | K79: 56445531 | L79: 64736331 | M79: 0 | N79: 0 | O79: 0 | P79: 0 | Q79: =J79-L79-P79 -> 0 | R79: =Q79-S79 -> 0 | S79: 0 | T79: =IFERROR((L79/F79)*100,"") | U79: =IFERROR((L79/J79)*100,"") -> 100 | W79: 223-00 보조금반환수입 | X79: 223-03 위탁비반환수입 | Y79: 223-101-000 위탁비반환수입 | Z79: =MID(C79,8,99) | AA79: =MID(D79,8,99)
C80: =W82 -> 224-00 기타수입 | F80: =F81+F83+F85+F87+F89 -> 1528006000 | G80: =G81+G83+G85+G87+G89 -> 2001638000 | H80: =H81+H83+H85+H87+H89 -> -473632000 | I80: =I81+I83+I85+I87+I89 -> -199268152 | J80: =J81+J83+J85+J87+J89 -> 3884739916 | K80: =K81+K83+K85+K87+K89 -> 156722653 | L80: =L81+L83+L85+L87+L89 -> 1446244834 | M80: =M81+M83+M85+M87+M89 -> 0 | ... S80: =S81+S83+S85+S87+S89 -> 2438495082 | T80: =IFERROR((L80/F80)*100,"") -> 94.649159 | U80: =IFERROR((L80/J80)*100,"") -> 37.228872 | W80: v | Z80: =MID(C80,8,99) -> 기타수입 | AA80: =MID(D80,8,99)
D81: =X82 -> 224-01 체납처분수입 | F81: 0 | G81: 0 | H81: 0 | I81: =SUM(I82:I82) -> 0 | J81: =SUM(J82:J82) -> 0 | K81: =SUM(K82:K82) -> 0 | L81: =SUM(L82:L82) -> 0 | M81: =SUM(M82:M82) -> 0 | N81: =SUM(N82:N82) -> 0 | O81: =SUM(O82:O82) -> 0 | P81: =SUM(P82:P82) -> 0 | ... S81: =SUM(S82:S82) -> 0 | T81: =IFERROR((L81/F81)*100,"") | U81: =IFERROR((L81/J81)*100,"") | X81: v | Z81: =MID(C81,8,99) | AA81: =MID(D81,8,99) -> 체납처분수입
E82: =Y82 -> 224-001-000 체납처분수입 | F82: 0 | H82: =F82 -> 0 | I82: 0 | J82: 0 | K82: 0 | L82: 0 | M82: 0 | N82: 0 | O82: 0 | P82: 0 | Q82: =J82-L82-P82 -> 0 | R82: =Q82-S82 -> 0 | S82: 0 | T82: =IFERROR((L82/F82)*100,"") | U82: =IFERROR((L82/J82)*100,"") | W82: 224-00 기타수입 | X82: 224-01 체납처분수입 | Y82: 224-001-000 체납처분수입 | Z82: =MID(C82,8,99) | AA82: =MID(D82,8,99)
D83: =X84 -> 224-03 기부금수입 | F83: 0 | G83: 0 | H83: 0 | I83: =SUM(I84:I84) -> 0 | J83: =SUM(J84:J84) -> 0 | K83: =SUM(K84:K84) -> 0 | L83: =SUM(L84:L84) -> 0 | M83: =SUM(M84:M84) -> 0 | N83: =SUM(N84:N84) -> 0 | O83: =SUM(O84:O84) -> 0 | P83: =SUM(P84:P84) -> 0 | ... S83: =SUM(S84:S84) -> 0 | T83: =IFERROR((L83/F83)*100,"") | U83: =IFERROR((L83/J83)*100,"") | X83: v | Z83: =MID(C83,8,99) | AA83: =MID(D83,8,99) -> 기부금수입
E84: =Y84 -> 224-102-000 고향사랑기부금 | F84: 0 | H84: =F84 -> 0 | I84: 0 | J84: 0 | K84: 0 | L84: 0 | M84: 0 | N84: 0 | O84: 0 | P84: 0 | Q84: =J84-L84-P84 -> 0 | R84: =Q84-S84 -> 0 | S84: 0 | T84: =IFERROR((L84/F84)*100,"") | U84: =IFERROR((L84/J84)*100,"") | W84: 224-00 기타수입 | X84: 224-03 기부금수입 | Y84: 224-102-000 고향사랑기부금 | Z84: =MID(C84,8,99) | AA84: =MID(D84,8,99)
D85: =X86 -> 224-04 지적재조사조정금 | F85: 434966000 | G85: 1412598000 | H85: -977632000 | I85: =SUM(I86:I86) -> -330930000 | J85: =SUM(J86:J86) -> 2444137370 | K85: =SUM(K86:K86) -> 7273500 | L85: =SUM(L86:L86) -> 7273500 | M85: =SUM(M86:M86) -> 0 | N85: =SUM(N86:N86) -> 0 | O85: =SUM(O86:O86) -> 0 | P85: =SUM(P86:P86) -> 0 | ... S85: =SUM(S86:S86) -> 2436863870 | T85: =IFERROR((L85/F85)*100,"") -> 1.6721997 | U85: =IFERROR((L85/J85)*100,"") -> 0.29758966 | X85: v | Z85: =MID(C85,8,99) | AA85: =MID(D85,8,99) -> 지적재조사조정금
E86: =Y86 -> 224-151-000 지적재조사조정금 | F86: 0 | H86: =F86 -> 0 | I86: -330930000 | J86: 2444137370 | K86: 7273500 | L86: 7273500 | M86: 0 | N86: 0 | O86: 0 | P86: 0 | Q86: =J86-L86-P86 -> 2436863870 | R86: =Q86-S86 -> 0 | S86: 2436863870 | T86: =IFERROR((L86/F86)*100,"") | U86: =IFERROR((L86/J86)*100,"") -> 0.29758966 | W86: 224-00 기타수입 | X86: 224-04 지적재조사조정금 | Y86: 224-151-000 지적재조사조정금 | Z86: =MID(C86,8,99) | AA86: =MID(D86,8,99)
D87: =X88 -> 224-06 위약금 | F87: 0 | G87: 0 | H87: 0 | I87: =SUM(I88:I88) -> 239090 | J87: =SUM(J88:J88) -> 239090 | K87: =SUM(K88:K88) -> 239090 | L87: =SUM(L88:L88) -> 239090 | M87: =SUM(M88:M88) -> 0 | N87: =SUM(N88:N88) -> 0 | O87: =SUM(O88:O88) -> 0 | P87: =SUM(P88:P88) -> 0 | ... S87: =SUM(S88:S88) -> 0 | T87: =IFERROR((L87/F87)*100,"") | U87: =IFERROR((L87/J87)*100,"") -> 100 | X87: v | Z87: =MID(C87,8,99) | AA87: =MID(D87,8,99) -> 위약금
E88: =Y88 -> 224-251-006 지체상금 | F88: 0 | H88: =F88 -> 0 | I88: 239090 | J88: 239090 | K88: 239090 | L88: 239090 | M88: 0 | N88: 0 | O88: 0 | P88: 0 | Q88: =J88-L88-P88 -> 0 | R88: =Q88-S88 -> 0 | S88: 0 | T88: =IFERROR((L88/F88)*100,"") | U88: =IFERROR((L88/J88)*100,"") -> 100 | W88: 224-00 기타수입 | X88: 224-06 위약금 | Y88: 224-251-006 지체상금 | Z88: =MID(C88,8,99) | AA88: =MID(D88,8,99)
D89: =X90 -> 224-07 그외수입 | F89: 1093040000 | G89: 589040000 | H89: 504000000 | I89: =SUM(I90:I94) -> 131422758 | J89: =SUM(J90:J94) -> 1440363456 | K89: =SUM(K90:K94) -> 149210063 | L89: =SUM(L90:L94) -> 1438732244 | M89: =SUM(M90:M94) -> 0 | N89: =SUM(N90:N94) -> 0 | O89: =SUM(O90:O94) -> 0 | P89: =SUM(P90:P94) -> 0 | ... S89: =SUM(S90:S94) -> 1631212 | T89: =IFERROR((L89/F89)*100,"") -> 131.62668 | U89: =IFERROR((L89/J89)*100,"") -> 99.88675 | X89: v | Z89: =MID(C89,8,99) | AA89: =MID(D89,8,99) -> 그외수입
E90: =Y90 -> 224-302-000 소송비용회수수입 | F90: 0 | H90: =F90 -> 0 | I90: 6606510 | J90: 7306510 | K90: 7106510 | L90: 7306510 | M90: 0 | N90: 0 | O90: 0 | P90: 0 | Q90: =J90-L90-P90 -> 0 | R90: =Q90-S90 -> 0 | S90: 0 | T90: =IFERROR((L90/F90)*100,"") | U90: =IFERROR((L90/J90)*100,"") -> 100 | W90: 224-00 기타수입 | X90: 224-07 그외수입 | Y90: 224-302-000 소송비용회수수입 | Z90: =MID(C90,8,99) | AA90: =MID(D90,8,99)
E91: =Y91 -> 224-306-001 징수촉탁금(과태료) | F91: 0 | H91: =F91 -> 0 | I91: 585490 | J91: 635840 | K91: 585490 | L91: 635840 | M91: 0 | N91: 0 | O91: 0 | P91: 0 | Q91: =J91-L91-P91 -> 0 | R91: =Q91-S91 -> 0 | S91: 0 | T91: =IFERROR((L91/F91)*100,"") | U91: =IFERROR((L91/J91)*100,"") -> 100 | W91: 224-00 기타수입 | X91: 224-07 그외수입 | Y91: 224-306-001 징수촉탁금(과태료) | Z91: =MID(C91,8,99) | AA91: =MID(D91,8,99)
E92: =Y92 -> 224-307-000 징수촉탁금(자동차세) | F92: 0 | H92: =F92 -> 0 | I92: 586720 | J92: 1182940 | K92: 586720 | L92: 1182940 | M92: 0 | N92: 0 | O92: 0 | P92: 0 | Q92: =J92-L92-P92 -> 0 | R92: =Q92-S92 -> 0 | S92: 0 | T92: =IFERROR((L92/F92)*100,"") | U92: =IFERROR((L92/J92)*100,"") -> 100 | W92: 224-00 기타수입 | X92: 224-07 그외수입 | Y92: 224-307-000 징수촉탁금(자동차세) | Z92: =MID(C92,8,99) | AA92: =MID(D92,8,99)
E93: =Y93 -> 224-317-000 행정대집행비 | F93: 0 | H93: =F93 -> 0 | I93: 0 | J93: 0 | K93: 0 | L93: 0 | M93: 0 | N93: 0 | O93: 0 | P93: 0 | Q93: =J93-L93-P93 -> 0 | R93: =Q93-S93 -> 0 | S93: 0 | T93: =IFERROR((L93/F93)*100,"") | U93: =IFERROR((L93/J93)*100,"") | W93: 224-00 기타수입 | X93: 224-07 그외수입 | Y93: 224-317-000 행정대집행비 | Z93: =MID(C93,8,99) | AA93: =MID(D93,8,99)
E94: =Y94 -> 224-328-000 그외수입 | F94: 0 | H94: =F94 -> 0 | I94: 123644038 | J94: 1431238166 | K94: 140931343 | L94: 1429606954 | M94: 0 | N94: 0 | O94: 0 | P94: 0 | Q94: =J94-L94-P94 -> 1631212 | R94: =Q94-S94 -> 0 | S94: 1631212 | T94: =IFERROR((L94/F94)*100,"") | U94: =IFERROR((L94/J94)*100,"") -> 99.886028 | W94: 224-00 기타수입 | X94: 224-07 그외수입 | Y94: 224-328-000 그외수입 | Z94: =MID(C94,8,99) | AA94: =MID(D94,8,99)
C95: =W97 -> 225-00 지난년도수입 | F95: =F96 -> 2100000000 | G95: =G96 -> 2100000000 | H95: =H96 -> 0 | I95: =I96 -> 9180858 | J95: =J96 -> 21495191386 | K95: =K96 -> 63084581 | L95: =L96 -> 399632593 | M95: =M96 -> 23808330 | ... S95: =S96 -> 398378620 | T95: =IFERROR((L95/F95)*100,"") -> 19.030123 | U95: =IFERROR((L95/J95)*100,"") -> 1.8591721 | W95: v | Z95: =MID(C95,8,99) -> 지난년도수입 | AA95: =MID(D95,8,99)
D96: =X97 -> 225-01 지난년도수입 | F96: 2100000000 | G96: 2100000000 | H96: 0 | I96: =SUM(I97:I207) -> 9180858 | J96: =SUM(J97:J207) -> 21495191386 | K96: =SUM(K97:K207) -> 63084581 | L96: =SUM(L97:L207) -> 399632593 | M96: =SUM(M97:M207) -> 23808330 | N96: =SUM(N97:N207) -> 24467640 | O96: =SUM(O97:O207) -> 0 | P96: =SUM(P97:P207) -> 177121930 | ... S96: =SUM(S97:S207) -> 398378620 | T96: =IFERROR((L96/F96)*100,"") -> 19.030123 | U96: =IFERROR((L96/J96)*100,"") -> 1.8591721 | X96: v | Z96: =MID(C96,8,99) | AA96: =MID(D96,8,99) -> 지난년도수입
E97: =Y97 -> 211-001-000 국유재산사용료 | I97: 0 | J97: 17159994 | K97: 0 | L97: 0 | M97: 0 | N97: 0 | O97: 0 | P97: 0 | Q97: =J97-L97-P97 -> 17159994 | R97: =Q97-S97 -> 17159994 | S97: 0 | T97: =IFERROR((L97/F97)*100,"") | U97: =IFERROR((L97/J97)*100,"") -> 0 | W97: 225-00 지난년도수입 | X97: 225-01 지난년도수입 | Y97: 211-001-000 국유재산사용료 | Z97: =MID(C97,8,99) | AA97: =MID(D97,8,99)
E98: =Y98 -> 211-002-000 국유재산대부료 | I98: 0 | J98: -1681030 | K98: 0 | L98: 0 | M98: 0 | N98: 0 | O98: 0 | P98: 0 | Q98: =J98-L98-P98 -> -1681030 | R98: =Q98-S98 -> -1681030 | S98: 0 | T98: =IFERROR((L98/F98)*100,"") | U98: =IFERROR((L98/J98)*100,"") -> 0 | W98: 225-00 지난년도수입 | X98: 225-01 지난년도수입 | Y98: 211-002-000 국유재산대부료 | Z98: =MID(C98,8,99) | AA98: =MID(D98,8,99)
E99: =Y99 -> 211-051-006 공유재산사용료 | I99: 0 | J99: 30603710 | K99: 0 | L99: -84520 | M99: 0 | N99: 275380 | O99: 0 | P99: 0 | Q99: =J99-L99-P99 -> 30688230 | R99: =Q99-S99 -> 30688230 | S99: 0 | T99: =IFERROR((L99/F99)*100,"") | U99: =IFERROR((L99/J99)*100,"") -> -0.27617567 | W99: 225-00 지난년도수입 | X99: 225-01 지난년도수입 | Y99: 211-051-006 공유재산사용료 | Z99: =MID(C99,8,99) | AA99: =MID(D99,8,99)
E100: =Y100 -> 211-051-009 시군구재산사용료 | I100: 0 | J100: 1877700 | K100: 0 | L100: 0 | M100: 0 | N100: 0 | O100: 0 | P100: 0 | Q100: =J100-L100-P100 -> 1877700 | R100: =Q100-S100 -> 1877700 | S100: 0 | T100: =IFERROR((L100/F100)*100,"") | U100: =IFERROR((L100/J100)*100,"") -> 0 | W100: 225-00 지난년도수입 | X100: 225-01 지난년도수입 | Y100: 211-051-009 시군구재산사용료 | Z100: =MID(C100,8,99) | AA100: =MID(D100,8,99)
...

Sheet 지난년도수입(세부)
F1: 2024년 2월분 지난년도수입(세부)
Q2: (단위:원)
A3: 과 목 | F3: 징수결정액 | H3: 수 납 액 | J3: 과오납 환부액 | L3: 불납결손액 | N3: 미 수 납 액
A4: 장 | B4: 관 | C4: 항 | D4: 목 | E4: 운영항목 | F4: 본월분 | G4: 누계 | H4: 본월분 | I4: 누계 | J4: 본월분 | K4: 누계 | L4: 본월분 | M4: 누계 | N4: 미수납액 (E=B-C-D) | O4: 체납액 (F=E-G) | P4: 납기미도래 (G) | Q4: 대조정 | R4: 관 | S4: 지난년도수입(세부)용 | T4: 항 | U4: 목 | V4: 장, 관, 항, 목, 운영항목 | W4: 항 | X4: 목
A5: 지 난 년 도 세 입 총 계 (200-00~700-00) | F5: =F6+F210+F217+F226+F239 -> 9180858 | G5: =G6+G210+G217+G226+G239 -> 21495191386 | H5: =H6+H210+H217+H226+H239 -> 63084581 | I5: =I6+I210+I217+I226+I239 -> 399632593 | J5: =J6+J210+J217+J226+J239 -> 23808330 | K5: =K6+K210+K217+K226+K239 -> 24467640 | L5: =L6+L210+L217+L226+L239 -> 0 | M5: =M6+M210+M217+M226+M239 -> 177121930 | ... P5: =P6+P210+P217+P226+P239 -> 398378620 | Q5: =IFERROR((I5/G5)*100,"") -> 1.8591721 | R5: v | W5: =MID(C5,8,99) | X5: =MID(D5,8,99)
A6: 세외수입합계 (200-00) | F6: =F7+F71+F98 -> 9180858 | G6: =G7+G71+G98 -> 21474527946 | H6: =H7+H71+H98 -> 63084581 | I6: =I7+I71+I98 -> 399632593 | J6: =J7+J71+J98 -> 23808330 | K6: =K7+K71+K98 -> 24467640 | L6: =L7+L71+L98 -> 0 | M6: =M7+M71+M98 -> 177121930 | ... P6: =P7+P71+P98 -> 398378620 | Q6: =IFERROR((I6/G6)*100,"") -> 1.860961 | R6: v | W6: =MID(C6,8,99) | X6: =MID(D6,8,99)
B7: 210-00 경상적세외수입 | F7: =F8+F20+F36+F54+F57+F66 -> -5337330 | G7: =G8+G20+G36+G54+G57+G66 -> 381431385 | H7: =H8+H20+H36+H54+H57+H66 -> -4708770 | I7: =I8+I20+I36+I54+I57+I66 -> 161350820 | J7: =J8+J20+J36+J54+J57+J66 -> 5452330 | K7: =K8+K20+K36+K54+K57+K66 -> 5837110 | L7: =L8+L20+L36+L54+L57+L66 -> 0 | M7: =M8+M20+M36+M54+M57+M66 -> 1072200 | ... P7: =P8+P20+P36+P54+P57+P66 -> 0 | Q7: =IFERROR((I7/G7)*100,"") -> 42.301401 | R7: v | W7: =MID(C7,8,99) | X7: =MID(D7,8,99)
C8: =T10 -> 211-00 재산임대수입 | F8: =F9+F12 -> -5452330 | G8: =G9+G12 -> 152299494 | H8: =H9+H12 -> -5452330 | I8: =I9+I12 -> -508360 | J8: =J9+J12 -> 5452330 | K8: =K9+K12 -> 5727710 | L8: =L9+L12 -> 0 | M8: =M9+M12 -> 0 | ... P8: =P9+P12 -> 0 | Q8: =IFERROR((I8/G8)*100,"") -> -0.33378968 | T8: v | W8: =MID(C8,8,99) -> 재산임대수입 | X8: =MID(D8,8,99)
D9: =U10 -> 211-01 국유재산대부료 | F9: =SUM(F10:F11) -> 0 | G9: =SUM(G10:G11) -> 15478964 | H9: =SUM(H10:H11) -> 0 | I9: =SUM(I10:I11) -> 0 | J9: =SUM(J10:J11) -> 0 | K9: =SUM(K10:K11) -> 0 | L9: =SUM(L10:L11) -> 0 | M9: =SUM(M10:M11) -> 0 | ... O9: =SUM(O10:O11) -> 15478964 | P9: =SUM(P10:P10) -> 0 | Q9: =IFERROR((I9/G9)*100,"") -> 0 | U9: v | W9: =MID(C9,8,99) | X9: =MID(D9,8,99) -> 국유재산대부료
E10: =V10 -> 211-001-000 국유재산사용료 | F10: 0 | G10: 17159994 | H10: 0 | I10: 0 | J10: 0 | K10: 0 | L10: 0 | M10: 0 | N10: =G10-I10-M10 -> 17159994 | O10: =N10-P10 -> 17159994 | P10: 0 | Q10: =IFERROR((I10/G10)*100,"") -> 0 | S10: 225-00 지난년도수입 | T10: 211-00 재산임대수입 | U10: 211-01 국유재산대부료 | V10: 211-001-000 국유재산사용료 | W10: =MID(C10,8,99) | X10: =MID(D10,8,99)
E11: =V11 -> 211-002-000 국유재산대부료 | F11: 0 | G11: -1681030 | H11: 0 | I11: 0 | J11: 0 | K11: 0 | L11: 0 | M11: 0 | N11: =G11-I11-M11 -> -1681030 | O11: =N11-P11 -> -1681030 | P11: 0 | Q11: =IFERROR((I11/G11)*100,"") -> 0 | S11: 225-00 지난년도수입 | T11: 211-00 재산임대수입 | U11: 211-01 국유재산대부료 | V11: 211-002-000 국유재산대부료 | W11: =MID(C11,8,99) | X11: =MID(D11,8,99)
D12: =U13 -> 211-02 공유재산임대료 | F12: =SUM(F13:F19) -> -5452330 | G12: =SUM(G13:G19) -> 136820530 | H12: =SUM(H13:H19) -> -5452330 | I12: =SUM(I13:I19) -> -508360 | J12: =SUM(J13:J19) -> 5452330 | K12: =SUM(K13:K19) -> 5727710 | L12: =SUM(L13:L19) -> 0 | M12: =SUM(M13:M19) -> 0 | ... P12: =SUM(P13:P19) -> 0 | Q12: =IFERROR((I12/G12)*100,"") -> -0.37155243 | U12: v | W12: =MID(C12,8,99) | X12: =MID(D12,8,99) -> 공유재산임대료
E13: =V13 -> 211-051-006 공유재산사용료 | F13: 0 | G13: 30603710 | H13: 0 | I13: -84520 | J13: 0 | K13: 275380 | L13: 0 | M13: 0 | N13: =G13-I13-M13 -> 30688230 | O13: =N13-P13 -> 30688230 | P13: 0 | Q13: =IFERROR((I13/G13)*100,"") -> -0.27617567 | S13: 225-00 지난년도수입 | T13: 211-00 재산임대수입 | U13: 211-02 공유재산임대료 | V13: 211-051-006 공유재산사용료 | W13: =MID(C13,8,99) | X13: =MID(D13,8,99)
E14: =V14 -> 211-051-008 행정재산사용료 | F14: 0 | G14: 0 | H14: 0 | I14: 0 | J14: 0 | K14: 0 | L14: 0 | M14: 0 | N14: =G14-I14-M14 -> 0 | O14: =N14-P14 -> 0 | P14: 0 | Q14: =IFERROR((I14/G14)*100,"") | S14: 225-00 지난년도수입 | T14: 211-00 재산임대수입 | U14: 211-02 공유재산임대료 | V14: 211-051-008 행정재산사용료 | W14: =MID(C14,8,99) | X14: =MID(D14,8,99)
E15: =V15 -> 211-051-009 시군구재산사용료 | F15: 0 | G15: 1877700 | H15: 0 | I15: 0 | J15: 0 | K15: 0 | L15: 0 | M15: 0 | N15: =G15-I15-M15 -> 1877700 | O15: =N15-P15 -> 1877700 | P15: 0 | Q15: =IFERROR((I15/G15)*100,"") -> 0 | S15: 225-00 지난년도수입 | T15: 211-00 재산임대수입 | U15: 211-02 공유재산임대료 | V15: 211-051-009 시군구재산사용료 | W15: =MID(C15,8,99) | X15: =MID(D15,8,99)
E16: =V16 -> 211-051-010 시도유재산사용료 | F16: 0 | G16: -1766560 | H16: 0 | I16: 0 | J16: 0 | K16: 0 | L16: 0 | M16: 0 | N16: =G16-I16-M16 -> -1766560 | O16: =N16-P16 -> -1766560 | P16: 0 | Q16: =IFERROR((I16/G16)*100,"") -> 0 | S16: 225-00 지난년도수입 | T16: 211-01 재산임대수입 | U16: 211-02 공유재산임대료 | V16: 211-051-010 시도유재산사용료 | W16: =MID(C16,8,99) | X16: =MID(D16,8,99)
E17: =V17 -> 211-052-001 기타공유재산대부료 | F17: 0 | G17: 106002440 | H17: 0 | I17: 742790 | J17: 0 | K17: 0 | L17: 0 | M17: 0 | N17: =G17-I17-M17 -> 105259650 | O17: =N17-P17 -> 105259650 | P17: 0 | Q17: =IFERROR((I17/G17)*100,"") -> 0.70072915 | S17: 225-00 지난년도수입 | T17: 211-00 재산임대수입 | U17: 211-02 공유재산임대료 | V17: 211-052-001 기타공유재산대부료 | W17: =MID(C17,8,99) | X17: =MID(D17,8,99)
E18: =V18 -> 211-052-034 시도유재산대부료 | F18: 0 | G18: 3122200 | H18: 0 | I18: 1441560 | J18: 0 | K18: 0 | L18: 0 | M18: 0 | N18: =G18-I18-M18 -> 1680640 | O18: =N18-P18 -> 1680640 | P18: 0 | Q18: =IFERROR((I18/G18)*100,"") -> 46.171289 | S18: 225-00 지난년도수입 | T18: 211-00 재산임대수입 | U18: 211-02 공유재산임대료 | V18: 211-052-034 시도유재산대부료 | W18: =MID(C18,8,99) | X18: =MID(D18,8,99)
E19: =V19 -> 211-052-035 시군구재산대부료 | F19: -5452330 | G19: -3018960 | H19: -5452330 | I19: -2608190 | J19: 5452330 | K19: 5452330 | L19: 0 | M19: 0 | N19: =G19-I19-M19 -> -410770 | O19: =N19-P19 -> -410770 | P19: 0 | Q19: =IFERROR((I19/G19)*100,"") -> 86.393659 | S19: 225-00 지난년도수입 | T19: 211-00 재산임대수입 | U19: 211-02 공유재산임대료 | V19: 211-052-035 시군구재산대부료 | W19: =MID(C19,8,99) | X19: =MID(D19,8,99)
C20: =T22 -> 212-00 사용료수입 | F20: =F21+F32 -> 297900 | G20: =G21+G32 -> 73607071 | H20: =H21+H32 -> 482750 | I20: =I21+I32 -> 3710770 | J20: =J21+J32 -> 0 | K20: =K21+K32 -> 0 | L20: =L21+L32 -> 0 | M20: =M21+M32 -> 1072200 | ... P20: =P21+P32 -> 0 | Q20: =IFERROR((I20/G20)*100,"") -> 5.0413227 | T20: v | W20: =MID(C20,8,99) -> 사용료수입 | X20: =MID(D20,8,99)
D21: =U22 -> 212-01 도로사용료 | F21: =SUM(F22:F31) -> 297900 | G21: =SUM(G22:G31) -> 73236651 | H21: =SUM(H22:H31) -> 482750 | I21: =SUM(I22:I31) -> 3710770 | J21: =SUM(J22:J31) -> 0 | K21: =SUM(K22:K31) -> 0 | L21: =SUM(L22:L31) -> 0 | M21: =SUM(M22:M31) -> 1072200 | ... P21: =SUM(P22:P31) -> 0 | Q21: =IFERROR((I21/G21)*100,"") -> 5.066821 | U21: v | W21: =MID(C21,8,99) | X21: =MID(D21,8,99) -> 도로사용료
E22: =V22 -> 212-001-001 건축현장도로점용료 | F22: 15930 | G22: 7933220 | H22: 154600 | I22: 1274710 | J22: 0 | K22: 0 | L22: 0 | M22: 0 | N22: =G22-I22-M22 -> 6658510 | O22: =N22-P22 -> 6658510 | P22: 0 | Q22: =IFERROR((I22/G22)*100,"") -> 16.068003 | S22: 225-00 지난년도수입 | T22: 212-00 사용료수입 | U22: 212-01 도로사용료 | V22: 212-001-001 건축현장도로점용료 | W22: =MID(C22,8,99) | X22: =MID(D22,8,99)
E23: =V23 -> 212-001-003 굴착수반점용료 | F23: 0 | G23: -9210 | H23: 0 | I23: 0 | J23: 0 | K23: 0 | L23: 0 | M23: 0 | N23: =G23-I23-M23 -> -9210 | O23: =N23-P23 -> -9210 | P23: 0 | Q23: =IFERROR((I23/G23)*100,"") -> 0 | S23: 225-00 지난년도수입 | T23: 212-00 사용료수입 | U23: 212-01 도로사용료 | V23: 212-001-003 굴착수반점용료 | W23: =MID(C23,8,99) | X23: =MID(D23,8,99)
E24: =V24 -> 212-001-005 도로점용료(공사공단) | F24: 0 | G24: 0 | H24: 0 | I24: 0 | J24: 0 | K24: 0 | L24: 0 | M24: 0 | N24: =G24-I24-M24 -> 0 | O24: =N24-P24 -> 0 | P24: 0 | Q24: =IFERROR((I24/G24)*100,"") | S24: 225-00 지난년도수입 | T24: 212-00 사용료수입 | U24: 212-01 도로사용료 | V24: 212-001-005 도로점용료(공사공단) | W24: =MID(C24,8,99) | X24: =MID(D24,8,99)
E25: =V25 -> 212-001-006 기타도로사용료 | F25: 0 | G25: 2088640 | H25: 225260 | I25: 1464460 | J25: 0 | K25: 0 | L25: 0 | M25: 0 | N25: =G25-I25-M25 -> 624180 | O25: =N25-P25 -> 624180 | P25: 0 | Q25: =IFERROR((I25/G25)*100,"") -> 70.115482 | S25: 225-00 지난년도수입 | T25: 212-00 사용료수입 | U25: 212-01 도로사용료 | V25: 212-001-006 기타도로사용료 | W25: =MID(C25,8,99) | X25: =MID(D25,8,99)
E26: =V26 -> 212-001-010 차량출입시설 | F26: 251180 | G26: 54776800 | H26: 6690 | I26: 664950 | J26: 0 | K26: 0 | L26: 0 | M26: 65920 | N26: =G26-I26-M26 -> 54045930 | O26: =N26-P26 -> 54045930 | P26: 0 | Q26: =IFERROR((I26/G26)*100,"") -> 1.2139263 | S26: 225-00 지난년도수입 | T26: 212-00 사용료수입 | U26: 212-01 도로사용료 | V26: 212-001-010 차량출입시설 | W26: =MID(C26,8,99) | X26: =MID(D26,8,99)
E27: =V27 -> 212-001-011 도로점용료(도로부지) | F27: 0 | G27: -76250 | H27: 0 | I27: 0 | J27: 0 | K27: 0 | L27: 0 | M27: 0 | N27: =G27-I27-M27 -> -76250 | O27: =N27-P27 -> -76250 | P27: 0 | Q27: =IFERROR((I27/G27)*100,"") -> 0 | S27: 225-00 지난년도수입 | T27: 212-00 사용료수입 | U27: 212-01 도로사용료 | V27: 212-001-011 도로점용료(도로부지) | W27: =MID(C27,8,99) | X27: =MID(D27,8,99)
E28: =V28 -> 212-001-012 도로점용료(현수막) | F28: 0 | G28: -14700 | H28: 0 | I28: 0 | J28: 0 | K28: 0 | L28: 0 | M28: 0 | N28: =G28-I28-M28 -> -14700 | O28: =N28-P28 -> -14700 | P28: 0 | Q28: =IFERROR((I28/G28)*100,"") -> 0 | S28: 225-00 지난년도수입 | T28: 212-00 사용료수입 | U28: 212-01 도로사용료 | V28: 212-001-012 도로점용료(현수막) | W28: =MID(C28,8,99) | X28: =MID(D28,8,99)
E29: =V29 -> 212-001-013 도로점용료(돌출간판) | F29: 30030 | G29: 8382021 | H29: 96200 | I29: 306650 | J29: 0 | K29: 0 | L29: 0 | M29: 1006280 | N29: =G29-I29-M29 -> 7069091 | O29: =N29-P29 -> 7069091 | P29: 0 | Q29: =IFERROR((I29/G29)*100,"") -> 3.6584256 | S29: 225-00 지난년도수입 | T29: 212-00 사용료수입 | U29: 212-01 도로사용료 | V29: 212-001-013 도로점용료(돌출간판) | W29: =MID(C29,8,99) | X29: =MID(D29,8,99)
E30: =V30 -> 212-001-014 사설안내표지판 | F30: 760 | G30: 157430 | H30: 0 | I30: 0 | J30: 0 | K30: 0 | L30: 0 | M30: 0 | N30: =G30-I30-M30 -> 157430 | O30: =N30-P30 -> 157430 | P30: 0 | Q30: =IFERROR((I30/G30)*100,"") -> 0 | S30: 225-00 지난년도수입 | T30: 212-00 사용료수입 | U30: 212-01 도로사용료 | V30: 212-001-014 사설안내표지판 | W30: =MID(C30,8,99) | X30: =MID(D30,8,99)
E31: =V31 -> 212-001-022 매설물점용료 | F31: 0 | G31: -1300 | H31: 0 | I31: 0 | J31: 0 | K31: 0 | L31: 0 | M31: 0 | N31: =G31-I31-M31 -> -1300 | O31: =N31-P31 -> -1300 | P31: 0 | Q31: =IFERROR((I31/G31)*100,"") -> 0 | S31: 225-00 지난년도수입 | T31: 212-00 사용료수입 | U31: 212-01 도로사용료 | V31: 212-001-022 매설물점용료 | W31: =MID(C31,8,99) | X31: =MID(D31,8,99)
D32: =U33 -> 212-09 기타사용료 | F32: =SUM(F33:F35) -> 0 | G32: =SUM(G33:G35) -> 370420 | H32: =SUM(H33:H35) -> 0 | I32: =SUM(I33:I35) -> 0 | J32: =SUM(J33:J35) -> 0 | K32: =SUM(K33:K35) -> 0 | L32: =SUM(L33:L35) -> 0 | M32: =SUM(M33:M35) -> 0 | ... P32: =SUM(P33:P35) -> 0 | Q32: =IFERROR((I32/G32)*100,"") -> 0 | U32: v | W32: =MID(C32,8,99) | X32: =MID(D32,8,99) -> 기타사용료
E33: =V33 -> 212-402-003 도시공원점용료 | F33: 0 | G33: 0 | H33: 0 | I33: 0 | J33: 0 | K33: 0 | L33: 0 | M33: 0 | N33: =G33-I33-M33 -> 0 | O33: =N33-P33 -> 0 | P33: 0 | Q33: =IFERROR((I33/G33)*100,"") | S33: 225-00 지난년도수입 | T33: 212-00 사용료수입 | U33: 212-09 기타사용료 | V33: 212-402-003 도시공원점용료 | W33: =MID(C33,8,99) | X33: =MID(D33,8,99)
E34: =V34 -> 212-420-000 기타사용료 | F34: 0 | G34: 370420 | H34: 0 | I34: 0 | J34: 0 | K34: 0 | L34: 0 | M34: 0 | N34: =G34-I34-M34 -> 370420 | O34: =N34-P34 -> 370420 | P34: 0 | Q34: =IFERROR((I34/G34)*100,"") -> 0 | S34: 225-00 지난년도수입 | T34: 212-00 사용료수입 | U34: 212-09 기타사용료 | V34: 212-420-000 기타사용료 | W34: =MID(C34,8,99) | X34: =MID(D34,8,99)
E35: =V35 -> 212-420-002 기타사용료(공사공단) | F35: 0 | G35: 0 | H35: 0 | I35: 0 | J35: 0 | K35: 0 | L35: 0 | M35: 0 | N35: =G35-I35-M35 -> 0 | O35: =N35-P35 -> 0 | P35: 0 | Q35: =IFERROR((I35/G35)*100,"") | S35: 225-00 지난년도수입 | T35: 212-00 사용료수입 | U35: 212-09 기타사용료 | V35: 212-420-002 기타사용료(공사공단) | W35: =MID(C35,8,99) | X35: =MID(D35,8,99)
C36: =T38 -> 213-00 수수료수입 | F36: =F37+F41+F45+F47 -> -182900 | G36: =G37+G41+G45+G47 -> 155524820 | H36: =H37+H41+H45+H47 -> 260810 | I36: =I37+I41+I45+I47 -> 158148410 | J36: =J37+J41+J45+J47 -> 0 | K36: =K37+K41+K45+K47 -> 109400 | L36: =L37+L41+L45+L47 -> 0 | M36: =M37+M41+M45+M47 -> 0 | ... P36: =P37+P41+P45+P47 -> 0 | Q36: =IFERROR((I36/G36)*100,"") -> 101.68693 | T36: v | W36: =MID(C36,8,99) -> 수수료수입 | X36: =MID(D36,8,99)
D37: =U38 -> 213-01 증지수입 | F37: =SUM(F38:F40) -> -182900 | G37: =SUM(G38:G40) -> 14400000 | H37: =SUM(H38:H40) -> 0 | I37: =SUM(I38:I40) -> 14400200 | J37: =SUM(J38:J40) -> 0 | K37: =SUM(K38:K40) -> 109400 | L37: =SUM(L38:L40) -> 0 | M37: =SUM(M38:M40) -> 0 | ... P37: =SUM(P38:P40) -> 0 | Q37: =IFERROR((I37/G37)*100,"") -> 100.00139 | U37: v | W37: =MID(C37,8,99) | X37: =MID(D37,8,99) -> 증지수입
E38: =V38 -> 213-001-000 인증기용증지수입 | F38: -182900 | G38: 14380000 | H38: 0 | I38: 14380200 | J38: 0 | K38: 109400 | L38: 0 | M38: 0 | N38: =G38-I38-M38 -> -200 | O38: =N38-P38 -> -200 | P38: 0 | Q38: =IFERROR((I38/G38)*100,"") -> 100.00139 | S38: 225-00 지난년도수입 | T38: 213-00 수수료수입 | U38: 213-01 증지수입 | V38: 213-001-000 인증기용증지수입 | W38: =MID(C38,8,99) | X38: =MID(D38,8,99)
E39: =V39 -> 213-001-007 인증기용증지(공사공단) | F39: 0 | G39: 0 | H39: 0 | I39: 0 | J39: 0 | K39: 0 | L39: 0 | M39: 0 | N39: =G39-I39-M39 -> 0 | O39: =N39-P39 -> 0 | P39: 0 | Q39: =IFERROR((I39/G39)*100,"") | S39: 225-00 지난년도수입 | T39: 213-00 수수료수입 | U39: 213-01 증지수입 | V39: 213-001-007 인증기용증지(공사공단) | W39: =MID(C39,8,99) | X39: =MID(D39,8,99)
E40: =V40 -> 213-204-000 무인민원발급기증지수입 | F40: 0 | G40: 20000 | H40: 0 | I40: 20000 | J40: 0 | K40: 0 | L40: 0 | M40: 0 | N40: =G40-I40-M40 -> 0 | O40: =N40-P40 -> 0 | P40: 0 | Q40: =IFERROR((I40/G40)*100,"") -> 100 | S40: 225-00 지난년도수입 | T40: 213-00 수수료수입 | U40: 213-01 증지수입 | V40: 213-204-000 무인민원발급기증지수입 | W40: =MID(C40,8,99) | X40: =MID(D40,8,99)
D41: =U42 -> 213-02 폐기물처리수수료 | F41: =SUM(F42:F44) -> 0 | G41: =SUM(G42:G44) -> 140987430 | H41: =SUM(H42:H44) -> 260810 | I41: =SUM(I42:I44) -> 143572270 | J41: =SUM(J42:J44) -> 0 | K41: =SUM(K42:K44) -> 0 | L41: =SUM(L42:L44) -> 0 | M41: =SUM(M42:M44) -> 0 | ... P41: =SUM(P42:P44) -> 0 | Q41: =IFERROR((I41/G41)*100,"") -> 101.83338 | U41: v | W41: =MID(C41,8,99) | X41: =MID(D41,8,99) -> 폐기물처리수수료
E42: =V42 -> 213-051-002 쓰레기처리봉투판매수입(생활) | F42: 0 | G42: 142816760 | H42: 0 | I42: 142816760 | J42: 0 | K42: 0 | L42: 0 | M42: 0 | N42: =G42-I42-M42 -> 0 | O42: =N42-P42 -> 0 | P42: 0 | Q42: =IFERROR((I42/G42)*100,"") -> 100 | S42: 225-00 지난년도수입 | T42: 213-00 수수료수입 | U42: 213-02 폐기물처리수수료 | V42: 213-051-002 쓰레기처리봉투판매수입(생활) | W42: =MID(C42,8,99) | X42: =MID(D42,8,99)
E43: =V43 -> 213-052-000 대형폐기물스티커판매수입 | F43: 0 | G43: 0 | H43: 0 | I43: 0 | J43: 0 | K43: 0 | L43: 0 | M43: 0 | N43: =G43-I43-M43 -> 0 | O43: =N43-P43 -> 0 | P43: 0 | Q43: =IFERROR((I43/G43)*100,"") | S43: 225-00 지난년도수입 | T43: 213-00 수수료수입 | U43: 213-02 폐기물처리수수료 | V43: 213-052-000 대형폐기물스티커판매수입 | W43: =MID(C43,8,99) | X43: =MID(D43,8,99)
E44: =V44 -> 213-053-000 음식물쓰레기수거운반처리수수료 | F44: 0 | G44: -1829330 | H44: 260810 | I44: 755510 | J44: 0 | K44: 0 | L44: 0 | M44: 0 | N44: =G44-I44-M44 -> -2584840 | O44: =N44-P44 -> -2584840 | P44: 0 | Q44: =IFERROR((I44/G44)*100,"") -> -41.29982 | S44: 225-00 지난년도수입 | T44: 213-00 수수료수입 | U44: 213-02 폐기물처리수수료 | V44: 213-053-000 음식물쓰레기수거운반처리수수료 | W44: =MID(C44,8,99) | X44: =MID(D44,8,99)
D45: =U46 -> 213-04 보건의료수수료 | F45: =SUM(F46:F46) -> 0 | G45: =SUM(G46:G46) -> 175940 | H45: =SUM(H46:H46) -> 0 | I45: =SUM(I46:I46) -> 175940 | J45: =SUM(J46:J46) -> 0 | K45: =SUM(K46:K46) -> 0 | L45: =SUM(L46:L46) -> 0 | M45: =SUM(M46:M46) -> 0 | ... P45: =SUM(P46:P46) -> 0 | Q45: =IFERROR((I45/G45)*100,"") -> 100 | U45: v | W45: =MID(C45,8,99) | X45: =MID(D45,8,99) -> 보건의료수수료
E46: =V46 -> 213-154-014 의료사업수입 | F46: 0 | G46: 175940 | H46: 0 | I46: 175940 | J46: 0 | K46: 0 | L46: 0 | M46: 0 | N46: =G46-I46-M46 -> 0 | O46: =N46-P46 -> 0 | P46: 0 | Q46: =IFERROR((I46/G46)*100,"") -> 100 | S46: 225-00 지난년도수입 | T46: 213-00 수수료수입 | U46: 213-04 보건의료수수료 | V46: 213-154-014 의료사업수입 | W46: =MID(C46,8,99) | X46: =MID(D46,8,99)
D47: =U48 -> 213-05 기타수수료 | F47: =SUM(F48:F53) -> 0 | G47: =SUM(G48:G53) -> -38550 | H47: =SUM(H48:H53) -> 0 | I47: =SUM(I48:I53) -> 0 | J47: =SUM(J48:J53) -> 0 | K47: =SUM(K48:K53) -> 0 | L47: =SUM(L48:L53) -> 0 | M47: =SUM(M48:M53) -> 0 | ... P47: =SUM(P48:P53) -> 0 | Q47: =IFERROR((I47/G47)*100,"") -> 0 | U47: v | W47: =MID(C47,8,99) | X47: =MID(D47,8,99) -> 기타수수료
E48: =V48 -> 213-201-004 정부24수수료 | F48: 0 | G48: 0 | H48: 0 | I48: 0 | J48: 0 | K48: 0 | L48: 0 | M48: 0 | N48: =G48-I48-M48 -> 0 | O48: =N48-P48 -> 0 | P48: 0 | Q48: =IFERROR((I48/G48)*100,"") | S48: 225-00 지난년도수입 | T48: 213-00 수수료수입 | U48: 213-05 기타수수료 | V48: 213-201-004 정부24수수료 | W48: =MID(C48,8,99) | X48: =MID(D48,8,99)
E49: =V49 -> 213-202-003 인터넷민원수수료 | F49: 0 | G49: 0 | H49: 0 | I49: 0 | J49: 0 | K49: 0 | L49: 0 | M49: 0 | N49: =G49-I49-M49 -> 0 | O49: =N49-P49 -> 0 | P49: 0 | Q49: =IFERROR((I49/G49)*100,"") | S49: 225-00 지난년도수입 | T49: 213-00 수수료수입 | U49: 213-05 기타수수료 | V49: 213-202-003 인터넷민원수수료 | W49: =MID(C49,8,99) | X49: =MID(D49,8,99)
E50: =V50 -> 213-207-004 광고물안전도검사수수료 | F50: 0 | G50: -38550 | H50: 0 | I50: 0 | J50: 0 | K50: 0 | L50: 0 | M50: 0 | N50: =G50-I50-M50 -> -38550 | O50: =N50-P50 -> -38550 | P50: 0 | Q50: =IFERROR((I50/G50)*100,"") -> 0 | S50: 225-00 지난년도수입 | T50: 213-00 수수료수입 | U50: 213-05 기타수수료 | V50: 213-207-004 광고물안전도검사수수료 | W50: =MID(C50,8,99) | X50: =MID(D50,8,99)
E51: =V51 -> 213-205-003 정보공개수수료 | F51: 0 | G51: 0 | H51: 0 | I51: 0 | J51: 0 | K51: 0 | L51: 0 | M51: 0 | N51: =G51-I51-M51 -> 0 | O51: =N51-P51 -> 0 | P51: 0 | Q51: =IFERROR((I51/G51)*100,"") | S51: 225-00 지난년도수입 | T51: 213-00 수수료수입 | U51: 213-05 기타수수료 | V51: 213-205-003 정보공개수수료 | W51: =MID(C51,8,99) | X51: =MID(D51,8,99)
E52: =V52 -> 213-208-000 여권발급수수료 | F52: 0 | G52: 0 | H52: 0 | I52: 0 | J52: 0 | K52: 0 | L52: 0 | M52: 0 | N52: =G52-I52-M52 -> 0 | O52: =N52-P52 -> 0 | P52: 0 | Q52: =IFERROR((I52/G52)*100,"") | S52: 225-00 지난년도수입 | T52: 213-00 수수료수입 | U52: 213-05 기타수수료 | V52: 213-208-000 여권발급수수료 | W52: =MID(C52,8,99) | X52: =MID(D52,8,99)
E53: =V53 -> 213-213-002 기타수수료(공사공단) | F53: 0 | G53: 0 | H53: 0 | I53: 0 | J53: 0 | K53: 0 | L53: 0 | M53: 0 | N53: =G53-I53-M53 -> 0 | O53: =N53-P53 -> 0 | P53: 0 | Q53: =IFERROR((I53/G53)*100,"") | S53: 225-00 지난년도수입 | T53: 213-00 수수료수입 | U53: 213-05 기타수수료 | V53: 213-213-002 기타수수료(공사공단) | W53: =MID(C53,8,99) | X53: =MID(D53,8,99)
C54: =T56 -> 214-00 사업수입 | F54: =F55 -> 0 | G54: =G55 -> 0 | H54: =H55 -> 0 | I54: =I55 -> 0 | J54: =J55 -> 0 | K54: =K55 -> 0 | L54: =L55 -> 0 | M54: =M55 -> 0 | ... P54: =P55 -> 0 | Q54: =IFERROR((I54/G54)*100,"") | T54: v | W54: =MID(C54,8,99) -> 사업수입 | X54: =MID(D54,8,99)
D55: =U56 -> 214-05 기타사업수입 | F55: =SUM(F56:F56) -> 0 | G55: =SUM(G56:G56) -> 0 | H55: =SUM(H56:H56) -> 0 | I55: =SUM(I56:I56) -> 0 | J55: =SUM(J56:J56) -> 0 | K55: =SUM(K56:K56) -> 0 | L55: =SUM(L56:L56) -> 0 | M55: =SUM(M56:M56) -> 0 | ... P55: =SUM(P56:P56) -> 0 | Q55: =IFERROR((I55/G55)*100,"") | U55: v | W55: =MID(C55,8,99) | X55: =MID(D55,8,99) -> 기타사업수입
E56: =V56 -> 214-206-000 기타사업수입 | F56: 0 | G56: 0 | H56: 0 | I56: 0 | J56: 0 | K56: 0 | L56: 0 | M56: 0 | N56: =G56-I56-M56 -> 0 | O56: =N56-P56 -> 0 | P56: 0 | Q56: =IFERROR((I56/G56)*100,"") | S56: 225-00 지난년도수입 | T56: 214-00 사업수입 | U56: 214-05 기타사업수입 | V56: 214-206-000 기타사업수입 | W56: =MID(C56,8,99) | X56: =MID(D56,8,99)
C57: =T59 -> 215-00 징수교부금수입 | F57: =F58 -> 0 | G57: =G58 -> 0 | H57: =H58 -> 0 | I57: =I58 -> 0 | J57: =J58 -> 0 | K57: =K58 -> 0 | L57: =L58 -> 0 | M57: =M58 -> 0 | ... P57: =P58 -> 0 | Q57: =IFERROR((I57/G57)*100,"") | T57: v | W57: =MID(C57,8,99) -> 징수교부금수입 | X57: =MID(D57,8,99)
D58: =U59 -> 215-01 징수교부금수입 | F58: =SUM(F59:F65) -> 0 | G58: =SUM(G59:G65) -> 0 | H58: =SUM(H59:H65) -> 0 | I58: =SUM(I59:I65) -> 0 | J58: =SUM(J59:J65) -> 0 | K58: =SUM(K59:K65) -> 0 | L58: =SUM(L59:L65) -> 0 | M58: =SUM(M59:M65) -> 0 | ... P58: =SUM(P59:P65) -> 0 | Q58: =IFERROR((I58/G58)*100,"") | U58: v | W58: =MID(C58,8,99) | X58: =MID(D58,8,99) -> 징수교부금수입
E59: =V59 -> 215-002-000 시도세징수교부금 | F59: 0 | G59: 0 | H59: 0 | I59: 0 | J59: 0 | K59: 0 | L59: 0 | M59: 0 | N59: =G59-I59-M59 -> 0 | O59: =N59-P59 -> 0 | P59: 0 | Q59: =IFERROR((I59/G59)*100,"") | S59: 225-00 지난년도수입 | T59: 215-00 징수교부금수입 | U59: 215-01 징수교부금수입 | V59: 215-002-000 시도세징수교부금 | W59: =MID(C59,8,99) | X59: =MID(D59,8,99)
E60: =V60 -> 215-003-000 도로점용료징수교부금 | F60: 0 | G60: 0 | H60: 0 | I60: 0 | J60: 0 | K60: 0 | L60: 0 | M60: 0 | N60: =G60-I60-M60 -> 0 | O60: =N60-P60 -> 0 | P60: 0 | Q60: =IFERROR((I60/G60)*100,"") | S60: 225-00 지난년도수입 | T60: 215-00 징수교부금수입 | U60: 215-01 징수교부금수입 | V60: 215-003-000 도로점용료징수교부금 | W60: =MID(C60,8,99) | X60: =MID(D60,8,99)
E61: =V61 -> 215-005-000 교통유발부담금징수교부금 | F61: 0 | G61: 0 | H61: 0 | I61: 0 | J61: 0 | K61: 0 | L61: 0 | M61: 0 | N61: =G61-I61-M61 -> 0 | O61: =N61-P61 -> 0 | P61: 0 | Q61: =IFERROR((I61/G61)*100,"") | S61: 225-00 지난년도수입 | T61: 215-00 징수교부금수입 | U61: 215-01 징수교부금수입 | V61: 215-005-000 교통유발부담금징수교부금 | W61: =MID(C61,8,99) | X61: =MID(D61,8,99)
E62: =V62 -> 215-006-000 환경개선부담금징수교부금 | F62: 0 | G62: 0 | H62: 0 | I62: 0 | J62: 0 | K62: 0 | L62: 0 | M62: 0 | N62: =G62-I62-M62 -> 0 | O62: =N62-P62 -> 0 | P62: 0 | Q62: =IFERROR((I62/G62)*100,"") | S62: 225-00 지난년도수입 | T62: 215-00 징수교부금수입 | U62: 215-01 징수교부금수입 | V62: 215-006-000 환경개선부담금징수교부금 | W62: =MID(C62,8,99) | X62: =MID(D62,8,99)
E63: =V63 -> 215-013-000 학교용지부담금징수교부금 | F63: 0 | G63: 0 | H63: 0 | I63: 0 | J63: 0 | K63: 0 | L63: 0 | M63: 0 | N63: =G63-I63-M63 -> 0 | O63: =N63-P63 -> 0 | P63: 0 | Q63: =IFERROR((I63/G63)*100,"") | S63: 225-00 지난년도수입 | T63: 215-00 징수교부금수입 | U63: 215-01 징수교부금수입 | V63: 215-013-000 학교용지부담금징수교부금 | W63: =MID(C63,8,99) | X63: =MID(D63,8,99)
E64: =V64 -> 215-014-000 개발부담금징수교부금 | F64: 0 | G64: 0 | H64: 0 | I64: 0 | J64: 0 | K64: 0 | L64: 0 | M64: 0 | N64: =G64-I64-M64 -> 0 | O64: =N64-P64 -> 0 | P64: 0 | Q64: =IFERROR((I64/G64)*100,"") | S64: 225-00 지난년도수입 | T64: 215-00 징수교부금수입 | U64: 215-01 징수교부금수입 | V64: 215-014-000 개발부담금징수교부금 | W64: =MID(C64,8,99) | X64: =MID(D64,8,99)
E65: =V65 -> 215-010-000 환경오염배출부과금징수교부금 | F65: 0 | G65: 0 | H65: 0 | I65: 0 | J65: 0 | K65: 0 | L65: 0 | M65: 0 | N65: =G65-I65-M65 -> 0 | O65: =N65-P65 -> 0 | P65: 0 | Q65: =IFERROR((I65/G65)*100,"") | S65: 225-00 지난년도수입 | T65: 215-00 징수교부금수입 | U65: 215-01 징수교부금수입 | V65: 215-010-000 환경오염배출부과금징수교부금 | W65: =MID(C65,8,99) | X65: =MID(D65,8,99)
C66: =T68 -> 216-00 이자수입 | F66: =F67+F69 -> 0 | G66: =G67+G69 -> 0 | H66: =H67+H69 -> 0 | I66: =I67+I69 -> 0 | J66: =J67+J69 -> 0 | K66: =K67+K69 -> 0 | L66: =L67+L69 -> 0 | M66: =M67+M69 -> 0 | ... P66: =P67+P69 -> 0 | Q66: =IFERROR((I66/G66)*100,"") | T66: v | W66: =MID(C66,8,99) -> 이자수입 | X66: =MID(D66,8,99)
D67: =U68 -> 216-01 공공예금이자수입 | F67: =SUM(F68:F68) -> 0 | G67: =SUM(G68:G68) -> 0 | H67: =SUM(H68:H68) -> 0 | I67: =SUM(I68:I68) -> 0 | J67: =SUM(J68:J68) -> 0 | K67: =SUM(K68:K68) -> 0 | L67: =SUM(L68:L68) -> 0 | M67: =SUM(M68:M68) -> 0 | ... P67: =SUM(P68:P68) -> 0 | Q67: =IFERROR((I67/G67)*100,"") | U67: v | W67: =MID(C67,8,99) | X67: =MID(D67,8,99) -> 공공예금이자수입
E68: =V68 -> 216-001-000 공공예금이자수입 | F68: 0 | G68: 0 | H68: 0 | I68: 0 | J68: 0 | K68: 0 | L68: 0 | M68: 0 | N68: =G68-I68-M68 -> 0 | O68: =N68-P68 -> 0 | P68: 0 | Q68: =IFERROR((I68/G68)*100,"") | S68: 225-00 지난년도수입 | T68: 216-00 이자수입 | U68: 216-01 공공예금이자수입 | V68: 216-001-000 공공예금이자수입 | W68: =MID(C68,8,99) | X68: =MID(D68,8,99)
D69: =U70 -> 216-03 기타이자수입 | F69: =SUM(F70:F70) -> 0 | G69: =SUM(G70:G70) -> 0 | H69: =SUM(H70:H70) -> 0 | I69: =SUM(I70:I70) -> 0 | J69: =SUM(J70:J70) -> 0 | K69: =SUM(K70:K70) -> 0 | L69: =SUM(L70:L70) -> 0 | M69: =SUM(M70:M70) -> 0 | ... P69: =SUM(P70:P70) -> 0 | Q69: =IFERROR((I69/G69)*100,"") | U69: v | W69: =MID(C69,8,99) | X69: =MID(D69,8,99) -> 기타이자수입
E70: =V70 -> 216-104-000 기타이자수입 | F70: 0 | G70: 0 | H70: 0 | I70: 0 | J70: 0 | K70: 0 | L70: 0 | M70: 0 | N70: =G70-I70-M70 -> 0 | O70: =N70-P70 -> 0 | P70: 0 | Q70: =IFERROR((I70/G70)*100,"") | S70: 225-00 지난년도수입 | T70: 216-00 이자수입 | U70: 216-03 기타이자수입 | V70: 216-104-000 기타이자수입 | W70: =MID(C70,8,99) | X70: =MID(D70,8,99)
B71: 220-00 임시적세외수입 | F71: =F72+F78+F83 -> -351142 | G71: =G72+G78+G83 -> 3357988602 | H71: =H72+H78+H83 -> 22490001 | I71: =I72+I78+I83 -> 40434813 | J71: =J72+J78+J83 -> 18820 | K71: =K72+K78+K83 -> 18820 | L71: =L72+L78+L83 -> 0 | M71: =M72+M78+M83 -> 0 | ... P71: =P72+P78+P83 -> 50529670 | Q71: =IFERROR((I71/G71)*100,"") -> 1.2041379 | R71: v | W71: =MID(C71,8,99) | X71: =MID(D71,8,99)
C72: =T74 -> 221-00 재산매각수입 | F72: =F73+F76 -> 0 | G72: =G73+G76 -> 243629770 | H72: =H73+H76 -> 0 | I72: =I73+I76 -> 0 | J72: =J73+J76 -> 0 | K72: =K73+K76 -> 0 | L72: =L73+L76 -> 0 | M72: =M73+M76 -> 0 | ... P72: =P73+P76 -> 0 | Q72: =IFERROR((I72/G72)*100,"") -> 0 | T72: v | W72: =MID(C72,8,99) -> 재산매각수입 | X72: =MID(D72,8,99)
D73: =U74 -> 221-03 공유재산매각수입금 | F73: =SUM(F74:F75) -> 0 | G73: =SUM(G74:G75) -> 243629770 | H73: =SUM(H74:H75) -> 0 | I73: =SUM(I74:I75) -> 0 | J73: =SUM(J74:J75) -> 0 | K73: =SUM(K74:K75) -> 0 | L73: =SUM(L74:L75) -> 0 | M73: =SUM(M74:M75) -> 0 | ... P73: =SUM(P74:P75) -> 0 | Q73: =IFERROR((I73/G73)*100,"") -> 0 | U73: v | W73: =MID(C73,8,99) | X73: =MID(D73,8,99) -> 공유재산매각수입금
E74: =V74 -> 221-101-000 공유재산매각수입 | F74: 0 | G74: 0 | H74: 0 | I74: 0 | J74: 0 | K74: 0 | L74: 0 | M74: 0 | N74: =G74-I74-M74 -> 0 | O74: =N74-P74 -> 0 | P74: 0 | Q74: =IFERROR((I74/G74)*100,"") | S74: 225-00 지난년도수입 | T74: 221-00 재산매각수입 | U74: 221-03 공유재산매각수입금 | V74: 221-101-000 공유재산매각수입 | W74: =MID(C74,8,99) | X74: =MID(D74,8,99)
E75: =V75 -> 221-101-006 시군구유재산매각수입금 | F75: 0 | G75: 243629770 | H75: 0 | I75: 0 | J75: 0 | K75: 0 | L75: 0 | M75: 0 | N75: =G75-I75-M75 -> 243629770 | O75: =N75-P75 -> 243629770 | P75: 0 | Q75: =IFERROR((I75/G75)*100,"") -> 0 | S75: 225-00 지난년도수입 | T75: 221-00 재산매각수입 | U75: 221-03 공유재산매각수입금 | V75: 221-101-006 시군구유재산매각수입금 | W75: =MID(C75,8,99) | X75: =MID(D75,8,99)
D76: =U77 -> 221-04 불용품매각대금 | F76: =SUM(F77) -> 0 | G76: =SUM(G77) -> 0 | H76: =SUM(H77) -> 0 | I76: =SUM(I77) -> 0 | J76: =SUM(J77) -> 0 | K76: =SUM(K77) -> 0 | L76: =SUM(L77) -> 0 | M76: =SUM(M77) -> 0 | ... P76: =SUM(P77) -> 0 | Q76: =IFERROR((I76/G76)*100,"") | U76: v | W76: =MID(C76,8,99) | X76: =MID(D76,8,99) -> 불용품매각대금
E77: =V77 -> 221-151-000 불용품매각대 | F77: 0 | G77: 0 | H77: 0 | I77: 0 | J77: 0 | K77: 0 | L77: 0 | M77: 0 | N77: =G77-I77-M77 -> 0 | O77: =N77-P77 -> 0 | P77: 0 | Q77: =IFERROR((I77/G77)*100,"") | S77: 225-00 지난년도수입 | T77: 221-00 재산매각수입 | U77: 221-04 불용품매각대금 | V77: 221-151-000 불용품매각대 | W77: =MID(C77,8,99) | X77: =MID(D77,8,99)
C78: =T80 -> 223-00 보조금반환수입 | F78: =F79+F81 -> 0 | G78: =G79+G81 -> 6194140 | H78: =H79+H81 -> 0 | I78: =I79+I81 -> 0 | J78: =J79+J81 -> 0 | K78: =K79+K81 -> 0 | L78: =L79+L81 -> 0 | M78: =M79+M81 -> 0 | ... P78: =P79+P81 -> 0 | Q78: =IFERROR((I78/G78)*100,"") -> 0 | T78: v | W78: =MID(C78,8,99) -> 보조금반환수입 | X78: =MID(D78,8,99)
D79: =U80 -> 223-02 자체보조금등반환수입 | F79: =SUM(F80:F80) -> 0 | G79: =SUM(G80:G80) -> 6194140 | H79: =SUM(H80:H80) -> 0 | I79: =SUM(I80:I80) -> 0 | J79: =SUM(J80:J80) -> 0 | K79: =SUM(K80:K80) -> 0 | L79: =SUM(L80:L80) -> 0 | M79: =SUM(M80:M80) -> 0 | ... P79: =SUM(P80:P80) -> 0 | Q79: =IFERROR((I79/G79)*100,"") -> 0 | U79: v | W79: =MID(C79,8,99) | X79: =MID(D79,8,99) -> 자체보조금등반환수입
E80: =V80 -> 223-051-000 자체보조금등반환수입 | F80: 0 | G80: 6194140 | H80: 0 | I80: 0 | J80: 0 | K80: 0 | L80: 0 | M80: 0 | N80: =G80-I80-M80 -> 6194140 | O80: =N80-P80 -> 6194140 | P80: 0 | Q80: =IFERROR((I80/G80)*100,"") -> 0 | S80: 225-00 지난년도수입 | T80: 223-00 보조금반환수입 | U80: 223-02 자체보조금등반환수입 | V80: 223-051-000 자체보조금등반환수입 | W80: =MID(C80,8,99) | X80: =MID(D80,8,99)
D81: =U82 -> 223-03 위탁비반환수입 | F81: =SUM(F82:F82) -> 0 | G81: =SUM(G82:G82) -> 0 | H81: =SUM(H82:H82) -> 0 | I81: =SUM(I82:I82) -> 0 | J81: =SUM(J82:J82) -> 0 | K81: =SUM(K82:K82) -> 0 | L81: =SUM(L82:L82) -> 0 | M81: =SUM(M82:M82) -> 0 | ... P81: =SUM(P82:P82) -> 0 | Q81: =IFERROR((I81/G81)*100,"") | U81: v | W81: =MID(C81,8,99) | X81: =MID(D81,8,99) -> 위탁비반환수입
E82: =V82 -> 223-101-000 위탁비반환수입 | F82: 0 | G82: 0 | H82: 0 | I82: 0 | J82: 0 | K82: 0 | L82: 0 | M82: 0 | N82: =G82-I82-M82 -> 0 | O82: =N82-P82 -> 0 | P82: 0 | Q82: =IFERROR((I82/G82)*100,"") | S82: 225-00 지난년도수입 | T82: 223-00 보조금반환수입 | U82: 223-03 위탁비반환수입 | V82: 223-101-000 위탁비반환수입 | W82: =MID(C82,8,99) | X82: =MID(D82,8,99)
C83: =T85 -> 224-00 기타수입 | F83: =F84+F86+F88+F90+F92 -> -351142 | G83: =G84+G86+G88+G90+G92 -> 3108164692 | H83: =H84+H86+H88+H90+H92 -> 22490001 | I83: =I84+I86+I88+I90+I92 -> 40434813 | J83: =J84+J86+J88+J90+J92 -> 18820 | K83: =K84+K86+K88+K90+K92 -> 18820 | L83: =L84+L86+L88+L90+L92 -> 0 | M83: =M84+M86+M88+M90+M92 -> 0 | ... P83: =P84+P86+P88+P90+P92 -> 50529670 | Q83: =IFERROR((I83/G83)*100,"") -> 1.3009225 | T83: v | W83: =MID(C83,8,99) -> 기타수입 | X83: =MID(D83,8,99)
D84: =U85 -> 224-01 체납처분수입 | F84: =SUM(F85:F85) -> 0 | G84: =SUM(G85:G85) -> 0 | H84: =SUM(H85:H85) -> 0 | I84: =SUM(I85:I85) -> 0 | J84: =SUM(J85:J85) -> 0 | K84: =SUM(K85:K85) -> 0 | L84: =SUM(L85:L85) -> 0 | M84: =SUM(M85:M85) -> 0 | ... P84: =SUM(P85:P85) -> 0 | Q84: =IFERROR((I84/G84)*100,"") | U84: v | W84: =MID(C84,8,99) | X84: =MID(D84,8,99) -> 체납처분수입
E85: =V85 -> 224-001-000 체납처분수입 | F85: 0 | G85: 0 | H85: 0 | I85: 0 | J85: 0 | K85: 0 | L85: 0 | M85: 0 | N85: =G85-I85-M85 -> 0 | O85: =N85-P85 -> 0 | P85: 0 | Q85: =IFERROR((I85/G85)*100,"") | S85: 225-00 지난년도수입 | T85: 224-00 기타수입 | U85: 224-01 체납처분수입 | V85: 224-001-000 체납처분수입 | W85: =MID(C85,8,99) | X85: =MID(D85,8,99)
D86: =U87 -> 224-03 기부금수입 | F86: =SUM(F87:F87) -> 0 | G86: =SUM(G87:G87) -> 0 | H86: =SUM(H87:H87) -> 0 | I86: =SUM(I87:I87) -> 0 | J86: =SUM(J87:J87) -> 0 | K86: =SUM(K87:K87) -> 0 | L86: =SUM(L87:L87) -> 0 | M86: =SUM(M87:M87) -> 0 | ... P86: =SUM(P87:P87) -> 0 | Q86: =IFERROR((I86/G86)*100,"") | U86: v | W86: =MID(C86,8,99) | X86: =MID(D86,8,99) -> 기부금수입
E87: =V87 -> 224-102-000 고향사랑기부금 | F87: 0 | G87: 0 | H87: 0 | I87: 0 | J87: 0 | K87: 0 | L87: 0 | M87: 0 | N87: =G87-I87-M87 -> 0 | O87: =N87-P87 -> 0 | P87: 0 | Q87: =IFERROR((I87/G87)*100,"") | S87: 225-00 지난년도수입 | T87: 224-00 기타수입 | U87: 224-03 기부금수입 | V87: 224-102-000 고향사랑기부금 | W87: =MID(C87,8,99) | X87: =MID(D87,8,99)
D88: =U89 -> 224-04 지적재조사조정금 | F88: =SUM(F89:F89) -> 0 | G88: =SUM(G89:G89) -> 2793104240 | H88: =SUM(H89:H89) -> 21834000 | I88: =SUM(I89:I89) -> 39729670 | J88: =SUM(J89:J89) -> 0 | K88: =SUM(K89:K89) -> 0 | L88: =SUM(L89:L89) -> 0 | M88: =SUM(M89:M89) -> 0 | ... P88: =SUM(P89:P89) -> 50529670 | Q88: =IFERROR((I88/G88)*100,"") -> 1.4224199 | U88: v | W88: =MID(C88,8,99) | X88: =MID(D88,8,99) -> 지적재조사조정금
E89: =V89 -> 224-151-000 지적재조사조정금 | F89: 0 | G89: 2793104240 | H89: 21834000 | I89: 39729670 | J89: 0 | K89: 0 | L89: 0 | M89: 0 | N89: =G89-I89-M89 -> 2753374570 | O89: =N89-P89 -> 2702844900 | P89: 50529670 | Q89: =IFERROR((I89/G89)*100,"") -> 1.4224199 | S89: 225-00 지난년도수입 | T89: 224-00 기타수입 | U89: 224-04 지적재조사조정금 | V89: 224-151-000 지적재조사조정금 | W89: =MID(C89,8,99) | X89: =MID(D89,8,99)
D90: =U91 -> 224-06 위약금 | F90: =SUM(F91:F91) -> 0 | G90: =SUM(G91:G91) -> 56747280 | H90: =SUM(H91:H91) -> 0 | I90: =SUM(I91:I91) -> 0 | J90: =SUM(J91:J91) -> 0 | K90: =SUM(K91:K91) -> 0 | L90: =SUM(L91:L91) -> 0 | M90: =SUM(M91:M91) -> 0 | ... P90: =SUM(P91:P91) -> 0 | Q90: =IFERROR((I90/G90)*100,"") -> 0 | U90: v | W90: =MID(C90,8,99) | X90: =MID(D90,8,99) -> 위약금
E91: =V91 -> 224-251-006 지체상금 | F91: 0 | G91: 56747280 | H91: 0 | I91: 0 | J91: 0 | K91: 0 | L91: 0 | M91: 0 | N91: =G91-I91-M91 -> 56747280 | O91: =N91-P91 -> 56747280 | P91: 0 | Q91: =IFERROR((I91/G91)*100,"") -> 0 | S91: 225-00 지난년도수입 | T91: 224-00 기타수입 | U91: 224-06 위약금 | V91: 224-251-006 지체상금 | W91: =MID(C91,8,99) | X91: =MID(D91,8,99)
D92: =U93 -> 224-07 그외수입 | F92: =SUM(F93:F97) -> -351142 | G92: =SUM(G93:G97) -> 258313172 | H92: =SUM(H93:H97) -> 656001 | I92: =SUM(I93:I97) -> 705143 | J92: =SUM(J93:J97) -> 18820 | K92: =SUM(K93:K97) -> 18820 | L92: =SUM(L93:L97) -> 0 | M92: =SUM(M93:M97) -> 0 | ... P92: =SUM(P93:P97) -> 0 | Q92: =IFERROR((I92/G92)*100,"") -> 0.27297989 | U92: v | W92: =MID(C92,8,99) | X92: =MID(D92,8,99) -> 그외수입
E93: =V93 -> 224-302-000 소송비용회수수입 | F93: 0 | G93: 59690497 | H93: 0 | I93: 0 | J93: 0 | K93: 0 | L93: 0 | M93: 0 | N93: =G93-I93-M93 -> 59690497 | O93: =N93-P93 -> 59690497 | P93: 0 | Q93: =IFERROR((I93/G93)*100,"") -> 0 | S93: 225-00 지난년도수입 | T93: 224-00 기타수입 | U93: 224-07 그외수입 | V93: 224-302-000 소송비용회수수입 | W93: =MID(C93,8,99) | X93: =MID(D93,8,99)
E94: =V94 -> 224-306-001 징수촉탁금(과태료) | F94: 0 | G94: 0 | H94: 0 | I94: 0 | J94: 0 | K94: 0 | L94: 0 | M94: 0 | N94: =G94-I94-M94 -> 0 | O94: =N94-P94 -> 0 | P94: 0 | Q94: =IFERROR((I94/G94)*100,"") | S94: 225-00 지난년도수입 | T94: 224-00 기타수입 | U94: 224-07 그외수입 | V94: 224-306-001 징수촉탁금(과태료) | W94: =MID(C94,8,99) | X94: =MID(D94,8,99)
E95: =V95 -> 224-307-000 징수촉탁금(자동차세) | F95: 0 | G95: 0 | H95: 0 | I95: 0 | J95: 0 | K95: 0 | L95: 0 | M95: 0 | N95: =G95-I95-M95 -> 0 | O95: =N95-P95 -> 0 | P95: 0 | Q95: =IFERROR((I95/G95)*100,"") | S95: 225-00 지난년도수입 | T95: 224-00 기타수입 | U95: 224-07 그외수입 | V95: 224-307-000 징수촉탁금(자동차세) | W95: =MID(C95,8,99) | X95: =MID(D95,8,99)
E96: =V96 -> 224-317-000 행정대집행비 | F96: 0 | G96: 0 | H96: 0 | I96: 0 | J96: 0 | K96: 0 | L96: 0 | M96: 0 | N96: =G96-I96-M96 -> 0 | O96: =N96-P96 -> 0 | P96: 0 | Q96: =IFERROR((I96/G96)*100,"") | S96: 225-00 지난년도수입 | T96: 224-00 기타수입 | U96: 224-07 그외수입 | V96: 224-317-000 행정대집행비 | W96: =MID(C96,8,99) | X96: =MID(D96,8,99)
E97: =V97 -> 224-328-000 그외수입 | F97: -351142 | G97: 198622675 | H97: 656001 | I97: 705143 | J97: 18820 | K97: 18820 | L97: 0 | M97: 0 | N97: =G97-I97-M97 -> 197917532 | O97: =N97-P97 -> 197917532 | P97: 0 | Q97: =IFERROR((I97/G97)*100,"") -> 0.35501636 | S97: 225-00 지난년도수입 | T97: 224-00 기타수입 | U97: 224-07 그외수입 | V97: 224-328-000 그외수입 | W97: =MID(C97,8,99) | X97: =MID(D97,8,99)
B98: 230-00 지방행정제재 부과금 | F98: =F99+F114+F119+F128+F189+F194+F204 -> 14869330 | G98: =G99+G114+G119+G128+G189+G194+G204 -> 17735107959 | H98: =H99+H114+H119+H128+H189+H194+H204 -> 45303350 | I98: =I99+I114+I119+I128+I189+I194+I204 -> 197846960 | J98: =J99+J114+J119+J128+J189+J194+J204 -> 18337180 | K98: =K99+K114+K119+K128+K189+K194+K204 -> 18611710 | L98: =L99+L114+L119+L128+L189+L194+L204 -> 0 | M98: =M99+M114+M119+M128+M189+M194+M204 -> 176049730 | ... P98: =P99+P114+P119+P128+P189+P194+P204 -> 347848950 | Q98: =IFERROR((I98/G98)*100,"") -> 1.1155667 | R98: v | W98: =MID(C98,8,99) | X98: =MID(D98,8,99)
C99: =T101 -> 231-00 과징금 | F99: =F100 -> -1169100 | G99: =G100 -> 3355629253 | H99: =H100 -> 0 | I99: =I100 -> 13469100 | J99: =J100 -> 0 | K99: =K100 -> 0 | L99: =L100 -> 0 | M99: =M100 -> 0 | ... P99: =P100 -> 261418950 | Q99: =IFERROR((I99/G99)*100,"") -> 0.4013882 | T99: v | W99: =MID(C99,8,99) -> 과징금 | X99: =MID(D99,8,99)
D100: =U101 -> 231-01 과징금 | F100: =SUM(F101:F113) -> -1169100 | G100: =SUM(G101:G113) -> 3355629253 | H100: =SUM(H101:H113) -> 0 | I100: =SUM(I101:I113) -> 13469100 | J100: =SUM(J101:J113) -> 0 | K100: =SUM(K101:K113) -> 0 | L100: =SUM(L101:L113) -> 0 | M100: =SUM(M101:M113) -> 0 | ... P100: =SUM(P101:P113) -> 261418950 | Q100: =IFERROR((I100/G100)*100,"") -> 0.4013882 | U100: v | W100: =MID(C100,8,99) | X100: =MID(D100,8,99) -> 과징금
...

Sheet 시군구특별징수보고서(부서+운영항목)
A1: 부서 | B1: 장 | C1: 관 | D1: 항 | E1: 장, 관, 항, 목, 운영항목 | F1: 예산액 | G1: 징수결정액(본월분) | H1: 징수결정액(누계) | I1: 수납액(본월분) | J1: 수납액(누계) | K1: 과오납환부액(본월분) | L1: 과오납환부액(누계) | M1: 결손액(본월분) | N1: 결손액(누계) | O1: 미수납액 | P1: 대목표(%) | Q1: 대조정(%) | R1: 납기구분
A2: 자치안전행정국 총무과 (전체) | B2: 200-00 세외수입 | C2: 220-00 임시적세외수입 | D2: 224-00 기타수입 | E2: 224-102-000 고향사랑기부금 | F2: 0 | G2: 0 | H2: 2491200 | I2: 2270300 | J2: 4761500 | K2: 0 | L2: 100000 | M2: 0 | N2: 0 | O2: -2270300 | P2: 0% | Q2: 191.13% | R2: 납기후
A3: 자치안전행정국 총무과 (전체) | B3: 200-00 세외수입 | C3: 220-00 임시적세외수입 | D3: 225-00 지난년도수입 | E3: 224-102-000 고향사랑기부금 | F3: 0 | G3: 0 | H3: 3600000 | I3: 0 | J3: 3600000 | K3: 0 | L3: 0 | M3: 0 | N3: 0 | O3: 0 | P3: 0% | Q3: 100% | R3: 납기후
A4: 복지환경국 기초생활보장과 (전체) | B4: 200-00 세외수입 | C4: 210-00 경상적세외수입 | D4: 216-00 이자수입 | E4: 216-001-000 공공예금이자수입 | F4: 0 | G4: 0 | H4: 3190120 | I4: 0 | J4: 0 | K4: 0 | L4: 0 | M4: 0 | N4: 0 | O4: 3190120 | P4: 0% | Q4: 0% | R4: 납기후
A5: 복지환경국 기초생활보장과 (전체) | B5: 200-00 세외수입 | C5: 220-00 임시적세외수입 | D5: 224-00 기타수입 | E5: 224-328-000 그외수입 | F5: 0 | G5: 2274410 | H5: 10136820 | I5: 0 | J5: 1093660 | K5: 0 | L5: 0 | M5: 0 | N5: 0 | O5: 9043160 | P5: 0% | Q5: 10.79% | R5: 납기후
A6: 복지환경국 기초생활보장과 (전체) | B6: 200-00 세외수입 | C6: 220-00 임시적세외수입 | D6: 225-00 지난년도수입 | E6: 216-001-000 공공예금이자수입 | F6: 0 | G6: 0 | H6: 6975260 | I6: 0 | J6: 0 | K6: 0 | L6: 0 | M6: 0 | N6: 0 | O6: 6975260 | P6: 0% | Q6: 0% | R6: 납기후
A7: 복지환경국 기초생활보장과 (전체) | B7: 200-00 세외수입 | C7: 220-00 임시적세외수입 | D7: 225-00 지난년도수입 | E7: 216-104-000 기타이자수입 | F7: 0 | G7: 0 | H7: 1552980 | I7: 0 | J7: 0 | K7: 0 | L7: 0 | M7: 0 | N7: 0 | O7: 1552980 | P7: 0% | Q7: 0% | R7: 납기후
A8: 복지환경국 기초생활보장과 (전체) | B8: 200-00 세외수입 | C8: 220-00 임시적세외수입 | D8: 225-00 지난년도수입 | E8: 224-328-000 그외수입 | F8: 0 | G8: 0 | H8: 303951180 | I8: 0 | J8: 330000 | K8: 0 | L8: 0 | M8: 0 | N8: 0 | O8: 303621180 | P8: 0% | Q8: .11% | R8: 납기후
A9: 복지환경국 기초생활보장과 (전체) | B9: 200-00 세외수입 | C9: 220-00 임시적세외수입 | D9: 225-00 지난년도수입 | E9: 511-001-000 국고보조금 | F9: 0 | G9: 0 | H9: 2477242000 | I9: 0 | J9: 0 | K9: 0 | L9: 0 | M9: 0 | N9: 0 | O9: 2477242000 | P9: 0% | Q9: 0% | R9: 납기후
A10: 복지환경국 기초생활보장과 (전체) | B10: 200-00 세외수입 | C10: 220-00 임시적세외수입 | D10: 225-00 지난년도수입 | E10: 521-001-000 시도비보조금 | F10: 0 | G10: 0 | H10: 595362000 | I10: 0 | J10: 0 | K10: 0 | L10: 0 | M10: 0 | N10: 0 | O10: 595362000 | P10: 0% | Q10: 0% | R10: 납기후
A11: 복지환경국 자원순환과 (전체) | B11: 200-00 세외수입 | C11: 210-00 경상적세외수입 | D11: 216-00 이자수입 | E11: 216-001-000 공공예금이자수입 | F11: 0 | G11: 0 | H11: 64702640 | I11: 0 | J11: 64702640 | K11: 0 | L11: 0 | M11: 0 | N11: 0 | O11: 0 | P11: 0% | Q11: 100% | R11: 납기후
A12: 복지환경국 자원순환과 (전체) | B12: 200-00 세외수입 | C12: 230-00 지방행정제제부과금등 | D12: 236-00 부담금 | E12: 236-031-006 폐기물처리시설설치부담금 | F12: 0 | G12: 0 | H12: 794807860 | I12: 794807860 | J12: 794807860 | K12: 0 | L12: 0 | M12: 0 | N12: 0 | O12: 0 | P12: 0% | Q12: 100% | R12: 납기후
A13: 건설교통국 교통정책과 (전체) | B13: 200-00 세외수입 | C13: 220-00 임시적세외수입 | D13: 225-00 지난년도수입 | E13: 212-351-000 주차장사용료 | F13: 0 | G13: 0 | H13: -11774500 | I13: 0 | J13: 0 | K13: 0 | L13: 0 | M13: 0 | N13: 0 | O13: -11774500 | P13: 0% | Q13: 0% | R13: 납기후
... A31: 건설교통국 교통행정과 (전체) | B31: 500-00 보조금 | C31: 520-00 시도비보조금등 | D31: 521-00 시도비보조금등 | E31: 521-001-000 시도비보조금 | F31: 0 | G31: 2700000000 | H31: 2700000000 | I31: 2700000000 | J31: 2700000000 | K31: 0 | L31: 0 | M31: 0 | N31: 0 | O31: 0 | P31: 0% | Q31: 100% | R31: 납기후

Sheet 시군구특별징수보고서(부서+운영항목+장관합계출력)
A1: 부서명 | B1: 장, 관, 항, 목, 운영항목 | C1: 예산액 | D1: 징수결정액(본월분) | E1: 징수결정액(누계) | F1: 수납액(본월분) | G1: 수납액(누계) | H1: 과오납환부액(본월분) | I1: 과오납액(누계) | J1: 결손액(본월분) | K1: 결손액(누계) | L1: 미수납액 | M1: 대목표(%) | N1: 대조정(%) | O1: 납기구분
A2: 자치안전행정국 총무과 (전체) | B2: 합 계 | C2: 0 | D2: 0 | E2: 6091200 | F2: 2270300 | G2: 8361500 | H2: 0 | I2: 100000 | J2: 0 | K2: 0 | L2: -2270300 | M2: 0% | N2: 137.27% | O2: 납기후
A3: 자치안전행정국 총무과 (전체) | B3: 200-00 세외수입 | C3: 0 | D3: 0 | E3: 6091200 | F3: 2270300 | G3: 8361500 | H3: 0 | I3: 100000 | J3: 0 | K3: 0 | L3: -2270300 | M3: 0% | N3: 137.27% | O3: 납기후
A4: 자치안전행정국 총무과 (전체) | B4: 220-00 임시적세외수입 | C4: 0 | D4: 0 | E4: 6091200 | F4: 2270300 | G4: 8361500 | H4: 0 | I4: 100000 | J4: 0 | K4: 0 | L4: -2270300 | M4: 0% | N4: 137.27% | O4: 납기후
A5: 자치안전행정국 총무과 (전체) | B5: 224-00 기타수입 | C5: 0 | D5: 0 | E5: 2491200 | F5: 2270300 | G5: 4761500 | H5: 0 | I5: 100000 | J5: 0 | K5: 0 | L5: -2270300 | M5: 0% | N5: 191.13% | O5: 납기후
A6: 자치안전행정국 총무과 (전체) | B6: 224-03 기부금수입 | C6: 0 | D6: 0 | E6: 2491200 | F6: 2270300 | G6: 4761500 | H6: 0 | I6: 100000 | J6: 0 | K6: 0 | L6: -2270300 | M6: 0% | N6: 191.13% | O6: 납기후
A7: 자치안전행정국 총무과 (전체) | B7: 224-102-000 고향사랑기부금 | C7: 0 | D7: 0 | E7: 2491200 | F7: 2270300 | G7: 4761500 | H7: 0 | I7: 100000 | J7: 0 | K7: 0 | L7: -2270300 | M7: 0% | N7: 191.13% | O7: 납기후
A8: 자치안전행정국 총무과 (전체) | B8: 225-00 지난년도수입 | C8: 0 | D8: 0 | E8: 3600000 | F8: 0 | G8: 3600000 | H8: 0 | I8: 0 | J8: 0 | K8: 0 | L8: 0 | M8: 0% | N8: 100% | O8: 납기후
A9: 자치안전행정국 총무과 (전체) | B9: 225-01 지난년도수입 | C9: 0 | D9: 0 | E9: 3600000 | F9: 0 | G9: 3600000 | H9: 0 | I9: 0 | J9: 0 | K9: 0 | L9: 0 | M9: 0% | N9: 100% | O9: 납기후
A10: 자치안전행정국 총무과 (전체) | B10: 224-102-000 고향사랑기부금 | C10: 0 | D10: 0 | E10: 3600000 | F10: 0 | G10: 3600000 | H10: 0 | I10: 0 | J10: 0 | K10: 0 | L10: 0 | M10: 0% | N10: 100% | O10: 납기후
A11: 복지환경국 기초생활보장과 (전체) | B11: 합 계 | C11: 0 | D11: 2274410 | E11: 3398410360 | F11: 0 | G11: 1423660 | H11: 0 | I11: 0 | J11: 0 | K11: 0 | L11: 3396986700 | M11: 0% | N11: .04% | O11: 납기후
A12: 복지환경국 기초생활보장과 (전체) | B12: 200-00 세외수입 | C12: 0 | D12: 2274410 | E12: 3398410360 | F12: 0 | G12: 1423660 | H12: 0 | I12: 0 | J12: 0 | K12: 0 | L12: 3396986700 | M12: 0% | N12: .04% | O12: 납기후
A13: 복지환경국 기초생활보장과 (전체) | B13: 210-00 경상적세외수입 | C13: 0 | D13: 0 | E13: 3190120 | F13: 0 | G13: 0 | H13: 0 | I13: 0 | J13: 0 | K13: 0 | L13: 3190120 | M13: 0% | N13: 0% | O13: 납기후
... A88: 건설교통국 교통행정과 (전체) | B88: 521-001-000 시도비보조금 | C88: 0 | D88: 2700000000 | E88: 2700000000 | F88: 2700000000 | G88: 2700000000 | H88: 0 | I88: 0 | J88: 0 | K88: 0 | L88: 0 | M88: 0% | N88: 100% | O88: 납기후

Sheet 시도특별징수보고서(부서+운영항목)
A1: 부서 | B1: 장 | C1: 관 | D1: 항 | E1: 장, 관, 항, 목, 운영항목 | F1: 예산액 | G1: 징수결정액(본월분) | H1: 징수결정액(누계) | I1: 수납액(본월분) | J1: 수납액(누계) | K1: 과오납환부액(본월분) | L1: 과오납환부액(누계) | M1: 결손액(본월분) | N1: 결손액(누계) | O1: 미수납액 | P1: 대목표(%) | Q1: 대조정(%) | R1: 납기구분
A2: 지속가능도시국 건축과 (전체) | B2: 200-00 세외수입 | C2: 220-00 임시적세외수입 | D2: 225-00 지난년도수입 | E2: 236-015-000 학교용지부담금 | F2: 0 | G2: 0 | H2: 43843750 | I2: 0 | J2: 0 | K2: 0 | L2: 0 | M2: 0 | N2: 0 | O2: 43843750 | P2: 0% | Q2: 0% | R2: 납기후
A3: 지속가능도시국 건축과 (전체) | B3: 200-00 세외수입 | C3: 220-00 임시적세외수입 | D3: 225-00 지난년도수입 | E3: 236-027-000 기반시설부담금 | F3: 0 | G3: 0 | H3: 34430 | I3: 0 | J3: 0 | K3: 0 | L3: 0 | M3: 0 | N3: 0 | O3: 34430 | P3: 0% | Q3: 0% | R3: 납기후
A4: 건설교통국 건설과 (전체) | B4: 200-00 세외수입 | C4: 220-00 임시적세외수입 | D4: 225-00 지난년도수입 | E4: 236-009-000 하수도원인자부담금 | F4: 0 | G4: 0 | H4: 68305460 | I4: 60010020 | J4: 60010020 | K4: 0 | L4: 0 | M4: 0 | N4: 0 | O4: 8295440 | P4: 0% | Q4: 87.86% | R4: 납기후
A5: 건설교통국 건설과 (전체) | B5: 200-00 세외수입 | C5: 230-00 지방행정제제부과금등 | D5: 236-00 부담금 | E5: 236-009-000 하수도원인자부담금 | F5: 0 | G5: 0 | H5: 204631200 | I5: 34762860 | J5: 204631200 | K5: 0 | L5: 0 | M5: 0 | N5: 0 | O5: 0 | P5: 0% | Q5: 100% | R5: 납기후
A6: 건설교통국 공원녹지과 (전체) | B6: 200-00 세외수입 | C6: 220-00 임시적세외수입 | D6: 225-00 지난년도수입 | E6: 236-015-000 학교용지부담금 | F6: 0 | G6: 0 | H6: 2955680 | I6: 0 | J6: 0 | K6: 0 | L6: 0 | M6: 0 | N6: 0 | O6: 2955680 | P6: 0% | Q6: 0% | R6: 납기후
A7: 건설교통국 교통정책과 (전체) | B7: 200-00 세외수입 | C7: 220-00 임시적세외수입 | D7: 225-00 지난년도수입 | E7: 236-001-000 교통유발부담금 | F7: 0 | G7: 0 | H7: 74522681 | I7: 0 | J7: 0 | K7: 0 | L7: 0 | M7: 0 | N7: 0 | O7: 74522681 | P7: 0% | Q7: 0% | R7: 납기후
A8: 건설교통국 자동차관리과 (전체) | B8: 200-00 세외수입 | C8: 220-00 임시적세외수입 | D8: 225-00 지난년도수입 | E8: 231-013-000 여객자동차운수사업법위반과징금 | F8: 0 | G8: 0 | H8: 25192000 | I8: 0 | J8: 200000 | K8: 0 | L8: 0 | M8: 0 | N8: 0 | O8: 24992000 | P8: 0% | Q8: .79% | R8: 납기후
A9: 건설교통국 자동차관리과 (전체) | B9: 200-00 세외수입 | C9: 220-00 임시적세외수입 | D9: 225-00 지난년도수입 | E9: 234-235-000 도시교통정비촉진법위반과태료 | F9: 0 | G9: 0 | H9: 6500000 | I9: 0 | J9: 0 | K9: 0 | L9: 0 | M9: 0 | N9: 0 | O9: 6500000 | P9: 0% | Q9: 0% | R9: 납기후
A10: 건설교통국 자동차관리과 (전체) | B10: 200-00 세외수입 | C10: 230-00 지방행정제제부과금등 | D10: 231-00 과징금 | E10: 231-013-000 여객자동차운수사업법위반과징금 | F10: 0 | G10: 500000 | H10: 750000 | I10: 200000 | J10: 200000 | K10: 0 | L10: 0 | M10: 0 | N10: 0 | O10: 550000 | P10: 0% | Q10: 26.67% | R10: 납기후
A11: 건설교통국 도시계획과 (전체) | B11: 200-00 세외수입 | C11: 210-00 경상적세외수입 | D11: 214-00 사업수입 | E11: 214-101-000 매각사업수입 | F11: 0 | G11: 8059500 | H11: 17418780 | I11: 0 | J11: 9424070 | K11: 0 | L11: 0 | M11: 0 | N11: 0 | O11: 7994710 | P11: 0% | Q11: 54.1% | R11: 납기후
A12: 건설교통국 도시계획과 (전체) | B12: 200-00 세외수입 | C12: 220-00 임시적세외수입 | D12: 225-00 지난년도수입 | E12: 214-051-000 청산금수입 | F12: 0 | G12: 0 | H12: -11135130 | I12: 0 | J12: 0 | K12: 0 | L12: 0 | M12: 0 | N12: 0 | O12: -11135130 | P12: 0% | Q12: 0% | R12: 납기후
A13: 건설교통국 도시계획과 (전체) | B13: 200-00 세외수입 | C13: 220-00 임시적세외수입 | D13: 225-00 지난년도수입 | E13: 214-101-000 매각사업수입 | F13: 0 | G13: 0 | H13: -175472380 | I13: 0 | J13: 0 | K13: 0 | L13: 0 | M13: 0 | N13: 0 | O13: -175472380 | P13: 0% | Q13: 0% | R13: 납기후
... A22: 건설교통국 교통행정과 (전체) | B22: 200-00 세외수입 | C22: 220-00 임시적세외수입 | D22: 225-00 지난년도수입 | E22: 236-001-000 교통유발부담금 | F22: 0 | G22: -3158300 | H22: 761363373 | I22: 9433370 | J22: 82578730 | K22: 0 | L22: 0 | M22: 0 | N22: 0 | O22: 678784643 | P22: 0% | Q22: 10.85% | R22: 납기후

Sheet 시도특별징수보고서(부서+운영항목+장관합계출력)
A1: 부서명 | B1: 장, 관, 항, 목, 운영항목 | C1: 예산액 | D1: 징수결정액(본월분) | E1: 징수결정액(누계) | F1: 수납액(본월분) | G1: 수납액(누계) | H1: 과오납환부액(본월분) | I1: 과오납액(누계) | J1: 결손액(본월분) | K1: 결손액(누계) | L1: 미수납액 | M1: 대목표(%) | N1: 대조정(%) | O1: 납기구분
A2: 지속가능도시국 건축과 (전체) | B2: 합 계 | C2: 0 | D2: 0 | E2: 43878180 | F2: 0 | G2: 0 | H2: 0 | I2: 0 | J2: 0 | K2: 0 | L2: 43878180 | M2: 0% | N2: 0% | O2: 납기후
A3: 지속가능도시국 건축과 (전체) | B3: 200-00 세외수입 | C3: 0 | D3: 0 | E3: 43878180 | F3: 0 | G3: 0 | H3: 0 | I3: 0 | J3: 0 | K3: 0 | L3: 43878180 | M3: 0% | N3: 0% | O3: 납기후
A4: 지속가능도시국 건축과 (전체) | B4: 220-00 임시적세외수입 | C4: 0 | D4: 0 | E4: 43878180 | F4: 0 | G4: 0 | H4: 0 | I4: 0 | J4: 0 | K4: 0 | L4: 43878180 | M4: 0% | N4: 0% | O4: 납기후
A5: 지속가능도시국 건축과 (전체) | B5: 225-00 지난년도수입 | C5: 0 | D5: 0 | E5: 43878180 | F5: 0 | G5: 0 | H5: 0 | I5: 0 | J5: 0 | K5: 0 | L5: 43878180 | M5: 0% | N5: 0% | O5: 납기후
A6: 지속가능도시국 건축과 (전체) | B6: 225-01 지난년도수입 | C6: 0 | D6: 0 | E6: 43878180 | F6: 0 | G6: 0 | H6: 0 | I6: 0 | J6: 0 | K6: 0 | L6: 43878180 | M6: 0% | N6: 0% | O6: 납기후
A7: 지속가능도시국 건축과 (전체) | B7: 236-015-000 학교용지부담금 | C7: 0 | D7: 0 | E7: 43843750 | F7: 0 | G7: 0 | H7: 0 | I7: 0 | J7: 0 | K7: 0 | L7: 43843750 | M7: 0% | N7: 0% | O7: 납기후
A8: 지속가능도시국 건축과 (전체) | B8: 236-027-000 기반시설부담금 | C8: 0 | D8: 0 | E8: 34430 | F8: 0 | G8: 0 | H8: 0 | I8: 0 | J8: 0 | K8: 0 | L8: 34430 | M8: 0% | N8: 0% | O8: 납기후
A9: 건설교통국 건설과 (전체) | B9: 합 계 | C9: 0 | D9: 0 | E9: 272936660 | F9: 94772880 | G9: 264641220 | H9: 0 | I9: 0 | J9: 0 | K9: 0 | L9: 8295440 | M9: 0% | N9: 96.96% | O9: 납기후
A10: 건설교통국 건설과 (전체) | B10: 200-00 세외수입 | C10: 0 | D10: 0 | E10: 272936660 | F10: 94772880 | G10: 264641220 | H10: 0 | I10: 0 | J10: 0 | K10: 0 | L10: 8295440 | M10: 0% | N10: 96.96% | O10: 납기후
A11: 건설교통국 건설과 (전체) | B11: 220-00 임시적세외수입 | C11: 0 | D11: 0 | E11: 68305460 | F11: 60010020 | G11: 60010020 | H11: 0 | I11: 0 | J11: 0 | K11: 0 | L11: 8295440 | M11: 0% | N11: 87.86% | O11: 납기후
A12: 건설교통국 건설과 (전체) | B12: 225-00 지난년도수입 | C12: 0 | D12: 0 | E12: 68305460 | F12: 60010020 | G12: 60010020 | H12: 0 | I12: 0 | J12: 0 | K12: 0 | L12: 8295440 | M12: 0% | N12: 87.86% | O12: 납기후
A13: 건설교통국 건설과 (전체) | B13: 225-01 지난년도수입 | C13: 0 | D13: 0 | E13: 68305460 | F13: 60010020 | G13: 60010020 | H13: 0 | I13: 0 | J13: 0 | K13: 0 | L13: 8295440 | M13: 0% | N13: 87.86% | O13: 납기후
... A82: 건설교통국 교통행정과 (전체) | B82: 236-001-000 교통유발부담금 | C82: 0 | D82: -3158300 | E82: 761363373 | F82: 9433370 | G82: 82578730 | H82: 0 | I82: 0 | J82: 0 | K82: 0 | L82: 678784643 | M82: 0% | N82: 10.85% | O82: 납기후
