Workbook

Sheet 군구세외 일반회계
B2: =B4&L3&" 일반회계 세외수입 징수현황" -> 2024년 2월 미추홀구 일반회계 세외수입 징수현황
K3: 기관명 | L3: 미추홀구
B4: 2024년 2월 | E4: =VLOOKUP("세외수입합계 (200-00)",구세외징수보고서!$A:$U,6,FALSE) -> 48834156000 | F4: =VLOOKUP("세외수입합계 (200-00)",구세외징수보고서!$A:$U,10,FALSE) -> 32834790316 | G4: =VLOOKUP("세외수입합계 (200-00)",구세외징수보고서!$A:$U,12,FALSE) -> 7768252833 | H4: =VLOOKUP("세외수입합계 (200-00)",구세외징수보고서!$A:$U,16,FALSE) -> 177121930 | I4: =VLOOKUP("세외수입합계 (200-00)",구세외징수보고서!$A:$U,17,FALSE) -> 24889415553 | K4: =VLOOKUP("세외수입합계 (200-00)",구세외징수보고서!$A:$U,19,FALSE) -> 4276186640 | L4: (단위:원,%)
D5: 구 분 | E5: 최종예산액 | F5: 징수결정액 | G5: 징 수 액 | H5: 정리보류액 | I5: 미수납액 | L5: 징수율
B6: 항 목 별 | E6: (A) | F6: (B) | G6: (C) | H6: (D) | I6: 미수납액 (E=B-C-D) | J6: 체납액 (F=E-G) | K6: 납기미도래 (G) | L6: (C/A) | M6: (C/B)
B7: 200 세외수입 | E7: =E8+E40+E62 -> 48834156000 | F7: =F8+F40+F62 -> 32834790316 | G7: =G8+G40+G62 -> 7768252833 | H7: =H8+H40+H62 -> 177121930 | I7: =I8+I40+I62 -> 24889415553 | J7: =J8+J40+J62 -> 20613228913 | K7: =K8+K40+K62 -> 4276186640 | L7: =IFERROR(G7/E7,0)*100 -> 15.907417 | M7: =IFERROR(G7/F7,0)*100 -> 23.658603
B8: 210 경상적세외수입 | E8: =E9+E12+E22+E28+E34+E36 -> 29388726000 | F8: =F9+F12+F22+F28+F34+F36 -> 5292951484 | G8: =G9+G12+G22+G28+G34+G36 -> 5108815261 | H8: =H9+H12+H22+H28+H34+H36 -> 0 | I8: =I9+I12+I22+I28+I34+I36 -> 184136223 | J8: =J9+J12+J22+J28+J34+J36 -> 1046740 | K8: =K9+K12+K22+K28+K34+K36 -> 183089483 | L8: =IFERROR(G8/E8,0)*100 -> 17.383589 | M8: =IFERROR(G8/F8,0)*100 -> 96.521105
B9: 211 재산임대수입 | E9: =SUM(E10:E11) -> 182458000 | F9: =SUM(F10:F11) -> 68889850 | G9: =SUM(G10:G11) -> 30050760 | H9: =SUM(H10:H11) -> 0 | I9: =SUM(I10:I11) -> 38839090 | J9: =SUM(J10:J11) -> 250760 | K9: =SUM(K10:K11) -> 38588330 | L9: =IFERROR(G9/E9,0)*100 -> 16.46996 | M9: =IFERROR(G9/F9,0)*100 -> 43.621462
C10: 211-01 국유재산대부료 | E10: =SUMIF(구세외징수보고서!$AA:$AA,MID($C10,8,99),구세외징수보고서!F:F) -> 50000000 | F10: =SUMIF(구세외징수보고서!$AA:$AA,MID($C10,8,99),구세외징수보고서!J:J) -> 0 | G10: =SUMIF(구세외징수보고서!$AA:$AA,MID($C10,8,99),구세외징수보고서!L:L) -> 0 | H10: =SUMIF(구세외징수보고서!$AA:$AA,MID($C10,8,99),구세외징수보고서!P:P) -> 0 | I10: =F10-G10-H10 -> 0 | J10: =I10-K10 -> 0 | K10: =SUMIF(구세외징수보고서!$AA:$AA,MID($C10,8,99),구세외징수보고서!S:S) -> 0 | L10: =IFERROR(G10/E10,0)*100 -> 0 | M10: =IFERROR(G10/F10,0)*100 -> 0
C11: 211-02 공유재산임대료 | E11: =SUMIF(구세외징수보고서!$AA:$AA,MID($C11,8,99),구세외징수보고서!F:F) -> 132458000 | F11: =SUMIF(구세외징수보고서!$AA:$AA,MID($C11,8,99),구세외징수보고서!J:J) -> 68889850 | G11: =SUMIF(구세외징수보고서!$AA:$AA,MID($C11,8,99),구세외징수보고서!L:L) -> 30050760 | H11: =SUMIF(구세외징수보고서!$AA:$AA,MID($C11,8,99),구세외징수보고서!P:P) -> 0 | I11: =F11-G11-H11 -> 38839090 | J11: =I11-K11 -> 250760 | K11: =SUMIF(구세외징수보고서!$AA:$AA,MID($C11,8,99),구세외징수보고서!S:S) -> 38588330 | L11: =IFERROR(G11/E11,0)*100 -> 22.68701 | M11: =IFERROR(G11/F11,0)*100 -> 43.621462
B12: 212 사용료수입 | E12: =SUM(E13:E21) -> 2603862000 | F12: =SUM(F13:F21) -> 287799592 | G12: =SUM(G13:G21) -> 280946922 | H12: =SUM(H13:H21) -> 0 | I12: =SUM(I13:I21) -> 6852670 | J12: =SUM(J13:J21) -> 207640 | K12: =SUM(K13:K21) -> 6645030 | L12: =IFERROR(G12/E12,0)*100 -> 10.789624 | M12: =IFERROR(G12/F12,0)*100 -> 97.618944
C13: 212-01 도로사용료 | E13: =SUMIF(구세외징수보고서!$AA:$AA,MID($C13,8,99),구세외징수보고서!F:F) -> 1150000000 | F13: =SUMIF(구세외징수보고서!$AA:$AA,MID($C13,8,99),구세외징수보고서!J:J) -> 13611840 | G13: =SUMIF(구세외징수보고서!$AA:$AA,MID($C13,8,99),구세외징수보고서!L:L) -> 12486800 | H13: =SUMIF(구세외징수보고서!$AA:$AA,MID($C13,8,99),구세외징수보고서!P:P) -> 0 | I13: =F13-G13-H13 -> 1125040 | J13: =I13-K13 -> 207640 | K13: =SUMIF(구세외징수보고서!$AA:$AA,MID($C13,8,99),구세외징수보고서!S:S) -> 917400 | L13: =IFERROR(G13/E13,0)*100 -> 1.0858087 | M13: =IFERROR(G13/F13,0)*100 -> 91.734843
C14: 212-02 하천사용료 | E14: =SUMIF(구세외징수보고서!$AA:$AA,MID($C14,8,99),구세외징수보고서!F:F) -> 0 | F14: =SUMIF(구세외징수보고서!$AA:$AA,MID($C14,8,99),구세외징수보고서!J:J) -> 0 | G14: =SUMIF(구세외징수보고서!$AA:$AA,MID($C14,8,99),구세외징수보고서!L:L) -> 0 | H14: =SUMIF(구세외징수보고서!$AA:$AA,MID($C14,8,99),구세외징수보고서!P:P) -> 0 | I14: =F14-G14-H14 -> 0 | J14: =I14-K14 -> 0 | K14: =SUMIF(구세외징수보고서!$AA:$AA,MID($C14,8,99),구세외징수보고서!S:S) -> 0 | L14: =IFERROR(G14/E14,0)*100 -> 0 | M14: =IFERROR(G14/F14,0)*100 -> 0
C15: 212-03 하수도사용료 | E15: =SUMIF(구세외징수보고서!$AA:$AA,MID($C15,8,99),구세외징수보고서!F:F) -> 0 | F15: =SUMIF(구세외징수보고서!$AA:$AA,MID($C15,8,99),구세외징수보고서!J:J) -> 0 | G15: =SUMIF(구세외징수보고서!$AA:$AA,MID($C15,8,99),구세외징수보고서!L:L) -> 0 | H15: =SUMIF(구세외징수보고서!$AA:$AA,MID($C15,8,99),구세외징수보고서!P:P) -> 0 | I15: =F15-G15-H15 -> 0 | J15: =I15-K15 -> 0 | K15: =SUMIF(구세외징수보고서!$AA:$AA,MID($C15,8,99),구세외징수보고서!S:S) -> 0 | L15: =IFERROR(G15/E15,0)*100 -> 0 | M15: =IFERROR(G15/F15,0)*100 -> 0
C16: 212-04 상수도사용료 | E16: =SUMIF(구세외징수보고서!$AA:$AA,MID($C16,8,99),구세외징수보고서!F:F) -> 0 | F16: =SUMIF(구세외징수보고서!$AA:$AA,MID($C16,8,99),구세외징수보고서!J:J) -> 0 | G16: =SUMIF(구세외징수보고서!$AA:$AA,MID($C16,8,99),구세외징수보고서!L:L) -> 0 | H16: =SUMIF(구세외징수보고서!$AA:$AA,MID($C16,8,99),구세외징수보고서!P:P) -> 0 | I16: =F16-G16-H16 -> 0 | J16: =I16-K16 -> 0 | K16: =SUMIF(구세외징수보고서!$AA:$AA,MID($C16,8,99),구세외징수보고서!S:S) -> 0 | L16: =IFERROR(G16/E16,0)*100 -> 0 | M16: =IFERROR(G16/F16,0)*100 -> 0
C17: 212-05 공유수면사용료 | E17: =SUMIF(구세외징수보고서!$AA:$AA,MID($C17,8,99),구세외징수보고서!F:F) -> 0 | F17: =SUMIF(구세외징수보고서!$AA:$AA,MID($C17,8,99),구세외징수보고서!J:J) -> 0 | G17: =SUMIF(구세외징수보고서!$AA:$AA,MID($C17,8,99),구세외징수보고서!L:L) -> 0 | H17: =SUMIF(구세외징수보고서!$AA:$AA,MID($C17,8,99),구세외징수보고서!P:P) -> 0 | I17: =F17-G17-H17 -> 0 | J17: =I17-K17 -> 0 | K17: =SUMIF(구세외징수보고서!$AA:$AA,MID($C17,8,99),구세외징수보고서!S:S) -> 0 | L17: =IFERROR(G17/E17,0)*100 -> 0 | M17: =IFERROR(G17/F17,0)*100 -> 0
C18: 212-06 시장사용료 | E18: =SUMIF(구세외징수보고서!$AA:$AA,MID($C18,8,99),구세외징수보고서!F:F) -> 0 | F18: =SUMIF(구세외징수보고서!$AA:$AA,MID($C18,8,99),구세외징수보고서!J:J) -> 0 | G18: =SUMIF(구세외징수보고서!$AA:$AA,MID($C18,8,99),구세외징수보고서!L:L) -> 0 | H18: =SUMIF(구세외징수보고서!$AA:$AA,MID($C18,8,99),구세외징수보고서!P:P) -> 0 | I18: =F18-G18-H18 -> 0 | J18: =I18-K18 -> 0 | K18: =SUMIF(구세외징수보고서!$AA:$AA,MID($C18,8,99),구세외징수보고서!S:S) -> 0 | L18: =IFERROR(G18/E18,0)*100 -> 0 | M18: =IFERROR(G18/F18,0)*100 -> 0
C19: 212-07 입장료수입 | E19: =SUMIF(구세외징수보고서!$AA:$AA,MID($C19,8,99),구세외징수보고서!F:F) -> 0 | F19: =SUMIF(구세외징수보고서!$AA:$AA,MID($C19,8,99),구세외징수보고서!J:J) -> 0 | G19: =SUMIF(구세외징수보고서!$AA:$AA,MID($C19,8,99),구세외징수보고서!L:L) -> 0 | H19: =SUMIF(구세외징수보고서!$AA:$AA,MID($C19,8,99),구세외징수보고서!P:P) -> 0 | I19: =F19-G19-H19 -> 0 | J19: =I19-K19 -> 0 | K19: =SUMIF(구세외징수보고서!$AA:$AA,MID($C19,8,99),구세외징수보고서!S:S) -> 0 | L19: =IFERROR(G19/E19,0)*100 -> 0 | M19: =IFERROR(G19/F19,0)*100 -> 0
C20: 212-08 주차요금수입 | E20: =SUMIF(구세외징수보고서!$AA:$AA,MID($C20,8,99),구세외징수보고서!F:F) -> 0 | F20: =SUMIF(구세외징수보고서!$AA:$AA,MID($C20,8,99),구세외징수보고서!J:J) -> 0 | G20: =SUMIF(구세외징수보고서!$AA:$AA,MID($C20,8,99),구세외징수보고서!L:L) -> 0 | H20: =SUMIF(구세외징수보고서!$AA:$AA,MID($C20,8,99),구세외징수보고서!P:P) -> 0 | I20: =F20-G20-H20 -> 0 | J20: =I20-K20 -> 0 | K20: =SUMIF(구세외징수보고서!$AA:$AA,MID($C20,8,99),구세외징수보고서!S:S) -> 0
C21: 212-09 기타사용료 | E21: =SUMIF(구세외징수보고서!$AA:$AA,MID($C21,8,99),구세외징수보고서!F:F) -> 1453862000 | F21: =SUMIF(구세외징수보고서!$AA:$AA,MID($C21,8,99),구세외징수보고서!J:J) -> 274187752 | G21: =SUMIF(구세외징수보고서!$AA:$AA,MID($C21,8,99),구세외징수보고서!L:L) -> 268460122 | H21: =SUMIF(구세외징수보고서!$AA:$AA,MID($C21,8,99),구세외징수보고서!P:P) -> 0 | I21: =F21-G21-H21 -> 5727630 | J21: =I21-K21 -> 0 | K21: =SUMIF(구세외징수보고서!$AA:$AA,MID($C21,8,99),구세외징수보고서!S:S) -> 5727630 | L21: =IFERROR(G21/E21,0)*100 -> 18.46531 | M21: =IFERROR(G21/F21,0)*100 -> 97.911055
B22: 213 수수료수입 | E22: =SUM(E23:E27) -> 13905956000 | F22: =SUM(F23:F27) -> 2120452365 | G22: =SUM(G23:G27) -> 1982026480 | H22: =SUM(H23:H27) -> 0 | I22: =SUM(I23:I27) -> 138425885 | J22: =SUM(J23:J27) -> 588340 | K22: =SUM(K23:K27) -> 137837545 | L22: =IFERROR(G22/E22,0)*100 -> 14.253076 | M22: =IFERROR(G22/F22,0)*100 -> 93.47187
C23: 213-01 증지수입 | E23: =SUMIF(구세외징수보고서!$AA:$AA,MID($C23,8,99),구세외징수보고서!F:F) -> 1300000000 | F23: =SUMIF(구세외징수보고서!$AA:$AA,MID($C23,8,99),구세외징수보고서!J:J) -> 216840260 | G23: =SUMIF(구세외징수보고서!$AA:$AA,MID($C23,8,99),구세외징수보고서!L:L) -> 204149360 | H23: =SUMIF(구세외징수보고서!$AA:$AA,MID($C23,8,99),구세외징수보고서!P:P) -> 0 | I23: =F23-G23-H23 -> 12690900 | J23: =I23-K23 -> 100000 | K23: =SUMIF(구세외징수보고서!$AA:$AA,MID($C23,8,99),구세외징수보고서!S:S) -> 12590900 | L23: =IFERROR(G23/E23,0)*100 -> 15.703797 | M23: =IFERROR(G23/F23,0)*100 -> 94.147351
C24: 213-02 폐기물처리수수료 | E24: =SUMIF(구세외징수보고서!$AA:$AA,MID($C24,8,99),구세외징수보고서!F:F) -> 11985000000 | F24: =SUMIF(구세외징수보고서!$AA:$AA,MID($C24,8,99),구세외징수보고서!J:J) -> 1809203537 | G24: =SUMIF(구세외징수보고서!$AA:$AA,MID($C24,8,99),구세외징수보고서!L:L) -> 1693074662 | H24: =SUMIF(구세외징수보고서!$AA:$AA,MID($C24,8,99),구세외징수보고서!P:P) -> 0 | I24: =F24-G24-H24 -> 116128875 | J24: =I24-K24 -> 488340 | K24: =SUMIF(구세외징수보고서!$AA:$AA,MID($C24,8,99),구세외징수보고서!S:S) -> 115640535 | L24: =IFERROR(G24/E24,0)*100 -> 14.126614 | M24: =IFERROR(G24/F24,0)*100 -> 93.581216
C25: 213-03 재활용품수거판매수입 | E25: =SUMIF(구세외징수보고서!$AA:$AA,MID($C25,8,99),구세외징수보고서!F:F) -> 0 | F25: =SUMIF(구세외징수보고서!$AA:$AA,MID($C25,8,99),구세외징수보고서!J:J) -> 0 | G25: =SUMIF(구세외징수보고서!$AA:$AA,MID($C25,8,99),구세외징수보고서!L:L) -> 0 | H25: =SUMIF(구세외징수보고서!$AA:$AA,MID($C25,8,99),구세외징수보고서!P:P) -> 0 | I25: =F25-G25-H25 -> 0 | J25: =I25-K25 -> 0 | K25: =SUMIF(구세외징수보고서!$AA:$AA,MID($C25,8,99),구세외징수보고서!S:S) -> 0 | L25: =IFERROR(G25/E25,0)*100 -> 0 | M25: =IFERROR(G25/F25,0)*100 -> 0
C26: 213-04 보건의료수수료 | E26: =SUMIF(구세외징수보고서!$AA:$AA,MID($C26,8,99),구세외징수보고서!F:F) -> 210672000 | F26: =SUMIF(구세외징수보고서!$AA:$AA,MID($C26,8,99),구세외징수보고서!J:J) -> 28925050 | G26: =SUMIF(구세외징수보고서!$AA:$AA,MID($C26,8,99),구세외징수보고서!L:L) -> 19755360 | H26: =SUMIF(구세외징수보고서!$AA:$AA,MID($C26,8,99),구세외징수보고서!P:P) -> 0 | I26: =F26-G26-H26 -> 9169690 | J26: =I26-K26 -> 0 | K26: =SUMIF(구세외징수보고서!$AA:$AA,MID($C26,8,99),구세외징수보고서!S:S) -> 9169690
C27: 213-05 기타수수료 | E27: =SUMIF(구세외징수보고서!$AA:$AA,MID($C27,8,99),구세외징수보고서!F:F) -> 410284000 | F27: =SUMIF(구세외징수보고서!$AA:$AA,MID($C27,8,99),구세외징수보고서!J:J) -> 65483518 | G27: =SUMIF(구세외징수보고서!$AA:$AA,MID($C27,8,99),구세외징수보고서!L:L) -> 65047098 | H27: =SUMIF(구세외징수보고서!$AA:$AA,MID($C27,8,99),구세외징수보고서!P:P) -> 0 | I27: =F27-G27-H27 -> 436420 | J27: =I27-K27 -> 0 | K27: =SUMIF(구세외징수보고서!$AA:$AA,MID($C27,8,99),구세외징수보고서!S:S) -> 436420 | L27: =IFERROR(G27/E27,0)*100 -> 15.854164 | M27: =IFERROR(G27/F27,0)*100 -> 99.333542
B28: 214 사업수입 | E28: =SUM(E29:E33) -> 498048000 | F28: =SUM(F29:F33) -> 127795209 | G28: =SUM(G29:G33) -> 127795209 | H28: =SUM(H29:H33) -> 0 | I28: =SUM(I29:I33) -> 0 | J28: =SUM(J29:J33) -> 0 | K28: =SUM(K29:K33) -> 0 | L28: =IFERROR(G28/E28,0)*100 -> 25.659215 | M28: =IFERROR(G28/F28,0)*100 -> 100
C29: 214-01 사업장생산수입 | E29: =SUMIF(구세외징수보고서!$AA:$AA,MID($C29,8,99),구세외징수보고서!F:F) -> 0 | F29: =SUMIF(구세외징수보고서!$AA:$AA,MID($C29,8,99),구세외징수보고서!J:J) -> 0 | G29: =SUMIF(구세외징수보고서!$AA:$AA,MID($C29,8,99),구세외징수보고서!L:L) -> 0 | H29: =SUMIF(구세외징수보고서!$AA:$AA,MID($C29,8,99),구세외징수보고서!P:P) -> 0 | I29: =F29-G29-H29 -> 0 | J29: =I29-K29 -> 0 | K29: =SUMIF(구세외징수보고서!$AA:$AA,MID($C29,8,99),구세외징수보고서!S:S) -> 0 | L29: =IFERROR(G29/E29,0)*100 -> 0 | M29: =IFERROR(G29/F29,0)*100 -> 0
C30: 214-02 청산금수입 | E30: =SUMIF(구세외징수보고서!$AA:$AA,MID($C30,8,99),구세외징수보고서!F:F) -> 0 | F30: =SUMIF(구세외징수보고서!$AA:$AA,MID($C30,8,99),구세외징수보고서!J:J) -> 0 | G30: =SUMIF(구세외징수보고서!$AA:$AA,MID($C30,8,99),구세외징수보고서!L:L) -> 0 | H30: =SUMIF(구세외징수보고서!$AA:$AA,MID($C30,8,99),구세외징수보고서!P:P) -> 0 | I30: =F30-G30-H30 -> 0 | J30: =I30-K30 -> 0 | K30: =SUMIF(구세외징수보고서!$AA:$AA,MID($C30,8,99),구세외징수보고서!S:S) -> 0 | L30: =IFERROR(G30/E30,0)*100 -> 0 | M30: =IFERROR(G30/F30,0)*100 -> 0
C31: 214-03 매각사업수입 | E31: =SUMIF(구세외징수보고서!$AA:$AA,MID($C31,8,99),구세외징수보고서!F:F) -> 0 | F31: =SUMIF(구세외징수보고서!$AA:$AA,MID($C31,8,99),구세외징수보고서!J:J) -> 0 | G31: =SUMIF(구세외징수보고서!$AA:$AA,MID($C31,8,99),구세외징수보고서!L:L) -> 0 | H31: =SUMIF(구세외징수보고서!$AA:$AA,MID($C31,8,99),구세외징수보고서!P:P) -> 0 | I31: =F31-G31-H31 -> 0 | J31: =I31-K31 -> 0 | K31: =SUMIF(구세외징수보고서!$AA:$AA,MID($C31,8,99),구세외징수보고서!S:S) -> 0 | L31: =IFERROR(G31/E31,0)*100 -> 0 | M31: =IFERROR(G31/F31,0)*100 -> 0
C32: 214-04 배당금수입 | E32: =SUMIF(구세외징수보고서!$AA:$AA,MID($C32,8,99),구세외징수보고서!F:F) -> 0 | F32: =SUMIF(구세외징수보고서!$AA:$AA,MID($C32,8,99),구세외징수보고서!J:J) -> 0 | G32: =SUMIF(구세외징수보고서!$AA:$AA,MID($C32,8,99),구세외징수보고서!L:L) -> 0 | H32: =SUMIF(구세외징수보고서!$AA:$AA,MID($C32,8,99),구세외징수보고서!P:P) -> 0 | I32: =F32-G32-H32 -> 0 | J32: =I32-K32 -> 0 | K32: =SUMIF(구세외징수보고서!$AA:$AA,MID($C32,8,99),구세외징수보고서!S:S) -> 0 | L32: =IFERROR(G32/E32,0)*100 -> 0 | M32: =IFERROR(G32/F32,0)*100 -> 0
C33: 214-05 기타사업수입 | E33: =SUMIF(구세외징수보고서!$AA:$AA,MID($C33,8,99),구세외징수보고서!F:F) -> 498048000 | F33: =SUMIF(구세외징수보고서!$AA:$AA,MID($C33,8,99),구세외징수보고서!J:J) -> 127795209 | G33: =SUMIF(구세외징수보고서!$AA:$AA,MID($C33,8,99),구세외징수보고서!L:L) -> 127795209 | H33: =SUMIF(구세외징수보고서!$AA:$AA,MID($C33,8,99),구세외징수보고서!P:P) -> 0 | I33: =F33-G33-H33 -> 0 | J33: =I33-K33 -> 0 | K33: =SUMIF(구세외징수보고서!$AA:$AA,MID($C33,8,99),구세외징수보고서!S:S) -> 0 | L33: =IFERROR(G33/#REF!,0)*100 -> 0 | M33: =IFERROR(G33/F33,0)*100 -> 100
B34: 215 징수교부금수입 | E34: =SUM(E35) -> 9949152000 | F34: =F35 -> 1688998000 | G34: =G35 -> 1688998000 | H34: =H35 -> 0 | I34: =I35 -> 0 | J34: =J35 -> 0 | K34: =K35 -> 0 | L34: =IFERROR(G34/E34,0)*100 -> 16.976301 | M34: =IFERROR(G34/F34,0)*100 -> 100
C35: 215-01 징수교부금수입 | E35: =SUMIF(구세외징수보고서!$AA:$AA,MID($C35,8,99),구세외징수보고서!F:F) -> 9949152000 | F35: =SUMIF(구세외징수보고서!$AA:$AA,MID($C35,8,99),구세외징수보고서!J:J) -> 1688998000 | G35: =SUMIF(구세외징수보고서!$AA:$AA,MID($C35,8,99),구세외징수보고서!L:L) -> 1688998000 | H35: =SUMIF(구세외징수보고서!$AA:$AA,MID($C35,8,99),구세외징수보고서!P:P) -> 0 | I35: =F35-G35-H35 -> 0 | J35: =I35-K35 -> 0 | K35: =SUMIF(구세외징수보고서!$AA:$AA,MID($C35,8,99),구세외징수보고서!S:S) -> 0 | L35: =IFERROR(G35/E35,0)*100 -> 16.976301 | M35: =IFERROR(G35/F35,0)*100 -> 100
B36: 216 이자수입 | E36: =SUM(E37:E39) -> 2249250000 | F36: =SUM(F37:F39) -> 999016468 | G36: =SUM(G37:G39) -> 998997890 | H36: =SUM(H37:H39) -> 0 | I36: =SUM(I37:I39) -> 18578 | J36: =SUM(J37:J39) -> 0 | K36: =SUM(K37:K39) -> 18578 | L36: =IFERROR(G36/E36,0)*100 -> 44.414711 | M36: =IFERROR(G36/F36,0)*100 -> 99.99814
C37: 216-01 공공예금이자수입 | E37: =SUMIF(구세외징수보고서!$AA:$AA,MID($C37,8,99),구세외징수보고서!F:F) -> 2159250000 | F37: =SUMIF(구세외징수보고서!$AA:$AA,MID($C37,8,99),구세외징수보고서!J:J) -> 995270069 | G37: =SUMIF(구세외징수보고서!$AA:$AA,MID($C37,8,99),구세외징수보고서!L:L) -> 995270069 | H37: =SUMIF(구세외징수보고서!$AA:$AA,MID($C37,8,99),구세외징수보고서!P:P) -> 0 | I37: =F37-G37-H37 -> 0 | J37: =I37-K37 -> 0 | K37: =SUMIF(구세외징수보고서!$AA:$AA,MID($C37,8,99),구세외징수보고서!S:S) -> 0 | L37: =IFERROR(G37/E37,0)*100 -> 46.093323 | M37: =IFERROR(G37/F37,0)*100 -> 100
C38: 216-02 융자금회수이자수입 | E38: =SUMIF(구세외징수보고서!$AA:$AA,MID($C38,8,99),구세외징수보고서!F:F) -> 0 | F38: =SUMIF(구세외징수보고서!$AA:$AA,MID($C38,8,99),구세외징수보고서!J:J) -> 0 | G38: =SUMIF(구세외징수보고서!$AA:$AA,MID($C38,8,99),구세외징수보고서!L:L) -> 0 | H38: =SUMIF(구세외징수보고서!$AA:$AA,MID($C38,8,99),구세외징수보고서!P:P) -> 0 | I38: =F38-G38-H38 -> 0 | J38: =I38-K38 -> 0 | K38: =SUMIF(구세외징수보고서!$AA:$AA,MID($C38,8,99),구세외징수보고서!S:S) -> 0 | L38: =IFERROR(G38/E38,0)*100 -> 0 | M38: =IFERROR(G38/F38,0)*100 -> 0
C39: 216-03 기타이자수입 | E39: =SUMIF(구세외징수보고서!$AA:$AA,MID($C39,8,99),구세외징수보고서!F:F) -> 90000000 | F39: =SUMIF(구세외징수보고서!$AA:$AA,MID($C39,8,99),구세외징수보고서!J:J) -> 3746399 | G39: =SUMIF(구세외징수보고서!$AA:$AA,MID($C39,8,99),구세외징수보고서!L:L) -> 3727821 | H39: =SUMIF(구세외징수보고서!$AA:$AA,MID($C39,8,99),구세외징수보고서!P:P) -> 0 | I39: =F39-G39-H39 -> 18578 | J39: =I39-K39 -> 0 | K39: =SUMIF(구세외징수보고서!$AA:$AA,MID($C39,8,99),구세외징수보고서!S:S) -> 18578 | L39: =IFERROR(G39/E33,0)*100 -> 0.74848629 | M39: =IFERROR(G39/F39,0)*100 -> 99.50411
B40: 220 임시적세외수입 | E40: =E41+E46+E48+E52+E60 -> 16926091000 | F40: =F41+F46+F48+F52+F60 -> 25839454922 | G40: =G41+G46+G48+G52+G60 -> 2289621052 | H40: =H41+H46+H48+H52+H60 -> 177121930 | I40: =I41+I46+I48+I52+I60 -> 23372711940 | J40: =J41+J46+J48+J52+J60 -> 20520058243 | K40: =K41+K46+K48+K52+K60 -> 2852653697 | L40: =IFERROR(G40/E40,0)*100 -> 13.52717 | M40: =IFERROR(G40/F40,0)*100 -> 8.8609495
B41: 221 재산매각수입 | E41: =SUM(E42:E45) -> 12076085000 | F41: =SUM(F42:F45) -> 267051680 | G41: =SUM(G42:G45) -> 251273370 | H41: =SUM(H42:H45) -> 0 | I41: =SUM(I42:I45) -> 15778310 | J41: =SUM(J42:J45) -> 0 | K41: =SUM(K42:K45) -> 15778310 | L41: =IFERROR(G41/E41,0)*100 -> 2.0807519 | M41: =IFERROR(G41/F41,0)*100 -> 94.091664
...

Sheet 군구세외 특별회계
B2: =B4&L3&" 기타특별회계 세외수입 징수현황" -> 2024년 2월 미추홀구 기타특별회계 세외수입 징수현황
K3: 기관명 | L3: ='군구세외 일반회계'!L3:M3 -> 미추홀구
B4: ='군구세외 일반회계'!B4:D4 -> 2024년 2월 | L4: (단위:원,%)
D5: 구 분 | E5: 최종예산액 | F5: 징수결정액 | G5: 징 수 액 | H5: 정리보류액 | I5: 미수납액 | L5: 징수율
B6: 항 목 별 | E6: (A) | F6: (B) | G6: (C) | H6: (D) | I6: 미수납액 (E=B-C-D) | J6: 체납액 (F=E-G) | K6: 납기미도래 (G) | L6: (C/A) | M6: (C/B)
B7: 200 세외수입 | E7: =E8+E40+E62 -> 6166368000 | F7: =F8+F40+F62 -> 5670050292 | G7: =G8+G40+G62 -> 1617283743 | H7: =H8+H40+H62 -> 0 | I7: =I8+I40+I62 -> 4052766549 | J7: =J8+J40+J62 -> 4052766549 | K7: =K8+K40+K62 -> 0 | L7: =IFERROR(G7/E7,0)*100 -> 26.227493 | M7: =IFERROR(G7/F7,0)*100 -> 28.52327 | O7: 목
B8: 210 경상적세외수입 | E8: =E9+E12+E22+E28+E34+E36 -> 3277368000 | F8: =F9+F12+F22+F28+F34+F36 -> 406740683 | G8: =G9+G12+G22+G28+G34+G36 -> 535860023 | H8: =H9+H12+H22+H28+H34+H36 -> 0 | I8: =I9+I12+I22+I28+I34+I36 -> -129119340 | J8: =J9+J12+J22+J28+J34+J36 -> -129119340 | K8: =K9+K12+K22+K28+K34+K36 -> 0 | L8: =IFERROR(G8/E8,0)*100 -> 16.350316 | M8: =IFERROR(G8/F8,0)*100 -> 131.74488 | O8: =C8 -> 0
B9: 211 재산임대수입 | E9: 0 | F9: =SUM(F10:F11) -> 0 | G9: =SUM(G10:G11) -> 0 | H9: =SUM(H10:H11) -> 0 | I9: =SUM(I10:I11) -> 0 | J9: =SUM(J10:J11) -> 0 | K9: =SUM(K10:K11) -> 0 | L9: =IFERROR(G9/E9,0)*100 -> 0 | M9: =IFERROR(G9/F9,0)*100 -> 0 | O9: =C9 -> 0
C10: 211-01 국유재산임대료 | E10: 0 | F10: =SUMIF('시군구특별징수보고서(부서+운영항목+장관합계출력)'!$B:$B,$O10,'시군구특별징수보고서(부서+운영항목+장관합계출력)'!E:E) -> 0 | G10: =SUMIF('시군구특별징수보고서(부서+운영항목+장관합계출력)'!$B:$B,$O10,'시군구특별징수보고서(부서+운영항목+장관합계출력)'!G:G) -> 0 | H10: =SUMIF('시군구특별징수보고서(부서+운영항목+장관합계출력)'!$B:$B,$O10,'시군구특별징수보고서(부서+운영항목+장관합계출력)'!K:K) -> 0 | I10: =F10-G10-H10 -> 0 | J10: =I10-K10 -> 0 | L10: =IFERROR(G10/E10,0)*100 -> 0 | M10: =IFERROR(G10/F10,0)*100 -> 0 | O10: =C10 -> 211-01 국유재산임대료
C11: 211-02 공유재산임대료 | E11: 0 | F11: =SUMIF('시군구특별징수보고서(부서+운영항목+장관합계출력)'!$B:$B,$O11,'시군구특별징수보고서(부서+운영항목+장관합계출력)'!E:E) -> 0 | G11: =SUMIF('시군구특별징수보고서(부서+운영항목+장관합계출력)'!$B:$B,$O11,'시군구특별징수보고서(부서+운영항목+장관합계출력)'!G:G) -> 0 | H11: =SUMIF('시군구특별징수보고서(부서+운영항목+장관합계출력)'!$B:$B,$O11,'시군구특별징수보고서(부서+운영항목+장관합계출력)'!K:K) -> 0 | I11: =F11-G11-H11 -> 0 | J11: =I11-K11 -> 0 | L11: =IFERROR(G11/E11,0)*100 -> 0 | M11: =IFERROR(G11/F11,0)*100 -> 0 | O11: =C11 -> 211-02 공유재산임대료
B12: 212 사용료수입 | E12: 2501368000 | F12: =SUM(F13:F21) -> 319624483 | G12: =SUM(G13:G21) -> 451933943 | H12: =SUM(H13:H21) -> 0 | I12: =SUM(I13:I21) -> -132309460 | J12: =SUM(J13:J21) -> -132309460 | K12: =SUM(K13:K21) -> 0 | L12: =IFERROR(G12/E12,0)*100 -> 18.067471 | M12: =IFERROR(G12/F12,0)*100 -> 141.39528 | O12: =C12 -> 0
C13: 212-01 도로사용료 | E13: 0 | F13: =SUMIF('시군구특별징수보고서(부서+운영항목+장관합계출력)'!$B:$B,$O13,'시군구특별징수보고서(부서+운영항목+장관합계출력)'!E:E) -> 0 | G13: =SUMIF('시군구특별징수보고서(부서+운영항목+장관합계출력)'!$B:$B,$O13,'시군구특별징수보고서(부서+운영항목+장관합계출력)'!G:G) -> 0 | H13: =SUMIF('시군구특별징수보고서(부서+운영항목+장관합계출력)'!$B:$B,$O13,'시군구특별징수보고서(부서+운영항목+장관합계출력)'!K:K) -> 0 | I13: =F13-G13-H13 -> 0 | J13: =I13-K13 -> 0 | L13: =IFERROR(G13/E13,0)*100 -> 0 | M13: =IFERROR(G13/F13,0)*100 -> 0 | O13: =C13 -> 212-01 도로사용료
C14: 212-02 하천사용료 | E14: 0 | F14: =SUMIF('시군구특별징수보고서(부서+운영항목+장관합계출력)'!$B:$B,$O14,'시군구특별징수보고서(부서+운영항목+장관합계출력)'!E:E) -> 0 | G14: =SUMIF('시군구특별징수보고서(부서+운영항목+장관합계출력)'!$B:$B,$O14,'시군구특별징수보고서(부서+운영항목+장관합계출력)'!G:G) -> 0 | H14: =SUMIF('시군구특별징수보고서(부서+운영항목+장관합계출력)'!$B:$B,$O14,'시군구특별징수보고서(부서+운영항목+장관합계출력)'!K:K) -> 0 | I14: =F14-G14-H14 -> 0 | J14: =I14-K14 -> 0 | L14: =IFERROR(G14/E14,0)*100 -> 0 | M14: =IFERROR(G14/F14,0)*100 -> 0 | O14: =C14 -> 212-02 하천사용료
C15: 212-03 하수도사용료 | E15: 0 | F15: =SUMIF('시군구특별징수보고서(부서+운영항목+장관합계출력)'!$B:$B,$O15,'시군구특별징수보고서(부서+운영항목+장관합계출력)'!E:E) -> 0 | G15: =SUMIF('시군구특별징수보고서(부서+운영항목+장관합계출력)'!$B:$B,$O15,'시군구특별징수보고서(부서+운영항목+장관합계출력)'!G:G) -> 0 | H15: =SUMIF('시군구특별징수보고서(부서+운영항목+장관합계출력)'!$B:$B,$O15,'시군구특별징수보고서(부서+운영항목+장관합계출력)'!K:K) -> 0 | I15: =F15-G15-H15 -> 0 | J15: =I15-K15 -> 0 | L15: =IFERROR(G15/E15,0)*100 -> 0 | M15: =IFERROR(G15/F15,0)*100 -> 0 | O15: =C15 -> 212-03 하수도사용료
C16: 212-04 상수도사용료 | E16: 0 | F16: =SUMIF('시군구특별징수보고서(부서+운영항목+장관합계출력)'!$B:$B,$O16,'시군구특별징수보고서(부서+운영항목+장관합계출력)'!E:E) -> 0 | G16: =SUMIF('시군구특별징수보고서(부서+운영항목+장관합계출력)'!$B:$B,$O16,'시군구특별징수보고서(부서+운영항목+장관합계출력)'!G:G) -> 0 | H16: =SUMIF('시군구특별징수보고서(부서+운영항목+장관합계출력)'!$B:$B,$O16,'시군구특별징수보고서(부서+운영항목+장관합계출력)'!K:K) -> 0 | I16: =F16-G16-H16 -> 0 | J16: =I16-K16 -> 0 | L16: =IFERROR(G16/E16,0)*100 -> 0 | M16: =IFERROR(G16/F16,0)*100 -> 0 | O16: =C16 -> 212-04 상수도사용료
C17: 212-05 공유수면사용료 | E17: 0 | F17: =SUMIF('시군구특별징수보고서(부서+운영항목+장관합계출력)'!$B:$B,$O17,'시군구특별징수보고서(부서+운영항목+장관합계출력)'!E:E) -> 0 | G17: =SUMIF('시군구특별징수보고서(부서+운영항목+장관합계출력)'!$B:$B,$O17,'시군구특별징수보고서(부서+운영항목+장관합계출력)'!G:G) -> 0 | H17: =SUMIF('시군구특별징수보고서(부서+운영항목+장관합계출력)'!$B:$B,$O17,'시군구특별징수보고서(부서+운영항목+장관합계출력)'!K:K) -> 0 | I17: =F17-G17-H17 -> 0 | J17: =I17-K17 -> 0 | L17: =IFERROR(G17/E17,0)*100 -> 0 | M17: =IFERROR(G17/F17,0)*100 -> 0 | O17: =C17 -> 212-05 공유수면사용료
C18: 212-06 시장사용료 | E18: 0 | F18: =SUMIF('시군구특별징수보고서(부서+운영항목+장관합계출력)'!$B:$B,$O18,'시군구특별징수보고서(부서+운영항목+장관합계출력)'!E:E) -> 0 | G18: =SUMIF('시군구특별징수보고서(부서+운영항목+장관합계출력)'!$B:$B,$O18,'시군구특별징수보고서(부서+운영항목+장관합계출력)'!G:G) -> 0 | H18: =SUMIF('시군구특별징수보고서(부서+운영항목+장관합계출력)'!$B:$B,$O18,'시군구특별징수보고서(부서+운영항목+장관합계출력)'!K:K) -> 0 | I18: =F18-G18-H18 -> 0 | J18: =I18-K18 -> 0 | L18: =IFERROR(G18/E18,0)*100 -> 0 | M18: =IFERROR(G18/F18,0)*100 -> 0 | O18: =C18 -> 212-06 시장사용료
C19: 212-07 입장료수입 | E19: 0 | F19: =SUMIF('시군구특별징수보고서(부서+운영항목+장관합계출력)'!$B:$B,$O19,'시군구특별징수보고서(부서+운영항목+장관합계출력)'!E:E) -> 0 | G19: =SUMIF('시군구특별징수보고서(부서+운영항목+장관합계출력)'!$B:$B,$O19,'시군구특별징수보고서(부서+운영항목+장관합계출력)'!G:G) -> 0 | H19: =SUMIF('시군구특별징수보고서(부서+운영항목+장관합계출력)'!$B:$B,$O19,'시군구특별징수보고서(부서+운영항목+장관합계출력)'!K:K) -> 0 | I19: =F19-G19-H19 -> 0 | J19: =I19-K19 -> 0 | L19: =IFERROR(G19/E19,0)*100 -> 0 | M19: =IFERROR(G19/F19,0)*100 -> 0 | O19: =C19 -> 212-07 입장료수입
C20: 212-08 주차요금수입 | E20: 2500000000 | F20: =SUMIF('시군구특별징수보고서(부서+운영항목+장관합계출력)'!$B:$B,$O20,'시군구특별징수보고서(부서+운영항목+장관합계출력)'!E:E) -> 318783501 | G20: =SUMIF('시군구특별징수보고서(부서+운영항목+장관합계출력)'!$B:$B,$O20,'시군구특별징수보고서(부서+운영항목+장관합계출력)'!G:G) -> 451092961 | H20: =SUMIF('시군구특별징수보고서(부서+운영항목+장관합계출력)'!$B:$B,$O20,'시군구특별징수보고서(부서+운영항목+장관합계출력)'!K:K) -> 0 | I20: =F20-G20-H20 -> -132309460 | J20: =I20-K20 -> -132309460 | L20: =IFERROR(G20/E20,0)*100 -> 18.043718 | M20: =IFERROR(G20/F20,0)*100 -> 141.50449 | O20: =C20 -> 212-08 주차요금수입
C21: 212-09 기타사용료 | E21: 1368000 | F21: =SUMIF('시군구특별징수보고서(부서+운영항목+장관합계출력)'!$B:$B,$O21,'시군구특별징수보고서(부서+운영항목+장관합계출력)'!E:E) -> 840982 | G21: =SUMIF('시군구특별징수보고서(부서+운영항목+장관합계출력)'!$B:$B,$O21,'시군구특별징수보고서(부서+운영항목+장관합계출력)'!G:G) -> 840982 | H21: =SUMIF('시군구특별징수보고서(부서+운영항목+장관합계출력)'!$B:$B,$O21,'시군구특별징수보고서(부서+운영항목+장관합계출력)'!K:K) -> 0 | I21: =F21-G21-H21 -> 0 | J21: =I21-K21 -> 0 | L21: =IFERROR(G21/E21,0)*100 -> 61.475292 | M21: =IFERROR(G21/F21,0)*100 -> 100 | O21: =C21 -> 212-09 기타사용료
B22: 213 수수료수입 | E22: 0 | F22: =SUM(F23:F27) -> 0 | G22: =SUM(G23:G27) -> 0 | H22: =SUM(H23:H27) -> 0 | I22: =SUM(I23:I27) -> 0 | J22: =SUM(J23:J27) -> 0 | K22: =SUM(K23:K27) -> 0 | L22: =IFERROR(G22/E22,0)*100 -> 0 | M22: =IFERROR(G22/F22,0)*100 -> 0 | O22: =C22 -> 0
C23: 213-01 증지수입 | E23: 0 | F23: =SUMIF('시군구특별징수보고서(부서+운영항목+장관합계출력)'!$B:$B,$O23,'시군구특별징수보고서(부서+운영항목+장관합계출력)'!E:E) -> 0 | G23: =SUMIF('시군구특별징수보고서(부서+운영항목+장관합계출력)'!$B:$B,$O23,'시군구특별징수보고서(부서+운영항목+장관합계출력)'!G:G) -> 0 | H23: =SUMIF('시군구특별징수보고서(부서+운영항목+장관합계출력)'!$B:$B,$O23,'시군구특별징수보고서(부서+운영항목+장관합계출력)'!K:K) -> 0 | I23: =F23-G23-H23 -> 0 | J23: =I23-K23 -> 0 | L23: =IFERROR(G23/E23,0)*100 -> 0 | M23: =IFERROR(G23/F23,0)*100 -> 0 | O23: =C23 -> 213-01 증지수입
C24: 213-02 폐기물처리수수료 | E24: 0 | F24: =SUMIF('시군구특별징수보고서(부서+운영항목+장관합계출력)'!$B:$B,$O24,'시군구특별징수보고서(부서+운영항목+장관합계출력)'!E:E) -> 0 | G24: =SUMIF('시군구특별징수보고서(부서+운영항목+장관합계출력)'!$B:$B,$O24,'시군구특별징수보고서(부서+운영항목+장관합계출력)'!G:G) -> 0 | H24: =SUMIF('시군구특별징수보고서(부서+운영항목+장관합계출력)'!$B:$B,$O24,'시군구특별징수보고서(부서+운영항목+장관합계출력)'!K:K) -> 0 | I24: =F24-G24-H24 -> 0 | J24: =I24-K24 -> 0 | L24: =IFERROR(G24/E24,0)*100 -> 0 | M24: =IFERROR(G24/F24,0)*100 -> 0 | O24: =C24 -> 213-02 폐기물처리수수료
C25: 213-03 재활용품수거판매수입 | E25: 0 | F25: =SUMIF('시군구특별징수보고서(부서+운영항목+장관합계출력)'!$B:$B,$O25,'시군구특별징수보고서(부서+운영항목+장관합계출력)'!E:E) -> 0 | G25: =SUMIF('시군구특별징수보고서(부서+운영항목+장관합계출력)'!$B:$B,$O25,'시군구특별징수보고서(부서+운영항목+장관합계출력)'!G:G) -> 0 | H25: =SUMIF('시군구특별징수보고서(부서+운영항목+장관합계출력)'!$B:$B,$O25,'시군구특별징수보고서(부서+운영항목+장관합계출력)'!K:K) -> 0 | I25: =F25-G25-H25 -> 0 | J25: =I25-K25 -> 0 | L25: =IFERROR(G25/E25,0)*100 -> 0 | M25: =IFERROR(G25/F25,0)*100 -> 0 | O25: =C25 -> 213-03 재활용품수거판매수입
C26: 213-04 보건의료수수료 | E26: 0 | F26: =SUMIF('시군구특별징수보고서(부서+운영항목+장관합계출력)'!$B:$B,$O26,'시군구특별징수보고서(부서+운영항목+장관합계출력)'!E:E) -> 0 | G26: =SUMIF('시군구특별징수보고서(부서+운영항목+장관합계출력)'!$B:$B,$O26,'시군구특별징수보고서(부서+운영항목+장관합계출력)'!G:G) -> 0 | H26: =SUMIF('시군구특별징수보고서(부서+운영항목+장관합계출력)'!$B:$B,$O26,'시군구특별징수보고서(부서+운영항목+장관합계출력)'!K:K) -> 0 | I26: =F26-G26-H26 -> 0 | J26: =I26-K26 -> 0 | O26: =C26 -> 213-04 보건의료수수료
C27: 213-05 기타수수료 | E27: 0 | F27: =SUMIF('시군구특별징수보고서(부서+운영항목+장관합계출력)'!$B:$B,$O27,'시군구특별징수보고서(부서+운영항목+장관합계출력)'!E:E) -> 0 | G27: =SUMIF('시군구특별징수보고서(부서+운영항목+장관합계출력)'!$B:$B,$O27,'시군구특별징수보고서(부서+운영항목+장관합계출력)'!G:G) -> 0 | H27: =SUMIF('시군구특별징수보고서(부서+운영항목+장관합계출력)'!$B:$B,$O27,'시군구특별징수보고서(부서+운영항목+장관합계출력)'!K:K) -> 0 | I27: =F27-G27-H27 -> 0 | J27: =I27-K27 -> 0 | L27: =IFERROR(G27/E27,0)*100 -> 0 | M27: =IFERROR(G27/F27,0)*100 -> 0 | O27: =C27 -> 213-05 기타수수료
B28: 214 사업수입 | E28: 422000000 | F28: =SUM(F29:F33) -> 575050 | G28: =SUM(G29:G33) -> 575050 | H28: =SUM(H29:H33) -> 0 | I28: =SUM(I29:I33) -> 0 | J28: =SUM(J29:J33) -> 0 | K28: =SUM(K29:K33) -> 0 | L28: =IFERROR(G28/E28,0)*100 -> 0.13626777 | M28: =IFERROR(G28/F28,0)*100 -> 100 | O28: =C28 -> 0
C29: 214-01 사업장생산수입 | E29: 0 | F29: =SUMIF('시군구특별징수보고서(부서+운영항목+장관합계출력)'!$B:$B,$O29,'시군구특별징수보고서(부서+운영항목+장관합계출력)'!E:E) -> 0 | G29: =SUMIF('시군구특별징수보고서(부서+운영항목+장관합계출력)'!$B:$B,$O29,'시군구특별징수보고서(부서+운영항목+장관합계출력)'!G:G) -> 0 | H29: =SUMIF('시군구특별징수보고서(부서+운영항목+장관합계출력)'!$B:$B,$O29,'시군구특별징수보고서(부서+운영항목+장관합계출력)'!K:K) -> 0 | I29: =F29-G29-H29 -> 0 | J29: =I29-K29 -> 0 | L29: =IFERROR(G29/E29,0)*100 -> 0 | M29: =IFERROR(G29/F29,0)*100 -> 0 | O29: =C29 -> 214-01 사업장생산수입
C30: 214-02 청산금수입 | E30: 0 | F30: =SUMIF('시군구특별징수보고서(부서+운영항목+장관합계출력)'!$B:$B,$O30,'시군구특별징수보고서(부서+운영항목+장관합계출력)'!E:E) -> 0 | G30: =SUMIF('시군구특별징수보고서(부서+운영항목+장관합계출력)'!$B:$B,$O30,'시군구특별징수보고서(부서+운영항목+장관합계출력)'!G:G) -> 0 | H30: =SUMIF('시군구특별징수보고서(부서+운영항목+장관합계출력)'!$B:$B,$O30,'시군구특별징수보고서(부서+운영항목+장관합계출력)'!K:K) -> 0 | I30: =F30-G30-H30 -> 0 | J30: =I30-K30 -> 0 | L30: =IFERROR(G30/E30,0)*100 -> 0 | M30: =IFERROR(G30/F30,0)*100 -> 0 | O30: =C30 -> 214-02 청산금수입
C31: 214-03 매각사업수입 | E31: 0 | F31: =SUMIF('시군구특별징수보고서(부서+운영항목+장관합계출력)'!$B:$B,$O31,'시군구특별징수보고서(부서+운영항목+장관합계출력)'!E:E) -> 0 | G31: =SUMIF('시군구특별징수보고서(부서+운영항목+장관합계출력)'!$B:$B,$O31,'시군구특별징수보고서(부서+운영항목+장관합계출력)'!G:G) -> 0 | H31: =SUMIF('시군구특별징수보고서(부서+운영항목+장관합계출력)'!$B:$B,$O31,'시군구특별징수보고서(부서+운영항목+장관합계출력)'!K:K) -> 0 | I31: =F31-G31-H31 -> 0 | J31: =I31-K31 -> 0 | L31: =IFERROR(G31/E31,0)*100 -> 0 | M31: =IFERROR(G31/F31,0)*100 -> 0 | O31: =C31 -> 214-03 매각사업수입
C32: 214-04 배당금수입 | E32: 0 | F32: =SUMIF('시군구특별징수보고서(부서+운영항목+장관합계출력)'!$B:$B,$O32,'시군구특별징수보고서(부서+운영항목+장관합계출력)'!E:E) -> 0 | G32: =SUMIF('시군구특별징수보고서(부서+운영항목+장관합계출력)'!$B:$B,$O32,'시군구특별징수보고서(부서+운영항목+장관합계출력)'!G:G) -> 0 | H32: =SUMIF('시군구특별징수보고서(부서+운영항목+장관합계출력)'!$B:$B,$O32,'시군구특별징수보고서(부서+운영항목+장관합계출력)'!K:K) -> 0 | I32: =F32-G32-H32 -> 0 | J32: =I32-K32 -> 0 | L32: =IFERROR(G32/E32,0)*100 -> 0 | M32: =IFERROR(G32/F32,0)*100 -> 0 | O32: =C32 -> 214-04 배당금수입
C33: 214-05 기타사업수입 | E33: 422000000 | F33: =SUMIF('시군구특별징수보고서(부서+운영항목+장관합계출력)'!$B:$B,$O33,'시군구특별징수보고서(부서+운영항목+장관합계출력)'!E:E) -> 575050 | G33: =SUMIF('시군구특별징수보고서(부서+운영항목+장관합계출력)'!$B:$B,$O33,'시군구특별징수보고서(부서+운영항목+장관합계출력)'!G:G) -> 575050 | H33: =SUMIF('시군구특별징수보고서(부서+운영항목+장관합계출력)'!$B:$B,$O33,'시군구특별징수보고서(부서+운영항목+장관합계출력)'!K:K) -> 0 | I33: =F33-G33-H33 -> 0 | J33: =I33-K33 -> 0 | L33: =IFERROR(G33/E33,0)*100 -> 0.13626777 | M33: =IFERROR(G33/F33,0)*100 -> 100 | O33: =C33 -> 214-05 기타사업수입
B34: 215 징수교부금수입 | E34: 205000000 | F34: =F35 -> 0 | G34: =G35 -> 0 | H34: =H35 -> 0 | I34: =I35 -> 0 | J34: =J35 -> 0 | K34: =K35 -> 0 | L34: =IFERROR(G34/E34,0)*100 -> 0 | M34: =IFERROR(G34/F34,0)*100 -> 0 | O34: =C34 -> 0
C35: 215-01 징수교부금수입 | E35: 205000000 | F35: =SUMIF('시군구특별징수보고서(부서+운영항목+장관합계출력)'!$B:$B,$O35,'시군구특별징수보고서(부서+운영항목+장관합계출력)'!E:E) -> 0 | G35: =SUMIF('시군구특별징수보고서(부서+운영항목+장관합계출력)'!$B:$B,$O35,'시군구특별징수보고서(부서+운영항목+장관합계출력)'!G:G) -> 0 | H35: =SUMIF('시군구특별징수보고서(부서+운영항목+장관합계출력)'!$B:$B,$O35,'시군구특별징수보고서(부서+운영항목+장관합계출력)'!K:K) -> 0 | I35: =F35-G35-H35 -> 0 | J35: =I35-K35 -> 0 | L35: =IFERROR(G35/E35,0)*100 -> 0 | M35: =IFERROR(G35/F35,0)*100 -> 0 | O35: =C35 -> 215-01 징수교부금수입
B36: 216 이자수입 | E36: 149000000 | F36: =SUM(F37:F39) -> 86541150 | G36: =SUM(G37:G39) -> 83351030 | H36: =SUM(H37:H39) -> 0 | I36: =SUM(I37:I39) -> 3190120 | J36: =SUM(J37:J39) -> 3190120 | K36: =SUM(K37:K39) -> 0 | L36: =IFERROR(G36/E36,0)*100 -> 55.940289 | M36: =IFERROR(G36/F36,0)*100 -> 96.313754 | O36: =C36 -> 0
C37: 216-01 공공예금이자수입 | E37: 124000000 | F37: =SUMIF('시군구특별징수보고서(부서+운영항목+장관합계출력)'!$B:$B,$O37,'시군구특별징수보고서(부서+운영항목+장관합계출력)'!E:E) -> 86541150 | G37: =SUMIF('시군구특별징수보고서(부서+운영항목+장관합계출력)'!$B:$B,$O37,'시군구특별징수보고서(부서+운영항목+장관합계출력)'!G:G) -> 83351030 | H37: =SUMIF('시군구특별징수보고서(부서+운영항목+장관합계출력)'!$B:$B,$O37,'시군구특별징수보고서(부서+운영항목+장관합계출력)'!K:K) -> 0 | I37: =F37-G37-H37 -> 3190120 | J37: =I37-K37 -> 3190120 | L37: =IFERROR(G37/#REF!,0)*100 -> 0 | M37: =IFERROR(G37/F37,0)*100 -> 96.313754 | O37: =C37 -> 216-01 공공예금이자수입
C38: 216-02 융자금회수이자수입 | E38: 0 | F38: =SUMIF('시군구특별징수보고서(부서+운영항목+장관합계출력)'!$B:$B,$O38,'시군구특별징수보고서(부서+운영항목+장관합계출력)'!E:E) -> 0 | G38: =SUMIF('시군구특별징수보고서(부서+운영항목+장관합계출력)'!$B:$B,$O38,'시군구특별징수보고서(부서+운영항목+장관합계출력)'!G:G) -> 0 | H38: =SUMIF('시군구특별징수보고서(부서+운영항목+장관합계출력)'!$B:$B,$O38,'시군구특별징수보고서(부서+운영항목+장관합계출력)'!K:K) -> 0 | I38: =F38-G38-H38 -> 0 | J38: =I38-K38 -> 0 | L38: =IFERROR(G38/E38,0)*100 -> 0 | M38: =IFERROR(G38/F38,0)*100 -> 0 | O38: =C38 -> 216-02 융자금회수이자수입
C39: 216-03 기타이자수입 | E39: 25000000 | F39: =SUMIF('시군구특별징수보고서(부서+운영항목+장관합계출력)'!$B:$B,$O39,'시군구특별징수보고서(부서+운영항목+장관합계출력)'!E:E) -> 0 | G39: =SUMIF('시군구특별징수보고서(부서+운영항목+장관합계출력)'!$B:$B,$O39,'시군구특별징수보고서(부서+운영항목+장관합계출력)'!G:G) -> 0 | H39: =SUMIF('시군구특별징수보고서(부서+운영항목+장관합계출력)'!$B:$B,$O39,'시군구특별징수보고서(부서+운영항목+장관합계출력)'!K:K) -> 0 | I39: =F39-G39-H39 -> 0 | J39: =I39-K39 -> 0 | L39: =IFERROR(G39/E39,0)*100 -> 0 | M39: =IFERROR(G39/F39,0)*100 -> 0 | O39: =C39 -> 216-03 기타이자수입
B40: 220 임시적세외수입 | E40: 789000000 | F40: =F41+F46+F48+F52+F60 -> 4202634329 | G40: =G41+G46+G48+G52+G60 -> 127974700 | H40: =H41+H46+H48+H52+H60 -> 0 | I40: =I41+I46+I48+I52+I60 -> 4074659629 | J40: =J41+J46+J48+J52+J60 -> 4074659629 | K40: =K41+K46+K48+K52+K60 -> 0 | L40: =IFERROR(G40/E40,0)*100 -> 16.219861 | M40: =IFERROR(G40/F40,0)*100 -> 3.0451067 | O40: =C40 -> 0
B41: 221 재산매각수입 | E41: 0 | I41: =SUM(I42:I45) -> 0 | J41: =SUM(J42:J45) -> 0 | K41: =SUM(K42:K45) -> 0 | L41: =IFERROR(G41/E41,0)*100 -> 0 | M41: =IFERROR(G41/F41,0)*100 -> 0 | O41: =C41 -> 0
...

Sheet 구세외징수보고서
I1: 2024년 2월분 일반회계 시군구 세외수입(운영항목별) 징수보고서
U2: (단위:원)
A3: 과 목 | F3: 예산액 | I3: 징수결정액 | K3: 수 납 액 | M3: 과오납 환부액 | O3: 불납결손액 | Q3: 미 수 납 액 | T3: 징수비율(%)
A4: 장 | B4: 관 | C4: 항 | D4: 목 | E4: 운영항목 | F4: 예산액 | G4: 전년도예산액 | H4: 비교증감 | I4: 본월분 | J4: 누계 | K4: 본월분 | L4: 누계 | M4: 본월분 | N4: 누계 | O4: 본월분 | P4: 누계 | Q4: 미수납액 (E=B-C-D) | R4: 체납액 (F=E-G) | S4: 납기미도래 (G) | T4: 대목표 | U4: 대조정 | V4: 관 | W4: 항 | X4: 목 | Y4: 장, 관, 항, 목, 운영항목 | Z4: 항 | AA4: 목
A5: 세 입 총 계 (200-00~700-00) | F5: =F6+F299 -> 891687920000 | G5: =G6+G299 -> 841118075000 | H5: =H6+H299 -> 50569845000 | I5: =I6+I299 -> 108604151282 | J5: =J6+J299 -> 237998018833 | K5: =K6+K299 -> 108792134765 | L5: =L6+L299 -> 212931481350 | M5: =M6+M299 -> 27390586 | ... S5: =S6+S299 -> 4276186640 | T5: =IFERROR((L5/F5)*100,"") -> 23.879597 | U5: =IFERROR((L5/J5)*100,"") -> 89.467754 | V5: v | Z5: =MID(C5,8,99) | AA5: =MID(D5,8,99)
A6: 세외수입합계 (200-00) | F6: =F7+F68+F208 -> 48834156000 | G6: =G7+G68+G208 -> 39853030000 | H6: =H7+H68+H208 -> 8981126000 | I6: =I7+I68+I208 -> 2979540689 | J6: =J7+J68+J208 -> 32834790316 | K6: =K7+K68+K208 -> 3167343542 | L6: =L7+L68+L208 -> 7768252833 | M6: =M7+M68+M208 -> 27390586 | ... S6: =S7+S68+S208 -> 4276186640 | T6: =IFERROR((L6/F6)*100,"") -> 15.907417 | U6: =IFERROR((L6/J6)*100,"") -> 23.658603 | V6: v | Z6: =MID(C6,8,99) | AA6: =MID(D6,8,99)
B7: 210-00 경상적세외수입 | F7: =F8+F18+F33+F51+F54+F63 -> 29388726000 | G7: =G8+G18+G33+G51+G54+G63 -> 29755437000 | H7: =H8+H18+H33+H51+H54+H63 -> -366711000 | I7: =I8+I18+I33+I51+I54+I63 -> 2425170589 | J7: =J8+J18+J33+J51+J54+J63 -> 5292951484 | K7: =K8+K18+K33+K51+K54+K63 -> 2376119316 | L7: =L8+L18+L33+L51+L54+L63 -> 5108815261 | M7: =M8+M18+M33+M51+M54+M63 -> 3516420 | ... S7: =S8+S18+S33+S51+S54+S63 -> 183089483 | T7: =IFERROR((L7/F7)*100,"") -> 17.383589 | U7: =IFERROR((L7/J7)*100,"") -> 96.521105 | V7: v | Z7: =MID(C7,8,99) | AA7: =MID(D7,8,99)
C8: =W10 -> 211-00 재산임대수입 | F8: =F9+F11 -> 182458000 | G8: =G9+G11 -> 173813000 | H8: =H9+H11 -> 8645000 | I8: =I9+I11 -> 47546260 | J8: =J9+J11 -> 68889850 | K8: =K9+K11 -> 20870270 | L8: =L9+L11 -> 30050760 | M8: =M9+M11 -> 0 | ... S8: =S9+S11 -> 38588330 | T8: =IFERROR((L8/F8)*100,"") -> 16.46996 | U8: =IFERROR((L8/J8)*100,"") -> 43.621462 | W8: v | Z8: =MID(C8,8,99) -> 재산임대수입 | AA8: =MID(D8,8,99)
D9: =X10 -> 211-01 국유재산대부료 | F9: 50000000 | G9: 50000000 | H9: 0 | I9: =SUM(I10:I10) -> 0 | J9: =SUM(J10:J10) -> 0 | K9: =SUM(K10:K10) -> 0 | L9: =SUM(L10:L10) -> 0 | M9: =SUM(M10:M10) -> 0 | N9: =SUM(N10:N10) -> 0 | O9: =SUM(O10:O10) -> 0 | P9: =SUM(P10:P10) -> 0 | ... S9: =SUM(S10:S10) -> 0 | T9: =IFERROR((L9/F9)*100,"") -> 0 | U9: =IFERROR((L9/J9)*100,"") | X9: v | Z9: =MID(C9,8,99) | AA9: =MID(D9,8,99) -> 국유재산대부료
E10: =Y10 -> 211-001-000 국유재산사용료 | F10: 0 | H10: =F10 -> 0 | I10: 0 | J10: 0 | K10: 0 | L10: 0 | M10: 0 | N10: 0 | O10: 0 | P10: 0 | Q10: =J10-L10-P10 -> 0 | R10: =Q10-S10 -> 0 | S10: 0 | T10: =IFERROR((L10/F10)*100,"") | U10: =IFERROR((L10/J10)*100,"") | W10: 211-00 재산임대수입 | X10: 211-01 국유재산대부료 | Y10: 211-001-000 국유재산사용료 | Z10: =MID(C10,8,99) | AA10: =MID(D10,8,99)
D11: =X12 -> 211-02 공유재산임대료 | F11: 132458000 | G11: 123813000 | H11: 8645000 | I11: =SUM(I12:I17) -> 47546260 | J11: =SUM(J12:J17) -> 68889850 | K11: =SUM(K12:K17) -> 20870270 | L11: =SUM(L12:L17) -> 30050760 | M11: =SUM(M12:M17) -> 0 | N11: =SUM(N12:N17) -> 0 | O11: =SUM(O12:O17) -> 0 | P11: =SUM(P12:P17) -> 0 | ... S11: =SUM(S12:S17) -> 38588330 | T11: =IFERROR((L11/F11)*100,"") -> 22.68701 | U11: =IFERROR((L11/J11)*100,"") -> 43.621462 | X11: v | Z11: =MID(C11,8,99) | AA11: =MID(D11,8,99) -> 공유재산임대료
E12: =Y12 -> 211-051-006 공유재산사용료 | F12: 0 | H12: =F12 -> 0 | I12: 0 | J12: 0 | K12: 0 | L12: 0 | M12: 0 | N12: 0 | O12: 0 | P12: 0 | Q12: =J12-L12-P12 -> 0 | R12: =Q12-S12 -> 0 | S12: 0 | T12: =IFERROR((L12/F12)*100,"") | U12: =IFERROR((L12/J12)*100,"") | W12: 211-00 재산임대수입 | X12: 211-02 공유재산임대료 | Y12: 211-051-006 공유재산사용료 | Z12: =MID(C12,8,99) | AA12: =MID(D12,8,99)
E13: =Y13 -> 211-051-008 행정재산사용료 | F13: 0 | H13: =F13 -> 0 | I13: 34054210 | J13: 34054210 | K13: 0 | L13: 0 | M13: 0 | N13: 0 | O13: 0 | P13: 0 | Q13: =J13-L13-P13 -> 34054210 | R13: =Q13-S13 -> 0 | S13: 34054210 | T13: =IFERROR((L13/F13)*100,"") | U13: =IFERROR((L13/J13)*100,"") -> 0 | W13: 211-00 재산임대수입 | X13: 211-02 공유재산임대료 | Y13: 211-051-008 행정재산사용료 | Z13: =MID(C13,8,99) | AA13: =MID(D13,8,99)
E14: =Y14 -> 211-051-009 시군구재산사용료 | F14: 0 | H14: =F14 -> 0 | I14: 0 | J14: 6226080 | K14: 0 | L14: 6226080 | M14: 0 | N14: 0 | O14: 0 | P14: 0 | Q14: =J14-L14-P14 -> 0 | R14: =Q14-S14 -> 0 | S14: 0 | T14: =IFERROR((L14/F14)*100,"") | U14: =IFERROR((L14/J14)*100,"") -> 100 | W14: 211-00 재산임대수입 | X14: 211-02 공유재산임대료 | Y14: 211-051-009 시군구재산사용료 | Z14: =MID(C14,8,99) | AA14: =MID(D14,8,99)
E15: =Y15 -> 211-052-001 기타공유재산대부료 | F15: 0 | H15: =F15 -> 0 | I15: 0 | J15: 0 | K15: 0 | L15: 0 | M15: 0 | N15: 0 | O15: 0 | P15: 0 | Q15: =J15-L15-P15 -> 0 | R15: =Q15-S15 -> 0 | S15: 0 | T15: =IFERROR((L15/F15)*100,"") | U15: =IFERROR((L15/J15)*100,"") | W15: 211-00 재산임대수입 | X15: 211-02 공유재산임대료 | Y15: 211-052-001 기타공유재산대부료 | Z15: =MID(C15,8,99) | AA15: =MID(D15,8,99)
E16: =Y16 -> 211-052-034 시도유재산대부료 | F16: 0 | H16: =F16 -> 0 | I16: 7890800 | J16: 9557550 | K16: 7849870 | L16: 9480130 | M16: 0 | N16: 0 | O16: 0 | P16: 0 | Q16: =J16-L16-P16 -> 77420 | R16: =Q16-S16 -> 0 | S16: 77420 | T16: =IFERROR((L16/F16)*100,"") | U16: =IFERROR((L16/J16)*100,"") -> 99.18996 | W16: 211-00 재산임대수입 | X16: 211-02 공유재산임대료 | Y16: 211-052-034 시도유재산대부료 | Z16: =MID(C16,8,99) | AA16: =MID(D16,8,99)
E17: =Y17 -> 211-052-035 시군구재산대부료 | F17: 0 | H17: =F17 -> 0 | I17: 5601250 | J17: 19052010 | K17: 13020400 | L17: 14344550 | M17: 0 | N17: 0 | O17: 0 | P17: 0 | Q17: =J17-L17-P17 -> 4707460 | R17: =Q17-S17 -> 250760 | S17: 4456700 | T17: =IFERROR((L17/F17)*100,"") | U17: =IFERROR((L17/J17)*100,"") -> 75.291531 | W17: 211-00 재산임대수입 | X17: 211-02 공유재산임대료 | Y17: 211-052-035 시군구재산대부료 | Z17: =MID(C17,8,99) | AA17: =MID(D17,8,99)
C18: =W20 -> 212-00 사용료수입 | F18: =F19+F29 -> 2603862000 | G18: =G19+G29 -> 3160817000 | H18: =H19+H29 -> -556955000 | I18: =I19+I29 -> 96518185 | J18: =J19+J29 -> 287799592 | K18: =K19+K29 -> 90018315 | L18: =L19+L29 -> 280946922 | M18: =M19+M29 -> 3429000 | ... S18: =S19+S29 -> 6645030 | T18: =IFERROR((L18/F18)*100,"") -> 10.789624 | U18: =IFERROR((L18/J18)*100,"") -> 97.618944 | W18: v | Z18: =MID(C18,8,99) -> 사용료수입 | AA18: =MID(D18,8,99)
D19: =X20 -> 212-01 도로사용료 | F19: 1150000000 | G19: 1150000000 | H19: 0 | I19: =SUM(I20:I28) -> 4594640 | J19: =SUM(J20:J28) -> 13611840 | K19: =SUM(K20:K28) -> 3822400 | L19: =SUM(L20:L28) -> 12486800 | M19: =SUM(M20:M28) -> 0 | N19: =SUM(N20:N28) -> 92400 | O19: =SUM(O20:O28) -> 0 | P19: =SUM(P20:P28) -> 0 | ... S19: =SUM(S20:S28) -> 917400 | T19: =IFERROR((L19/F19)*100,"") -> 1.0858087 | U19: =IFERROR((L19/J19)*100,"") -> 91.734843 | X19: v | Z19: =MID(C19,8,99) | AA19: =MID(D19,8,99) -> 도로사용료
E20: =Y20 -> 212-001-001 건축현장도로점용료 | F20: 0 | H20: =F20 -> 0 | I20: 0 | J20: 0 | K20: 0 | L20: 0 | M20: 0 | N20: 0 | O20: 0 | P20: 0 | Q20: =J20-L20-P20 -> 0 | R20: =Q20-S20 -> 0 | S20: 0 | T20: =IFERROR((L20/F20)*100,"") | U20: =IFERROR((L20/J20)*100,"") | W20: 212-00 사용료수입 | X20: 212-01 도로사용료 | Y20: 212-001-001 건축현장도로점용료 | Z20: =MID(C20,8,99) | AA20: =MID(D20,8,99)
E21: =Y21 -> 212-001-003 굴착수반점용료 | I21: 0 | J21: 12900 | K21: 0 | L21: 12900 | M21: 0 | N21: 48000 | O21: 0 | P21: 0 | Q21: =J21-L21-P21 -> 0 | R21: =Q21-S21 -> 0 | S21: 0 | T21: =IFERROR((L21/F21)*100,"") | U21: =IFERROR((L21/J21)*100,"") -> 100 | W21: 212-00 사용료수입 | X21: 212-01 도로사용료 | Y21: 212-001-003 굴착수반점용료 | Z21: =MID(C21,8,99) | AA21: =MID(D21,8,99)
E22: =Y22 -> 212-001-005 도로점용료(공사공단) | I22: 0 | J22: 0 | K22: 0 | L22: 0 | M22: 0 | N22: 0 | O22: 0 | P22: 0 | Q22: =J22-L22-P22 -> 0 | R22: =Q22-S22 -> 0 | S22: 0 | T22: =IFERROR((L22/F22)*100,"") | U22: =IFERROR((L22/J22)*100,"") | W22: 212-00 사용료수입 | X22: 212-01 도로사용료 | Y22: 212-001-005 도로점용료(공사공단) | Z22: =MID(C22,8,99) | AA22: =MID(D22,8,99)
E23: =Y23 -> 212-001-006 기타도로사용료 | I23: 203740 | J23: 5010140 | K23: 258000 | L23: 4711600 | M23: 0 | N23: 0 | O23: 0 | P23: 0 | Q23: =J23-L23-P23 -> 298540 | R23: =Q23-S23 -> 207640 | S23: 90900 | T23: =IFERROR((L23/F23)*100,"") | U23: =IFERROR((L23/J23)*100,"") -> 94.041284 | W23: 212-00 사용료수입 | X23: 212-01 도로사용료 | Y23: 212-001-006 기타도로사용료 | Z23: =MID(C23,8,99) | AA23: =MID(D23,8,99)
E24: =Y24 -> 212-001-010 차량출입시설 | I24: 826500 | J24: 1636700 | K24: 0 | L24: 810200 | M24: 0 | N24: 0 | O24: 0 | P24: 0 | Q24: =J24-L24-P24 -> 826500 | R24: =Q24-S24 -> 0 | S24: 826500 | T24: =IFERROR((L24/F24)*100,"") | U24: =IFERROR((L24/J24)*100,"") -> 49.502047 | W24: 212-00 사용료수입 | X24: 212-01 도로사용료 | Y24: 212-001-010 차량출입시설 | Z24: =MID(C24,8,99) | AA24: =MID(D24,8,99)
E25: =Y25 -> 212-001-012 도로점용료(현수막) | I25: 3553800 | J25: 6901500 | K25: 3553800 | L25: 6901500 | M25: 0 | N25: 0 | O25: 0 | P25: 0 | Q25: =J25-L25-P25 -> 0 | R25: =Q25-S25 -> 0 | S25: 0 | T25: =IFERROR((L25/F25)*100,"") | U25: =IFERROR((L25/J25)*100,"") -> 100 | W25: 212-00 사용료수입 | X25: 212-01 도로사용료 | Y25: 212-001-012 도로점용료(현수막) | Z25: =MID(C25,8,99) | AA25: =MID(D25,8,99)
E26: =Y26 -> 212-001-013 도로점용료(돌출간판) | I26: 0 | J26: 0 | K26: 0 | L26: 0 | M26: 0 | N26: 0 | O26: 0 | P26: 0 | Q26: =J26-L26-P26 -> 0 | R26: =Q26-S26 -> 0 | S26: 0 | T26: =IFERROR((L26/F26)*100,"") | U26: =IFERROR((L26/J26)*100,"") | W26: 212-00 사용료수입 | X26: 212-01 도로사용료 | Y26: 212-001-013 도로점용료(돌출간판) | Z26: =MID(C26,8,99) | AA26: =MID(D26,8,99)
E27: =Y27 -> 212-001-014 사설안내표지판 | I27: 0 | J27: 0 | K27: 0 | L27: 0 | M27: 0 | N27: 0 | O27: 0 | P27: 0 | Q27: =J27-L27-P27 -> 0 | R27: =Q27-S27 -> 0 | S27: 0 | T27: =IFERROR((L27/F27)*100,"") | U27: =IFERROR((L27/J27)*100,"") | W27: 212-00 사용료수입 | X27: 212-01 도로사용료 | Y27: 212-001-014 사설안내표지판 | Z27: =MID(C27,8,99) | AA27: =MID(D27,8,99)
E28: =Y28 -> 212-001-022 매설물점용료 | I28: 10600 | J28: 50600 | K28: 10600 | L28: 50600 | M28: 0 | N28: 44400 | O28: 0 | P28: 0 | Q28: =J28-L28-P28 -> 0 | R28: =Q28-S28 -> 0 | S28: 0 | T28: =IFERROR((L28/F28)*100,"") | U28: =IFERROR((L28/J28)*100,"") -> 100 | W28: 212-00 사용료수입 | X28: 212-01 도로사용료 | Y28: 212-001-022 매설물점용료 | Z28: =MID(C28,8,99) | AA28: =MID(D28,8,99)
D29: =X30 -> 212-09 기타사용료 | F29: 1453862000 | G29: 2010817000 | H29: -556955000 | I29: =SUM(I30:I32) -> 91923545 | J29: =SUM(J30:J32) -> 274187752 | K29: =SUM(K30:K32) -> 86195915 | L29: =SUM(L30:L32) -> 268460122 | M29: =SUM(M30:M32) -> 3429000 | N29: =SUM(N30:N32) -> 8838540 | O29: =SUM(O30:O32) -> 0 | P29: =SUM(P30:P32) -> 0 | ... S29: =SUM(S30:S32) -> 5727630 | T29: =IFERROR((L29/F29)*100,"") -> 18.46531 | U29: =IFERROR((L29/J29)*100,"") -> 97.911055 | X29: v | Z29: =MID(C29,8,99) | AA29: =MID(D29,8,99) -> 기타사용료
E30: =Y30 -> 212-402-003 도시공원점용료 | F30: 0 | H30: =F30 -> 0 | I30: 0 | J30: 46942600 | K30: 0 | L30: 46942600 | M30: 0 | N30: 0 | O30: 0 | P30: 0 | Q30: =J30-L30-P30 -> 0 | R30: =Q30-S30 -> 0 | S30: 0 | T30: =IFERROR((L30/F30)*100,"") | U30: =IFERROR((L30/J30)*100,"") -> 100 | W30: 212-00 사용료수입 | X30: 212-09 기타사용료 | Y30: 212-402-003 도시공원점용료 | Z30: =MID(C30,8,99) | AA30: =MID(D30,8,99)
E31: =Y31 -> 212-420-000 기타사용료 | F31: 0 | H31: =F31 -> 0 | I31: 37480695 | J31: 92328842 | K31: 37480695 | L31: 92328842 | M31: 0 | N31: 0 | O31: 0 | P31: 0 | Q31: =J31-L31-P31 -> 0 | R31: =Q31-S31 -> 0 | S31: 0 | T31: =IFERROR((L31/F31)*100,"") | U31: =IFERROR((L31/J31)*100,"") -> 100 | W31: 212-00 사용료수입 | X31: 212-09 기타사용료 | Y31: 212-420-000 기타사용료 | Z31: =MID(C31,8,99) | AA31: =MID(D31,8,99)
E32: =Y32 -> 212-420-002 기타사용료(공사공단) | F32: 0 | H32: =F32 -> 0 | I32: 54442850 | J32: 134916310 | K32: 48715220 | L32: 129188680 | M32: 3429000 | N32: 8838540 | O32: 0 | P32: 0 | Q32: =J32-L32-P32 -> 5727630 | R32: =Q32-S32 -> 0 | S32: 5727630 | T32: =IFERROR((L32/F32)*100,"") | U32: =IFERROR((L32/J32)*100,"") -> 95.754679 | W32: 212-00 사용료수입 | X32: 212-09 기타사용료 | Y32: 212-420-002 기타사용료(공사공단) | Z32: =MID(C32,8,99) | AA32: =MID(D32,8,99)
C33: =W35 -> 213-00 수수료수입 | F33: =F34+F38+F42+F44 -> 13905956000 | G33: =G34+G38+G42+G44 -> 12822261000 | H33: =H34+H38+H42+H44 -> 1083695000 | I33: =I34+I38+I42+I44 -> 996104946 | J33: =J34+J38+J42+J44 -> 2120452365 | K33: =K34+K38+K42+K44 -> 980100681 | L33: =L34+L38+L42+L44 -> 1982026480 | M33: =M34+M38+M42+M44 -> 87420 | ... S33: =S34+S38+S42+S44 -> 137837545 | T33: =IFERROR((L33/F33)*100,"") -> 14.253076 | U33: =IFERROR((L33/J33)*100,"") -> 93.47187 | W33: v | Z33: =MID(C33,8,99) -> 수수료수입 | AA33: =MID(D33,8,99)
D34: =X35 -> 213-01 증지수입 | F34: 1300000000 | G34: 1350000000 | H34: -50000000 | I34: =SUM(I35:I37) -> 99622290 | J34: =SUM(J35:J37) -> 216840260 | K34: =SUM(K35:K37) -> 98998290 | L34: =SUM(L35:L37) -> 204149360 | M34: =SUM(M35:M37) -> 87420 | N34: =SUM(N35:N37) -> 115020 | O34: =SUM(O35:O37) -> 0 | P34: =SUM(P35:P37) -> 0 | ... S34: =SUM(S35:S37) -> 12590900 | T34: =IFERROR((L34/F34)*100,"") -> 15.703797 | U34: =IFERROR((L34/J34)*100,"") -> 94.147351 | X34: v | Z34: =MID(C34,8,99) | AA34: =MID(D34,8,99) -> 증지수입
E35: =Y35 -> 213-001-000 인증기용증지수입 | F35: 0 | H35: =F35 -> 0 | I35: 90274490 | J35: 199282260 | K35: 89683890 | L35: 186641360 | M35: 87420 | N35: 115020 | O35: 0 | P35: 0 | Q35: =J35-L35-P35 -> 12640900 | R35: =Q35-S35 -> 100000 | S35: 12540900 | T35: =IFERROR((L35/F35)*100,"") | U35: =IFERROR((L35/J35)*100,"") -> 93.656786 | W35: 213-00 수수료수입 | X35: 213-01 증지수입 | Y35: 213-001-000 인증기용증지수입 | Z35: =MID(C35,8,99) | AA35: =MID(D35,8,99)
E36: =Y36 -> 213-001-007 인증기용증지(공사공단) | I36: 6111200 | J36: 11452400 | K36: 6111200 | L36: 11452400 | M36: 0 | N36: 0 | O36: 0 | P36: 0 | Q36: =J36-L36-P36 -> 0 | R36: =Q36-S36 -> 0 | S36: 0 | T36: =IFERROR((L36/F36)*100,"") | U36: =IFERROR((L36/J36)*100,"") -> 100 | W36: 213-00 수수료수입 | X36: 213-01 증지수입 | Y36: 213-001-007 인증기용증지(공사공단) | Z36: =MID(C36,8,99) | AA36: =MID(D36,8,99)
E37: =Y37 -> 213-204-000 무인민원발급기증지수입 | I37: 3236600 | J37: 6105600 | K37: 3203200 | L37: 6055600 | M37: 0 | N37: 0 | O37: 0 | P37: 0 | Q37: =J37-L37-P37 -> 50000 | R37: =Q37-S37 -> 0 | S37: 50000 | T37: =IFERROR((L37/F37)*100,"") | U37: =IFERROR((L37/J37)*100,"") -> 99.18108 | W37: 213-00 수수료수입 | X37: 213-01 증지수입 | Y37: 213-204-000 무인민원발급기증지수입 | Z37: =MID(C37,8,99) | AA37: =MID(D37,8,99)
D38: =X39 -> 213-02 폐기물처리수수료 | F38: 11985000000 | G38: 10806000000 | H38: 1179000000 | I38: =SUM(I39:I41) -> 845700096 | J38: =SUM(J39:J41) -> 1809203537 | K38: =SUM(K39:K41) -> 839797241 | L38: =SUM(L39:L41) -> 1693074662 | M38: =SUM(M39:M41) -> 0 | N38: =SUM(N39:N41) -> 0 | O38: =SUM(O39:O41) -> 0 | P38: =SUM(P39:P41) -> 0 | ... S38: =SUM(S39:S41) -> 115640535 | T38: =IFERROR((L38/F38)*100,"") -> 14.126614 | U38: =IFERROR((L38/J38)*100,"") -> 93.581216 | X38: v | Z38: =MID(C38,8,99) | AA38: =MID(D38,8,99) -> 폐기물처리수수료
E39: =Y39 -> 213-051-002 쓰레기처리봉투판매수입(생활) | F39: 0 | H39: =F39 -> 0 | I39: 752102185 | J39: 1619088465 | K39: 745217600 | L39: 1504182610 | M39: 0 | N39: 0 | O39: 0 | P39: 0 | Q39: =J39-L39-P39 -> 114905855 | R39: =Q39-S39 -> 0 | S39: 114905855 | T39: =IFERROR((L39/F39)*100,"") | U39: =IFERROR((L39/J39)*100,"") -> 92.903053 | W39: 213-00 수수료수입 | X39: 213-02 폐기물처리수수료 | Y39: 213-051-002 쓰레기처리봉투판매수입(생활) | Z39: =MID(C39,8,99) | AA39: =MID(D39,8,99)
E40: =Y40 -> 213-052-000 대형폐기물스티커판매수입 | F40: 0 | H40: =F40 -> 0 | I40: 32279091 | J40: 64727932 | K40: 32279091 | L40: 64727932 | M40: 0 | N40: 0 | O40: 0 | P40: 0 | Q40: =J40-L40-P40 -> 0 | R40: =Q40-S40 -> 0 | S40: 0 | T40: =IFERROR((L40/F40)*100,"") | U40: =IFERROR((L40/J40)*100,"") -> 100 | W40: 213-00 수수료수입 | X40: 213-02 폐기물처리수수료 | Y40: 213-052-000 대형폐기물스티커판매수입 | Z40: =MID(C40,8,99) | AA40: =MID(D40,8,99)
...

Sheet 지난년도수입(세부)
F1: 2024년 2월분 지난년도수입(세부)
Q2: (단위:원)
A3: 과 목 | F3: 징수결정액 | H3: 수 납 액 | J3: 과오납 환부액 | L3: 불납결손액 | N3: 미 수 납 액
A4: 장 | B4: 관 | C4: 항 | D4: 목 | E4: 운영항목 | F4: 본월분 | G4: 누계 | H4: 본월분 | I4: 누계 | J4: 본월분 | K4: 누계 | L4: 본월분 | M4: 누계 | N4: 미수납액 (E=B-C-D) | O4: 체납액 (F=E-G) | P4: 납기미도래 (G) | Q4: 대조정 | R4: 관 | S4: 지난년도수입(세부)용 | T4: 항 | U4: 목 | V4: 장, 관, 항, 목, 운영항목 | W4: 항 | X4: 목
A5: 지 난 년 도 세 입 총 계 (200-00~700-00) | F5: =F6+F210+F217+F226+F239 -> 9180858 | G5: =G6+G210+G217+G226+G239 -> 21495191386 | H5: =H6+H210+H217+H226+H239 -> 63084581 | I5: =I6+I210+I217+I226+I239 -> 399632593 | J5: =J6+J210+J217+J226+J239 -> 23808330 | K5: =K6+K210+K217+K226+K239 -> 24467640 | L5: =L6+L210+L217+L226+L239 -> 0 | M5: =M6+M210+M217+M226+M239 -> 177121930 | ... P5: =P6+P210+P217+P226+P239 -> 398378620 | Q5: =IFERROR((I5/G5)*100,"") -> 1.8591721 | R5: v | W5: =MID(C5,8,99) | X5: =MID(D5,8,99)
A6: 세외수입합계 (200-00) | F6: =F7+F71+F98 -> 9180858 | G6: =G7+G71+G98 -> 21474527946 | H6: =H7+H71+H98 -> 63084581 | I6: =I7+I71+I98 -> 399632593 | J6: =J7+J71+J98 -> 23808330 | K6: =K7+K71+K98 -> 24467640 | L6: =L7+L71+L98 -> 0 | M6: =M7+M71+M98 -> 177121930 | ... P6: =P7+P71+P98 -> 398378620 | Q6: =IFERROR((I6/G6)*100,"") -> 1.860961 | R6: v | W6: =MID(C6,8,99) | X6: =MID(D6,8,99)
B7: 210-00 경상적세외수입 | F7: =F8+F20+F36+F54+F57+F66 -> -5337330 | G7: =G8+G20+G36+G54+G57+G66 -> 381431385 | H7: =H8+H20+H36+H54+H57+H66 -> -4708770 | I7: =I8+I20+I36+I54+I57+I66 -> 161350820 | J7: =J8+J20+J36+J54+J57+J66 -> 5452330 | K7: =K8+K20+K36+K54+K57+K66 -> 5837110 | L7: =L8+L20+L36+L54+L57+L66 -> 0 | M7: =M8+M20+M36+M54+M57+M66 -> 1072200 | ... P7: =P8+P20+P36+P54+P57+P66 -> 0 | Q7: =IFERROR((I7/G7)*100,"") -> 42.301401 | R7: v | W7: =MID(C7,8,99) | X7: =MID(D7,8,99)
C8: =T10 -> 211-00 재산임대수입 | F8: =F9+F12 -> -5452330 | G8: =G9+G12 -> 152299494 | H8: =H9+H12 -> -5452330 | I8: =I9+I12 -> -508360 | J8: =J9+J12 -> 5452330 | K8: =K9+K12 -> 5727710 | L8: =L9+L12 -> 0 | M8: =M9+M12 -> 0 | ... P8: =P9+P12 -> 0 | Q8: =IFERROR((I8/G8)*100,"") -> -0.33378968 | T8: v | W8: =MID(C8,8,99) -> 재산임대수입 | X8: =MID(D8,8,99)
D9: =U10 -> 211-01 국유재산대부료 | F9: =SUM(F10:F11) -> 0 | G9: =SUM(G10:G11) -> 15478964 | H9: =SUM(H10:H11) -> 0 | I9: =SUM(I10:I11) -> 0 | J9: =SUM(J10:J11) -> 0 | K9: =SUM(K10:K11) -> 0 | L9: =SUM(L10:L11) -> 0 | M9: =SUM(M10:M11) -> 0 | ... O9: =SUM(O10:O11) -> 15478964 | P9: =SUM(P10:P10) -> 0 | Q9: =IFERROR((I9/G9)*100,"") -> 0 | U9: v | W9: =MID(C9,8,99) | X9: =MID(D9,8,99) -> 국유재산대부료
E10: =V10 -> 211-001-000 국유재산사용료 | F10: 0 | G10: 17159994 | H10: 0 | I10: 0 | J10: 0 | K10: 0 | L10: 0 | M10: 0 | N10: =G10-I10-M10 -> 17159994 | O10: =N10-P10 -> 17159994 | P10: 0 | Q10: =IFERROR((I10/G10)*100,"") -> 0 | S10: 225-00 지난년도수입 | T10: 211-00 재산임대수입 | U10: 211-01 국유재산대부료 | V10: 211-001-000 국유재산사용료 | W10: =MID(C10,8,99) | X10: =MID(D10,8,99)
E11: =V11 -> 211-002-000 국유재산대부료 | F11: 0 | G11: -1681030 | H11: 0 | I11: 0 | J11: 0 | K11: 0 | L11: 0 | M11: 0 | N11: =G11-I11-M11 -> -1681030 | O11: =N11-P11 -> -1681030 | P11: 0 | Q11: =IFERROR((I11/G11)*100,"") -> 0 | S11: 225-00 지난년도수입 | T11: 211-00 재산임대수입 | U11: 211-01 국유재산대부료 | V11: 211-002-000 국유재산대부료 | W11: =MID(C11,8,99) | X11: =MID(D11,8,99)
D12: =U13 -> 211-02 공유재산임대료 | F12: =SUM(F13:F19) -> -5452330 | G12: =SUM(G13:G19) -> 136820530 | H12: =SUM(H13:H19) -> -5452330 | I12: =SUM(I13:I19) -> -508360 | J12: =SUM(J13:J19) -> 5452330 | K12: =SUM(K13:K19) -> 5727710 | L12: =SUM(L13:L19) -> 0 | M12: =SUM(M13:M19) -> 0 | ... P12: =SUM(P13:P19) -> 0 | Q12: =IFERROR((I12/G12)*100,"") -> -0.37155243 | U12: v | W12: =MID(C12,8,99) | X12: =MID(D12,8,99) -> 공유재산임대료
E13: =V13 -> 211-051-006 공유재산사용료 | F13: 0 | G13: 30603710 | H13: 0 | I13: -84520 | J13: 0 | K13: 275380 | L13: 0 | M13: 0 | N13: =G13-I13-M13 -> 30688230 | O13: =N13-P13 -> 30688230 | P13: 0 | Q13: =IFERROR((I13/G13)*100,"") -> -0.27617567 | S13: 225-00 지난년도수입 | T13: 211-00 재산임대수입 | U13: 211-02 공유재산임대료 | V13: 211-051-006 공유재산사용료 | W13: =MID(C13,8,99) | X13: =MID(D13,8,99)
E14: =V14 -> 211-051-008 행정재산사용료 | F14: 0 | G14: 0 | H14: 0 | I14: 0 | J14: 0 | K14: 0 | L14: 0 | M14: 0 | N14: =G14-I14-M14 -> 0 | O14: =N14-P14 -> 0 | P14: 0 | Q14: =IFERROR((I14/G14)*100,"") | S14: 225-00 지난년도수입 | T14: 211-00 재산임대수입 | U14: 211-02 공유재산임대료 | V14: 211-051-008 행정재산사용료 | W14: =MID(C14,8,99) | X14: =MID(D14,8,99)
E15: =V15 -> 211-051-009 시군구재산사용료 | F15: 0 | G15: 1877700 | H15: 0 | I15: 0 | J15: 0 | K15: 0 | L15: 0 | M15: 0 | N15: =G15-I15-M15 -> 1877700 | O15: =N15-P15 -> 1877700 | P15: 0 | Q15: =IFERROR((I15/G15)*100,"") -> 0 | S15: 225-00 지난년도수입 | T15: 211-00 재산임대수입 | U15: 211-02 공유재산임대료 | V15: 211-051-009 시군구재산사용료 | W15: =MID(C15,8,99) | X15: =MID(D15,8,99)
E16: =V16 -> 211-051-010 시도유재산사용료 | F16: 0 | G16: -1766560 | H16: 0 | I16: 0 | J16: 0 | K16: 0 | L16: 0 | M16: 0 | N16: =G16-I16-M16 -> -1766560 | O16: =N16-P16 -> -1766560 | P16: 0 | Q16: =IFERROR((I16/G16)*100,"") -> 0 | S16: 225-00 지난년도수입 | T16: 211-01 재산임대수입 | U16: 211-02 공유재산임대료 | V16: 211-051-010 시도유재산사용료 | W16: =MID(C16,8,99) | X16: =MID(D16,8,99)
E17: =V17 -> 211-052-001 기타공유재산대부료 | F17: 0 | G17: 106002440 | H17: 0 | I17: 742790 | J17: 0 | K17: 0 | L17: 0 | M17: 0 | N17: =G17-I17-M17 -> 105259650 | O17: =N17-P17 -> 105259650 | P17: 0 | Q17: =IFERROR((I17/G17)*100,"") -> 0.70072915 | S17: 225-00 지난년도수입 | T17: 211-00 재산임대수입 | U17: 211-02 공유재산임대료 | V17: 211-052-001 기타공유재산대부료 | W17: =MID(C17,8,99) | X17: =MID(D17,8,99)
E18: =V18 -> 211-052-034 시도유재산대부료 | F18: 0 | G18: 3122200 | H18: 0 | I18: 1441560 | J18: 0 | K18: 0 | L18: 0 | M18: 0 | N18: =G18-I18-M18 -> 1680640 | O18: =N18-P18 -> 1680640 | P18: 0 | Q18: =IFERROR((I18/G18)*100,"") -> 46.171289 | S18: 225-00 지난년도수입 | T18: 211-00 재산임대수입 | U18: 211-02 공유재산임대료 | V18: 211-052-034 시도유재산대부료 | W18: =MID(C18,8,99) | X18: =MID(D18,8,99)
E19: =V19 -> 211-052-035 시군구재산대부료 | F19: -5452330 | G19: -3018960 | H19: -5452330 | I19: -2608190 | J19: 5452330 | K19: 5452330 | L19: 0 | M19: 0 | N19: =G19-I19-M19 -> -410770 | O19: =N19-P19 -> -410770 | P19: 0 | Q19: =IFERROR((I19/G19)*100,"") -> 86.393659 | S19: 225-00 지난년도수입 | T19: 211-00 재산임대수입 | U19: 211-02 공유재산임대료 | V19: 211-052-035 시군구재산대부료 | W19: =MID(C19,8,99) | X19: =MID(D19,8,99)
C20: =T22 -> 212-00 사용료수입 | F20: =F21+F32 -> 297900 | G20: =G21+G32 -> 73607071 | H20: =H21+H32 -> 482750 | I20: =I21+I32 -> 3710770 | J20: =J21+J32 -> 0 | K20: =K21+K32 -> 0 | L20: =L21+L32 -> 0 | M20: =M21+M32 -> 1072200 | ... P20: =P21+P32 -> 0 | Q20: =IFERROR((I20/G20)*100,"") -> 5.0413227 | T20: v | W20: =MID(C20,8,99) -> 사용료수입 | X20: =MID(D20,8,99)
D21: =U22 -> 212-01 도로사용료 | F21: =SUM(F22:F31) -> 297900 | G21: =SUM(G22:G31) -> 73236651 | H21: =SUM(H22:H31) -> 482750 | I21: =SUM(I22:I31) -> 3710770 | J21: =SUM(J22:J31) -> 0 | K21: =SUM(K22:K31) -> 0 | L21: =SUM(L22:L31) -> 0 | M21: =SUM(M22:M31) -> 1072200 | ... P21: =SUM(P22:P31) -> 0 | Q21: =IFERROR((I21/G21)*100,"") -> 5.066821 | U21: v | W21: =MID(C21,8,99) | X21: =MID(D21,8,99) -> 도로사용료
E22: =V22 -> 212-001-001 건축현장도로점용료 | F22: 15930 | G22: 7933220 | H22: 154600 | I22: 1274710 | J22: 0 | K22: 0 | L22: 0 | M22: 0 | N22: =G22-I22-M22 -> 6658510 | O22: =N22-P22 -> 6658510 | P22: 0 | Q22: =IFERROR((I22/G22)*100,"") -> 16.068003 | S22: 225-00 지난년도수입 | T22: 212-00 사용료수입 | U22: 212-01 도로사용료 | V22: 212-001-001 건축현장도로점용료 | W22: =MID(C22,8,99) | X22: =MID(D22,8,99)
E23: =V23 -> 212-001-003 굴착수반점용료 | F23: 0 | G23: -9210 | H23: 0 | I23: 0 | J23: 0 | K23: 0 | L23: 0 | M23: 0 | N23: =G23-I23-M23 -> -9210 | O23: =N23-P23 -> -9210 | P23: 0 | Q23: =IFERROR((I23/G23)*100,"") -> 0 | S23: 225-00 지난년도수입 | T23: 212-00 사용료수입 | U23: 212-01 도로사용료 | V23: 212-001-003 굴착수반점용료 | W23: =MID(C23,8,99) | X23: =MID(D23,8,99)
E24: =V24 -> 212-001-005 도로점용료(공사공단) | F24: 0 | G24: 0 | H24: 0 | I24: 0 | J24: 0 | K24: 0 | L24: 0 | M24: 0 | N24: =G24-I24-M24 -> 0 | O24: =N24-P24 -> 0 | P24: 0 | Q24: =IFERROR((I24/G24)*100,"") | S24: 225-00 지난년도수입 | T24: 212-00 사용료수입 | U24: 212-01 도로사용료 | V24: 212-001-005 도로점용료(공사공단) | W24: =MID(C24,8,99) | X24: =MID(D24,8,99)
E25: =V25 -> 212-001-006 기타도로사용료 | F25: 0 | G25: 2088640 | H25: 225260 | I25: 1464460 | J25: 0 | K25: 0 | L25: 0 | M25: 0 | N25: =G25-I25-M25 -> 624180 | O25: =N25-P25 -> 624180 | P25: 0 | Q25: =IFERROR((I25/G25)*100,"") -> 70.115482 | S25: 225-00 지난년도수입 | T25: 212-00 사용료수입 | U25: 212-01 도로사용료 | V25: 212-001-006 기타도로사용료 | W25: =MID(C25,8,99) | X25: =MID(D25,8,99)
E26: =V26 -> 212-001-010 차량출입시설 | F26: 251180 | G26: 54776800 | H26: 6690 | I26: 664950 | J26: 0 | K26: 0 | L26: 0 | M26: 65920 | N26: =G26-I26-M26 -> 54045930 | O26: =N26-P26 -> 54045930 | P26: 0 | Q26: =IFERROR((I26/G26)*100,"") -> 1.2139263 | S26: 225-00 지난년도수입 | T26: 212-00 사용료수입 | U26: 212-01 도로사용료 | V26: 212-001-010 차량출입시설 | W26: =MID(C26,8,99) | X26: =MID(D26,8,99)
E27: =V27 -> 212-001-011 도로점용료(도로부지) | F27: 0 | G27: -76250 | H27: 0 | I27: 0 | J27: 0 | K27: 0 | L27: 0 | M27: 0 | N27: =G27-I27-M27 -> -76250 | O27: =N27-P27 -> -76250 | P27: 0 | Q27: =IFERROR((I27/G27)*100,"") -> 0 | S27: 225-00 지난년도수입 | T27: 212-00 사용료수입 | U27: 212-01 도로사용료 | V27: 212-001-011 도로점용료(도로부지) | W27: =MID(C27,8,99) | X27: =MID(D27,8,99)
E28: =V28 -> 212-001-012 도로점용료(현수막) | F28: 0 | G28: -14700 | H28: 0 | I28: 0 | J28: 0 | K28: 0 | L28: 0 | M28: 0 | N28: =G28-I28-M28 -> -14700 | O28: =N28-P28 -> -14700 | P28: 0 | Q28: =IFERROR((I28/G28)*100,"") -> 0 | S28: 225-00 지난년도수입 | T28: 212-00 사용료수입 | U28: 212-01 도로사용료 | V28: 212-001-012 도로점용료(현수막) | W28: =MID(C28,8,99) | X28: =MID(D28,8,99)
E29: =V29 -> 212-001-013 도로점용료(돌출간판) | F29: 30030 | G29: 8382021 | H29: 96200 | I29: 306650 | J29: 0 | K29: 0 | L29: 0 | M29: 1006280 | N29: =G29-I29-M29 -> 7069091 | O29: =N29-P29 -> 7069091 | P29: 0 | Q29: =IFERROR((I29/G29)*100,"") -> 3.6584256 | S29: 225-00 지난년도수입 | T29: 212-00 사용료수입 | U29: 212-01 도로사용료 | V29: 212-001-013 도로점용료(돌출간판) | W29: =MID(C29,8,99) | X29: =MID(D29,8,99)
E30: =V30 -> 212-001-014 사설안내표지판 | F30: 760 | G30: 157430 | H30: 0 | I30: 0 | J30: 0 | K30: 0 | L30: 0 | M30: 0 | N30: =G30-I30-M30 -> 157430 | O30: =N30-P30 -> 157430 | P30: 0 | Q30: =IFERROR((I30/G30)*100,"") -> 0 | S30: 225-00 지난년도수입 | T30: 212-00 사용료수입 | U30: 212-01 도로사용료 | V30: 212-001-014 사설안내표지판 | W30: =MID(C30,8,99) | X30: =MID(D30,8,99)
E31: =V31 -> 212-001-022 매설물점용료 | F31: 0 | G31: -1300 | H31: 0 | I31: 0 | J31: 0 | K31: 0 | L31: 0 | M31: 0 | N31: =G31-I31-M31 -> -1300 | O31: =N31-P31 -> -1300 | P31: 0 | Q31: =IFERROR((I31/G31)*100,"") -> 0 | S31: 225-00 지난년도수입 | T31: 212-00 사용료수입 | U31: 212-01 도로사용료 | V31: 212-001-022 매설물점용료 | W31: =MID(C31,8,99) | X31: =MID(D31,8,99)
D32: =U33 -> 212-09 기타사용료 | F32: =SUM(F33:F35) -> 0 | G32: =SUM(G33:G35) -> 370420 | H32: =SUM(H33:H35) -> 0 | I32: =SUM(I33:I35) -> 0 | J32: =SUM(J33:J35) -> 0 | K32: =SUM(K33:K35) -> 0 | L32: =SUM(L33:L35) -> 0 | M32: =SUM(M33:M35) -> 0 | ... P32: =SUM(P33:P35) -> 0 | Q32: =IFERROR((I32/G32)*100,"") -> 0 | U32: v | W32: =MID(C32,8,99) | X32: =MID(D32,8,99) -> 기타사용료
E33: =V33 -> 212-402-003 도시공원점용료 | F33: 0 | G33: 0 | H33: 0 | I33: 0 | J33: 0 | K33: 0 | L33: 0 | M33: 0 | N33: =G33-I33-M33 -> 0 | O33: =N33-P33 -> 0 | P33: 0 | Q33: =IFERROR((I33/G33)*100,"") | S33: 225-00 지난년도수입 | T33: 212-00 사용료수입 | U33: 212-09 기타사용료 | V33: 212-402-003 도시공원점용료 | W33: =MID(C33,8,99) | X33: =MID(D33,8,99)
E34: =V34 -> 212-420-000 기타사용료 | F34: 0 | G34: 370420 | H34: 0 | I34: 0 | J34: 0 | K34: 0 | L34: 0 | M34: 0 | N34: =G34-I34-M34 -> 370420 | O34: =N34-P34 -> 370420 | P34: 0 | Q34: =IFERROR((I34/G34)*100,"") -> 0 | S34: 225-00 지난년도수입 | T34: 212-00 사용료수입 | U34: 212-09 기타사용료 | V34: 212-420-000 기타사용료 | W34: =MID(C34,8,99) | X34: =MID(D34,8,99)
E35: =V35 -> 212-420-002 기타사용료(공사공단) | F35: 0 | G35: 0 | H35: 0 | I35: 0 | J35: 0 | K35: 0 | L35: 0 | M35: 0 | N35: =G35-I35-M35 -> 0 | O35: =N35-P35 -> 0 | P35: 0 | Q35: =IFERROR((I35/G35)*100,"") | S35: 225-00 지난년도수입 | T35: 212-00 사용료수입 | U35: 212-09 기타사용료 | V35: 212-420-002 기타사용료(공사공단) | W35: =MID(C35,8,99) | X35: =MID(D35,8,99)
C36: =T38 -> 213-00 수수료수입 | F36: =F37+F41+F45+F47 -> -182900 | G36: =G37+G41+G45+G47 -> 155524820 | H36: =H37+H41+H45+H47 -> 260810 | I36: =I37+I41+I45+I47 -> 158148410 | J36: =J37+J41+J45+J47 -> 0 | K36: =K37+K41+K45+K47 -> 109400 | L36: =L37+L41+L45+L47 -> 0 | M36: =M37+M41+M45+M47 -> 0 | ... P36: =P37+P41+P45+P47 -> 0 | Q36: =IFERROR((I36/G36)*100,"") -> 101.68693 | T36: v | W36: =MID(C36,8,99) -> 수수료수입 | X36: =MID(D36,8,99)
D37: =U38 -> 213-01 증지수입 | F37: =SUM(F38:F40) -> -182900 | G37: =SUM(G38:G40) -> 14400000 | H37: =SUM(H38:H40) -> 0 | I37: =SUM(I38:I40) -> 14400200 | J37: =SUM(J38:J40) -> 0 | K37: =SUM(K38:K40) -> 109400 | L37: =SUM(L38:L40) -> 0 | M37: =SUM(M38:M40) -> 0 | ... P37: =SUM(P38:P40) -> 0 | Q37: =IFERROR((I37/G37)*100,"") -> 100.00139 | U37: v | W37: =MID(C37,8,99) | X37: =MID(D37,8,99) -> 증지수입
E38: =V38 -> 213-001-000 인증기용증지수입 | F38: -182900 | G38: 14380000 | H38: 0 | I38: 14380200 | J38: 0 | K38: 109400 | L38: 0 | M38: 0 | N38: =G38-I38-M38 -> -200 | O38: =N38-P38 -> -200 | P38: 0 | Q38: =IFERROR((I38/G38)*100,"") -> 100.00139 | S38: 225-00 지난년도수입 | T38: 213-00 수수료수입 | U38: 213-01 증지수입 | V38: 213-001-000 인증기용증지수입 | W38: =MID(C38,8,99) | X38: =MID(D38,8,99)
E39: =V39 -> 213-001-007 인증기용증지(공사공단) | F39: 0 | G39: 0 | H39: 0 | I39: 0 | J39: 0 | K39: 0 | L39: 0 | M39: 0 | N39: =G39-I39-M39 -> 0 | O39: =N39-P39 -> 0 | P39: 0 | Q39: =IFERROR((I39/G39)*100,"") | S39: 225-00 지난년도수입 | T39: 213-00 수수료수입 | U39: 213-01 증지수입 | V39: 213-001-007 인증기용증지(공사공단) | W39: =MID(C39,8,99) | X39: =MID(D39,8,99)
