Workbook

Sheet 2016.1. 기준
A1: 거주지역 | B1: 총계 | C1: 남녀별 | E1: 국적별 | K1: 인구증감 (전월대비) | L1: 체류자격별
C2: 남자 | D2: 여자 | E2: 타이완 | F2: 미국 | G2: 일본 | H2: 필리핀 | I2: 중국 | J2: 기타 | L2: 합계 | N2: 구직활동(D-10-1) | O2: 전문학사(D-2-1) | P2: 학사유학(D-2-2) | Q2: 석사유학(D-2-3) | R2: 박사유학(D-2-4) | S2: 교환학생(D-2-6) | T2: 기술연수(D-3) | U2: 해투기술연수(D-3-1) | V2: 해외직접(D-3-11) | W2: 대학부설어학원연수(D-4-1) | X2: 기타기관연수(D-4-2) | Y2: 초중고생(D-4-3) | Z2: 종교(D-6) | AA2: 외국기업(D-7-1) | AB2: 법인에 투자(D-8-1) | AC2: 기술창업(D-8-4) | AD2: 선박설비(D-9-3) | AE2: 경영영리사업(D-9-4) | AF2: 교수(E-1) | AG2: 내항선원(E-10-1) | AH2: 어 선 원(E-10-2) | AI2: 일반회화강사(E-2-1) | AJ2: 학교보조교사(E-2-2) | AK2: 연구(E-3) | AL2: 특정활동(E-7-1) | AM2: 제 조 업(E-9-1) | AN2: 건 설 업(E-9-2) | AO2: 어 업(E-9-4) | AP2: 과거추천연수(E-9-95) | AQ2: 과거합법조치(E-9-98) | AR2: 방문동거(F-1-1) | AS2: 방문취업자녀(F-1-11) | AT2: 거주배우자(F-1-12) | AU2: 우수인재 등의 부모(F-1-15) | AV2: 결혼이민가족(F-1-5) | AW2: 미입양된 중도입국 미성년자(F-1-52) | AX2: 결혼가사정리(F-1-6) | AY2: 국적신청(F-1-7) | AZ2: 국적신청가족(F-1-71) | BA2: 동포배우자등(F-1-9) | BB2: 기타동거(F-1-99) | BC2: 국민배우자(F-2-1) | BD2: 국민자녀(F-2-2) | BE2: 영주자가족(F-2-3) | BF2: 난 민(F-2-4) | BG2: 점수우수인력(F-2-7) | BH2: 점수가족(F-2-71) | BI2: 기타장기(F-2-99) | BJ2: 동반(F-3-1) | BK2: 장기체류(F-5-1) | BL2: 첨단학사(F-5-10) | BM2: 방문취업4년(F-5-14) | BN2: 국내박사(F-5-15) | BO2: 국민배우자(F-5-2) | BP2: 영주출생(F-5-20) | BQ2: 국민자녀(F-5-3) | BR2: 영주가족(F-5-4) | BS2: 재외동포2년(F-5-6) | BT2: 동포국적요건(F-5-7) | BU2: 재한화교(F-5-8) | BV2: 국민배우자(F-6-1) | BW2: 자녀양육(F-6-2) | BX2: 혼인단절(F-6-3) | BY2: 산재보상(G-1-1) | BZ2: 질병사고(G-1-2) | CA2: 소송진행(G-1-3) | CB2: 체임중재(G-1-4) | CC2: 난민신청(G-1-5) | CD2: 난민인허(G-1-6) | CE2: 관광취업(H-1) | CF2: 연고방취(H-2-1) | CG2: 자진방취(H-2-3) | CH2: 추첨방취(H-2-5) | CI2: 변경방취(H-2-6) | CJ2: 만기방취(H-2-7) | CK2: 기타방취(H-2-99) | CL2: 기타
A3: 총 계 | B3: 7334 | C3: 3602 | D3: 3732 | E3: 636 | F3: 54 | G3: 108 | H3: 156 | I3: 2031 | J3: 4349 | K3: =B3-'2016.1. 기준'!B3 -> 0 | L3: 7334 | M3: (T) (M) (F) | N3: 44 24 20 | O3: 61 9 52 | P3: 463 225 238 | Q3: 226 104 122 | R3: 94 52 42 | S3: 127 37 90 | T3: 17 8 9 | U3: 10 2 8 | V3: 11 11 0 | W3: 360 188 172 | X3: 3 3 0 | Y3: 3 2 1 | Z3: 10 0 10 | AA3: 1 1 0 | AB3: 42 40 2 | AC3: 1 0 1 | AD3: 1 1 0 | AE3: 9 9 0 | AF3: 22 19 3 | AG3: 2 2 0 | AH3: 110 110 0 | AI3: 29 20 9 | AJ3: 6 1 5 | AK3: 27 26 1 | AL3: 54 39 15 | AM3: 629 588 41 | AN3: 60 60 0 | AO3: 26 26 0 | AP3: 7 6 1 | AQ3: 35 25 10 | AR3: 30 7 23 | AS3: 69 28 41 | AT3: 2 0 2 | AU3: 3 2 1 | AV3: 257 89 168 | AW3: 10 7 3 | AX3: 4 0 4 | AY3: 55 31 24 | AZ3: 3 2 1 | BA3: 134 64 70 | BB3: 9 6 3 | BC3: 62 8 54 | BD3: 28 17 11 | BE3: 158 71 87 | BF3: 8 6 2 | BG3: 25 14 11 | BH3: 9 4 5 | BI3: 132 74 58 | BJ3: 134 41 93 | BK3: 34 19 15 | BL3: 1 0 1 | BM3: 19 17 2 | BN3: 3 3 0 | BO3: 204 17 187 | BP3: 34 20 14 | BQ3: 3 3 0 | BR3: 47 15 32 | BS3: 4 4 0 | BT3: 466 252 214 | BU3: 424 236 188 | BV3: 1,017 147 870 | BW3: 15 0 15 | BX3: 29 3 26 | BY3: 5 5 0 | BZ3: 2 1 1 | CA3: 2 1 1 | CB3: 1 1 0 | CC3: 71 60 11 | CD3: 7 6 1 | CE3: 7 3 4 | CF3: 51 25 26 | CG3: 9 5 4 | CH3: 371 191 180 | CI3: 333 177 156 | CJ3: 559 283 276 | CK3: 9 7 2 | CL3: 2 0 2
A4: 숭의1,3동 | B4: 222 | C4: 99 | D4: 123 | E4: 44 | F4: 1 | G4: 1 | H4: 3 | I4: 62 | J4: 111 | K4: =B4-'2016.1. 기준'!B4 -> 0 | L4: 222 | M4: (M) (F) | N4: 0 1 | O4: 0 | P4: 2 1 | Q4: 0 | R4: 0 | S4: 0 | T4: 0 | U4: 0 | V4: 0 | W4: 0 1 | X4: 0 | Y4: 0 | Z4: 0 | AA4: 0 | AB4: 4 0 | AC4: 0 | AD4: 0 | AE4: 3 0 | AF4: 0 | AG4: 0 | AH4: 3 0 | AI4: 1 2 | AJ4: 0 | AK4: 0 | AL4: 4 1 | AM4: 0 | AN4: 0 | AO4: 2 0 | AP4: 0 | AQ4: 1 0 | AR4: 0 | AS4: 1 3 | AT4: 0 | AU4: 0 | AV4: 2 8 | AW4: 0 | AX4: 0 | AY4: 1 3 | AZ4: 0 | BA4: 10 3 | BB4: 1 0 | BC4: 1 8 | BD4: 2 0 | BE4: 1 2 | BF4: 0 1 | BG4: 0 | BH4: 0 | BI4: 6 1 | BJ4: 1 4 | BK4: 0 2 | BL4: 0 | BM4: 1 0 | BN4: 0 | BO4: 0 7 | BP4: 0 | BQ4: 0 | BR4: 0 4 | BS4: 0 | BT4: 7 5 | BU4: 17 14 | BV4: 2 34 | BW4: 0 | BX4: 0 2 | BY4: 0 | BZ4: 0 | CA4: 0 | CB4: 0 | CC4: 3 0 | CD4: 1 0 | CE4: 0 | CF4: 0 | CG4: 0 | CH4: 8 7 | CI4: 4 6 | CJ4: 10 3 | CK4: 0 | CL4: 0
A5: 숭의2동 | B5: 215 | C5: 82 | D5: 133 | E5: 37 | F5: 1 | G5: 1 | H5: 3 | I5: 51 | J5: 122 | K5: =B5-'2016.1. 기준'!B5 -> 0 | L5: 215 | M5: (M) (F) | N5: 0 | O5: 0 | P5: 0 | Q5: 0 | R5: 0 | S5: 0 | T5: 0 | U5: 0 | V5: 0 | W5: 0 | X5: 0 | Y5: 0 | Z5: 0 | AA5: 0 | AB5: 0 | AC5: 0 | AD5: 0 | AE5: 1 0 | AF5: 0 | AG5: 0 | AH5: 2 0 | AI5: 2 0 | AJ5: 0 | AK5: 0 | AL5: 1 0 | AM5: 7 0 | AN5: 0 | AO5: 7 0 | AP5: 0 | AQ5: 0 | AR5: 0 2 | AS5: 1 1 | AT5: 0 | AU5: 0 | AV5: 4 5 | AW5: 1 1 | AX5: 0 | AY5: 3 1 | AZ5: 0 | BA5: 0 2 | BB5: 1 0 | BC5: 0 2 | BD5: 1 0 | BE5: 0 8 | BF5: 0 | BG5: 0 | BH5: 0 | BI5: 4 5 | BJ5: 1 2 | BK5: 2 0 | BL5: 0 | BM5: 0 | BN5: 0 | BO5: 0 7 | BP5: 2 0 | BQ5: 0 | BR5: 2 1 | BS5: 0 | BT5: 10 7 | BU5: 9 12 | BV5: 4 54 | BW5: 0 2 | BX5: 0 3 | BY5: 0 | BZ5: 0 | CA5: 0 | CB5: 0 | CC5: 0 2 | CD5: 0 | CE5: 0 | CF5: 1 0 | CG5: 0 | CH5: 7 4 | CI5: 3 4 | CJ5: 6 8 | CK5: 0 | CL5: 0
A6: 숭의4동 | B6: 250 | C6: 106 | D6: 144 | E6: 16 | F6: 5 | G6: 3 | H6: 2 | I6: 61 | J6: 163 | K6: =B6-'2016.1. 기준'!B6 -> 0 | L6: 250 | M6: (M) (F) | N6: 1 0 | O6: 0 | P6: 3 1 | Q6: 0 1 | R6: 0 | S6: 0 | T6: 0 | U6: 0 | V6: 0 | W6: 0 | X6: 0 | Y6: 0 | Z6: 0 | AA6: 0 | AB6: 1 0 | AC6: 0 | AD6: 0 | AE6: 0 | AF6: 0 | AG6: 1 0 | AH6: 3 0 | AI6: 2 3 | AJ6: 0 | AK6: 0 | AL6: 0 | AM6: 0 | AN6: 0 | AO6: 0 | AP6: 0 | AQ6: 0 1 | AR6: 0 1 | AS6: 2 2 | AT6: 0 | AU6: 1 0 | AV6: 6 8 | AW6: 1 0 | AX6: 0 | AY6: 4 2 | AZ6: 0 | BA6: 6 2 | BB6: 0 | BC6: 0 4 | BD6: 0 2 | BE6: 0 2 | BF6: 0 | BG6: 0 | BH6: 0 | BI6: 1 2 | BJ6: 0 1 | BK6: 1 1 | BL6: 0 | BM6: 1 0 | BN6: 0 | BO6: 0 5 | BP6: 0 | BQ6: 1 0 | BR6: 0 | BS6: 2 0 | BT6: 7 10 | BU6: 9 2 | BV6: 6 42 | BW6: 0 2 | BX6: 1 0 | BY6: 1 0 | BZ6: 0 | CA6: 0 | CB6: 0 | CC6: 0 | CD6: 0 | CE6: 0 | CF6: 3 1 | CG6: 0 | CH6: 21 29 | CI6: 5 5 | CJ6: 16 15 | CK6: 0 | CL6: 0
A7: 용현1,4동 | B7: 1347 | C7: 680 | D7: 667 | E7: 32 | F7: 8 | G7: 14 | H7: 10 | I7: 723 | J7: 560 | K7: =B7-'2016.1. 기준'!B7 -> 0 | L7: 1347 | M7: (M) (F) | N7: 11 9 | O7: 4 49 | P7: 170 165 | Q7: 73 86 | R7: 40 32 | S7: 32 19 | T7: 0 | U7: 0 | V7: 0 | W7: 158 133 | X7: 0 | Y7: 1 0 | Z7: 0 1 | AA7: 1 0 | AB7: 2 0 | AC7: 0 1 | AD7: 0 | AE7: 0 | AF7: 13 3 | AG7: 0 | AH7: 5 0 | AI7: 1 1 | AJ7: 0 | AK7: 21 0 | AL7: 8 6 | AM7: 6 0 | AN7: 11 0 | AO7: 1 0 | AP7: 0 | AQ7: 0 | AR7: 1 2 | AS7: 1 1 | AT7: 0 | AU7: 1 1 | AV7: 6 10 | AW7: 1 0 | AX7: 0 | AY7: 1 1 | AZ7: 0 | BA7: 0 5 | BB7: 0 | BC7: 0 2 | BD7: 0 | BE7: 4 7 | BF7: 1 0 | BG7: 8 5 | BH7: 3 2 | BI7: 10 2 | BJ7: 9 23 | BK7: 2 1 | BL7: 0 | BM7: 1 0 | BN7: 2 0 | BO7: 2 10 | BP7: 0 | BQ7: 0 | BR7: 0 1 | BS7: 0 | BT7: 14 12 | BU7: 6 9 | BV7: 9 42 | BW7: 0 1 | BX7: 0 | BY7: 0 | BZ7: 1 0 | CA7: 0 | CB7: 0 | CC7: 11 0 | CD7: 0 | CE7: 1 2 | CF7: 2 2 | CG7: 0 | CH7: 5 8 | CI7: 9 5 | CJ7: 11 8 | CK7: 0 | CL7: 0
A8: 용현2동 | B8: 227 | C8: 106 | D8: 121 | E8: 109 | F8: 0 | G8: 3 | H8: 4 | I8: 34 | J8: 77 | K8: =B8-'2016.1. 기준'!B8 -> 0 | L8: 227 | M8: (M) (F) | N8: 0 | O8: 0 | P8: 0 | Q8: 0 | R8: 0 1 | S8: 0 | T8: 0 | U8: 0 | V8: 0 | W8: 0 1 | X8: 0 | Y8: 0 | Z8: 0 1 | AA8: 0 | AB8: 9 1 | AC8: 0 | AD8: 0 | AE8: 0 | AF8: 0 | AG8: 1 0 | AH8: 7 0 | AI8: 0 | AJ8: 0 | AK8: 1 0 | AL8: 0 2 | AM8: 0 | AN8: 7 0 | AO8: 1 0 | AP8: 0 | AQ8: 0 1 | AR8: 1 1 | AS8: 0 | AT8: 0 | AU8: 0 | AV8: 3 4 | AW8: 0 | AX8: 0 | AY8: 0 1 | AZ8: 0 | BA8: 0 4 | BB8: 0 | BC8: 0 3 | BD8: 0 1 | BE8: 1 3 | BF8: 0 | BG8: 0 | BH8: 0 | BI8: 7 9 | BJ8: 5 6 | BK8: 5 3 | BL8: 0 | BM8: 0 | BN8: 0 | BO8: 3 4 | BP8: 2 1 | BQ8: 0 | BR8: 4 1 | BS8: 0 | BT8: 4 4 | BU8: 39 40 | BV8: 2 16 | BW8: 0 1 | BX8: 0 | BY8: 0 | BZ8: 0 | CA8: 0 | CB8: 0 | CC8: 0 | CD8: 0 | CE8: 0 | CF8: 0 1 | CG8: 0 | CH8: 1 3 | CI8: 1 4 | CJ8: 1 3 | CK8: 1 1 | CL8: 0
A9: 용현3동 | B9: 166 | C9: 67 | D9: 99 | E9: 17 | F9: 0 | G9: 2 | H9: 2 | I9: 25 | J9: 120 | K9: =B9-'2016.1. 기준'!B9 -> 0 | L9: 166 | M9: (M) (F) | N9: 1 1 | O9: 0 | P9: 1 2 | Q9: 3 3 | R9: 4 0 | S9: 0 | T9: 0 | U9: 0 | V9: 0 | W9: 0 1 | X9: 0 | Y9: 0 | Z9: 0 | AA9: 0 | AB9: 0 | AC9: 0 | AD9: 0 | AE9: 0 | AF9: 0 | AG9: 0 | AH9: 1 0 | AI9: 0 | AJ9: 0 | AK9: 0 | AL9: 1 1 | AM9: 0 | AN9: 0 | AO9: 0 | AP9: 0 | AQ9: 0 | AR9: 0 | AS9: 0 1 | AT9: 0 | AU9: 0 | AV9: 1 4 | AW9: 0 | AX9: 0 | AY9: 0 | AZ9: 0 | BA9: 5 6 | BB9: 0 1 | BC9: 0 2 | BD9: 1 0 | BE9: 1 4 | BF9: 0 | BG9: 1 1 | BH9: 0 | BI9: 2 3 | BJ9: 2 11 | BK9: 1 1 | BL9: 0 | BM9: 0 | BN9: 1 0 | BO9: 1 7 | BP9: 0 | BQ9: 0 | BR9: 1 2 | BS9: 0 | BT9: 9 3 | BU9: 4 4 | BV9: 2 17 | BW9: 0 | BX9: 0 | BY9: 0 | BZ9: 0 | CA9: 0 | CB9: 0 | CC9: 3 2 | CD9: 0 | CE9: 0 | CF9: 0 | CG9: 0 | CH9: 8 7 | CI9: 6 4 | CJ9: 7 11 | CK9: 0 | CL9: 0
A10: 용현5동 | B10: 337 | C10: 184 | D10: 153 | E10: 50 | F10: 1 | G10: 5 | H10: 4 | I10: 97 | J10: 180 | K10: =B10-'2016.1. 기준'!B10 -> 0 | L10: 337 | M10: (M) (F) | N10: 0 | O10: 0 | P10: 1 0 | Q10: 2 1 | R10: 1 0 | S10: 0 | T10: 0 | U10: 0 | V10: 0 | W10: 0 1 | X10: 0 | Y10: 0 | Z10: 0 | AA10: 0 | AB10: 10 1 | AC10: 0 | AD10: 0 | AE10: 1 0 | AF10: 0 | AG10: 0 | AH10: 50 0 | AI10: 0 | AJ10: 0 | AK10: 1 1 | AL10: 0 | AM10: 3 0 | AN10: 6 0 | AO10: 2 0 | AP10: 0 | AQ10: 0 1 | AR10: 0 3 | AS10: 0 1 | AT10: 0 1 | AU10: 0 | AV10: 6 11 | AW10: 0 1 | AX10: 0 | AY10: 1 2 | AZ10: 0 | BA10: 4 7 | BB10: 0 1 | BC10: 0 3 | BD10: 1 1 | BE10: 4 2 | BF10: 4 1 | BG10: 0 | BH10: 0 | BI10: 6 5 | BJ10: 2 9 | BK10: 0 | BL10: 0 | BM10: 0 | BN10: 0 | BO10: 0 10 | BP10: 0 1 | BQ10: 0 | BR10: 0 1 | BS10: 1 0 | BT10: 12 11 | BU10: 23 12 | BV10: 10 38 | BW10: 0 | BX10: 0 | BY10: 1 0 | BZ10: 0 | CA10: 0 | CB10: 0 | CC10: 0 | CD10: 0 | CE10: 0 1 | CF10: 1 0 | CG10: 1 1 | CH10: 7 7 | CI10: 6 10 | CJ10: 16 8 | CK10: 1 0 | CL10: 0
A11: 학익1동 | B11: 533 | C11: 216 | D11: 317 | E11: 63 | F11: 8 | G11: 14 | H11: 9 | I11: 202 | J11: 237 | K11: =B11-'2016.1. 기준'!B11 -> 0 | L11: 533 | M11: (M) (F) | N11: 0 1 | O11: 0 1 | P11: 28 53 | Q11: 16 15 | R11: 4 4 | S11: 4 67 | T11: 1 2 | U11: 0 1 | V11: 0 | W11: 9 4 | X11: 2 0 | Y11: 0 | Z11: 0 | AA11: 0 | AB11: 6 0 | AC11: 0 | AD11: 0 | AE11: 1 0 | AF11: 5 0 | AG11: 0 | AH11: 17 0 | AI11: 5 2 | AJ11: 0 1 | AK11: 1 0 | AL11: 4 1 | AM11: 15 1 | AN11: 0 | AO11: 1 0 | AP11: 1 1 | AQ11: 2 2 | AR11: 0 1 | AS11: 1 1 | AT11: 0 | AU11: 0 | AV11: 6 9 | AW11: 0 | AX11: 0 1 | AY11: 0 | AZ11: 0 | BA11: 1 1 | BB11: 0 | BC11: 1 2 | BD11: 1 0 | BE11: 4 6 | BF11: 0 | BG11: 0 | BH11: 0 | BI11: 5 8 | BJ11: 6 20 | BK11: 1 0 | BL11: 0 | BM11: 2 0 | BN11: 0 | BO11: 4 18 | BP11: 0 | BQ11: 0 | BR11: 1 3 | BS11: 0 | BT11: 10 9 | BU11: 29 17 | BV11: 9 49 | BW11: 0 2 | BX11: 0 | BY11: 0 | BZ11: 0 | CA11: 1 0 | CB11: 0 | CC11: 0 | CD11: 0 | CE11: 1 0 | CF11: 1 3 | CG11: 0 | CH11: 3 7 | CI11: 1 1 | CJ11: 7 4 | CK11: 0 | CL11: 0 1
A12: 학익2동 | B12: 128 | C12: 56 | D12: 72 | E12: 11 | F12: 2 | G12: 4 | H12: 3 | I12: 34 | J12: 74 | K12: =B12-'2016.1. 기준'!B12 -> 0 | L12: 128 | M12: (M) (F) | N12: 1 0 | O12: 1 0 | P12: 4 1 | Q12: 7 4 | R12: 3 1 | S12: 0 1 | T12: 0 | U12: 0 | V12: 0 | W12: 1 2 | X12: 0 | Y12: 0 | Z12: 0 | AA12: 0 | AB12: 0 | AC12: 0 | AD12: 0 | AE12: 0 | AF12: 0 | AG12: 0 | AH12: 0 | AI12: 0 | AJ12: 0 1 | AK12: 2 0 | AL12: 1 0 | AM12: 1 0 | AN12: 0 | AO12: 0 | AP12: 0 | AQ12: 0 | AR12: 0 | AS12: 0 | AT12: 0 | AU12: 0 | AV12: 4 3 | AW12: 0 | AX12: 0 | AY12: 1 0 | AZ12: 1 0 | BA12: 0 | BB12: 0 | BC12: 0 1 | BD12: 0 1 | BE12: 0 1 | BF12: 0 | BG12: 1 0 | BH12: 0 2 | BI12: 3 1 | BJ12: 2 3 | BK12: 0 | BL12: 0 1 | BM12: 0 | BN12: 0 | BO12: 0 4 | BP12: 0 1 | BQ12: 0 | BR12: 1 2 | BS12: 0 | BT12: 5 2 | BU12: 6 1 | BV12: 1 33 | BW12: 0 | BX12: 0 | BY12: 0 | BZ12: 0 | CA12: 0 | CB12: 0 | CC12: 3 0 | CD12: 0 | CE12: 0 | CF12: 0 2 | CG12: 0 | CH12: 2 1 | CI12: 2 0 | CJ12: 3 3 | CK12: 0 | CL12: 0
A13: 도화1동 | B13: 531 | C13: 321 | D13: 210 | E13: 59 | F13: 4 | G13: 8 | H13: 25 | I13: 72 | J13: 363 | K13: =B13-'2016.1. 기준'!B13 -> 0 | L13: 531 | M13: (M) (F) | N13: 0 | O13: 1 0 | P13: 0 1 | Q13: 0 | R13: 0 | S13: 0 | T13: 0 | U13: 0 | V13: 0 | W13: 0 3 | X13: 0 | Y13: 0 | Z13: 0 | AA13: 0 | AB13: 6 0 | AC13: 0 | AD13: 1 0 | AE13: 1 0 | AF13: 0 | AG13: 0 | AH13: 16 0 | AI13: 0 | AJ13: 0 | AK13: 0 | AL13: 2 0 | AM13: 160 12 | AN13: 3 0 | AO13: 2 0 | AP13: 0 | AQ13: 2 0 | AR13: 1 1 | AS13: 2 4 | AT13: 0 | AU13: 0 | AV13: 5 10 | AW13: 0 | AX13: 0 | AY13: 1 0 | AZ13: 0 | BA13: 2 0 | BB13: 0 | BC13: 1 3 | BD13: 5 1 | BE13: 4 6 | BF13: 0 | BG13: 2 1 | BH13: 0 | BI13: 2 3 | BJ13: 4 5 | BK13: 0 | BL13: 0 | BM13: 0 | BN13: 0 | BO13: 0 10 | BP13: 1 3 | BQ13: 0 | BR13: 0 3 | BS13: 0 | BT13: 16 12 | BU13: 22 24 | BV13: 15 72 | BW13: 0 | BX13: 0 1 | BY13: 0 | BZ13: 0 | CA13: 0 | CB13: 0 | CC13: 2 0 | CD13: 4 1 | CE13: 0 | CF13: 4 1 | CG13: 0 2 | CH13: 12 8 | CI13: 10 10 | CJ13: 11 13 | CK13: 1 0 | CL13: 0
A14: 도화2,3동 | B14: 606 | C14: 414 | D14: 192 | E14: 11 | F14: 0 | G14: 6 | H14: 35 | I14: 93 | J14: 461 | K14: =B14-'2016.1. 기준'!B14 -> 0 | L14: 606 | M14: (M) (F) | N14: 0 | O14: 1 1 | P14: 9 3 | Q14: 0 | R14: 0 1 | S14: 0 | T14: 3 1 | U14: 0 1 | V14: 0 | W14: 2 1 | X14: 0 | Y14: 0 | Z14: 0 4 | AA14: 0 | AB14: 1 0 | AC14: 0 | AD14: 0 | AE14: 2 0 | AF14: 0 | AG14: 0 | AH14: 1 0 | AI14: 0 | AJ14: 0 | AK14: 0 | AL14: 1 0 | AM14: 231 8 | AN14: 2 0 | AO14: 0 | AP14: 3 0 | AQ14: 12 1 | AR14: 0 1 | AS14: 3 9 | AT14: 0 | AU14: 0 | AV14: 6 20 | AW14: 0 1 | AX14: 0 | AY14: 4 1 | AZ14: 0 | BA14: 6 6 | BB14: 0 | BC14: 0 3 | BD14: 1 0 | BE14: 4 3 | BF14: 1 0 | BG14: 0 1 | BH14: 0 | BI14: 0 4 | BJ14: 0 1 | BK14: 1 1 | BL14: 0 | BM14: 3 0 | BN14: 0 | BO14: 1 11 | BP14: 1 0 | BQ14: 0 | BR14: 1 0 | BS14: 0 | BT14: 11 16 | BU14: 3 2 | BV14: 11 54 | BW14: 0 1 | BX14: 0 1 | BY14: 2 0 | BZ14: 0 | CA14: 0 | CB14: 0 | CC14: 15 1 | CD14: 1 0 | CE14: 0 | CF14: 1 1 | CG14: 0 | CH14: 22 14 | CI14: 21 10 | CJ14: 30 10 | CK14: 0 | CL14: 0
... A16: 주안2동 | B16: 205 | C16: 76 | D16: 129 | E16: 23 | F16: 1 | G16: 10 | H16: 4 | I16: 52 | J16: 115 | K16: =B16-'2016.1. 기준'!B16 -> 0 | L16: 205 | M16: (M) (F) | N16: 1 1 | O16: 0 | P16: 0 | Q16: 0 | R16: 0 1 | S16: 0 | T16: 0 | U16: 0 | V16: 0 | W16: 1 1 | X16: 1 0 | Y16: 0 | Z16: 0 | AA16: 0 | AB16: 0 | AC16: 0 | AD16: 0 | AE16: 0 | AF16: 0 | AG16: 0 | AH16: 0 | AI16: 0 | AJ16: 0 | AK16: 0 | AL16: 1 0 | AM16: 2 0 | AN16: 2 0 | AO16: 2 0 | AP16: 0 | AQ16: 0 | AR16: 0 | AS16: 1 0 | AT16: 0 | AU16: 0 | AV16: 6 8 | AW16: 0 | AX16: 0 1 | AY16: 1 1 | AZ16: 0 | BA16: 2 5 | BB16: 0 | BC16: 2 0 | BD16: 0 | BE16: 2 2 | BF16: 0 | BG16: 0 | BH16: 0 | BI16: 4 5 | BJ16: 1 0 | BK16: 1 3 | BL16: 0 | BM16: 0 | BN16: 0 | BO16: 2 13 | BP16: 0 1 | BQ16: 1 0 | BR16: 0 1 | BS16: 0 | BT16: 10 3 | BU16: 7 4 | BV16: 5 49 | BW16: 0 1 | BX16: 0 1 | BY16: 0 | BZ16: 0 | CA16: 0 | CB16: 0 | CC16: 0 | CD16: 0 | CE16: 0 | CF16: 1 2 | CG16: 0 | CH16: 7 6 | CI16: 5 5 | CJ16: 8 15 | CK16: 0 | CL16: 0
A17: 주안3동 | B17: 120 | C17: 51 | D17: 69 | E17: 10 | F17: 0 | G17: 2 | H17: 3 | I17: 31 | J17: 74 | K17: =B17-'2016.1. 기준'!B17 -> 0 | L17: 120 | M17: (M) (F) | N17: 3 1 | O17: 0 | P17: 1 2 | Q17: 0 1 | R17: 0 | S17: 0 | T17: 0 | U17: 0 | V17: 0 | W17: 1 0 | X17: 0 | Y17: 0 | Z17: 0 | AA17: 0 | AB17: 0 | AC17: 0 | AD17: 0 | AE17: 0 | AF17: 0 | AG17: 0 | AH17: 1 0 | AI17: 0 | AJ17: 0 | AK17: 0 | AL17: 0 | AM17: 10 1 | AN17: 0 | AO17: 0 | AP17: 0 | AQ17: 0 | AR17: 0 | AS17: 0 | AT17: 0 | AU17: 0 | AV17: 3 3 | AW17: 0 | AX17: 0 | AY17: 0 | AZ17: 0 | BA17: 2 3 | BB17: 0 | BC17: 0 1 | BD17: 0 1 | BE17: 1 0 | BF17: 0 | BG17: 0 | BH17: 0 | BI17: 0 1 | BJ17: 0 | BK17: 0 1 | BL17: 0 | BM17: 0 | BN17: 0 | BO17: 0 4 | BP17: 1 0 | BQ17: 0 | BR17: 0 2 | BS17: 0 | BT17: 5 4 | BU17: 4 4 | BV17: 5 28 | BW17: 0 2 | BX17: 0 | BY17: 0 | BZ17: 0 | CA17: 0 | CB17: 0 | CC17: 0 | CD17: 0 | CE17: 0 | CF17: 0 | CG17: 1 0 | CH17: 2 3 | CI17: 3 1 | CJ17: 8 6 | CK17: 0 | CL17: 0
A18: 주안4동 | B18: 243 | C18: 116 | D18: 127 | E18: 35 | F18: 3 | G18: 4 | H18: 11 | I18: 45 | J18: 145 | K18: =B18-'2016.1. 기준'!B18 -> 0 | L18: 243 | M18: (M) (F) | N18: 1 0 | O18: 0 | P18: 0 1 | Q18: 1 0 | R18: 0 1 | S18: 0 | T18: 0 | U18: 0 | V18: 0 | W18: 1 0 | X18: 0 | Y18: 0 1 | Z18: 0 | AA18: 0 | AB18: 0 | AC18: 0 | AD18: 0 | AE18: 0 | AF18: 0 | AG18: 0 | AH18: 0 | AI18: 0 | AJ18: 0 | AK18: 0 | AL18: 4 0 | AM18: 4 0 | AN18: 2 0 | AO18: 0 | AP18: 0 | AQ18: 0 | AR18: 0 1 | AS18: 2 2 | AT18: 0 | AU18: 0 | AV18: 4 9 | AW18: 1 0 | AX18: 0 | AY18: 2 1 | AZ18: 0 | BA18: 2 2 | BB18: 2 0 | BC18: 1 1 | BD18: 0 | BE18: 3 2 | BF18: 0 | BG18: 1 0 | BH18: 0 | BI18: 3 2 | BJ18: 1 1 | BK18: 2 0 | BL18: 0 | BM18: 1 0 | BN18: 0 | BO18: 1 6 | BP18: 1 0 | BQ18: 1 0 | BR18: 0 | BS18: 0 | BT18: 14 11 | BU18: 17 8 | BV18: 7 47 | BW18: 0 1 | BX18: 0 1 | BY18: 0 | BZ18: 0 1 | CA18: 0 | CB18: 0 | CC18: 1 1 | CD18: 0 | CE18: 0 | CF18: 0 | CG18: 1 0 | CH18: 14 6 | CI18: 9 6 | CJ18: 12 15 | CK18: 0 | CL18: 0
A19: 주안5동 | B19: 796 | C19: 428 | D19: 368 | E19: 17 | F19: 0 | G19: 7 | H19: 12 | I19: 136 | J19: 624 | K19: =B19-'2016.1. 기준'!B19 -> 0 | L19: 796 | M19: (M) (F) | N19: 2 0 | O19: 2 1 | P19: 3 3 | Q19: 0 2 | R19: 0 1 | S19: 0 | T19: 3 6 | U19: 2 6 | V19: 7 0 | W19: 0 6 | X19: 0 | Y19: 0 | Z19: 0 | AA19: 0 | AB19: 0 | AC19: 0 | AD19: 0 | AE19: 0 | AF19: 0 | AG19: 0 | AH19: 0 | AI19: 1 0 | AJ19: 0 | AK19: 0 | AL19: 2 2 | AM19: 81 15 | AN19: 5 0 | AO19: 3 0 | AP19: 1 0 | AQ19: 8 2 | AR19: 1 1 | AS19: 8 7 | AT19: 0 | AU19: 0 | AV19: 6 16 | AW19: 0 | AX19: 0 1 | AY19: 4 7 | AZ19: 1 0 | BA19: 11 11 | BB19: 0 | BC19: 1 3 | BD19: 2 1 | BE19: 19 16 | BF19: 0 | BG19: 0 | BH19: 0 | BI19: 2 1 | BJ19: 2 3 | BK19: 0 1 | BL19: 0 | BM19: 4 0 | BN19: 0 | BO19: 0 20 | BP19: 2 3 | BQ19: 0 | BR19: 1 4 | BS19: 1 0 | BT19: 49 38 | BU19: 8 3 | BV19: 15 56 | BW19: 0 1 | BX19: 0 9 | BY19: 1 0 | BZ19: 0 | CA19: 0 | CB19: 1 0 | CC19: 18 5 | CD19: 0 | CE19: 0 | CF19: 5 4 | CG19: 0 1 | CH19: 32 26 | CI19: 50 34 | CJ19: 66 58 | CK19: 1 0 | CL19: 0
A20: 주안6동 | B20: 242 | C20: 107 | D20: 135 | E20: 35 | F20: 6 | G20: 4 | H20: 3 | I20: 59 | J20: 135 | K20: =B20-'2016.1. 기준'!B20 -> 0 | L20: 242 | M20: (M) (F) | N20: 1 1 | O20: 0 | P20: 0 | Q20: 0 2 | R20: 0 | S20: 0 | T20: 0 | U20: 0 | V20: 0 | W20: 11 14 | X20: 0 | Y20: 0 | Z20: 0 1 | AA20: 0 | AB20: 0 | AC20: 0 | AD20: 0 | AE20: 0 | AF20: 0 | AG20: 0 | AH20: 0 | AI20: 2 0 | AJ20: 0 | AK20: 0 | AL20: 3 0 | AM20: 1 0 | AN20: 0 | AO20: 0 | AP20: 0 | AQ20: 0 | AR20: 2 1 | AS20: 1 4 | AT20: 0 1 | AU20: 0 | AV20: 4 3 | AW20: 2 0 | AX20: 0 1 | AY20: 2 1 | AZ20: 0 | BA20: 3 4 | BB20: 2 0 | BC20: 0 1 | BD20: 0 1 | BE20: 4 3 | BF20: 0 | BG20: 0 | BH20: 0 | BI20: 7 2 | BJ20: 1 1 | BK20: 0 | BL20: 0 | BM20: 0 1 | BN20: 0 | BO20: 0 10 | BP20: 2 0 | BQ20: 0 | BR20: 0 1 | BS20: 0 | BT20: 8 11 | BU20: 13 10 | BV20: 10 37 | BW20: 0 | BX20: 0 | BY20: 0 | BZ20: 0 | CA20: 0 | CB20: 0 | CC20: 1 0 | CD20: 0 | CE20: 0 | CF20: 2 2 | CG20: 0 | CH20: 6 5 | CI20: 7 4 | CJ20: 12 13 | CK20: 0 | CL20: 0
A21: 주안7동 | B21: 147 | C21: 41 | D21: 106 | E21: 22 | F21: 0 | G21: 0 | H21: 2 | I21: 23 | J21: 100 | K21: =B21-'2016.1. 기준'!B21 -> 0 | L21: 147 | M21: (M) (F) | N21: 0 | O21: 0 | P21: 0 | Q21: 0 1 | R21: 0 | S21: 0 | T21: 0 | U21: 0 | V21: 0 | W21: 0 1 | X21: 0 | Y21: 0 | Z21: 0 | AA21: 0 | AB21: 0 | AC21: 0 | AD21: 0 | AE21: 0 | AF21: 0 | AG21: 0 | AH21: 0 | AI21: 0 | AJ21: 0 | AK21: 0 | AL21: 0 | AM21: 0 | AN21: 3 0 | AO21: 0 | AP21: 0 | AQ21: 0 | AR21: 1 3 | AS21: 0 | AT21: 0 | AU21: 0 | AV21: 2 10 | AW21: 0 | AX21: 0 | AY21: 1 0 | AZ21: 0 | BA21: 0 2 | BB21: 0 1 | BC21: 0 1 | BD21: 0 | BE21: 3 2 | BF21: 0 | BG21: 0 | BH21: 0 | BI21: 2 2 | BJ21: 1 0 | BK21: 2 1 | BL21: 0 | BM21: 0 | BN21: 0 | BO21: 0 5 | BP21: 1 1 | BQ21: 0 | BR21: 0 | BS21: 0 | BT21: 8 5 | BU21: 5 7 | BV21: 1 39 | BW21: 0 | BX21: 0 1 | BY21: 0 | BZ21: 0 | CA21: 0 | CB21: 0 | CC21: 0 | CD21: 0 | CE21: 0 | CF21: 0 | CG21: 0 | CH21: 1 5 | CI21: 3 6 | CJ21: 7 13 | CK21: 0 | CL21: 0
A22: 주안8동 | B22: 148 | C22: 53 | D22: 95 | E22: 4 | F22: 0 | G22: 1 | H22: 1 | I22: 39 | J22: 103 | K22: =B22-'2016.1. 기준'!B22 -> 0 | L22: 148 | M22: (M) (F) | N22: 0 | O22: 0 | P22: 0 | Q22: 0 | R22: 0 | S22: 0 | T22: 0 | U22: 0 | V22: 0 | W22: 1 2 | X22: 0 | Y22: 0 | Z22: 0 | AA22: 0 | AB22: 0 | AC22: 0 | AD22: 0 | AE22: 0 | AF22: 0 | AG22: 0 | AH22: 2 0 | AI22: 0 | AJ22: 0 | AK22: 0 | AL22: 0 | AM22: 0 | AN22: 0 | AO22: 3 0 | AP22: 0 | AQ22: 0 | AR22: 0 2 | AS22: 0 2 | AT22: 0 | AU22: 0 | AV22: 2 7 | AW22: 0 | AX22: 0 | AY22: 1 1 | AZ22: 0 | BA22: 1 0 | BB22: 0 | BC22: 0 2 | BD22: 2 1 | BE22: 5 3 | BF22: 0 | BG22: 0 | BH22: 0 | BI22: 1 2 | BJ22: 0 | BK22: 0 | BL22: 0 | BM22: 3 0 | BN22: 0 | BO22: 1 6 | BP22: 1 0 | BQ22: 0 | BR22: 2 1 | BS22: 0 | BT22: 4 9 | BU22: 1 0 | BV22: 5 34 | BW22: 0 | BX22: 0 2 | BY22: 0 | BZ22: 0 | CA22: 0 | CB22: 0 | CC22: 0 | CD22: 0 | CE22: 0 | CF22: 0 1 | CG22: 0 | CH22: 6 4 | CI22: 4 8 | CJ22: 7 7 | CK22: 1 1 | CL22: 0
A23: 관교동 | B23: 149 | C23: 69 | D23: 80 | E23: 8 | F23: 0 | G23: 5 | H23: 0 | I23: 31 | J23: 105 | K23: =B23-'2016.1. 기준'!B23 -> 0 | L23: 149 | M23: (M) (F) | N23: 1 1 | O23: 0 | P23: 0 | Q23: 0 | R23: 0 | S23: 0 | T23: 0 | U23: 0 | V23: 0 | W23: 0 | X23: 0 | Y23: 0 | Z23: 0 | AA23: 0 | AB23: 0 | AC23: 0 | AD23: 0 | AE23: 0 | AF23: 0 | AG23: 0 | AH23: 0 | AI23: 0 | AJ23: 0 | AK23: 0 | AL23: 1 1 | AM23: 2 0 | AN23: 0 | AO23: 2 0 | AP23: 0 | AQ23: 0 | AR23: 0 | AS23: 4 1 | AT23: 0 | AU23: 0 | AV23: 2 3 | AW23: 0 | AX23: 0 | AY23: 2 0 | AZ23: 0 1 | BA23: 2 1 | BB23: 0 | BC23: 0 2 | BD23: 0 | BE23: 2 4 | BF23: 0 | BG23: 0 | BH23: 0 | BI23: 3 0 | BJ23: 0 | BK23: 0 | BL23: 0 | BM23: 0 | BN23: 0 | BO23: 0 5 | BP23: 1 0 | BQ23: 0 | BR23: 0 | BS23: 0 | BT23: 8 3 | BU23: 2 3 | BV23: 3 17 | BW23: 0 | BX23: 0 | BY23: 0 | BZ23: 0 | CA23: 0 | CB23: 0 | CC23: 1 0 | CD23: 0 | CE23: 0 | CF23: 2 1 | CG23: 0 | CH23: 7 8 | CI23: 12 9 | CJ23: 12 20 | CK23: 0 | CL23: 0
A24: 문학동 | B24: 151 | C24: 62 | D24: 89 | E24: 21 | F24: 4 | G24: 3 | H24: 4 | I24: 31 | J24: 88 | K24: =B24-'2016.1. 기준'!B24 -> 0 | L24: 151 | M24: (M) (F) | N24: 0 1 | O24: 0 | P24: 0 | Q24: 1 0 | R24: 0 | S24: 0 | T24: 1 0 | U24: 0 | V24: 0 | W24: 0 | X24: 0 | Y24: 0 | Z24: 0 | AA24: 0 | AB24: 0 | AC24: 0 | AD24: 0 | AE24: 0 | AF24: 1 0 | AG24: 0 | AH24: 0 | AI24: 2 0 | AJ24: 0 | AK24: 0 | AL24: 3 0 | AM24: 0 | AN24: 0 | AO24: 0 | AP24: 1 0 | AQ24: 0 1 | AR24: 0 1 | AS24: 1 0 | AT24: 0 | AU24: 0 | AV24: 6 7 | AW24: 0 | AX24: 0 | AY24: 0 | AZ24: 0 | BA24: 0 1 | BB24: 0 | BC24: 0 2 | BD24: 0 | BE24: 3 5 | BF24: 0 | BG24: 1 1 | BH24: 1 1 | BI24: 4 0 | BJ24: 3 2 | BK24: 0 | BL24: 0 | BM24: 1 0 | BN24: 0 | BO24: 0 1 | BP24: 1 0 | BQ24: 0 | BR24: 0 | BS24: 0 | BT24: 7 1 | BU24: 7 10 | BV24: 6 35 | BW24: 0 | BX24: 0 1 | BY24: 0 | BZ24: 0 | CA24: 0 | CB24: 0 | CC24: 0 | CD24: 0 | CE24: 1 0 | CF24: 0 1 | CG24: 0 | CH24: 2 3 | CI24: 2 4 | CJ24: 8 10 | CK24: 0 | CL24: 0 1

Sheet 2016.2.기준
A1: 거주지역 | B1: 총계 | C1: 남녀별 | E1: 국적별 | K1: 인구증감 (전월대비) | L1: 체류자격별
C2: 남자 | D2: 여자 | E2: 타이완 | F2: 미국 | G2: 일본 | H2: 필리핀 | I2: 중국 | J2: 기타 | L2: 합계 | N2: 구직활동(D-10-1) | O2: 전문학사(D-2-1) | P2: 학사유학(D-2-2) | Q2: 석사유학(D-2-3) | R2: 박사유학(D-2-4) | S2: 교환학생(D-2-6) | T2: 기술연수(D-3) | U2: 해투기술연수(D-3-1) | V2: 해외직접(D-3-11) | W2: 대학부설어학원연수(D-4-1) | X2: 기타기관연수(D-4-2) | Y2: 초중고생(D-4-3) | Z2: 종교(D-6) | AA2: 외국기업(D-7-1) | AB2: 법인에 투자(D-8-1) | AC2: 기술창업(D-8-4) | AD2: 선박설비(D-9-3) | AE2: 경영영리사업(D-9-4) | AF2: 교수(E-1) | AG2: 내항선원(E-10-1) | AH2: 어 선 원(E-10-2) | AI2: 일반회화강사(E-2-1) | AJ2: 학교보조교사(E-2-2) | AK2: 연구(E-3) | AL2: 특정활동(E-7-1) | AM2: 제 조 업(E-9-1) | AN2: 건 설 업(E-9-2) | AO2: 어 업(E-9-4) | AP2: 과거추천연수(E-9-95) | AQ2: 과거합법조치(E-9-98) | AR2: 방문동거(F-1-1) | AS2: 방문취업자녀(F-1-11) | AT2: 거주배우자(F-1-12) | AU2: 우수인재 등의 부모(F-1-15) | AV2: 결혼이민가족(F-1-5) | AW2: 미입양된 중도입국 미성년자(F-1-52) | AX2: 결혼가사정리(F-1-6) | AY2: 국적신청(F-1-7) | AZ2: 국적신청가족(F-1-71) | BA2: 동포배우자등(F-1-9) | BB2: 기타동거(F-1-99) | BC2: 국민배우자(F-2-1) | BD2: 국민자녀(F-2-2) | BE2: 영주자가족(F-2-3) | BF2: 난 민(F-2-4) | BG2: 점수우수인력(F-2-7) | BH2: 점수가족(F-2-71) | BI2: 기타장기(F-2-99) | BJ2: 동반(F-3-1) | BK2: 첨단학사(F-5-10) | BL2: 방문취업4년(F-5-14) | BM2: 국내박사(F-5-15) | BN2: 국민배우자(F-5-2) | BO2: 영주출생(F-5-20) | BP2: 국민자녀(F-5-3) | BQ2: 영주가족(F-5-4) | BR2: 재외동포2년(F-5-6) | BS2: 동포국적요건(F-5-7) | BT2: 재한화교(F-5-8) | BU2: 국민배우자(F-6-1) | BV2: 자녀양육(F-6-2) | BW2: 혼인단절(F-6-3) | BX2: 산재보상(G-1-1) | BY2: 치료요양(G-1-10) | BZ2: 질병사고(G-1-2) | CA2: 소송진행(G-1-3) | CB2: 체임중재(G-1-4) | CC2: 난민신청(G-1-5) | CD2: 난민인허(G-1-6) | CE2: 관광취업(H-1) | CF2: 연고방취(H-2-1) | CG2: 자진방취(H-2-3) | CH2: 추첨방취(H-2-5) | CI2: 변경방취(H-2-6) | CJ2: 만기방취(H-2-7) | CK2: 기타방취(H-2-99) | CL2: 기타
A3: 총 계 | B3: 7311 | C3: 3588 | D3: 3723 | E3: 636 | F3: 52 | G3: 101 | H3: 159 | I3: 2016 | J3: 4347 | K3: =B3-'2016.2.기준'!B3 -> 0 | L3: 7311 | M3: (T) (M) (F) | N3: 41 21 20 | O3: 69 14 55 | P3: 488 237 251 | Q3: 219 103 116 | R3: 95 52 43 | S3: 121 36 85 | T3: 17 8 9 | U3: 10 2 8 | V3: 16 16 0 | W3: 313 156 157 | X3: 3 3 0 | Y3: 3 2 1 | Z3: 10 0 10 | AA3: 1 1 0 | AB3: 40 38 2 | AC3: 1 0 1 | AD3: 1 1 0 | AE3: 9 9 0 | AF3: 21 18 3 | AG3: 2 2 0 | AH3: 110 110 0 | AI3: 31 22 9 | AJ3: 4 0 4 | AK3: 28 27 1 | AL3: 51 38 13 | AM3: 624 585 39 | AN3: 57 57 0 | AO3: 25 25 0 | AP3: 7 6 1 | AQ3: 35 25 10 | AR3: 30 7 23 | AS3: 71 28 43 | AT3: 2 0 2 | AU3: 4 2 2 | AV3: 255 87 168 | AW3: 11 7 4 | AX3: 3 0 3 | AY3: 54 30 24 | AZ3: 3 2 1 | BA3: 131 62 69 | BB3: 11 7 4 | BC3: 61 8 53 | BD3: 31 19 12 | BE3: 161 73 88 | BF3: 9 7 2 | BG3: 25 14 11 | BH3: 10 4 6 | BI3: 133 75 58 | BJ3: 131 38 93 | BK3: 1 0 1 | BL3: 19 17 2 | BM3: 3 3 0 | BN3: 203 17 186 | BO3: 36 22 14 | BP3: 3 3 0 | BQ3: 48 16 32 | BR3: 3 3 0 | BS3: 470 255 215 | BT3: 422 237 185 | BU3: 1,029 150 879 | BV3: 17 0 17 | BW3: 28 3 25 | BX3: 5 5 0 | BY3: 2 1 1 | BZ3: 2 1 1 | CA3: 2 1 1 | CB3: 1 1 0 | CC3: 74 63 11 | CD3: 7 6 1 | CE3: 6 3 3 | CF3: 53 26 27 | CG3: 7 4 3 | CH3: 359 188 171 | CI3: 329 177 152 | CJ3: 567 285 282 | CK3: 8 6 2 | CL3: 2 0 2
A4: 숭의1,3동 | B4: 223 | C4: 101 | D4: 122 | E4: 44 | F4: 1 | G4: 1 | H4: 3 | I4: 63 | J4: 111 | K4: =B4-'2016.2.기준'!B4 -> 0 | L4: 223 | M4: (M) (F) | N4: 0 1 | O4: 0 | P4: 2 2 | Q4: 0 | R4: 0 | S4: 0 | T4: 0 | U4: 0 | V4: 0 | W4: 0 | X4: 0 | Y4: 0 | Z4: 0 | AA4: 0 | AB4: 3 0 | AC4: 0 | AD4: 0 | AE4: 3 0 | AF4: 0 | AG4: 0 | AH4: 3 0 | AI4: 1 2 | AJ4: 0 | AK4: 0 | AL4: 4 1 | AM4: 0 | AN4: 0 | AO4: 2 0 | AP4: 0 | AQ4: 1 0 | AR4: 0 | AS4: 1 3 | AT4: 0 | AU4: 0 | AV4: 2 8 | AW4: 0 | AX4: 0 | AY4: 1 2 | AZ4: 0 | BA4: 10 3 | BB4: 1 0 | BC4: 1 8 | BD4: 4 0 | BE4: 1 1 | BF4: 0 1 | BG4: 0 | BH4: 0 | BI4: 6 1 | BJ4: 1 4 | BK4: 0 | BL4: 0 | BM4: 1 0 | BN4: 0 | BO4: 0 7 | BP4: 0 | BQ4: 0 | BR4: 0 4 | BS4: 0 | BT4: 7 5 | BU4: 17 14 | BV4: 2 35 | BW4: 0 | BX4: 0 2 | BY4: 0 | BZ4: 0 | CA4: 0 | CB4: 0 | CC4: 3 0 | CD4: 1 0 | CE4: 0 | CF4: 0 | CG4: 0 | CH4: 8 6 | CI4: 5 7 | CJ4: 10 3 | CK4: 0 | CL4: 0
A5: 숭의2동 | B5: 218 | C5: 85 | D5: 133 | E5: 39 | F5: 1 | G5: 1 | H5: 3 | I5: 51 | J5: 123 | K5: =B5-'2016.2.기준'!B5 -> 0 | L5: 218 | M5: (M) (F) | N5: 0 | O5: 0 | P5: 0 | Q5: 0 | R5: 0 | S5: 0 | T5: 0 | U5: 0 | V5: 0 | W5: 0 | X5: 0 | Y5: 0 | Z5: 0 | AA5: 0 | AB5: 0 | AC5: 0 | AD5: 0 | AE5: 3 0 | AF5: 0 | AG5: 0 | AH5: 2 0 | AI5: 2 0 | AJ5: 0 | AK5: 0 | AL5: 1 0 | AM5: 7 0 | AN5: 0 | AO5: 7 0 | AP5: 0 | AQ5: 0 | AR5: 0 2 | AS5: 1 1 | AT5: 0 | AU5: 0 | AV5: 4 5 | AW5: 1 1 | AX5: 0 | AY5: 3 1 | AZ5: 0 | BA5: 0 2 | BB5: 1 0 | BC5: 0 2 | BD5: 1 0 | BE5: 0 8 | BF5: 0 | BG5: 0 | BH5: 0 | BI5: 4 5 | BJ5: 1 2 | BK5: 0 | BL5: 0 | BM5: 0 | BN5: 0 7 | BO5: 2 0 | BP5: 0 | BQ5: 2 1 | BR5: 0 | BS5: 10 7 | BT5: 11 12 | BU5: 4 53 | BV5: 0 2 | BW5: 0 3 | BX5: 0 | BY5: 0 | BZ5: 0 | CA5: 0 | CB5: 0 | CC5: 0 2 | CD5: 0 | CE5: 0 | CF5: 1 1 | CG5: 0 | CH5: 8 4 | CI5: 2 4 | CJ5: 7 8 | CK5: 0 | CL5: 0
A6: 숭의4동 | B6: 248 | C6: 106 | D6: 142 | E6: 16 | F6: 5 | G6: 3 | H6: 2 | I6: 61 | J6: 161 | K6: =B6-'2016.2.기준'!B6 -> 0 | L6: 248 | M6: (M) (F) | N6: 1 0 | O6: 0 | P6: 3 1 | Q6: 0 1 | R6: 0 | S6: 0 | T6: 0 | U6: 0 | V6: 0 | W6: 0 | X6: 0 | Y6: 0 | Z6: 0 | AA6: 0 | AB6: 1 0 | AC6: 0 | AD6: 0 | AE6: 0 | AF6: 0 | AG6: 1 0 | AH6: 4 0 | AI6: 2 3 | AJ6: 0 | AK6: 0 | AL6: 0 | AM6: 0 | AN6: 0 | AO6: 0 | AP6: 0 | AQ6: 0 1 | AR6: 0 1 | AS6: 1 1 | AT6: 0 | AU6: 1 0 | AV6: 6 8 | AW6: 1 0 | AX6: 0 | AY6: 4 2 | AZ6: 0 | BA6: 6 2 | BB6: 0 | BC6: 0 4 | BD6: 0 2 | BE6: 0 2 | BF6: 0 | BG6: 0 | BH6: 0 | BI6: 1 2 | BJ6: 0 1 | BK6: 0 | BL6: 1 0 | BM6: 0 | BN6: 0 5 | BO6: 0 | BP6: 1 0 | BQ6: 0 | BR6: 1 0 | BS6: 7 9 | BT6: 9 2 | BU6: 7 42 | BV6: 0 2 | BW6: 1 0 | BX6: 1 0 | BY6: 0 | BZ6: 0 | CA6: 0 | CB6: 0 | CC6: 0 | CD6: 0 | CE6: 0 | CF6: 3 1 | CG6: 0 | CH6: 20 28 | CI6: 5 5 | CJ6: 17 16 | CK6: 0 | CL6: 0
A7: 용현1,4동 | B7: 1332 | C7: 657 | D7: 675 | E7: 32 | F7: 8 | G7: 8 | H7: 10 | I7: 715 | J7: 559 | K7: =B7-'2016.2.기준'!B7 -> 0 | L7: 1332 | M7: (M) (F) | N7: 9 10 | O7: 8 50 | P7: 178 186 | Q7: 71 82 | R7: 41 36 | S7: 31 21 | T7: 0 | U7: 0 | V7: 0 | W7: 129 120 | X7: 0 | Y7: 1 0 | Z7: 0 1 | AA7: 1 0 | AB7: 2 0 | AC7: 0 1 | AD7: 0 | AE7: 0 | AF7: 12 3 | AG7: 0 | AH7: 4 0 | AI7: 1 1 | AJ7: 0 | AK7: 20 0 | AL7: 6 4 | AM7: 6 0 | AN7: 11 0 | AO7: 1 0 | AP7: 0 | AQ7: 0 | AR7: 1 2 | AS7: 1 1 | AT7: 0 | AU7: 1 1 | AV7: 6 10 | AW7: 1 0 | AX7: 0 | AY7: 1 1 | AZ7: 0 | BA7: 0 5 | BB7: 0 | BC7: 0 2 | BD7: 0 | BE7: 4 7 | BF7: 1 0 | BG7: 8 5 | BH7: 3 3 | BI7: 10 2 | BJ7: 9 22 | BK7: 0 | BL7: 1 0 | BM7: 2 0 | BN7: 2 10 | BO7: 0 | BP7: 0 | BQ7: 0 1 | BR7: 0 | BS7: 14 12 | BT7: 6 9 | BU7: 9 41 | BV7: 0 1 | BW7: 0 | BX7: 0 | BY7: 1 1 | BZ7: 1 0 | CA7: 0 | CB7: 0 | CC7: 12 0 | CD7: 0 | CE7: 1 1 | CF7: 2 2 | CG7: 0 | CH7: 5 8 | CI7: 9 4 | CJ7: 12 8 | CK7: 0 | CL7: 0
A8: 용현2동 | B8: 224 | C8: 104 | D8: 120 | E8: 108 | F8: 0 | G8: 3 | H8: 4 | I8: 33 | J8: 76 | K8: =B8-'2016.2.기준'!B8 -> 0 | L8: 224 | M8: (M) (F) | N8: 0 | O8: 0 | P8: 0 | Q8: 0 | R8: 0 1 | S8: 0 | T8: 0 | U8: 0 | V8: 0 | W8: 0 1 | X8: 0 | Y8: 0 | Z8: 0 1 | AA8: 0 | AB8: 8 1 | AC8: 0 | AD8: 0 | AE8: 0 | AF8: 0 | AG8: 1 0 | AH8: 7 0 | AI8: 0 | AJ8: 0 | AK8: 1 0 | AL8: 0 2 | AM8: 0 | AN8: 7 0 | AO8: 1 0 | AP8: 0 | AQ8: 0 1 | AR8: 1 1 | AS8: 0 | AT8: 0 | AU8: 0 | AV8: 3 4 | AW8: 0 | AX8: 0 | AY8: 0 1 | AZ8: 0 | BA8: 0 3 | BB8: 0 | BC8: 0 3 | BD8: 0 1 | BE8: 1 3 | BF8: 0 | BG8: 0 | BH8: 0 | BI8: 7 9 | BJ8: 5 6 | BK8: 0 | BL8: 0 | BM8: 0 | BN8: 3 4 | BO8: 2 1 | BP8: 0 | BQ8: 4 1 | BR8: 0 | BS8: 4 4 | BT8: 38 40 | BU8: 2 16 | BV8: 0 1 | BW8: 0 | BX8: 0 | BY8: 0 | BZ8: 0 | CA8: 0 | CB8: 0 | CC8: 0 | CD8: 0 | CE8: 0 | CF8: 0 1 | CG8: 0 | CH8: 1 3 | CI8: 1 4 | CJ8: 1 3 | CK8: 1 1 | CL8: 0
A9: 용현3동 | B9: 167 | C9: 67 | D9: 100 | E9: 17 | F9: 0 | G9: 2 | H9: 2 | I9: 26 | J9: 120 | K9: =B9-'2016.2.기준'!B9 -> 0 | L9: 167 | M9: (M) (F) | N9: 0 1 | O9: 0 | P9: 2 2 | Q9: 3 3 | R9: 4 0 | S9: 0 | T9: 0 | U9: 0 | V9: 0 | W9: 0 1 | X9: 0 | Y9: 0 | Z9: 0 | AA9: 0 | AB9: 0 | AC9: 0 | AD9: 0 | AE9: 0 | AF9: 0 | AG9: 0 | AH9: 1 0 | AI9: 0 | AJ9: 0 | AK9: 1 0 | AL9: 1 1 | AM9: 0 | AN9: 0 | AO9: 0 | AP9: 0 | AQ9: 0 | AR9: 0 | AS9: 0 1 | AT9: 0 | AU9: 0 | AV9: 1 4 | AW9: 0 | AX9: 0 | AY9: 0 | AZ9: 0 | BA9: 6 6 | BB9: 0 1 | BC9: 0 2 | BD9: 1 0 | BE9: 1 4 | BF9: 0 | BG9: 1 1 | BH9: 0 | BI9: 2 3 | BJ9: 2 11 | BK9: 0 | BL9: 0 | BM9: 1 0 | BN9: 1 7 | BO9: 0 | BP9: 0 | BQ9: 1 2 | BR9: 0 | BS9: 9 3 | BT9: 4 4 | BU9: 2 18 | BV9: 0 | BW9: 0 | BX9: 0 | BY9: 0 | BZ9: 0 | CA9: 0 | CB9: 0 | CC9: 3 2 | CD9: 0 | CE9: 0 | CF9: 0 | CG9: 0 | CH9: 7 7 | CI9: 6 4 | CJ9: 6 11 | CK9: 0 | CL9: 0
A10: 용현5동 | B10: 337 | C10: 183 | D10: 154 | E10: 50 | F10: 1 | G10: 5 | H10: 4 | I10: 98 | J10: 179 | K10: =B10-'2016.2.기준'!B10 -> 0 | L10: 337 | M10: (M) (F) | N10: 0 | O10: 0 | P10: 1 0 | Q10: 2 1 | R10: 1 0 | S10: 0 | T10: 0 | U10: 0 | V10: 0 | W10: 0 | X10: 0 | Y10: 0 | Z10: 0 | AA10: 0 | AB10: 10 1 | AC10: 0 | AD10: 0 | AE10: 1 0 | AF10: 0 | AG10: 0 | AH10: 50 0 | AI10: 1 0 | AJ10: 0 | AK10: 1 1 | AL10: 0 | AM10: 3 0 | AN10: 6 0 | AO10: 2 0 | AP10: 0 | AQ10: 0 1 | AR10: 0 3 | AS10: 0 1 | AT10: 0 1 | AU10: 0 | AV10: 5 11 | AW10: 0 1 | AX10: 0 | AY10: 1 3 | AZ10: 0 | BA10: 3 7 | BB10: 0 1 | BC10: 0 3 | BD10: 1 1 | BE10: 5 2 | BF10: 4 1 | BG10: 0 | BH10: 0 | BI10: 6 5 | BJ10: 3 11 | BK10: 0 | BL10: 0 | BM10: 0 | BN10: 0 10 | BO10: 0 1 | BP10: 0 | BQ10: 0 1 | BR10: 1 0 | BS10: 12 12 | BT10: 23 12 | BU10: 10 37 | BV10: 0 | BW10: 0 | BX10: 1 0 | BY10: 0 | BZ10: 0 | CA10: 0 | CB10: 0 | CC10: 0 | CD10: 0 | CE10: 0 1 | CF10: 1 0 | CG10: 1 1 | CH10: 6 6 | CI10: 6 10 | CJ10: 15 8 | CK10: 1 0 | CL10: 0
A11: 학익1동 | B11: 512 | C11: 214 | D11: 298 | E11: 63 | F11: 9 | G11: 13 | H11: 9 | I11: 181 | J11: 237 | K11: =B11-'2016.2.기준'!B11 -> 0 | L11: 512 | M11: (M) (F) | N11: 0 1 | O11: 1 2 | P11: 28 44 | Q11: 17 11 | R11: 3 3 | S11: 4 62 | T11: 1 2 | U11: 0 1 | V11: 0 | W11: 7 5 | X11: 2 0 | Y11: 0 | Z11: 0 | AA11: 0 | AB11: 6 0 | AC11: 0 | AD11: 0 | AE11: 1 0 | AF11: 5 0 | AG11: 0 | AH11: 17 0 | AI11: 5 2 | AJ11: 0 1 | AK11: 1 0 | AL11: 4 1 | AM11: 14 1 | AN11: 0 | AO11: 1 0 | AP11: 1 1 | AQ11: 2 2 | AR11: 0 1 | AS11: 1 1 | AT11: 0 | AU11: 0 1 | AV11: 5 8 | AW11: 0 | AX11: 0 1 | AY11: 0 | AZ11: 0 | BA11: 1 1 | BB11: 0 | BC11: 1 2 | BD11: 1 0 | BE11: 4 6 | BF11: 0 | BG11: 0 | BH11: 0 | BI11: 5 8 | BJ11: 6 19 | BK11: 0 | BL11: 2 0 | BM11: 0 | BN11: 4 17 | BO11: 0 | BP11: 0 | BQ11: 1 3 | BR11: 0 | BS11: 10 9 | BT11: 29 17 | BU11: 10 48 | BV11: 0 3 | BW11: 0 | BX11: 0 | BY11: 0 | BZ11: 0 | CA11: 1 0 | CB11: 0 | CC11: 0 | CD11: 0 | CE11: 1 0 | CF11: 1 3 | CG11: 0 | CH11: 3 7 | CI11: 1 1 | CJ11: 7 4 | CK11: 0 | CL11: 0 1
A12: 학익2동 | B12: 126 | C12: 56 | D12: 70 | E12: 11 | F12: 1 | G12: 4 | H12: 3 | I12: 34 | J12: 73 | K12: =B12-'2016.2.기준'!B12 -> 0 | L12: 126 | M12: (M) (F) | N12: 1 0 | O12: 1 0 | P12: 4 1 | Q12: 6 4 | R12: 3 1 | S12: 0 | T12: 0 | U12: 0 | V12: 0 | W12: 1 1 | X12: 0 | Y12: 0 | Z12: 0 | AA12: 0 | AB12: 0 | AC12: 0 | AD12: 0 | AE12: 0 | AF12: 0 | AG12: 0 | AH12: 0 | AI12: 0 | AJ12: 0 1 | AK12: 3 0 | AL12: 1 0 | AM12: 1 0 | AN12: 0 | AO12: 0 | AP12: 0 | AQ12: 0 | AR12: 0 | AS12: 0 | AT12: 0 | AU12: 0 | AV12: 4 3 | AW12: 0 | AX12: 0 | AY12: 1 0 | AZ12: 1 0 | BA12: 0 | BB12: 0 | BC12: 0 1 | BD12: 0 1 | BE12: 0 1 | BF12: 0 | BG12: 1 0 | BH12: 0 2 | BI12: 3 1 | BJ12: 2 3 | BK12: 0 1 | BL12: 0 | BM12: 0 | BN12: 0 4 | BO12: 0 1 | BP12: 0 | BQ12: 1 2 | BR12: 0 | BS12: 5 2 | BT12: 6 1 | BU12: 1 33 | BV12: 0 | BW12: 0 | BX12: 0 | BY12: 0 | BZ12: 0 | CA12: 0 | CB12: 0 | CC12: 3 0 | CD12: 0 | CE12: 0 | CF12: 0 2 | CG12: 0 | CH12: 2 1 | CI12: 2 0 | CJ12: 3 3 | CK12: 0 | CL12: 0
A13: 도화1동 | B13: 543 | C13: 326 | D13: 217 | E13: 58 | F13: 3 | G13: 8 | H13: 25 | I13: 76 | J13: 373 | K13: =B13-'2016.2.기준'!B13 -> 0 | L13: 543 | M13: (M) (F) | N13: 0 1 | O13: 1 0 | P13: 0 1 | Q13: 0 | R13: 0 | S13: 0 | T13: 0 | U13: 0 | V13: 0 | W13: 0 3 | X13: 0 | Y13: 0 | Z13: 0 | AA13: 0 | AB13: 6 0 | AC13: 0 | AD13: 1 0 | AE13: 1 0 | AF13: 0 | AG13: 0 | AH13: 16 0 | AI13: 0 | AJ13: 0 | AK13: 0 | AL13: 2 0 | AM13: 160 12 | AN13: 3 0 | AO13: 2 0 | AP13: 0 | AQ13: 2 0 | AR13: 1 1 | AS13: 2 5 | AT13: 0 | AU13: 0 | AV13: 5 11 | AW13: 0 1 | AX13: 0 | AY13: 1 0 | AZ13: 0 | BA13: 3 1 | BB13: 0 | BC13: 1 3 | BD13: 5 1 | BE13: 4 6 | BF13: 0 | BG13: 2 1 | BH13: 0 | BI13: 2 3 | BJ13: 4 5 | BK13: 0 | BL13: 0 | BM13: 0 | BN13: 0 11 | BO13: 1 3 | BP13: 0 | BQ13: 0 3 | BR13: 0 | BS13: 18 12 | BT13: 22 23 | BU13: 14 74 | BV13: 0 | BW13: 0 1 | BX13: 0 | BY13: 0 | BZ13: 0 | CA13: 0 | CB13: 0 | CC13: 2 0 | CD13: 4 1 | CE13: 0 | CF13: 5 1 | CG13: 0 2 | CH13: 13 7 | CI13: 10 9 | CJ13: 12 15 | CK13: 1 0 | CL13: 0
A14: 도화2,3동 | B14: 600 | C14: 411 | D14: 189 | E14: 11 | F14: 0 | G14: 5 | H14: 36 | I14: 91 | J14: 457 | K14: =B14-'2016.2.기준'!B14 -> 0 | L14: 600 | M14: (M) (F) | N14: 0 | O14: 1 1 | P14: 9 2 | Q14: 0 1 | R14: 0 1 | S14: 0 | T14: 3 1 | U14: 0 1 | V14: 0 | W14: 0 1 | X14: 0 | Y14: 0 | Z14: 0 4 | AA14: 0 | AB14: 1 0 | AC14: 0 | AD14: 0 | AE14: 2 0 | AF14: 0 | AG14: 0 | AH14: 1 0 | AI14: 0 | AJ14: 0 | AK14: 0 | AL14: 1 0 | AM14: 230 7 | AN14: 2 0 | AO14: 0 | AP14: 3 0 | AQ14: 12 1 | AR14: 0 1 | AS14: 3 10 | AT14: 0 | AU14: 0 | AV14: 6 20 | AW14: 0 1 | AX14: 0 | AY14: 4 1 | AZ14: 0 | BA14: 6 6 | BB14: 0 | BC14: 0 3 | BD14: 1 0 | BE14: 4 4 | BF14: 1 0 | BG14: 0 1 | BH14: 0 | BI14: 0 4 | BJ14: 0 2 | BK14: 0 | BL14: 3 0 | BM14: 0 | BN14: 1 10 | BO14: 1 0 | BP14: 0 | BQ14: 1 0 | BR14: 0 | BS14: 12 17 | BT14: 3 2 | BU14: 11 52 | BV14: 0 1 | BW14: 0 | BX14: 2 0 | BY14: 0 | BZ14: 0 | CA14: 0 | CB14: 0 | CC14: 16 1 | CD14: 1 0 | CE14: 0 | CF14: 1 1 | CG14: 0 | CH14: 20 3 | CI14: 21 9 | CJ14: 29 11 | CK14: 0 | CL14: 0
A15: 주안1동 | B15: 590 | C15: 283 | D15: 307 | E15: 12 | F15: 8 | G15: 11 | H15: 16 | I15: 142 | J15: 401 | K15: =B15-'2016.2.기준'!B15 -> 0 | L15: 590 | M15: (M) (F) | N15: 2 3 | O15: 0 2 | P15: 5 6 | Q15: 2 6 | R15: 0 | S15: 1 2 | T15: 0 | U15: 0 | V15: 4 0 | W15: 4 2 | X15: 0 | Y15: 1 0 | Z15: 0 3 | AA15: 0 | AB15: 1 0 | AC15: 0 | AD15: 0 | AE15: 0 | AF15: 0 | AG15: 0 | AH15: 2 0 | AI15: 5 1 | AJ15: 0 2 | AK15: 0 | AL15: 3 1 | AM15: 65 4 | AN15: 17 0 | AO15: 0 | AP15: 0 | AQ15: 0 1 | AR15: 0 2 | AS15: 0 4 | AT15: 0 | AU15: 0 | AV15: 6 11 | AW15: 1 0 | AX15: 0 | AY15: 2 1 | AZ15: 0 | BA15: 7 5 | BB15: 0 | BC15: 1 8 | BD15: 1 1 | BE15: 8 7 | BF15: 0 | BG15: 0 2 | BH15: 0 | BI15: 2 0 | BJ15: 0 1 | BK15: 0 | BL15: 0 1 | BM15: 0 | BN15: 2 23 | BO15: 6 3 | BP15: 0 | BQ15: 2 5 | BR15: 0 | BS15: 36 38 | BT15: 5 2 | BU15: 19 78 | BV15: 0 1 | BW15: 2 4 | BX15: 0 | BY15: 0 | BZ15: 0 | CA15: 0 1 | CB15: 0 | CC15: 2 0 | CD15: 0 | CE15: 0 1 | CF15: 2 4 | CG15: 2 0 | CH15: 20 18 | CI15: 17 19 | CJ15: 25 34 | CK15: 2 0 | CL15: 0
A16: 주안2동 | B16: 205 | C16: 75 | D16: 130 | E16: 24 | F16: 1 | G16: 11 | H16: 4 | I16: 51 | J16: 114 | K16: =B16-'2016.2.기준'!B16 -> 0 | L16: 205 | M16: (M) (F) | N16: 1 0 | O16: 0 | P16: 0 | Q16: 0 | R16: 0 1 | S16: 0 | T16: 0 | U16: 0 | V16: 0 | W16: 1 1 | X16: 1 0 | Y16: 0 | Z16: 0 | AA16: 0 | AB16: 0 | AC16: 0 | AD16: 0 | AE16: 0 | AF16: 0 | AG16: 0 | AH16: 0 | AI16: 0 | AJ16: 0 | AK16: 0 | AL16: 1 0 | AM16: 2 0 | AN16: 2 0 | AO16: 2 0 | AP16: 0 | AQ16: 0 | AR16: 0 | AS16: 1 0 | AT16: 0 | AU16: 0 | AV16: 6 8 | AW16: 0 | AX16: 0 | AY16: 1 1 | AZ16: 0 | BA16: 1 5 | BB16: 0 | BC16: 2 0 | BD16: 0 | BE16: 2 2 | BF16: 0 | BG16: 0 | BH16: 0 | BI16: 4 5 | BJ16: 1 0 | BK16: 0 | BL16: 0 | BM16: 0 | BN16: 2 13 | BO16: 0 1 | BP16: 1 0 | BQ16: 0 1 | BR16: 0 | BS16: 10 3 | BT16: 7 4 | BU16: 5 51 | BV16: 0 1 | BW16: 0 1 | BX16: 0 | BY16: 0 | BZ16: 0 | CA16: 0 | CB16: 0 | CC16: 0 | CD16: 0 | CE16: 0 | CF16: 1 2 | CG16: 0 | CH16: 7 6 | CI16: 5 5 | CJ16: 8 16 | CK16: 0 | CL16: 0
A17: 주안3동 | B17: 121 | C17: 51 | D17: 70 | E17: 10 | F17: 0 | G17: 2 | H17: 3 | I17: 31 | J17: 75 | K17: =B17-'2016.2.기준'!B17 -> 0 | L17: 121 | M17: (M) (F) | N17: 2 1 | O17: 0 | P17: 1 2 | Q17: 0 1 | R17: 0 | S17: 0 | T17: 0 | U17: 0 | V17: 0 | W17: 1 0 | X17: 0 | Y17: 0 | Z17: 0 | AA17: 0 | AB17: 0 | AC17: 0 | AD17: 0 | AE17: 0 | AF17: 0 | AG17: 0 | AH17: 1 0 | AI17: 0 | AJ17: 0 | AK17: 0 | AL17: 1 0 | AM17: 10 1 | AN17: 0 | AO17: 0 | AP17: 0 | AQ17: 0 | AR17: 0 | AS17: 0 | AT17: 0 | AU17: 0 | AV17: 3 4 | AW17: 0 | AX17: 0 | AY17: 0 | AZ17: 0 | BA17: 2 3 | BB17: 0 | BC17: 0 1 | BD17: 0 1 | BE17: 1 0 | BF17: 0 | BG17: 0 | BH17: 0 | BI17: 0 1 | BJ17: 0 | BK17: 0 | BL17: 0 | BM17: 0 | BN17: 0 4 | BO17: 1 0 | BP17: 0 | BQ17: 0 2 | BR17: 0 | BS17: 5 4 | BT17: 4 4 | BU17: 5 29 | BV17: 0 2 | BW17: 0 | BX17: 0 | BY17: 0 | BZ17: 0 | CA17: 0 | CB17: 0 | CC17: 0 | CD17: 0 | CE17: 0 | CF17: 0 | CG17: 1 0 | CH17: 2 2 | CI17: 3 1 | CJ17: 8 6 | CK17: 0 | CL17: 0
A18: 주안4동 | B18: 236 | C18: 110 | D18: 126 | E18: 35 | F18: 3 | G18: 4 | H18: 11 | I18: 42 | J18: 141 | K18: =B18-'2016.2.기준'!B18 -> 0 | L18: 236 | M18: (M) (F) | N18: 0 | O18: 0 | P18: 0 1 | Q18: 1 0 | R18: 0 | S18: 0 | T18: 0 | U18: 0 | V18: 0 | W18: 0 | X18: 0 | Y18: 0 1 | Z18: 0 | AA18: 0 | AB18: 0 | AC18: 0 | AD18: 0 | AE18: 0 | AF18: 0 | AG18: 0 | AH18: 0 | AI18: 0 | AJ18: 0 | AK18: 0 | AL18: 4 0 | AM18: 4 0 | AN18: 2 0 | AO18: 0 | AP18: 0 | AQ18: 0 | AR18: 0 1 | AS18: 2 2 | AT18: 0 | AU18: 0 | AV18: 4 8 | AW18: 1 0 | AX18: 0 | AY18: 2 1 | AZ18: 0 | BA18: 2 2 | BB18: 2 0 | BC18: 1 1 | BD18: 0 | BE18: 3 2 | BF18: 0 | BG18: 1 0 | BH18: 0 | BI18: 3 2 | BJ18: 0 | BK18: 0 | BL18: 1 0 | BM18: 0 | BN18: 1 6 | BO18: 1 0 | BP18: 1 0 | BQ18: 0 | BR18: 0 | BS18: 14 11 | BT18: 17 8 | BU18: 7 49 | BV18: 0 1 | BW18: 0 1 | BX18: 0 | BY18: 0 | BZ18: 0 1 | CA18: 0 | CB18: 0 | CC18: 1 1 | CD18: 0 | CE18: 0 | CF18: 0 | CG18: 0 | CH18: 13 6 | CI18: 8 6 | CJ18: 12 15 | CK18: 0 | CL18: 0
A19: 주안5동 | B19: 792 | C19: 429 | D19: 363 | E19: 17 | F19: 0 | G19: 6 | H19: 13 | I19: 133 | J19: 623 | K19: =B19-'2016.2.기준'!B19 -> 0 | L19: 792 | M19: (M) (F) | N19: 2 0 | O19: 2 0 | P19: 4 3 | Q19: 0 2 | R19: 0 1 | S19: 0 | T19: 3 6 | U19: 2 6 | V19: 12 0 | W19: 0 5 | X19: 0 | Y19: 0 | Z19: 0 | AA19: 0 | AB19: 0 | AC19: 0 | AD19: 0 | AE19: 0 | AF19: 0 | AG19: 0 | AH19: 0 | AI19: 1 0 | AJ19: 0 | AK19: 0 | AL19: 2 2 | AM19: 80 14 | AN19: 4 0 | AO19: 2 0 | AP19: 1 0 | AQ19: 8 2 | AR19: 1 1 | AS19: 9 6 | AT19: 0 | AU19: 0 | AV19: 6 16 | AW19: 0 | AX19: 0 1 | AY19: 3 8 | AZ19: 1 0 | BA19: 9 10 | BB19: 0 | BC19: 1 2 | BD19: 2 2 | BE19: 18 17 | BF19: 1 0 | BG19: 0 | BH19: 0 | BI19: 2 1 | BJ19: 1 2 | BK19: 0 | BL19: 4 0 | BM19: 0 | BN19: 0 21 | BO19: 2 3 | BP19: 0 | BQ19: 2 4 | BR19: 1 0 | BS19: 49 37 | BT19: 8 3 | BU19: 14 55 | BV19: 0 1 | BW19: 0 9 | BX19: 1 0 | BY19: 0 | BZ19: 0 | CA19: 0 | CB19: 1 0 | CC19: 19 5 | CD19: 0 | CE19: 0 | CF19: 5 4 | CG19: 0 | CH19: 32 26 | CI19: 49 34 | CJ19: 67 59 | CK19: 1 0 | CL19: 0
A20: 주안6동 | B20: 247 | C20: 110 | D20: 137 | E20: 34 | F20: 7 | G20: 4 | H20: 3 | I20: 64 | J20: 135 | K20: =B20-'2016.2.기준'!B20 -> 0 | L20: 247 | M20: (M) (F) | N20: 1 1 | O20: 0 | P20: 0 | Q20: 0 2 | R20: 0 | S20: 0 | T20: 0 | U20: 0 | V20: 0 | W20: 11 14 | X20: 0 | Y20: 0 | Z20: 0 1 | AA20: 0 | AB20: 0 | AC20: 0 | AD20: 0 | AE20: 0 | AF20: 0 | AG20: 0 | AH20: 0 | AI20: 2 0 | AJ20: 0 | AK20: 0 | AL20: 4 0 | AM20: 1 0 | AN20: 0 | AO20: 0 | AP20: 0 | AQ20: 0 | AR20: 2 1 | AS20: 1 4 | AT20: 0 1 | AU20: 0 | AV20: 4 3 | AW20: 2 0 | AX20: 0 1 | AY20: 2 1 | AZ20: 0 | BA20: 3 4 | BB20: 3 1 | BC20: 0 1 | BD20: 0 1 | BE20: 4 3 | BF20: 0 | BG20: 0 | BH20: 0 | BI20: 7 2 | BJ20: 1 2 | BK20: 0 | BL20: 0 1 | BM20: 0 | BN20: 0 10 | BO20: 2 0 | BP20: 0 | BQ20: 0 1 | BR20: 0 | BS20: 8 11 | BT20: 13 9 | BU20: 12 38 | BV20: 0 | BW20: 0 | BX20: 0 | BY20: 0 | BZ20: 0 | CA20: 0 | CB20: 0 | CC20: 1 0 | CD20: 0 | CE20: 0 | CF20: 2 2 | CG20: 0 | CH20: 6 5 | CI20: 6 4 | CJ20: 12 13 | CK20: 0 | CL20: 0
A21: 주안7동 | B21: 147 | C21: 41 | D21: 106 | E21: 23 | F21: 0 | G21: 1 | H21: 2 | I21: 23 | J21: 98 | K21: =B21-'2016.2.기준'!B21 -> 0 | L21: 147 | M21: (M) (F) | N21: 0 | O21: 0 | P21: 0 | Q21: 0 1 | R21: 0 | S21: 0 | T21: 0 | U21: 0 | V21: 0 | W21: 0 1 | X21: 0 | Y21: 0 | Z21: 0 | AA21: 0 | AB21: 0 | AC21: 0 | AD21: 0 | AE21: 0 | AF21: 0 | AG21: 0 | AH21: 0 | AI21: 0 | AJ21: 0 | AK21: 0 | AL21: 0 | AM21: 0 | AN21: 3 0 | AO21: 0 | AP21: 0 | AQ21: 0 | AR21: 1 3 | AS21: 0 | AT21: 0 | AU21: 0 | AV21: 2 10 | AW21: 0 | AX21: 0 | AY21: 1 0 | AZ21: 0 | BA21: 0 2 | BB21: 0 1 | BC21: 0 1 | BD21: 0 | BE21: 3 2 | BF21: 0 | BG21: 0 | BH21: 0 | BI21: 3 2 | BJ21: 1 0 | BK21: 0 | BL21: 0 | BM21: 0 | BN21: 0 5 | BO21: 1 1 | BP21: 0 | BQ21: 0 | BR21: 0 | BS21: 8 5 | BT21: 5 7 | BU21: 1 40 | BV21: 0 1 | BW21: 0 1 | BX21: 0 | BY21: 0 | BZ21: 0 | CA21: 0 | CB21: 0 | CC21: 0 | CD21: 0 | CE21: 0 | CF21: 0 | CG21: 0 | CH21: 1 4 | CI21: 3 6 | CJ21: 6 12 | CK21: 0 | CL21: 0
A22: 주안8동 | B22: 153 | C22: 53 | D22: 100 | E22: 4 | F22: 0 | G22: 1 | H22: 2 | I22: 40 | J22: 106 | K22: =B22-'2016.2.기준'!B22 -> 0 | L22: 153 | M22: (M) (F) | N22: 0 | O22: 0 | P22: 0 | Q22: 0 | R22: 0 | S22: 0 | T22: 0 | U22: 0 | V22: 0 | W22: 1 2 | X22: 0 | Y22: 0 | Z22: 0 | AA22: 0 | AB22: 0 | AC22: 0 | AD22: 0 | AE22: 0 | AF22: 0 | AG22: 0 | AH22: 2 0 | AI22: 0 | AJ22: 0 | AK22: 0 | AL22: 0 | AM22: 0 | AN22: 0 | AO22: 3 0 | AP22: 0 | AQ22: 0 | AR22: 0 2 | AS22: 0 2 | AT22: 0 | AU22: 0 | AV22: 2 7 | AW22: 0 | AX22: 0 | AY22: 1 1 | AZ22: 0 | BA22: 1 0 | BB22: 0 | BC22: 0 2 | BD22: 2 1 | BE22: 5 3 | BF22: 0 | BG22: 0 | BH22: 0 | BI22: 1 2 | BJ22: 0 | BK22: 0 | BL22: 3 0 | BM22: 0 | BN22: 1 6 | BO22: 1 0 | BP22: 0 | BQ22: 2 1 | BR22: 0 | BS22: 3 10 | BT22: 1 0 | BU22: 6 38 | BV22: 0 | BW22: 0 2 | BX22: 0 | BY22: 0 | BZ22: 0 | CA22: 0 | CB22: 0 | CC22: 0 | CD22: 0 | CE22: 0 | CF22: 0 1 | CG22: 0 | CH22: 6 4 | CI22: 4 8 | CJ22: 8 7 | CK22: 0 1 | CL22: 0
A23: 관교동 | B23: 144 | C23: 68 | D23: 76 | E23: 7 | F23: 0 | G23: 5 | H23: 0 | I23: 31 | J23: 101 | K23: =B23-'2016.2.기준'!B23 -> 0 | L23: 144 | M23: (M) (F) | N23: 2 1 | O23: 0 | P23: 0 | Q23: 0 | R23: 0 | S23: 0 | T23: 0 | U23: 0 | V23: 0 | W23: 0 | X23: 0 | Y23: 0 | Z23: 0 | AA23: 0 | AB23: 0 | AC23: 0 | AD23: 0 | AE23: 0 | AF23: 0 | AG23: 0 | AH23: 0 | AI23: 0 | AJ23: 0 | AK23: 0 | AL23: 0 1 | AM23: 2 0 | AN23: 0 | AO23: 2 0 | AP23: 0 | AQ23: 0 | AR23: 0 | AS23: 4 1 | AT23: 0 | AU23: 0 | AV23: 2 3 | AW23: 0 | AX23: 0 | AY23: 2 0 | AZ23: 0 1 | BA23: 2 1 | BB23: 0 | BC23: 0 2 | BD23: 0 | BE23: 2 4 | BF23: 0 | BG23: 0 | BH23: 0 | BI23: 3 0 | BJ23: 0 | BK23: 0 | BL23: 0 | BM23: 0 | BN23: 0 5 | BO23: 1 0 | BP23: 0 | BQ23: 0 | BR23: 0 | BS23: 8 3 | BT23: 2 2 | BU23: 3 17 | BV23: 0 | BW23: 0 | BX23: 0 | BY23: 0 | BZ23: 0 | CA23: 0 | CB23: 0 | CC23: 1 0 | CD23: 0 | CE23: 0 | CF23: 2 1 | CG23: 0 | CH23: 6 7 | CI23: 12 8 | CJ23: 12 19 | CK23: 0 | CL23: 0
A24: 문학동 | B24: 146 | C24: 58 | D24: 88 | E24: 21 | F24: 4 | G24: 3 | H24: 4 | I24: 30 | J24: 84 | K24: =B24-'2016.2.기준'!B24 -> 0 | L24: 146 | M24: (M) (F) | N24: 0 | O24: 0 | P24: 0 | Q24: 1 0 | R24: 0 | S24: 0 | T24: 1 0 | U24: 0 | V24: 0 | W24: 0 1 | X24: 0 | Y24: 0 | Z24: 0 | AA24: 0 | AB24: 0 | AC24: 0 | AD24: 0 | AE24: 0 | AF24: 1 0 | AG24: 0 | AH24: 0 | AI24: 2 0 | AJ24: 0 | AK24: 0 | AL24: 3 0 | AM24: 0 | AN24: 0 | AO24: 0 | AP24: 1 0 | AQ24: 0 1 | AR24: 0 1 | AS24: 1 0 | AT24: 0 | AU24: 0 | AV24: 5 6 | AW24: 0 | AX24: 0 | AY24: 0 | AZ24: 0 | BA24: 0 1 | BB24: 0 | BC24: 0 2 | BD24: 0 | BE24: 3 4 | BF24: 0 | BG24: 1 1 | BH24: 1 1 | BI24: 4 0 | BJ24: 1 2 | BK24: 0 | BL24: 1 0 | BM24: 0 | BN24: 0 1 | BO24: 1 0 | BP24: 0 | BQ24: 0 | BR24: 0 | BS24: 6 1 | BT24: 7 10 | BU24: 6 35 | BV24: 0 | BW24: 0 1 | BX24: 0 | BY24: 0 | BZ24: 0 | CA24: 0 | CB24: 0 | CC24: 0 | CD24: 0 | CE24: 1 0 | CF24: 0 1 | CG24: 0 | CH24: 2 3 | CI24: 2 4 | CJ24: 8 11 | CK24: 0 | CL24: 0 1

Sheet 2016.3. 기준 
A1: 거주지역 | B1: 총계 | C1: 남녀별 | E1: 국적별 | K1: 인구증감 (전월대비) | M1: 체류자격별
C2: 남자 | D2: 여자 | E2: 타 이 완 | F2: 미 국 | G2: 일 본 | H2: 필리핀 | I2: 중 국 | J2: 기타 | M2: 합계 | N2: 구직활동(D-10-1) | O2: 전문학사(D-2-1) | P2: 학사유학(D-2-2) | Q2: 석사유학(D-2-3) | R2: 박사유학(D-2-4) | S2: 교환학생(D-2-6) | T2: 기술연수(D-3) | U2: 해투기술연수(D-3-1) | V2: 해외직접(D-3-11) | W2: 대학부설어학원연수(D-4-1) | X2: 기타기관연수(D-4-2) | Y2: 초중고생(D-4-3) | Z2: 종교(D-6) | AA2: 법인에 투자(D-8-1) | AB2: 기술창업(D-8-4) | AC2: 선박설비(D-9-3) | AD2: 경영영리사업(D-9-4) | AE2: 교수(E-1) | AF2: 내항선원(E-10-1) | AG2: 어 선 원(E-10-2) | AH2: 일반회화강사(E-2-1) | AI2: 학교보조교사(E-2-2) | AJ2: 연구(E-3) | AK2: 특정활동(E-7-1) | AL2: 제 조 업(E-9-1) | AM2: 건 설 업(E-9-2) | AN2: 어 업(E-9-4) | AO2: 과거추천연수(E-9-95) | AP2: 과거합법조치(E-9-98) | AQ2: 방문동거(F-1-1) | AR2: 방문취업자녀(F-1-11) | AS2: 거주배우자(F-1-12) | AT2: 우수인재 등의 부모(F-1-15) | AU2: 결혼이민가족(F-1-5) | AV2: 미입양된 중도입국 미성년자(F-1-52) | AW2: 결혼가사정리(F-1-6) | AX2: 국적신청(F-1-7) | AY2: 국적신청가족(F-1-71) | AZ2: 동포배우자등(F-1-9) | BA2: 기타동거(F-1-99) | BB2: 국민자녀(F-2-2) | BC2: 영주자가족(F-2-3) | BD2: 난 민(F-2-4) | BE2: 점수우수인력(F-2-7) | BF2: 점수가족(F-2-71) | BG2: 기타장기(F-2-99) | BH2: 동반(F-3-1) | BI2: 장기체류(F-5-1) | BJ2: 첨단학사(F-5-10) | BK2: 방문취업4년(F-5-14) | BL2: 국내박사(F-5-15) | BM2: 국민배우자(F-5-2) | BN2: 영주출생(F-5-20) | BO2: 영주가족(F-5-4) | BP2: 재외동포2년(F-5-6) | BQ2: 동포국적요건(F-5-7) | BR2: 재한화교(F-5-8) | BS2: 국민배우자(F-6-1) | BT2: 자녀양육(F-6-2) | BU2: 혼인단절(F-6-3) | BV2: 산재보상(G-1-1) | BW2: 치료요양(G-1-10) | BX2: 질병사고(G-1-2) | BY2: 소송진행(G-1-3) | BZ2: 체임중재(G-1-4) | CA2: 난민신청(G-1-5) | CB2: 관광취업(H-1) | CC2: 연고방취(H-2-1) | CD2: 자진방취(H-2-3) | CE2: 추첨방취(H-2-5) | CF2: 변경방취(H-2-6) | CG2: 만기방취(H-2-7) | CH2: 기타방취(H-2-99) | CI2: 기타
A3: 총 계 | B3: 7439 | C3: 3632 | D3: =B3-C3 -> 3807 | E3: 637 | F3: 51 | G3: 115 | H3: 160 | I3: 2069 | J3: 4407 | K3: =B3-'[1]2016.2.기준'!B3 -> 128 | L3: (T) (M) (F) | M3: 7,439 3,632 3,807 | N3: 44 16 28 | O3: 80 11 69 | P3: 540 270 270 | Q3: 211 102 109 | R3: 103 54 49 | S3: 189 60 129 | T3: 17 8 9 | U3: 10 2 8 | V3: 17 17 0 | W3: 291 149 142 | X3: 5 5 0 | Y3: 3 2 1 | Z3: 9 0 9 | AA3: 42 39 3 | AB3: 1 0 1 | AC3: 1 1 0 | AD3: 9 9 0 | AE3: 20 18 2 | AF3: 2 2 0 | AG3: 110 110 0 | AH3: 30 21 9 | AI3: 3 0 3 | AJ3: 30 27 3 | AK3: 55 41 14 | AL3: 608 570 38 | AM3: 56 56 0 | AN3: 25 25 0 | AO3: 7 6 1 | AP3: 35 25 10 | AQ3: 30 7 23 | AR3: 76 31 45 | AS3: 2 0 2 | AT3: 4 2 2 | AU3: 258 86 172 | AV3: 11 7 4 | AW3: 4 0 4 | AX3: 56 30 26 | AY3: 2 2 0 | AZ3: 147 68 79 | BA3: 11 7 4 | BB3: 31 19 12 | BC3: 164 74 90 | BD3: 9 7 2 | BE3: 25 14 11 | BF3: 9 4 5 | BG3: 131 75 56 | BH3: 136 43 93 | BI3: 34 18 16 | BJ3: 1 0 1 | BK3: 19 17 2 | BL3: 3 3 0 | BM3: 203 17 186 | BN3: 38 22 16 | BO3: 48 16 32 | BP3: 3 3 0 | BQ3: 475 261 214 | BR3: 421 236 185 | BS3: 1,028 152 876 | BT3: 17 0 17 | BU3: 29 3 26 | BV3: 5 5 0 | BW3: 2 1 1 | BX3: 3 1 2 | BY3: 2 1 1 | BZ3: 1 1 0 | CA3: 73 62 11 | CB3: 3 3 0 | CC3: 52 26 26 | CD3: 6 3 3 | CE3: 350 180 170 | CF3: 329 174 155 | CG3: 570 289 281 | CH3: 9 7 2 | CI3: 2 0 2
A4: 숭의1,3동 | B4: 222 | C4: 99 | D4: =B4-C4 -> 123 | E4: 44 | F4: 1 | G4: 1 | H4: 3 | I4: 63 | J4: 110 | K4: =B4-'[1]2016.2.기준'!B4 -> -1 | L4: (M) (F) | M4: 99 123 | N4: 0 | O4: 0 | P4: 2 2 | Q4: 0 | R4: 0 | S4: 0 | T4: 0 | U4: 0 | V4: 0 | W4: 0 | X4: 0 | Y4: 0 | Z4: 0 | AA4: 3 1 | AB4: 0 | AC4: 0 | AD4: 3 0 | AE4: 0 | AF4: 0 | AG4: 3 0 | AH4: 1 1 | AI4: 0 | AJ4: 0 | AK4: 4 1 | AL4: 0 | AM4: 0 | AN4: 2 0 | AO4: 0 | AP4: 1 0 | AQ4: 0 | AR4: 1 3 | AS4: 0 | AT4: 0 | AU4: 2 9 | AV4: 0 | AW4: 0 | AX4: 1 2 | AY4: 0 | AZ4: 11 4 | BA4: 1 0 | BB4: 4 0 | BC4: 1 1 | BD4: 0 1 | BE4: 0 | BF4: 0 | BG4: 6 1 | BH4: 1 4 | BI4: 0 1 | BJ4: 0 | BK4: 1 0 | BL4: 0 | BM4: 0 7 | BN4: 0 | BO4: 0 4 | BP4: 0 | BQ4: 7 5 | BR4: 17 14 | BS4: 2 35 | BT4: 0 | BU4: 0 2 | BV4: 0 | BW4: 0 | BX4: 0 | BY4: 0 | BZ4: 0 | CA4: 2 0 | CB4: 0 | CC4: 0 | CD4: 0 | CE4: 8 6 | CF4: 5 7 | CG4: 8 3 | CH4: 0 | CI4: 0
A5: 숭의2동 | B5: 221 | C5: 87 | D5: =B5-C5 -> 134 | E5: 40 | F5: 2 | G5: 1 | H5: 3 | I5: 52 | J5: 123 | K5: =B5-'[1]2016.2.기준'!B5 -> 3 | L5: (M) (F) | M5: 87 134 | N5: 0 | O5: 0 | P5: 1 0 | Q5: 0 | R5: 0 | S5: 0 | T5: 0 | U5: 0 | V5: 0 | W5: 0 | X5: 0 | Y5: 0 | Z5: 0 | AA5: 0 | AB5: 0 | AC5: 0 | AD5: 1 0 | AE5: 0 | AF5: 0 | AG5: 2 0 | AH5: 1 1 | AI5: 0 | AJ5: 0 | AK5: 1 0 | AL5: 7 0 | AM5: 0 | AN5: 7 0 | AO5: 0 | AP5: 0 | AQ5: 0 2 | AR5: 2 1 | AS5: 0 | AT5: 0 | AU5: 4 5 | AV5: 1 1 | AW5: 0 | AX5: 3 1 | AY5: 0 | AZ5: 0 2 | BA5: 1 0 | BB5: 1 0 | BC5: 0 9 | BD5: 0 | BE5: 0 | BF5: 0 | BG5: 4 5 | BH5: 1 2 | BI5: 2 1 | BJ5: 0 | BK5: 0 | BL5: 0 | BM5: 0 7 | BN5: 2 0 | BO5: 2 1 | BP5: 0 | BQ5: 10 7 | BR5: 11 12 | BS5: 4 50 | BT5: 0 2 | BU5: 0 3 | BV5: 0 | BW5: 0 | BX5: 0 | BY5: 0 | BZ5: 0 | CA5: 0 2 | CB5: 0 | CC5: 1 1 | CD5: 0 | CE5: 9 5 | CF5: 2 4 | CG5: 7 8 | CH5: 0 | CI5: 0
A6: 숭의4동 | B6: 253 | C6: 106 | D6: =B6-C6 -> 147 | E6: 37 | F6: 9 | G6: 26 | H6: 10 | I6: 742 | J6: 608 | K6: =B6-'[1]2016.2.기준'!B6 -> 5 | L6: (M) (F) | M6: 106 147 | N6: 0 | O6: 0 | P6: 2 0 | Q6: 1 1 | R6: 0 | S6: 0 | T6: 0 | U6: 0 | V6: 0 | W6: 0 | X6: 0 | Y6: 0 | Z6: 0 | AA6: 1 0 | AB6: 0 | AC6: 0 | AD6: 0 | AE6: 0 | AF6: 1 0 | AG6: 4 0 | AH6: 1 3 | AI6: 0 | AJ6: 0 | AK6: 0 | AL6: 0 | AM6: 0 | AN6: 0 | AO6: 0 | AP6: 0 1 | AQ6: 0 1 | AR6: 0 2 | AS6: 0 | AT6: 1 0 | AU6: 6 8 | AV6: 1 0 | AW6: 0 | AX6: 4 2 | AY6: 0 | AZ6: 7 2 | BA6: 0 | BB6: 0 2 | BC6: 0 1 | BD6: 0 | BE6: 0 | BF6: 0 | BG6: 1 2 | BH6: 0 1 | BI6: 1 1 | BJ6: 0 | BK6: 1 0 | BL6: 0 | BM6: 0 5 | BN6: 0 | BO6: 0 | BP6: 1 0 | BQ6: 9 9 | BR6: 10 3 | BS6: 8 45 | BT6: 0 2 | BU6: 1 0 | BV6: 1 0 | BW6: 0 | BX6: 0 | BY6: 0 | BZ6: 0 | CA6: 0 | CB6: 0 | CC6: 2 1 | CD6: 0 | CE6: 19 29 | CF6: 5 5 | CG6: 17 17 | CH6: 0 | CI6: 0
A7: 용현1,4동 | B7: 1432 | C7: 705 | D7: =B7-C7 -> 727 | E7: 105 | F7: 0 | G7: 3 | H7: 3 | I7: 34 | J7: 72 | K7: =B7-'[1]2016.2.기준'!B7 -> 100 | L7: (M) (F) | M7: 705 727 | N7: 10 17 | O7: 7 64 | P7: 206 205 | Q7: 68 76 | R7: 41 38 | S7: 57 55 | T7: 0 | U7: 0 | V7: 0 | W7: 124 108 | X7: 4 0 | Y7: 1 0 | Z7: 0 1 | AA7: 2 0 | AB7: 0 1 | AC7: 0 | AD7: 0 | AE7: 12 2 | AF7: 0 | AG7: 3 0 | AH7: 0 | AI7: 0 | AJ7: 19 2 | AK7: 7 5 | AL7: 6 0 | AM7: 10 0 | AN7: 1 0 | AO7: 0 | AP7: 0 | AQ7: 1 2 | AR7: 2 1 | AS7: 0 | AT7: 1 1 | AU7: 6 10 | AV7: 1 0 | AW7: 0 | AX7: 1 1 | AY7: 0 | AZ7: 0 6 | BA7: 0 | BB7: 0 | BC7: 4 8 | BD7: 1 0 | BE7: 7 5 | BF7: 3 2 | BG7: 10 2 | BH7: 10 19 | BI7: 2 1 | BJ7: 0 | BK7: 1 0 | BL7: 2 0 | BM7: 2 9 | BN7: 0 | BO7: 0 1 | BP7: 0 | BQ7: 14 12 | BR7: 6 9 | BS7: 9 40 | BT7: 0 1 | BU7: 0 | BV7: 0 | BW7: 1 1 | BX7: 1 0 | BY7: 0 | BZ7: 0 | CA7: 12 0 | CB7: 1 0 | CC7: 2 2 | CD7: 0 | CE7: 5 7 | CF7: 9 4 | CG7: 12 7 | CH7: 0 | CI7: 0
A8: 용현2동 | B8: 217 | C8: 101 | D8: =B8-C8 -> 116 | E8: 17 | F8: 0 | G8: 2 | H8: 2 | I8: 25 | J8: 119 | K8: =B8-'[1]2016.2.기준'!B8 -> -7 | L8: (M) (F) | M8: 101 116 | N8: 0 | O8: 0 | P8: 0 | Q8: 0 | R8: 0 2 | S8: 0 | T8: 0 | U8: 0 | V8: 0 | W8: 0 1 | X8: 0 | Y8: 0 | Z8: 0 1 | AA8: 8 1 | AB8: 0 | AC8: 0 | AD8: 0 | AE8: 0 | AF8: 1 0 | AG8: 7 0 | AH8: 0 | AI8: 0 | AJ8: 1 0 | AK8: 0 2 | AL8: 0 | AM8: 7 0 | AN8: 1 0 | AO8: 0 | AP8: 0 1 | AQ8: 1 1 | AR8: 0 | AS8: 0 | AT8: 0 | AU8: 3 4 | AV8: 0 | AW8: 0 | AX8: 0 1 | AY8: 0 | AZ8: 0 3 | BA8: 0 | BB8: 0 1 | BC8: 1 3 | BD8: 0 | BE8: 0 | BF8: 0 | BG8: 6 7 | BH8: 3 4 | BI8: 5 3 | BJ8: 0 | BK8: 0 | BL8: 0 | BM8: 3 4 | BN8: 2 1 | BO8: 4 1 | BP8: 0 | BQ8: 4 4 | BR8: 38 40 | BS8: 2 15 | BT8: 0 1 | BU8: 0 | BV8: 0 | BW8: 0 | BX8: 0 | BY8: 0 | BZ8: 0 | CA8: 0 | CB8: 0 | CC8: 0 1 | CD8: 0 | CE8: 1 3 | CF8: 1 3 | CG8: 1 4 | CH8: 1 1 | CI8: 0
A9: 용현3동 | B9: 165 | C9: 65 | D9: =B9-C9 -> 100 | E9: 51 | F9: 0 | G9: 4 | H9: 5 | I9: 99 | J9: 185 | K9: =B9-'[1]2016.2.기준'!B9 -> -2 | L9: (M) (F) | M9: 65 100 | N9: 0 1 | O9: 0 | P9: 2 2 | Q9: 2 3 | R9: 4 0 | S9: 0 | T9: 0 | U9: 0 | V9: 0 | W9: 1 1 | X9: 0 | Y9: 0 | Z9: 0 | AA9: 0 | AB9: 0 | AC9: 0 | AD9: 0 | AE9: 0 | AF9: 0 | AG9: 1 0 | AH9: 0 | AI9: 0 | AJ9: 1 0 | AK9: 1 1 | AL9: 0 | AM9: 0 | AN9: 0 | AO9: 0 | AP9: 0 | AQ9: 0 | AR9: 0 1 | AS9: 0 | AT9: 0 | AU9: 1 4 | AV9: 0 | AW9: 0 | AX9: 0 | AY9: 0 | AZ9: 6 6 | BA9: 0 1 | BB9: 1 0 | BC9: 2 4 | BD9: 0 | BE9: 1 1 | BF9: 0 | BG9: 2 3 | BH9: 2 11 | BI9: 1 1 | BJ9: 0 | BK9: 0 | BL9: 1 0 | BM9: 1 7 | BN9: 0 | BO9: 1 2 | BP9: 0 | BQ9: 9 3 | BR9: 4 4 | BS9: 2 19 | BT9: 0 | BU9: 0 | BV9: 0 | BW9: 0 | BX9: 0 | BY9: 0 | BZ9: 0 | CA9: 1 2 | CB9: 0 | CC9: 0 | CD9: 0 | CE9: 7 6 | CF9: 5 4 | CG9: 6 11 | CH9: 0 | CI9: 0
A10: 용현5동 | B10: 344 | C10: 188 | D10: =B10-C10 -> 156 | E10: 61 | F10: 9 | G10: 12 | H10: 10 | I10: 192 | J10: 240 | K10: =B10-'[1]2016.2.기준'!B10 -> 7 | L10: (M) (F) | M10: 188 156 | N10: 0 | O10: 0 | P10: 1 0 | Q10: 1 0 | R10: 1 1 | S10: 0 | T10: 0 | U10: 0 | V10: 0 | W10: 0 | X10: 0 | Y10: 0 | Z10: 0 | AA10: 10 1 | AB10: 0 | AC10: 0 | AD10: 1 0 | AE10: 0 | AF10: 0 | AG10: 51 0 | AH10: 2 0 | AI10: 0 | AJ10: 1 1 | AK10: 0 | AL10: 3 0 | AM10: 6 0 | AN10: 2 0 | AO10: 0 | AP10: 0 1 | AQ10: 0 3 | AR10: 0 1 | AS10: 0 1 | AT10: 0 | AU10: 5 13 | AV10: 0 1 | AW10: 0 | AX10: 1 3 | AY10: 0 | AZ10: 3 6 | BA10: 0 1 | BB10: 1 1 | BC10: 5 3 | BD10: 4 1 | BE10: 0 | BF10: 0 | BG10: 7 5 | BH10: 5 13 | BI10: 0 | BJ10: 0 | BK10: 0 | BL10: 0 | BM10: 0 10 | BN10: 0 1 | BO10: 0 1 | BP10: 1 0 | BQ10: 13 12 | BR10: 23 12 | BS10: 10 38 | BT10: 0 | BU10: 0 | BV10: 1 0 | BW10: 0 | BX10: 0 | BY10: 0 | BZ10: 0 | CA10: 0 | CB10: 0 | CC10: 1 0 | CD10: 1 1 | CE10: 6 5 | CF10: 6 11 | CG10: 15 6 | CH10: 1 0 | CI10: 0
A11: 학익1동 | B11: 524 | C11: 215 | D11: =B11-C11 -> 309 | E11: 12 | F11: 1 | G11: 4 | H11: 3 | I11: 35 | J11: 77 | K11: =B11-'[1]2016.2.기준'!B11 -> 12 | L11: (M) (F) | M11: 215 309 | N11: 0 1 | O11: 1 2 | P11: 37 42 | Q11: 18 13 | R11: 4 5 | S11: 0 72 | T11: 1 2 | U11: 0 1 | V11: 0 | W11: 3 4 | X11: 0 | Y11: 0 | Z11: 0 | AA11: 6 0 | AB11: 0 | AC11: 0 | AD11: 1 0 | AE11: 5 0 | AF11: 0 | AG11: 17 0 | AH11: 5 2 | AI11: 0 1 | AJ11: 1 0 | AK11: 3 0 | AL11: 13 1 | AM11: 0 | AN11: 1 0 | AO11: 1 1 | AP11: 2 2 | AQ11: 0 1 | AR11: 2 1 | AS11: 0 | AT11: 0 1 | AU11: 5 8 | AV11: 0 | AW11: 0 1 | AX11: 0 | AY11: 0 | AZ11: 1 1 | BA11: 0 | BB11: 1 0 | BC11: 4 6 | BD11: 0 | BE11: 0 | BF11: 0 | BG11: 5 8 | BH11: 7 19 | BI11: 1 0 | BJ11: 0 | BK11: 2 0 | BL11: 0 | BM11: 4 18 | BN11: 0 | BO11: 1 3 | BP11: 0 | BQ11: 10 9 | BR11: 28 17 | BS11: 10 48 | BT11: 0 3 | BU11: 0 | BV11: 0 | BW11: 0 | BX11: 0 | BY11: 1 0 | BZ11: 0 | CA11: 0 | CB11: 1 0 | CC11: 1 3 | CD11: 0 | CE11: 3 8 | CF11: 1 1 | CG11: 8 3 | CH11: 0 | CI11: 0 1
A12: 학익2동 | B12: 132 | C12: 60 | D12: =B12-C12 -> 72 | E12: 56 | F12: 3 | G12: 8 | H12: 25 | I12: 80 | J12: 373 | K12: =B12-'[1]2016.2.기준'!B12 -> 6 | L12: (M) (F) | M12: 60 72 | N12: 0 | O12: 0 | P12: 5 1 | Q12: 6 3 | R12: 3 1 | S12: 2 0 | T12: 0 | U12: 0 | V12: 0 | W12: 1 0 | X12: 0 | Y12: 0 | Z12: 0 | AA12: 0 | AB12: 0 | AC12: 0 | AD12: 0 | AE12: 0 | AF12: 0 | AG12: 0 | AH12: 0 | AI12: 0 1 | AJ12: 3 0 | AK12: 1 0 | AL12: 1 0 | AM12: 0 | AN12: 0 | AO12: 0 | AP12: 0 | AQ12: 0 | AR12: 0 | AS12: 0 | AT12: 0 | AU12: 5 4 | AV12: 0 | AW12: 0 | AX12: 1 0 | AY12: 1 0 | AZ12: 0 | BA12: 0 | BB12: 0 1 | BC12: 0 1 | BD12: 0 | BE12: 1 0 | BF12: 0 2 | BG12: 3 1 | BH12: 2 3 | BI12: 0 | BJ12: 0 1 | BK12: 0 | BL12: 0 | BM12: 0 4 | BN12: 0 1 | BO12: 1 2 | BP12: 0 | BQ12: 5 2 | BR12: 7 1 | BS12: 1 35 | BT12: 0 | BU12: 0 | BV12: 0 | BW12: 0 | BX12: 0 1 | BY12: 0 | BZ12: 0 | CA12: 3 0 | CB12: 0 | CC12: 0 2 | CD12: 0 | CE12: 2 1 | CF12: 3 0 | CG12: 3 3 | CH12: 0 | CI12: 0
A13: 도화1동 | B13: 545 | C13: 325 | D13: =B13-C13 -> 220 | E13: 11 | F13: 0 | G13: 5 | H13: 36 | I13: 89 | J13: 455 | K13: =B13-'[1]2016.2.기준'!B13 -> 2 | L13: (M) (F) | M13: 325 220 | N13: 0 2 | O13: 0 | P13: 0 2 | Q13: 0 | R13: 1 0 | S13: 0 | T13: 0 | U13: 0 | V13: 0 | W13: 0 3 | X13: 0 | Y13: 0 | Z13: 0 | AA13: 7 0 | AB13: 0 | AC13: 1 0 | AD13: 1 0 | AE13: 0 | AF13: 0 | AG13: 16 0 | AH13: 0 1 | AI13: 0 | AJ13: 0 | AK13: 2 0 | AL13: 159 12 | AM13: 3 0 | AN13: 2 0 | AO13: 0 | AP13: 2 0 | AQ13: 1 1 | AR13: 2 5 | AS13: 0 | AT13: 0 | AU13: 5 11 | AV13: 0 1 | AW13: 0 | AX13: 1 1 | AY13: 0 | AZ13: 3 1 | BA13: 0 | BB13: 5 1 | BC13: 4 7 | BD13: 0 | BE13: 2 1 | BF13: 0 | BG13: 2 3 | BH13: 4 5 | BI13: 0 | BJ13: 0 | BK13: 0 | BL13: 0 | BM13: 0 11 | BN13: 1 3 | BO13: 0 3 | BP13: 0 | BQ13: 21 12 | BR13: 21 22 | BS13: 15 73 | BT13: 0 | BU13: 0 1 | BV13: 0 | BW13: 0 | BX13: 0 | BY13: 0 | BZ13: 0 | CA13: 1 0 | CB13: 0 | CC13: 5 1 | CD13: 0 2 | CE13: 13 6 | CF13: 9 10 | CG13: 11 15 | CH13: 1 0 | CI13: 0
A14: 도화2,3동 | B14: 596 | C14: 401 | D14: =B14-C14 -> 195 | E14: 12 | F14: 7 | G14: 9 | H14: 16 | I14: 144 | J14: 406 | K14: =B14-'[1]2016.2.기준'!B14 -> -4 | L14: (M) (F) | M14: 401 195 | N14: 0 | O14: 1 1 | P14: 7 3 | Q14: 0 2 | R14: 0 1 | S14: 0 | T14: 3 1 | U14: 0 1 | V14: 0 | W14: 1 0 | X14: 0 | Y14: 0 | Z14: 0 4 | AA14: 1 0 | AB14: 0 | AC14: 0 | AD14: 2 0 | AE14: 0 | AF14: 0 | AG14: 1 0 | AH14: 0 | AI14: 0 | AJ14: 0 | AK14: 1 0 | AL14: 221 7 | AM14: 2 0 | AN14: 0 | AO14: 3 0 | AP14: 12 1 | AQ14: 0 1 | AR14: 2 9 | AS14: 0 | AT14: 0 | AU14: 6 22 | AV14: 0 1 | AW14: 0 | AX14: 3 1 | AY14: 0 | AZ14: 8 8 | BA14: 0 | BB14: 1 0 | BC14: 4 4 | BD14: 1 0 | BE14: 0 1 | BF14: 0 | BG14: 1 4 | BH14: 0 2 | BI14: 0 1 | BJ14: 0 | BK14: 3 0 | BL14: 0 | BM14: 1 11 | BN14: 1 0 | BO14: 1 0 | BP14: 0 | BQ14: 12 16 | BR14: 3 2 | BS14: 12 51 | BT14: 0 1 | BU14: 0 | BV14: 2 0 | BW14: 0 | BX14: 0 | BY14: 0 | BZ14: 0 | CA14: 18 1 | CB14: 0 | CC14: 1 2 | CD14: 0 | CE14: 18 13 | CF14: 21 9 | CG14: 29 12 | CH14: 0 | CI14: 0
A15: 주안1동 | B15: 594 | C15: 280 | D15: =B15-C15 -> 314 | E15: 24 | F15: 1 | G15: 11 | H15: 4 | I15: 53 | J15: 112 | K15: =B15-'[1]2016.2.기준'!B15 -> 4 | L15: (M) (F) | M15: 280 314 | N15: 1 4 | O15: 0 2 | P15: 4 7 | Q15: 2 5 | R15: 0 | S15: 1 2 | T15: 0 | U15: 0 | V15: 4 0 | W15: 5 2 | X15: 0 | Y15: 1 0 | Z15: 0 2 | AA15: 1 0 | AB15: 0 | AC15: 0 | AD15: 0 | AE15: 0 | AF15: 0 | AG15: 2 0 | AH15: 5 1 | AI15: 0 1 | AJ15: 1 0 | AK15: 4 1 | AL15: 62 4 | AM15: 17 0 | AO15: 0 | AP15: 0 1 | AQ15: 0 2 | AR15: 0 5 | AS15: 0 | AT15: 0 | AU15: 6 12 | AV15: 1 0 | AW15: 0 | AX15: 2 1 | AY15: 0 | AZ15: 7 7 | BA15: 0 | BB15: 1 1 | BC15: 8 6 | BD15: 0 | BE15: 0 2 | BF15: 0 | BG15: 2 0 | BH15: 0 2 | BI15: 1 0 | BJ15: 0 | BK15: 0 1 | BL15: 0 | BM15: 2 21 | BN15: 6 4 | BO15: 2 5 | BP15: 0 | BQ15: 37 39 | BR15: 5 2 | BS15: 19 78 | BT15: 0 1 | BU15: 2 3 | BV15: 0 | BW15: 0 | BX15: 0 | BY15: 0 1 | BZ15: 0 | CA15: 2 0 | CB15: 0 | CC15: 2 4 | CD15: 1 0 | CE15: 19 21 | CF15: 16 20 | CG15: 26 36 | CH15: 2 0 | CI15: 0
