Workbook

Sheet Sheet1
A1: 동별 푸른 마을 쉼터 현황
A3: 번호 | B3: 위치 | C3: 쉼터명 | D3: 면적 | E3: 사업내용 | F3: 사업기간
B4: 총계 | C4: 67개소 | D4: =D5+D11+D13+D23+D31+D33+D40+D43+D46+D52+D59+D63+D67+D73+D79+D82+D88+D91 -> 27756.5
A5: 계 | B5: 숭의1.3동 | C5: 5개소 | D5: =SUM(D6:D10) -> 658.4
A6: 1 | B6: 숭의1동 162-79 | C6: 효자쉼터 | D6: 118.3 | E6: 청단풍 외5종 24주, 사철나무 외2종 800주 온몸역기올리기, 표지석, 솟대, 우드포장, 마사토포장, 쉼터등 | F6: `05. 10. 24∼ 11.22
A7: 2 | B7: 숭의1동 431-72 | C7: 장수쉼터 | D7: =[1]쉼터현황!D76 -> 149.8 | E7: =[1]쉼터현황!I76 -> 전나무 외 5종 13주, 회양목 외 4종 88주, 정자, 고무칩포장 | F7: 06. 04.01 ~ 05.01
A8: 3 | B8: 숭의3동109-308 | C8: 쇠뿔고개쉼터 | D8: 73 | E8: 소나무 외6종 410주, 사각의자 외2종 | F8: `01.7.20~9.17
A9: 4 | B9: 숭의3동139-14 | C9: 샘쉼터 | D9: 153.1 | E9: 느티나무 외6종 555주, 파고라 외9종 | F9: `01.7.20~9.17
A10: 5 | B10: 숭의3동84-6 | C10: 새미래쉼터 | D10: 164.2 | E10: 회화나무 외9종 712주, 조합놀이대 외9종 | F10: `01.7.20~9.17
A11: 계 | B11: 숭의2동 | C11: 1개소 | D11: =D12 -> 55
A12: 1 | B12: 숭의2동285-64 | C12: 주인육각쉼터 | D12: 55 | E12: 느티나무외2종11주,황매화외2종630주,맥문동110본 등의자외3종, 잔디블럭외2종포장 | F12: `03.10.21∼ 11.19
A13: 계 | B13: 숭의4동 | C13: 8개소 | D13: =SUM(D14:D22) -> 1271
A14: 1 | B14: 숭의4동19-88 | C14: 으뜸골쉼터 | D14: 80 | E14: 느티나무외6종78,정자외3종7 | F14: `00.6.9~7.18
A15: 2 | B15: 숭의4동248-92 | C15: 주인공원쉼터 | D15: 251 | E15: 느티나무외12종168,정자외8종20 | F15: `00.6.9~7.18
A16: 3 | B16: 숭의4동4-30 | C16: 샛길쉼터 | D16: 74 | E16: 느티나무외2종15주,자산홍외1종790주, 맥문동외1종330본,등의자외3종,잔디블럭외3종포장 | F16: `03.10.22∼ 11.20
A17: 4 | B17: 숭의4동449-3 | C17: 지누골쉼터 | D17: 75 | E17: 느티나무 외1종 62주, 이층정자 외2종 | F17: `01.8.3~9.17
B18: 숭의4동8-66 | D18: 86 | E18: 소나무외1종 10주, 사철나무 외3종 840주 앉음벽 외2종, 쉼터등2개, 정자등2개 | F18: `02. 10.1∼ 11.9
A19: 5 | B19: 숭의4동5-19 | C19: 신성쉼터 | D19: 55 | E19: 소나무(둥근형)외 1종 18주, 매자나무외3종 555주 | F19: `04.5.14∼ 6.22
A20: 6 | B20: 숭의4동7-4 | C20: 한마을쉼터 | D20: 107 | E20: 느티나무외10종215,원형의자외5종11 | F20: `00.6.9~7.18
A21: 7 | B21: 숭의4동76-20 | C21: 여의골쉼터 | D21: 110 | E21: 홍단풍 외2종 173주, 평의자 외6종 | F21: `01.8.3~9.17
A22: 8 | B22: 숭의4동 72-24 | C22: 여의안길쉼터 | D22: =[1]쉼터현황!D77 -> 433 | E22: =[1]쉼터현황!I77 -> 해송외 7종 25주, 복자기 외 5종 1232주 | F22: 06.11.2~12.2
A23: 계 | B23: 용현1.4동 | C23: 7개소 | D23: =SUM(D24:D30) -> 1222.6
A24: 1 | B24: 용현1동 146-201 | C24: 독정골쉼터 | D24: 155 | E24: 소나무외4종29주, 사철나무외5종943주 사각파고라외6종,점토벽돌외1종 | F24: `03.4.18∼5.17
A25: 2 | B25: 용현1동 1-53번지 | C25: 아리쉼터 | D25: 63 | E25: 느티나무외 1종 6주, 개쉬땅나무외 3종 410주 통돌의자외 3종, 고무블럭외 1종 포장 | F25: `04.6.3∼ 7.2
A26: 3 | B26: 용현1동136-3일원 | C26: 우마쉼터 | D26: 98 | E26: 소나무외5종47주,백철쭉외4종1,320주,맥문동480본 사각파고라외4종, 잔디블럭외3종포장 | F26: `03.10.29∼ 11.27
A27: 4 | B27: 용현1동54 | C27: 우물쉼터 | D27: 100 | E27: 소나무외4종24주,백철쭉외4종895주,원추리외3종 사각파고라외9종, 잔디블럭외3종 포장 | F27: `03.10.29∼ 11.27
A28: 5 | B28: 용현1동 1-158번지 | C28: 푸른마을쉼터 | D28: 94 | E28: 느티나무외 8종 32주, 백철쭉외 4종 270주 표지석, 통나무의자, 석등, 그린블록포장 | F28: `05.5.18∼ 6.16
A29: 6 | B29: 용현1동 454-53번지 | C29: 수봉오름쉼터 | D29: 350 | E29: 이팝나무외 8종 91주, 개나리외 8종 2140주 통나무의자, 석등자, 그린블록포장, 매쉬휀스 | F29: `05. 5.30 ∼ 7.8
A30: 7 | B30: 용현4동46-1 | C30: 용정쉼터 | D30: 362.6 | E30: 느티나무 외10종 1,478주, 조합놀이대 외10종 | F30: `01.7.23~9.5
A31: 계 | B31: 용현2동 | C31: 1개소 | D31: =D32 -> 560
A32: 1 | B32: 용현2동536철로변 | C32: 용마루쉼터 | D32: 560 | E32: 느티나무외4종56주, 사철나무외1종537주 야외탁자외5종, 디딤돌놓기외1종 | F32: `03.5.13∼6.11
A33: 계 | B33: 용현3동 | C33: 6개소 | D33: =SUM(D34:D39) -> 6394.4
A34: 1 | B34: 용현3동 147-237일원 | C34: 한진쉼터 | D34: 61 | E34: 복자기외 3종 35주, 영산홍외 1종 3,200주 평의자외 1종, 고무매트외3종 포장 | F34: `04.5.14∼ 6.22
A35: 2 | B35: 용현3동147-46 | C35: 비룡안길쉼터 | D35: 113 | E35: 느티나무외4종15주, 회양목외2종480주, 맥문동470본, 등의자외5종, 잔디블럭외1종포장 | F35: `03.6.20 ~ 9.25
A36: 3 | B36: 용현3동159-2 | C36: 비룡쉼터 | D36: 4500 | E36: 소나무외17종4,365,정자2,파고라2,농구대1, 스탠드1,게이트볼장,조합놀이대1 | F36: `98.9.24∼12.3
A37: 4 | B37: 용현3동 492-272 | C37: 번영샛길쉼터 | D37: 210.4 | E37: =[1]쉼터현황!I75 -> 느티나무 외2종11주, 사철나무 외4종 430주, 어깨근육풀기, 점토벽돌포장, 마사포포장, 우수관, 집수정 등 | F37: `05. 11. 28∼ 12.17
A38: 5 | B38: 용현3동 453-182 | C38: 용현시장샛길쉼터 | D38: =[1]쉼터현황!D78 -> 85.1 | E38: =[1]쉼터현황!I78 -> 느티나무외 3종 36주, 수수꽃다리 외 2종 510주, 운동기구 2점 | F38: 05.11.28~12.17
A39: 6 | B39: 용현3동 492-280번지 일원 | C39: 쌍우물쉼터 | D39: 1424.9 | F39: 07.11. 5 ~ 08. 05. 10.
A40: 계 | B40: 용현5동 | C40: 2개소 | D40: =SUM(D41:D42) -> 645.4
A41: 1 | B41: 용현5동371-1 | C41: 용신쉼터 | D41: 180 | E41: 느티나무 외1종 9주, 사철나무외2종 530주 조합놀이대 외4종 | F41: `02. 10.1∼ 11.9
...

Sheet Sheet2

Sheet Sheet3
