Workbook

Sheet Sheet1
A1: 동별 푸른 마을 쉼터 현황
A3: 번호 | B3: 위치 | C3: 쉼터명 | D3: 면적 | E3: 사업내용 | F3: 사업기간
B4: 총계 | C4: 67개소 | D4: =D5+D11+D13+D23+D31+D33+D40+D43+D46+D52+D59+D63+D67+D73+D79+D82+D88+D91 -> 27756.5
A5: 계 | B5: 숭의1.3동 | C5: 5개소 | D5: =SUM(D6:D10) -> 658.4
A6: 1 | B6: 숭의1동 162-79 | C6: 효자쉼터 | D6: 118.3 | E6: 청단풍 외5종 24주, 사철나무 외2종 800주 온몸역기올리기, 표지석, 솟대, 우드포장, 마사토포장, 쉼터등 | F6: `05. 10. 24∼ 11.22
A7: 2 | B7: 숭의1동 431-72 | C7: 장수쉼터 | D7: =[1]쉼터현황!D76 -> 149.8 | E7: =[1]쉼터현황!I76 -> 전나무 외 5종 13주, 회양목 외 4종 88주, 정자, 고무칩포장 | F7: 06. 04.01 ~ 05.01
A8: 3 | B8: 숭의3동109-308 | C8: 쇠뿔고개쉼터 | D8: 73 | E8: 소나무 외6종 410주, 사각의자 외2종 | F8: `01.7.20~9.17
A9: 4 | B9: 숭의3동139-14 | C9: 샘쉼터 | D9: 153.1 | E9: 느티나무 외6종 555주, 파고라 외9종 | F9: `01.7.20~9.17
A10: 5 | B10: 숭의3동84-6 | C10: 새미래쉼터 | D10: 164.2 | E10: 회화나무 외9종 712주, 조합놀이대 외9종 | F10: `01.7.20~9.17
A11: 계 | B11: 숭의2동 | C11: 1개소 | D11: =D12 -> 55
A12: 1 | B12: 숭의2동285-64 | C12: 주인육각쉼터 | D12: 55 | E12: 느티나무외2종11주,황매화외2종630주,맥문동110본 등의자외3종, 잔디블럭외2종포장 | F12: `03.10.21∼ 11.19
A13: 계 | B13: 숭의4동 | C13: 8개소 | D13: =SUM(D14:D22) -> 1271
A14: 1 | B14: 숭의4동19-88 | C14: 으뜸골쉼터 | D14: 80 | E14: 느티나무외6종78,정자외3종7 | F14: `00.6.9~7.18
A15: 2 | B15: 숭의4동248-92 | C15: 주인공원쉼터 | D15: 251 | E15: 느티나무외12종168,정자외8종20 | F15: `00.6.9~7.18
A16: 3 | B16: 숭의4동4-30 | C16: 샛길쉼터 | D16: 74 | E16: 느티나무외2종15주,자산홍외1종790주, 맥문동외1종330본,등의자외3종,잔디블럭외3종포장 | F16: `03.10.22∼ 11.20
A17: 4 | B17: 숭의4동449-3 | C17: 지누골쉼터 | D17: 75 | E17: 느티나무 외1종 62주, 이층정자 외2종 | F17: `01.8.3~9.17
B18: 숭의4동8-66 | D18: 86 | E18: 소나무외1종 10주, 사철나무 외3종 840주 앉음벽 외2종, 쉼터등2개, 정자등2개 | F18: `02. 10.1∼ 11.9
A19: 5 | B19: 숭의4동5-19 | C19: 신성쉼터 | D19: 55 | E19: 소나무(둥근형)외 1종 18주, 매자나무외3종 555주 | F19: `04.5.14∼ 6.22
A20: 6 | B20: 숭의4동7-4 | C20: 한마을쉼터 | D20: 107 | E20: 느티나무외10종215,원형의자외5종11 | F20: `00.6.9~7.18
A21: 7 | B21: 숭의4동76-20 | C21: 여의골쉼터 | D21: 110 | E21: 홍단풍 외2종 173주, 평의자 외6종 | F21: `01.8.3~9.17
A22: 8 | B22: 숭의4동 72-24 | C22: 여의안길쉼터 | D22: =[1]쉼터현황!D77 -> 433 | E22: =[1]쉼터현황!I77 -> 해송외 7종 25주, 복자기 외 5종 1232주 | F22: 06.11.2~12.2
A23: 계 | B23: 용현1.4동 | C23: 7개소 | D23: =SUM(D24:D30) -> 1222.6
A24: 1 | B24: 용현1동 146-201 | C24: 독정골쉼터 | D24: 155 | E24: 소나무외4종29주, 사철나무외5종943주 사각파고라외6종,점토벽돌외1종 | F24: `03.4.18∼5.17
A25: 2 | B25: 용현1동 1-53번지 | C25: 아리쉼터 | D25: 63 | E25: 느티나무외 1종 6주, 개쉬땅나무외 3종 410주 통돌의자외 3종, 고무블럭외 1종 포장 | F25: `04.6.3∼ 7.2
A26: 3 | B26: 용현1동136-3일원 | C26: 우마쉼터 | D26: 98 | E26: 소나무외5종47주,백철쭉외4종1,320주,맥문동480본 사각파고라외4종, 잔디블럭외3종포장 | F26: `03.10.29∼ 11.27
A27: 4 | B27: 용현1동54 | C27: 우물쉼터 | D27: 100 | E27: 소나무외4종24주,백철쭉외4종895주,원추리외3종 사각파고라외9종, 잔디블럭외3종 포장 | F27: `03.10.29∼ 11.27
A28: 5 | B28: 용현1동 1-158번지 | C28: 푸른마을쉼터 | D28: 94 | E28: 느티나무외 8종 32주, 백철쭉외 4종 270주 표지석, 통나무의자, 석등, 그린블록포장 | F28: `05.5.18∼ 6.16
A29: 6 | B29: 용현1동 454-53번지 | C29: 수봉오름쉼터 | D29: 350 | E29: 이팝나무외 8종 91주, 개나리외 8종 2140주 통나무의자, 석등자, 그린블록포장, 매쉬휀스 | F29: `05. 5.30 ∼ 7.8
A30: 7 | B30: 용현4동46-1 | C30: 용정쉼터 | D30: 362.6 | E30: 느티나무 외10종 1,478주, 조합놀이대 외10종 | F30: `01.7.23~9.5
A31: 계 | B31: 용현2동 | C31: 1개소 | D31: =D32 -> 560
A32: 1 | B32: 용현2동536철로변 | C32: 용마루쉼터 | D32: 560 | E32: 느티나무외4종56주, 사철나무외1종537주 야외탁자외5종, 디딤돌놓기외1종 | F32: `03.5.13∼6.11
A33: 계 | B33: 용현3동 | C33: 6개소 | D33: =SUM(D34:D39) -> 6394.4
A34: 1 | B34: 용현3동 147-237일원 | C34: 한진쉼터 | D34: 61 | E34: 복자기외 3종 35주, 영산홍외 1종 3,200주 평의자외 1종, 고무매트외3종 포장 | F34: `04.5.14∼ 6.22
A35: 2 | B35: 용현3동147-46 | C35: 비룡안길쉼터 | D35: 113 | E35: 느티나무외4종15주, 회양목외2종480주, 맥문동470본, 등의자외5종, 잔디블럭외1종포장 | F35: `03.6.20 ~ 9.25
A36: 3 | B36: 용현3동159-2 | C36: 비룡쉼터 | D36: 4500 | E36: 소나무외17종4,365,정자2,파고라2,농구대1, 스탠드1,게이트볼장,조합놀이대1 | F36: `98.9.24∼12.3
A37: 4 | B37: 용현3동 492-272 | C37: 번영샛길쉼터 | D37: 210.4 | E37: =[1]쉼터현황!I75 -> 느티나무 외2종11주, 사철나무 외4종 430주, 어깨근육풀기, 점토벽돌포장, 마사포포장, 우수관, 집수정 등 | F37: `05. 11. 28∼ 12.17
A38: 5 | B38: 용현3동 453-182 | C38: 용현시장샛길쉼터 | D38: =[1]쉼터현황!D78 -> 85.1 | E38: =[1]쉼터현황!I78 -> 느티나무외 3종 36주, 수수꽃다리 외 2종 510주, 운동기구 2점 | F38: 05.11.28~12.17
A39: 6 | B39: 용현3동 492-280번지 일원 | C39: 쌍우물쉼터 | D39: 1424.9 | F39: 07.11. 5 ~ 08. 05. 10.
A40: 계 | B40: 용현5동 | C40: 2개소 | D40: =SUM(D41:D42) -> 645.4
A41: 1 | B41: 용현5동371-1 | C41: 용신쉼터 | D41: 180 | E41: 느티나무 외1종 9주, 사철나무외2종 530주 조합놀이대 외4종 | F41: `02. 10.1∼ 11.9
A42: 2 | B42: 용현5동615-5 | C42: 용오쉼터 | D42: 465.4 | E42: 조형나무외12종311정자외10종21 | F42: `00.6.8~7.7
A43: 계 | B43: 학익1동 | C43: 2개소 | D43: =SUM(D44:D45) -> 1044.5
A44: 1 | B44: 학익1동 684-10 | C44: 연경안길쉼터 | D44: 294.5 | E44: 주목 8주, 황맹화외 1종 4,010주 평의자 2개, 고무매트외 2종 포장 | F44: `04.5.14∼ 6.22
A45: 2 | B45: 학익1동 486-1 | C45: 장미쉼터 | D45: 750 | F45: `09.03.09.∼ 4.17.
A46: 계 | B46: 학익2동 | C46: 5개소 | D46: =SUM(D47:D51) -> 899
A47: 1 | B47: 학익2동 312-194 | C47: 벽돌막쉼터 | D47: 211 | E47: 조형소나무외5종62주, 영산홍외2종1,082주 쉘터외7종, 점토벽돌포장외1종 | F47: 03.4.4∼5.23
A48: 2 | B48: 학익2동306-134 | C48: 재건쉼터 | D48: 80 | E48: 주목외3종16주, 회양목외2종660주,맥문동360본 등의자외2종, 잔디블럭외2종포장 | F48: `03.7.10∼ 8.23
A49: 3 | B49: 학익2동318-1 | C49: 학본쉼터 | D49: 150 | E49: 느티나무외5종21주,사철나무외3종1,000주, 맥문동600본,사각정자외9종, 점토블럭외4종포장 | F49: `03.7.10∼ 8.23
A50: 4 | B50: 학익2동329-23 | C50: 사랑의쉼터 | D50: 300 | E50: 느티나무외1종 6주, 사철나무외5종 1,975주 평의자외 6종설치, 고무매트외 3종 포장 | F50: `04.5.11∼ 6.18
A51: 5 | B51: 학익2동36-61 | C51: 인주쉼터 | D51: 158 | E51: 느티나무외6종608, 정자1,등의자4 | F51: `99.4.26∼5.20
A52: 계 | B52: 도화1동 | C52: 5개소 | D52: =SUM(D53:D58) -> 889
A53: 1 | B53: 도화1동419-3 | C53: 동원쉼터 | D53: 350 | E53: 팽나무외11종216,정자외9종13 | F53: `00.6.17~8.5
A54: 2 | B54: 도화1동530-1 | C54: 작골쉼터 | D54: 155 | E54: 느티나무외4종11주,영산홍외3종1,363주,인동80본 사각파고라외5종, 잔디블럭외3종 포장 | F54: `03.10.31∼ 11.29
A55: 3 | B55: 도화1동597-197 | C55: 청대골쉼터 | D55: 28 | E55: 2층정자형파고라외2종5 | F55: `00.6.17~8.5
B56: 도화1동597-86 | D56: 101 | E56: 느티나무 외5종 138주, 조합놀이대 외7종 | F56: `01.7.11~8.29
A57: 4 | B57: 도화1동624-281외1개소 | C57: 봉동쉼터 | D57: 165 | E57: 소나무외6종35주,덩굴장미외6종2,390주, 벌개미취외2종760본, 등의자외5종,잔디블럭외4종 | F57: `03.10.29∼ 11.27
A58: 5 | B58: 도화1동538-1 | C58: 천만년쉼터 | D58: 90 | E58: 느티나무외 1종 8주, 영산홍외 3종 880주 통돌의자, 점토블럭포장 | F58: `04.11.11∼ 12.5
A59: 계 | B59: 도화2.3동 | C59: 3개소 | D59: =D60+D61+D62 -> 1368
A60: 1 | B60: 도화2동119-64 | C60: 애향쉼터 | D60: 579 | E60: 목련외8종1,212, 정자1, 평상2, 등의자10 | F60: `98.4.27∼6.25
A61: 2 | B61: 도화2동91-17 | C61: 철로변쉼터 | D61: 213 | E61: 느티나무 외7종1,296본 | F61: `97.4.30 ∼5.19
A62: 3 | B62: 도화2동98-20 | C62: 못안쉼터 | D62: 576 | E62: 해송외4종322,정자1,등의자10,조합놀이대1 | F62: `98.5.8 ∼6.1
A63: 계 | B63: 주안1동 | C63: 3개소 | D63: =SUM(D64:D66) -> 5057.7
A64: 1 | B64: 주안1동 94-15, 16 | C64: 주안중앙2로길쉼터 | D64: 291 | F64: `08.11.04.∼12.09
A65: 2 | B65: 주안1동190-2 | C65: 옛시민회관쉼터 | D65: 4430.7 | E65: 느티나무외26종16,349주안개분수외9종 | F65: `00.7.29∼10.27
A66: 3 | B66: 주안1동236-1(395-1) | C66: 화목쉼터 | D66: 336 | E66: 복자기외1종29주, 명자나무외3종1,640주 사각파고라외8종,고무블럭외1종,쉼터등3 | F66: `03.4.4∼5.23
A67: 계 | B67: 주안2동 | C67: 5개소 | D67: =SUM(D68:D72) -> 4039.7
A68: 1 | B68: 주안2동640-12 | C68: 젯말쉼터 | D68: 340 | E68: 느티나무외5종989, 등의자4, 공원등4 | F68: `99.6.11∼9.10
A69: 2 | B69: 주안2동659-2 | C69: 수봉마을 쉼터 | D69: 1613 | E69: 영산홍외2종875, 소나무외7종 229, 조합놀이대1 | F69: `97.7.7∼`98.1.2
A70: 3 | B70: 주안2동 517-27 | C70: 사랑말쉼터 | D70: =[1]쉼터현황!D73 -> 115 | E70: =[1]쉼터현황!I73 -> 왕벚나무 외4종 38주, 사철나무 외3종 635주, 평떼 87㎡, 온몸역기올리기, 어깨근육풀기, 표지석, 고무칩포장, 메시휀스, 통나무의자, 쉼터등 | F70: `05. 10. 31∼ 11.29
A71: 4 | B71: 주안2동 620-32,33 | C71: 양지께쉼터 | D71: =[1]쉼터현황!D74 -> 496.1 | E71: =[1]쉼터현황!I74 -> 팽나무 외6종 120주, 백철쭉 외1종 600주, 하늘걷기 외2종, 표지석, 마사토포장, 솟대, 우드포장, 보강토옹벽, 메쉬휀스, 통돌의자 | F71: `05. 11. 02∼ 12.01
A72: 5 | B72: 주안2동 559-18 | C72: 못머리쉼터 | D72: 1475.6 | E72: =[1]쉼터현황!I80 -> 이팝나무 외 8종 196주, 영산홍외 2종 740주 조합놀이대 1, 평의자 7, 체육시설물 5, 간판석 1, 점토벽돌포장, 소형고압블럭포장 | F72: 07.3.30~5.20
A73: 계 | B73: 주안3동 | C73: 4개소 | D73: =SUM(D74:D78) -> 1634
A74: 1 | B74: 주안3동806-6 | C74: 사미마을쉼터 | D74: 281 | E74: 소나무외11종1,098정자외7종15 | F74: `00.6.15~8.19
A75: 2 | B75: 주안3동859-15 | C75: 한마음쉼터 | D75: 67 | E75: 소나무외3종11주,백철쭉외2종500주,맥문동외1종400본 등의자외1종, 잔디블럭외2종포장 | F75: `03.10.20∼ 11.17
A76: 3 | B76: 주안3동867-168 | C76: 돌산쉼터 | D76: 290 | E76: 소나무외7종190주, 영산홍외2종 586주 사각파고라외14종,점토벽돌외5종,쉼터등2 | F76: `03. 4.12 ∼ 5.31
D77: 767 | E77: 왕벚나무외 9종 629, 영산홍외 9종 2,664주 플랜트, 잠자리그네, 시이소, 앉음벽, 잔디블록포장 | F77: `05. 4.18 ∼ 5.27
A78: 4 | B78: 주안3동 869-12,13 | C78: 주안3동주민센터뒤 쉼터 | D78: 229 | F78: `08. 4.18 ∼ 5.28
A79: 계 | B79: 주안5동 | C79: 2개소 | D79: =SUM(D80:D81) -> 438.2
A80: 1 | B80: 주안5동 19-12번지 | C80: 오솔길쉼터 | D80: 208.2 | E80: 팽나무외 6종 56주, 개쉬땅나무외 6종 1,629주 조합놀이대외 2종, 잔디블럭외 4종 포장 | F80: `04.5.13∼ 6.21
A81: 2 | B81: 주안5동10-206 | C81: 북인정쉼터 | D81: 230 | E81: 느티나무 외8종 582주, 파고라 외7종 | F81: `01.7.11~8.29
A82: 계 | B82: 주안7동 | C82: 4개소 | D82: =SUM(D83:D87) -> 897.7
A83: 1 | B83: 주안7동 1243 | C83: 선홍쉼터 | D83: 287 | E83: 느티나무외3종26주, 영산홍외1종470주 등의자외12종, 점토블럭외4종,쉼터등2개 | F83: `03.4.12∼5.31
D84: 90 | E84: 느티나무외 1종 14주, 영산홍외 2종 820주 조합놀이대, 점토블럭포장 | F84: `04.4.11∼12.5
A85: 2 | B85: 주안7동1286-5 | C85: 승학쉼터 | D85: 80 | E85: 느티나무외4종16주,회양목외3종460주,맥문동340본 등의자외2종, 점토블럭포장외2종 | F85: `03.7.7∼ 7.31
A86: 3 | B86: 주안7동1344-67 | C86: 신기마을쉼터 | D86: 137 | E86: 느티나무 외7종635주, 자연석판석포장외11종 | F86: `01.9.25∼11.27
A87: 4 | B87: 주안7동 1457-5 | C87: 신기사거리쉼터 | D87: 303.7 | F87: `08.04.21∼05.31
A88: 계 | B88: 주안8동 | C88: 2개소 | D88: =D89+D90 -> 537.9
A89: 1 | B89: 주안8동1520-29 | C89: 승학쉼터 | D89: 131 | E89: 백목련 외9종 376주, 원형의자 외2종 | F89: `01.7.13~8.26
A90: 2 | B90: 주안8동 1626 | C90: 노루목쉼터 | D90: 406.9 | F90: 12년 관리이관
A91: 계 | B91: 관교동 | C91: 2개소 | D91: =D92+D93 -> 144
A92: 1 | B92: 관교동321-27 | C92: 도란쉼터 | D92: 94 | E92: 느티나무 외7종 552주, 원형의자 외3종 | F92: `01.7.13~8.26
A93: 2 | B93: 관교동319-2 | C93: 인정쉼터 | D93: 50 | E93: 느티나무 외7종 552주, 원형의자 외3종 | F93: `08.11.4~12.9

Sheet Sheet2

Sheet Sheet3
