Workbook

Sheet 인천시 § 총괄_최종정리(수정금지)
A1: 자전거도로 실태조사 총괄표
A4: 1.기본사항 | I4: 2.조사대상 자전거도로 현황 | T4: 3.판단 | W4: 4. 자전거도로 연장
A5: No | B5: 시도 | C5: 자치구 | D5: 일련번호 | E5: 노선명 | F5: 기점 | G5: 종점 | H5: 도로 연계성 | I5: 자전거도로 종류 | J5: 총연장 (km) /0.00 | K5: 자전거도로 폭원(m) /.0 | S5: 보행량 (점) | T5: 개선 필요여부 | U5: 자전거 도로 위치 | V5: 비고 및 점검 | W5: 자전거도로 연장(km) /.00
K6: 전용도로 | L6: 전용차로 | M6: 우선도로 | N6: 자전거보행자겸용도로 | W6: 총연장 (km) /0.00 | X6: 전용도로 | Y6: 전용차로 | Z6: 우선도로 | AA6: 자전거보행자겸용도로
N7: 분리형 | Q7: 비분리형 | AA7: 소계 | AB7: 겸용도로 (분리형) | AC7: 겸용도로 (비분리형)
N8: 자전거도로 | O8: 보도 | P8: 유효폭원 | Q8: 도로폭원 | R8: 유효폭원
B9: 인천시 | C9: 12개 지역 | D9: 625개 노선 | H9: =H10+H49+H56+H97+H140+H259+H381+H427+H467+H503+H506+H613 -> 548 | J9: =J10+J49+J56+J97+J140+J259+J381+J427+J467+J503+J506+J613 -> 598.62 | K9: =K10+K49+K56+K97+K140+K259+K381+K427+K467+K503+K506+K613 -> 140 | L9: =L10+L49+L56+L97+L140+L259+L381+L427+L467+L503+L506+L613 -> 9 | M9: =M10+M49+M56+M97+M140+M259+M381+M427+M467+M503+M506+M613 -> 0 | N9: =N10+N49+N56+N97+N140+N259+N381+N427+N467+N503+N506+N613 -> 421 | Q9: =Q10+Q49+Q56+Q97+Q140+Q259+Q381+Q427+Q467+Q503+Q506+Q613 -> 53 | T9: =T10+T49+T56+T97+T140+T259+T381+T427+T467+T503+T506+T613 -> 129 | W9: =W10+W49+W56+W97+W140+W259+W381+W427+W467+W503+W506+W613 -> 598.62 | X9: =X10+X49+X56+X97+X140+X259+X381+X427+X467+X503+X506+X613 -> 191.17 | Y9: =Y10+Y49+Y56+Y97+Y140+Y259+Y381+Y427+Y467+Y503+Y506+Y613 -> 6 | Z9: =Z10+Z49+Z56+Z97+Z140+Z259+Z381+Z427+Z467+Z503+Z506+Z613 -> 0 | AA9: =AA10+AA49+AA56+AA97+AA140+AA259+AA381+AA427+AA467+AA503+AA506+AA613 -> 401.45 | AB9: =AB10+AB49+AB56+AB97+AB140+AB259+AB381+AB427+AB467+AB503+AB506+AB613 -> 319.56 | AC9: =AC10+AC49+AC56+AC97+AC140+AC259+AC381+AC427+AC467+AC503+AC506+AC613 -> 81.89
A10: 1 | B10: 인천시 | C10: ='01 § 중구'!C9 -> 중구 | D10: ='01 § 중구'!D9 -> 38개 노선 | H10: ='01 § 중구'!H9 -> 34 | J10: ='01 § 중구'!J9 -> 20.71 | K10: ='01 § 중구'!K9 -> 14 | L10: ='01 § 중구'!L9 -> 0 | M10: ='01 § 중구'!M9 -> 0 | N10: ='01 § 중구'!N9 -> 19 | Q10: ='01 § 중구'!Q9 -> 5 | T10: ='01 § 중구'!T9 -> 1 | W10: =SUM(W11:W48) -> 20.71 | X10: =SUM(X11:X48) -> 9.2 | Y10: =SUM(Y11:Y48) -> 0 | Z10: =SUM(Z11:Z48) -> 0 | AA10: =SUM(AA11:AA48) -> 11.51 | AB10: =SUM(AB11:AB48) -> 9.48 | AC10: =SUM(AC11:AC48) -> 2.03
A11: 2 | B11: 인천시 | C11: ='01 § 중구'!C10 -> 중구 | D11: ='01 § 중구'!D10 -> 1 | E11: ='01 § 중구'!E10 -> 월미로1 | F11: ='01 § 중구'!F10 -> 우회고가 사거리 | G11: ='01 § 중구'!G10 -> 8부두 앞 | H11: ='01 § 중구'!H10 -> 0 | I11: ='01 § 중구'!I10 -> 겸용도로 (분리형) | J11: ='01 § 중구'!J10 -> 0.2 | ... U11: ='01 § 중구'!U10 -> 도로측 | W11: =X11+Y11+Z11+AA11 -> 0.2 | X11: =SUMIF(I11,$X$6,J11) -> 0 | Y11: =SUMIF(I11,$Y$6,J11) -> 0 | Z11: =SUMIF(I11,$Z$6,J11) -> 0 | AA11: =AB11+AC11 -> 0.2 | AB11: =SUMIF(I11,$AB$7,J11) -> 0.2 | AC11: =SUMIF(I11,$AC$7,J11) -> 0
A12: 3 | B12: 인천시 | C12: ='01 § 중구'!C11 -> 중구 | D12: ='01 § 중구'!D11 -> 2 | E12: ='01 § 중구'!E11 -> 월미로2 | F12: ='01 § 중구'!F11 -> 8부두 앞 | G12: ='01 § 중구'!G11 -> 월미도입구 삼거리 | H12: ='01 § 중구'!H11 -> 0 | I12: ='01 § 중구'!I11 -> 전용도로 | J12: ='01 § 중구'!J11 -> 0.06 | ... U12: ='01 § 중구'!U11 -> 0 | W12: =X12+Y12+Z12+AA12 -> 0.06 | X12: =SUMIF(I12,$X$6,J12) -> 0.06 | Y12: =SUMIF(I12,$Y$6,J12) -> 0 | Z12: =SUMIF(I12,$Z$6,J12) -> 0 | AA12: =AB12+AC12 -> 0 | AB12: =SUMIF(I12,$AB$7,J12) -> 0 | AC12: =SUMIF(I12,$AC$7,J12) -> 0
A13: 4 | B13: 인천시 | C13: ='01 § 중구'!C12 -> 중구 | D13: ='01 § 중구'!D12 -> 3 | E13: ='01 § 중구'!E12 -> 월미로3 | F13: ='01 § 중구'!F12 -> 인항철골 | G13: ='01 § 중구'!G12 -> 월미공원역 | H13: ='01 § 중구'!H12 -> 0 | I13: ='01 § 중구'!I12 -> 전용도로 | J13: ='01 § 중구'!J12 -> 0.62 | ... U13: ='01 § 중구'!U12 -> 0 | W13: =X13+Y13+Z13+AA13 -> 0.62 | X13: =SUMIF(I13,$X$6,J13) -> 0.62 | Y13: =SUMIF(I13,$Y$6,J13) -> 0 | Z13: =SUMIF(I13,$Z$6,J13) -> 0 | AA13: =AB13+AC13 -> 0 | AB13: =SUMIF(I13,$AB$7,J13) -> 0 | AC13: =SUMIF(I13,$AC$7,J13) -> 0
A14: 5 | B14: 인천시 | C14: ='01 § 중구'!C13 -> 중구 | D14: ='01 § 중구'!D13 -> 4 | E14: ='01 § 중구'!E13 -> 월미로4 | F14: ='01 § 중구'!F13 -> 월미공원 정문 | G14: ='01 § 중구'!G13 -> 갑문 입구 | H14: ='01 § 중구'!H13 -> ○ | I14: ='01 § 중구'!I13 -> 겸용도로 (비분리형) | J14: ='01 § 중구'!J13 -> 1.18 | ... U14: ='01 § 중구'!U13 -> 0 | W14: =X14+Y14+Z14+AA14 -> 1.18 | X14: =SUMIF(I14,$X$6,J14) -> 0 | Y14: =SUMIF(I14,$Y$6,J14) -> 0 | Z14: =SUMIF(I14,$Z$6,J14) -> 0 | AA14: =AB14+AC14 -> 1.18 | AB14: =SUMIF(I14,$AB$7,J14) -> 0 | AC14: =SUMIF(I14,$AC$7,J14) -> 1.18
A15: 6 | B15: 인천시 | C15: ='01 § 중구'!C14 -> 중구 | D15: ='01 § 중구'!D14 -> 5 | E15: ='01 § 중구'!E14 -> 월미로5 | F15: ='01 § 중구'!F14 -> 갑문입구 | G15: ='01 § 중구'!G14 -> 문타운입구 | H15: ='01 § 중구'!H14 -> ○ | I15: ='01 § 중구'!I14 -> 겸용도로 (분리형) | J15: ='01 § 중구'!J14 -> 0.72 | ... U15: ='01 § 중구'!U14 -> 내측 | W15: =X15+Y15+Z15+AA15 -> 0.72 | X15: =SUMIF(I15,$X$6,J15) -> 0 | Y15: =SUMIF(I15,$Y$6,J15) -> 0 | Z15: =SUMIF(I15,$Z$6,J15) -> 0 | AA15: =AB15+AC15 -> 0.72 | AB15: =SUMIF(I15,$AB$7,J15) -> 0.72 | AC15: =SUMIF(I15,$AC$7,J15) -> 0
A16: 7 | B16: 인천시 | C16: ='01 § 중구'!C15 -> 중구 | D16: ='01 § 중구'!D15 -> 6 | E16: ='01 § 중구'!E15 -> 월미로6 | F16: ='01 § 중구'!F15 -> 월미도 문타운 | G16: ='01 § 중구'!G15 -> 월미로 260번길 | H16: ='01 § 중구'!H15 -> ○ | I16: ='01 § 중구'!I15 -> 겸용도로 (비분리형) | J16: ='01 § 중구'!J15 -> 0.28 | ... U16: ='01 § 중구'!U15 -> 0 | W16: =X16+Y16+Z16+AA16 -> 0.28 | X16: =SUMIF(I16,$X$6,J16) -> 0 | Y16: =SUMIF(I16,$Y$6,J16) -> 0 | Z16: =SUMIF(I16,$Z$6,J16) -> 0 | AA16: =AB16+AC16 -> 0.28 | AB16: =SUMIF(I16,$AB$7,J16) -> 0 | AC16: =SUMIF(I16,$AC$7,J16) -> 0.28
A17: 8 | B17: 인천시 | C17: ='01 § 중구'!C16 -> 중구 | D17: ='01 § 중구'!D16 -> 7 | E17: ='01 § 중구'!E16 -> 월미로7 | F17: ='01 § 중구'!F16 -> 월미로 266번길 | G17: ='01 § 중구'!G16 -> 월미공원 후문 | H17: ='01 § 중구'!H16 -> ○ | I17: ='01 § 중구'!I16 -> 겸용도로 (분리형) | J17: ='01 § 중구'!J16 -> 0.44 | ... U17: ='01 § 중구'!U16 -> 판단불가 | W17: =X17+Y17+Z17+AA17 -> 0.44 | X17: =SUMIF(I17,$X$6,J17) -> 0 | Y17: =SUMIF(I17,$Y$6,J17) -> 0 | Z17: =SUMIF(I17,$Z$6,J17) -> 0 | AA17: =AB17+AC17 -> 0.44 | AB17: =SUMIF(I17,$AB$7,J17) -> 0.44 | AC17: =SUMIF(I17,$AC$7,J17) -> 0
A18: 9 | B18: 인천시 | C18: ='01 § 중구'!C17 -> 중구 | D18: ='01 § 중구'!D17 -> 8 | E18: ='01 § 중구'!E17 -> 월미로8R | F18: ='01 § 중구'!F17 -> 월미공원 후문 | G18: ='01 § 중구'!G17 -> 월미로 189번길 | H18: ='01 § 중구'!H17 -> ○ | I18: ='01 § 중구'!I17 -> 전용도로 | J18: ='01 § 중구'!J17 -> 0.29 | ... U18: ='01 § 중구'!U17 -> 0 | W18: =X18+Y18+Z18+AA18 -> 0.29 | X18: =SUMIF(I18,$X$6,J18) -> 0.29 | Y18: =SUMIF(I18,$Y$6,J18) -> 0 | Z18: =SUMIF(I18,$Z$6,J18) -> 0 | AA18: =AB18+AC18 -> 0 | AB18: =SUMIF(I18,$AB$7,J18) -> 0 | AC18: =SUMIF(I18,$AC$7,J18) -> 0
A19: 10 | B19: 인천시 | C19: ='01 § 중구'!C18 -> 중구 | D19: ='01 § 중구'!D18 -> 9 | E19: ='01 § 중구'!E18 -> 월미로8L | F19: ='01 § 중구'!F18 -> 월미로 189번길 | G19: ='01 § 중구'!G18 -> 월미공원 후문 | H19: ='01 § 중구'!H18 -> ○ | I19: ='01 § 중구'!I18 -> 전용도로 | J19: ='01 § 중구'!J18 -> 0.31 | ... U19: ='01 § 중구'!U18 -> 0 | W19: =X19+Y19+Z19+AA19 -> 0.31 | X19: =SUMIF(I19,$X$6,J19) -> 0.31 | Y19: =SUMIF(I19,$Y$6,J19) -> 0 | Z19: =SUMIF(I19,$Z$6,J19) -> 0 | AA19: =AB19+AC19 -> 0 | AB19: =SUMIF(I19,$AB$7,J19) -> 0 | AC19: =SUMIF(I19,$AC$7,J19) -> 0
A20: 11 | B20: 인천시 | C20: ='01 § 중구'!C19 -> 중구 | D20: ='01 § 중구'!D19 -> 10 | E20: ='01 § 중구'!E19 -> 축항대로1 | F20: ='01 § 중구'!F19 -> 라이프아파트 정문 | G20: ='01 § 중구'!G19 -> 연안부두로 75번길 | H20: ='01 § 중구'!H19 -> ○ | I20: ='01 § 중구'!I19 -> 겸용도로 (분리형) | J20: ='01 § 중구'!J19 -> 0.41 | ... U20: ='01 § 중구'!U19 -> 내측 | W20: =X20+Y20+Z20+AA20 -> 0.41 | X20: =SUMIF(I20,$X$6,J20) -> 0 | Y20: =SUMIF(I20,$Y$6,J20) -> 0 | Z20: =SUMIF(I20,$Z$6,J20) -> 0 | AA20: =AB20+AC20 -> 0.41 | AB20: =SUMIF(I20,$AB$7,J20) -> 0.41 | AC20: =SUMIF(I20,$AC$7,J20) -> 0
A21: 12 | B21: 인천시 | C21: ='01 § 중구'!C20 -> 중구 | D21: ='01 § 중구'!D20 -> 11 | E21: ='01 § 중구'!E20 -> 축항대로2L | F21: ='01 § 중구'!F20 -> 연안부두로 75번길 | G21: ='01 § 중구'!G20 -> 연안부두로 33번길 | H21: ='01 § 중구'!H20 -> ○ | I21: ='01 § 중구'!I20 -> 겸용도로 (비분리형) | J21: ='01 § 중구'!J20 -> 0.35 | ... U21: ='01 § 중구'!U20 -> 0 | W21: =X21+Y21+Z21+AA21 -> 0.35 | X21: =SUMIF(I21,$X$6,J21) -> 0 | Y21: =SUMIF(I21,$Y$6,J21) -> 0 | Z21: =SUMIF(I21,$Z$6,J21) -> 0 | AA21: =AB21+AC21 -> 0.35 | AB21: =SUMIF(I21,$AB$7,J21) -> 0 | AC21: =SUMIF(I21,$AC$7,J21) -> 0.35
A22: 13 | B22: 인천시 | C22: ='01 § 중구'!C21 -> 중구 | D22: ='01 § 중구'!D21 -> 12 | E22: ='01 § 중구'!E21 -> 축항대로2R | F22: ='01 § 중구'!F21 -> 연안부두로 75번길 | G22: ='01 § 중구'!G21 -> 연안부두로 33번길 | H22: ='01 § 중구'!H21 -> ○ | I22: ='01 § 중구'!I21 -> 겸용도로 (분리형) | J22: ='01 § 중구'!J21 -> 0.33 | ... U22: ='01 § 중구'!U21 -> 내측 | W22: =X22+Y22+Z22+AA22 -> 0.33 | X22: =SUMIF(I22,$X$6,J22) -> 0 | Y22: =SUMIF(I22,$Y$6,J22) -> 0 | Z22: =SUMIF(I22,$Z$6,J22) -> 0 | AA22: =AB22+AC22 -> 0.33 | AB22: =SUMIF(I22,$AB$7,J22) -> 0.33 | AC22: =SUMIF(I22,$AC$7,J22) -> 0
... A48: 39 | B48: 인천시 | C48: ='01 § 중구'!C47 -> 중구 | D48: ='01 § 중구'!D47 -> 38 | E48: ='01 § 중구'!E47 -> 서해대로4L | F48: ='01 § 중구'!F47 -> 신흥사거리 | G48: ='01 § 중구'!G47 -> 유동삼거리 | H48: ='01 § 중구'!H47 -> ○ | I48: ='01 § 중구'!I47 -> 전용도로 | J48: ='01 § 중구'!J47 -> 0.5 | ... U48: ='01 § 중구'!U47 -> 0 | W48: =X48+Y48+Z48+AA48 -> 0.5 | X48: =SUMIF(I48,$X$6,J48) -> 0.5 | Y48: =SUMIF(I48,$Y$6,J48) -> 0 | Z48: =SUMIF(I48,$Z$6,J48) -> 0 | AA48: =AB48+AC48 -> 0 | AB48: =SUMIF(I48,$AB$7,J48) -> 0 | AC48: =SUMIF(I48,$AC$7,J48) -> 0
A49: 40 | B49: 인천시 | C49: ='02 § 동구'!C9 -> 동구 | D49: ='02 § 동구'!D9 -> 6개 노선 | H49: ='02 § 동구'!H9 -> 6 | J49: ='02 § 동구'!J9 -> 5.61 | K49: ='02 § 동구'!K9 -> 2 | L49: ='02 § 동구'!L9 -> 0 | M49: ='02 § 동구'!M9 -> 0 | N49: ='02 § 동구'!N9 -> 4 | Q49: ='02 § 동구'!Q9 -> 0 | T49: ='02 § 동구'!T9 -> 1 | W49: =SUM(W50:W55) -> 5.61 | X49: =SUM(X50:X55) -> 3.42 | Y49: =SUM(Y50:Y55) -> 0 | Z49: =SUM(Z50:Z55) -> 0 | AA49: =SUM(AA50:AA55) -> 2.19 | AB49: =SUM(AB50:AB55) -> 2.19 | AC49: =SUM(AC50:AC55) -> 0
A50: 41 | B50: 인천시 | C50: ='02 § 동구'!C10 -> 동구 | D50: ='02 § 동구'!D10 -> 1 | E50: ='02 § 동구'!E10 -> 인중로1R | F50: ='02 § 동구'!F10 -> s-oil항구 주유소 | G50: ='02 § 동구'!G10 -> 송현사거리 | H50: ='02 § 동구'!H10 -> ○ | I50: ='02 § 동구'!I10 -> 전용도로 | J50: ='02 § 동구'!J10 -> 1.72 | ... U50: ='02 § 동구'!U10 -> 0 | W50: =X50+Y50+Z50+AA50 -> 1.72 | X50: =SUMIF(I50,$X$6,J50) -> 1.72 | Y50: =SUMIF(I50,$Y$6,J50) -> 0 | Z50: =SUMIF(I50,$Z$6,J50) -> 0 | AA50: =AB50+AC50 -> 0 | AB50: =SUMIF(I50,$AB$7,J50) -> 0 | AC50: =SUMIF(I50,$AC$7,J50) -> 0
A51: 42 | B51: 인천시 | C51: ='02 § 동구'!C11 -> 동구 | D51: ='02 § 동구'!D11 -> 2 | E51: ='02 § 동구'!E11 -> 인중로1L | F51: ='02 § 동구'!F11 -> 송현사거리 | G51: ='02 § 동구'!G11 -> s-oil항구 주유소 | H51: ='02 § 동구'!H11 -> ○ | I51: ='02 § 동구'!I11 -> 전용도로 | J51: ='02 § 동구'!J11 -> 1.7 | ... U51: ='02 § 동구'!U11 -> 0 | W51: =X51+Y51+Z51+AA51 -> 1.7 | X51: =SUMIF(I51,$X$6,J51) -> 1.7 | Y51: =SUMIF(I51,$Y$6,J51) -> 0 | Z51: =SUMIF(I51,$Z$6,J51) -> 0 | AA51: =AB51+AC51 -> 0 | AB51: =SUMIF(I51,$AB$7,J51) -> 0 | AC51: =SUMIF(I51,$AC$7,J51) -> 0
A52: 43 | B52: 인천시 | C52: ='02 § 동구'!C12 -> 동구 | D52: ='02 § 동구'!D12 -> 3 | E52: ='02 § 동구'!E12 -> 새천년로 | F52: ='02 § 동구'!F12 -> 명보그린빌 | G52: ='02 § 동구'!G12 -> 제중종합 한의원 | H52: ='02 § 동구'!H12 -> ○ | I52: ='02 § 동구'!I12 -> 겸용도로 (분리형) | J52: ='02 § 동구'!J12 -> 0.6 | ... U52: ='02 § 동구'!U12 -> 내측 | W52: =X52+Y52+Z52+AA52 -> 0.6 | X52: =SUMIF(I52,$X$6,J52) -> 0 | Y52: =SUMIF(I52,$Y$6,J52) -> 0 | Z52: =SUMIF(I52,$Z$6,J52) -> 0 | AA52: =AB52+AC52 -> 0.6 | AB52: =SUMIF(I52,$AB$7,J52) -> 0.6 | AC52: =SUMIF(I52,$AC$7,J52) -> 0
A53: 44 | B53: 인천시 | C53: ='02 § 동구'!C13 -> 동구 | D53: ='02 § 동구'!D13 -> 4 | E53: ='02 § 동구'!E13 -> 인중로2 | F53: ='02 § 동구'!F13 -> 송림고가교 | G53: ='02 § 동구'!G13 -> 송현 할인마트 | H53: ='02 § 동구'!H13 -> ○ | I53: ='02 § 동구'!I13 -> 겸용도로 (분리형) | J53: ='02 § 동구'!J13 -> 0.53 | ... U53: ='02 § 동구'!U13 -> 도로측 | W53: =X53+Y53+Z53+AA53 -> 0.53 | X53: =SUMIF(I53,$X$6,J53) -> 0 | Y53: =SUMIF(I53,$Y$6,J53) -> 0 | Z53: =SUMIF(I53,$Z$6,J53) -> 0 | AA53: =AB53+AC53 -> 0.53 | AB53: =SUMIF(I53,$AB$7,J53) -> 0.53 | AC53: =SUMIF(I53,$AC$7,J53) -> 0
A54: 45 | B54: 인천시 | C54: ='02 § 동구'!C14 -> 동구 | D54: ='02 § 동구'!D14 -> 5 | E54: ='02 § 동구'!E14 -> 염전로40번길 | F54: ='02 § 동구'!F14 -> 인천백병원 | G54: ='02 § 동구'!G14 -> 송림체육관 | H54: ='02 § 동구'!H14 -> ○ | I54: ='02 § 동구'!I14 -> 겸용도로 (분리형) | J54: ='02 § 동구'!J14 -> 0.47 | ... U54: ='02 § 동구'!U14 -> 내측 | W54: =X54+Y54+Z54+AA54 -> 0.47 | X54: =SUMIF(I54,$X$6,J54) -> 0 | Y54: =SUMIF(I54,$Y$6,J54) -> 0 | Z54: =SUMIF(I54,$Z$6,J54) -> 0 | AA54: =AB54+AC54 -> 0.47 | AB54: =SUMIF(I54,$AB$7,J54) -> 0.47 | AC54: =SUMIF(I54,$AC$7,J54) -> 0
A55: 46 | B55: 인천시 | C55: ='02 § 동구'!C15 -> 동구 | D55: ='02 § 동구'!D15 -> 6 | E55: ='02 § 동구'!E15 -> 중봉대로 | F55: ='02 § 동구'!F15 -> 경기실업 | G55: ='02 § 동구'!G15 -> 글로비스 인천영업소 | H55: ='02 § 동구'!H15 -> ○ | I55: ='02 § 동구'!I15 -> 겸용도로 (분리형) | J55: ='02 § 동구'!J15 -> 0.59 | ... U55: ='02 § 동구'!U15 -> 도로측 | W55: =X55+Y55+Z55+AA55 -> 0.59 | X55: =SUMIF(I55,$X$6,J55) -> 0 | Y55: =SUMIF(I55,$Y$6,J55) -> 0 | Z55: =SUMIF(I55,$Z$6,J55) -> 0 | AA55: =AB55+AC55 -> 0.59 | AB55: =SUMIF(I55,$AB$7,J55) -> 0.59 | AC55: =SUMIF(I55,$AC$7,J55) -> 0
A56: 47 | B56: 인천시 | C56: ='03 § 남구'!C9 -> 남구 | D56: ='03 § 남구'!D9 -> 40개 노선 | H56: ='03 § 남구'!H9 -> 13 | J56: ='03 § 남구'!J9 -> 15.97 | K56: ='03 § 남구'!K9 -> 7 | L56: ='03 § 남구'!L9 -> 0 | M56: ='03 § 남구'!M9 -> 0 | N56: ='03 § 남구'!N9 -> 33 | Q56: ='03 § 남구'!Q9 -> 0 | T56: ='03 § 남구'!T9 -> 10 | W56: =SUM(W57:W96) -> 15.97 | X56: =SUM(X57:X96) -> 3.76 | Y56: =SUM(Y57:Y96) -> 0 | Z56: =SUM(Z57:Z96) -> 0 | AA56: =SUM(AA57:AA96) -> 12.21 | AB56: =SUM(AB57:AB96) -> 12.21 | AC56: =SUM(AC57:AC96) -> 0
A57: 48 | B57: 인천시 | C57: ='03 § 남구'!C10 -> 남구 | D57: ='03 § 남구'!D10 -> 1 | E57: ='03 § 남구'!E10 -> 매소홀로1R | F57: ='03 § 남구'!F10 -> 두산위브 아파트 | G57: ='03 § 남구'!G10 -> 두산위브 아파트 | H57: ='03 § 남구'!H10 -> ○ | I57: ='03 § 남구'!I10 -> 전용도로 | J57: ='03 § 남구'!J10 -> 0.15 | ... U57: ='03 § 남구'!U10 -> 0 | W57: =X57+Y57+Z57+AA57 -> 0.15 | X57: =SUMIF(I57,$X$6,J57) -> 0.15 | Y57: =SUMIF(I57,$Y$6,J57) -> 0 | Z57: =SUMIF(I57,$Z$6,J57) -> 0 | AA57: =AB57+AC57 -> 0 | AB57: =SUMIF(I57,$AB$7,J57) -> 0 | AC57: =SUMIF(I57,$AC$7,J57) -> 0
A58: 49 | B58: 인천시 | C58: ='03 § 남구'!C11 -> 남구 | D58: ='03 § 남구'!D11 -> 2 | E58: ='03 § 남구'!E11 -> 매소홀로2R | F58: ='03 § 남구'!F11 -> 문학경기장 | G58: ='03 § 남구'!G11 -> 선학동 28-1 | H58: ='03 § 남구'!H11 -> ○ | I58: ='03 § 남구'!I11 -> 전용도로 | J58: ='03 § 남구'!J11 -> 1.02 | ... U58: ='03 § 남구'!U11 -> 0 | W58: =X58+Y58+Z58+AA58 -> 1.02 | X58: =SUMIF(I58,$X$6,J58) -> 1.02 | Y58: =SUMIF(I58,$Y$6,J58) -> 0 | Z58: =SUMIF(I58,$Z$6,J58) -> 0 | AA58: =AB58+AC58 -> 0 | AB58: =SUMIF(I58,$AB$7,J58) -> 0 | AC58: =SUMIF(I58,$AC$7,J58) -> 0
A59: 50 | B59: 인천시 | C59: ='03 § 남구'!C12 -> 남구 | D59: ='03 § 남구'!D12 -> 3 | E59: ='03 § 남구'!E12 -> 매소홀로1L | F59: ='03 § 남구'!F12 -> 무형문화제 전수교육관 | G59: ='03 § 남구'!G12 -> 관교동 549-13 | H59: ='03 § 남구'!H12 -> ○ | I59: ='03 § 남구'!I12 -> 전용도로 | J59: ='03 § 남구'!J12 -> 1.15 | ... U59: ='03 § 남구'!U12 -> 0 | W59: =X59+Y59+Z59+AA59 -> 1.15 | X59: =SUMIF(I59,$X$6,J59) -> 1.15 | Y59: =SUMIF(I59,$Y$6,J59) -> 0 | Z59: =SUMIF(I59,$Z$6,J59) -> 0 | AA59: =AB59+AC59 -> 0 | AB59: =SUMIF(I59,$AB$7,J59) -> 0 | AC59: =SUMIF(I59,$AC$7,J59) -> 0
A60: 51 | B60: 인천시 | C60: ='03 § 남구'!C13 -> 남구 | D60: ='03 § 남구'!D13 -> 4 | E60: ='03 § 남구'!E13 -> 인하로1R | F60: ='03 § 남구'!F13 -> 인하로 134번길 3 | G60: ='03 § 남구'!G13 -> 제운사거리 | H60: ='03 § 남구'!H13 -> ○ | I60: ='03 § 남구'!I13 -> 겸용도로 (분리형) | J60: ='03 § 남구'!J13 -> 0.41 | ... U60: ='03 § 남구'!U13 -> 도로측 | W60: =X60+Y60+Z60+AA60 -> 0.41 | X60: =SUMIF(I60,$X$6,J60) -> 0 | Y60: =SUMIF(I60,$Y$6,J60) -> 0 | Z60: =SUMIF(I60,$Z$6,J60) -> 0 | AA60: =AB60+AC60 -> 0.41 | AB60: =SUMIF(I60,$AB$7,J60) -> 0.41 | AC60: =SUMIF(I60,$AC$7,J60) -> 0
A61: 52 | B61: 인천시 | C61: ='03 § 남구'!C14 -> 남구 | D61: ='03 § 남구'!D14 -> 5 | E61: ='03 § 남구'!E14 -> 인하로2R | F61: ='03 § 남구'!F14 -> 인하로 398 | G61: ='03 § 남구'!G14 -> 관교 초등학교 | H61: ='03 § 남구'!H14 -> 0 | I61: ='03 § 남구'!I14 -> 겸용도로 (분리형) | J61: ='03 § 남구'!J14 -> 0.17 | ... U61: ='03 § 남구'!U14 -> 중앙 | W61: =X61+Y61+Z61+AA61 -> 0.17 | X61: =SUMIF(I61,$X$6,J61) -> 0 | Y61: =SUMIF(I61,$Y$6,J61) -> 0 | Z61: =SUMIF(I61,$Z$6,J61) -> 0 | AA61: =AB61+AC61 -> 0.17 | AB61: =SUMIF(I61,$AB$7,J61) -> 0.17 | AC61: =SUMIF(I61,$AC$7,J61) -> 0
A62: 53 | B62: 인천시 | C62: ='03 § 남구'!C15 -> 남구 | D62: ='03 § 남구'!D15 -> 6 | E62: ='03 § 남구'!E15 -> 인하로1L | F62: ='03 § 남구'!F15 -> 신라 아파트 | G62: ='03 § 남구'!G15 -> 승학 사거리 | H62: ='03 § 남구'!H15 -> 0 | I62: ='03 § 남구'!I15 -> 겸용도로 (분리형) | J62: ='03 § 남구'!J15 -> 0.08 | ... U62: ='03 § 남구'!U15 -> 도로측 | W62: =X62+Y62+Z62+AA62 -> 0.08 | X62: =SUMIF(I62,$X$6,J62) -> 0 | Y62: =SUMIF(I62,$Y$6,J62) -> 0 | Z62: =SUMIF(I62,$Z$6,J62) -> 0 | AA62: =AB62+AC62 -> 0.08 | AB62: =SUMIF(I62,$AB$7,J62) -> 0.08 | AC62: =SUMIF(I62,$AC$7,J62) -> 0
A63: 54 | B63: 인천시 | C63: ='03 § 남구'!C16 -> 남구 | D63: ='03 § 남구'!D16 -> 7 | E63: ='03 § 남구'!E16 -> 인주대로1R | F63: ='03 § 남구'!F16 -> 독정이 삼거리 | G63: ='03 § 남구'!G16 -> 인주대로 174 | H63: ='03 § 남구'!H16 -> 0 | I63: ='03 § 남구'!I16 -> 겸용도로 (분리형) | J63: ='03 § 남구'!J16 -> 0.09 | ... U63: ='03 § 남구'!U16 -> 중앙 | W63: =X63+Y63+Z63+AA63 -> 0.09 | X63: =SUMIF(I63,$X$6,J63) -> 0 | Y63: =SUMIF(I63,$Y$6,J63) -> 0 | Z63: =SUMIF(I63,$Z$6,J63) -> 0 | AA63: =AB63+AC63 -> 0.09 | AB63: =SUMIF(I63,$AB$7,J63) -> 0.09 | AC63: =SUMIF(I63,$AC$7,J63) -> 0
A64: 55 | B64: 인천시 | C64: ='03 § 남구'!C17 -> 남구 | D64: ='03 § 남구'!D17 -> 8 | E64: ='03 § 남구'!E17 -> 인주대로1L | F64: ='03 § 남구'!F17 -> 독정이 삼거리 | G64: ='03 § 남구'!G17 -> 수봉남로1 | H64: ='03 § 남구'!H17 -> 0 | I64: ='03 § 남구'!I17 -> 겸용도로 (분리형) | J64: ='03 § 남구'!J17 -> 0.05 | ... U64: ='03 § 남구'!U17 -> 중앙 | W64: =X64+Y64+Z64+AA64 -> 0.05 | X64: =SUMIF(I64,$X$6,J64) -> 0 | Y64: =SUMIF(I64,$Y$6,J64) -> 0 | Z64: =SUMIF(I64,$Z$6,J64) -> 0 | AA64: =AB64+AC64 -> 0.05 | AB64: =SUMIF(I64,$AB$7,J64) -> 0.05 | AC64: =SUMIF(I64,$AC$7,J64) -> 0
A65: 56 | B65: 인천시 | C65: ='03 § 남구'!C18 -> 남구 | D65: ='03 § 남구'!D18 -> 9 | E65: ='03 § 남구'!E18 -> 인주대로2L | F65: ='03 § 남구'!F18 -> 인주대로 237번길 2 | G65: ='03 § 남구'!G18 -> 용일 사거리 | H65: ='03 § 남구'!H18 -> ○ | I65: ='03 § 남구'!I18 -> 겸용도로 (분리형) | J65: ='03 § 남구'!J18 -> 0.41 | ... U65: ='03 § 남구'!U18 -> 내측 | W65: =X65+Y65+Z65+AA65 -> 0.41 | X65: =SUMIF(I65,$X$6,J65) -> 0 | Y65: =SUMIF(I65,$Y$6,J65) -> 0 | Z65: =SUMIF(I65,$Z$6,J65) -> 0 | AA65: =AB65+AC65 -> 0.41 | AB65: =SUMIF(I65,$AB$7,J65) -> 0.41 | AC65: =SUMIF(I65,$AC$7,J65) -> 0
A66: 57 | B66: 인천시 | C66: ='03 § 남구'!C19 -> 남구 | D66: ='03 § 남구'!D19 -> 10 | E66: ='03 § 남구'!E19 -> 장천로1R | F66: ='03 § 남구'!F19 -> 장천로 14번길 3 | G66: ='03 § 남구'!G19 -> 숭의 오거리 | H66: ='03 § 남구'!H19 -> 0 | I66: ='03 § 남구'!I19 -> 겸용도로 (분리형) | J66: ='03 § 남구'!J19 -> 0.21 | ... U66: ='03 § 남구'!U19 -> 도로측 | W66: =X66+Y66+Z66+AA66 -> 0.21 | X66: =SUMIF(I66,$X$6,J66) -> 0 | Y66: =SUMIF(I66,$Y$6,J66) -> 0 | Z66: =SUMIF(I66,$Z$6,J66) -> 0 | AA66: =AB66+AC66 -> 0.21 | AB66: =SUMIF(I66,$AB$7,J66) -> 0.21 | AC66: =SUMIF(I66,$AC$7,J66) -> 0
A67: 58 | B67: 인천시 | C67: ='03 § 남구'!C20 -> 남구 | D67: ='03 § 남구'!D20 -> 11 | E67: ='03 § 남구'!E20 -> 장천로1L | F67: ='03 § 남구'!F20 -> 장천 사거리 | G67: ='03 § 남구'!G20 -> 장천로91 | H67: ='03 § 남구'!H20 -> 0 | I67: ='03 § 남구'!I20 -> 겸용도로 (분리형) | J67: ='03 § 남구'!J20 -> 0.21 | ... U67: ='03 § 남구'!U20 -> 내측 | W67: =X67+Y67+Z67+AA67 -> 0.21 | X67: =SUMIF(I67,$X$6,J67) -> 0 | Y67: =SUMIF(I67,$Y$6,J67) -> 0 | Z67: =SUMIF(I67,$Z$6,J67) -> 0 | AA67: =AB67+AC67 -> 0.21 | AB67: =SUMIF(I67,$AB$7,J67) -> 0.21 | AC67: =SUMIF(I67,$AC$7,J67) -> 0
A68: 59 | B68: 인천시 | C68: ='03 § 남구'!C21 -> 남구 | D68: ='03 § 남구'!D21 -> 12 | E68: ='03 § 남구'!E21 -> 경인로1R | F68: ='03 § 남구'!F21 -> 경인로 336 | G68: ='03 § 남구'!G21 -> 옛시민회관 사거리 | H68: ='03 § 남구'!H21 -> 0 | I68: ='03 § 남구'!I21 -> 겸용도로 (분리형) | J68: ='03 § 남구'!J21 -> 0.24 | ... U68: ='03 § 남구'!U21 -> 중앙 | W68: =X68+Y68+Z68+AA68 -> 0.24 | X68: =SUMIF(I68,$X$6,J68) -> 0 | Y68: =SUMIF(I68,$Y$6,J68) -> 0 | Z68: =SUMIF(I68,$Z$6,J68) -> 0 | AA68: =AB68+AC68 -> 0.24 | AB68: =SUMIF(I68,$AB$7,J68) -> 0.24 | AC68: =SUMIF(I68,$AC$7,J68) -> 0
... A96: 87 | B96: 인천시 | C96: ='03 § 남구'!C49 -> 남구 | D96: ='03 § 남구'!D49 -> 40 | E96: ='03 § 남구'!E49 -> 숙골로L | F96: ='03 § 남구'!F49 -> 인천대 삼거리 | G96: ='03 § 남구'!G49 -> 도화동 37-20 | H96: ='03 § 남구'!H49 -> 0 | I96: ='03 § 남구'!I49 -> 겸용도로 (분리형) | J96: ='03 § 남구'!J49 -> 0.65 | ... U96: ='03 § 남구'!U49 -> 중앙 | W96: =X96+Y96+Z96+AA96 -> 0.65 | X96: =SUMIF(I96,$X$6,J96) -> 0 | Y96: =SUMIF(I96,$Y$6,J96) -> 0 | Z96: =SUMIF(I96,$Z$6,J96) -> 0 | AA96: =AB96+AC96 -> 0.65 | AB96: =SUMIF(I96,$AB$7,J96) -> 0.65 | AC96: =SUMIF(I96,$AC$7,J96) -> 0
A97: 88 | B97: 인천시 | C97: ='04 § 연수구'!C9 -> 연수구 | D97: ='04 § 연수구'!D9 -> 42개 노선 | H97: ='04 § 연수구'!H9 -> 42 | J97: ='04 § 연수구'!J9 -> 52.22 | K97: ='04 § 연수구'!K9 -> 21 | L97: ='04 § 연수구'!L9 -> 0 | M97: ='04 § 연수구'!M9 -> 0 | N97: ='04 § 연수구'!N9 -> 19 | Q97: ='04 § 연수구'!Q9 -> 2 | T97: ='04 § 연수구'!T9 -> 16 | W97: =SUM(W98:W139) -> 52.22 | X97: =SUM(X98:X139) -> 26.67 | Y97: =SUM(Y98:Y139) -> 0 | Z97: =SUM(Z98:Z139) -> 0 | AA97: =SUM(AA98:AA139) -> 25.55 | AB97: =SUM(AB98:AB139) -> 23.77 | AC97: =SUM(AC98:AC139) -> 1.78
A98: 89 | B98: 인천시 | C98: ='04 § 연수구'!C10 -> 연수구 | D98: ='04 § 연수구'!D10 -> 1 | E98: ='04 § 연수구'!E10 -> 비류대로1R | F98: ='04 § 연수구'!F10 -> 송학둥지@ | G98: ='04 § 연수구'!G10 -> 청학사거리 | H98: ='04 § 연수구'!H10 -> ○ | I98: ='04 § 연수구'!I10 -> 겸용도로 (분리형) | J98: ='04 § 연수구'!J10 -> 1.8 | ... U98: ='04 § 연수구'!U10 -> 도로측 | W98: =X98+Y98+Z98+AA98 -> 1.8 | X98: =SUMIF(I98,$X$6,J98) -> 0 | Y98: =SUMIF(I98,$Y$6,J98) -> 0 | Z98: =SUMIF(I98,$Z$6,J98) -> 0 | AA98: =AB98+AC98 -> 1.8 | AB98: =SUMIF(I98,$AB$7,J98) -> 1.8 | AC98: =SUMIF(I98,$AC$7,J98) -> 0
A99: 90 | B99: 인천시 | C99: ='04 § 연수구'!C11 -> 연수구 | D99: ='04 § 연수구'!D11 -> 2 | E99: ='04 § 연수구'!E11 -> 비류대로1L | F99: ='04 § 연수구'!F11 -> 청학사거리 | G99: ='04 § 연수구'!G11 -> 청학@ 맞은편 | H99: ='04 § 연수구'!H11 -> ○ | I99: ='04 § 연수구'!I11 -> 겸용도로 (분리형) | J99: ='04 § 연수구'!J11 -> 0.36 | ... U99: ='04 § 연수구'!U11 -> 도로측 | W99: =X99+Y99+Z99+AA99 -> 0.36 | X99: =SUMIF(I99,$X$6,J99) -> 0 | Y99: =SUMIF(I99,$Y$6,J99) -> 0 | Z99: =SUMIF(I99,$Z$6,J99) -> 0 | AA99: =AB99+AC99 -> 0.36 | AB99: =SUMIF(I99,$AB$7,J99) -> 0.36 | AC99: =SUMIF(I99,$AC$7,J99) -> 0
A100: 91 | B100: 인천시 | C100: ='04 § 연수구'!C12 -> 연수구 | D100: ='04 § 연수구'!D12 -> 3 | E100: ='04 § 연수구'!E12 -> 비류대로2R | F100: ='04 § 연수구'!F12 -> 청학사거리 | G100: ='04 § 연수구'!G12 -> 수리봉사거리 | H100: ='04 § 연수구'!H12 -> ○ | I100: ='04 § 연수구'!I12 -> 전용도로 | J100: ='04 § 연수구'!J12 -> 1.1 | ... U100: ='04 § 연수구'!U12 -> 0 | W100: =X100+Y100+Z100+AA100 -> 1.1 | X100: =SUMIF(I100,$X$6,J100) -> 1.1 | Y100: =SUMIF(I100,$Y$6,J100) -> 0 | Z100: =SUMIF(I100,$Z$6,J100) -> 0 | AA100: =AB100+AC100 -> 0 | AB100: =SUMIF(I100,$AB$7,J100) -> 0 | AC100: =SUMIF(I100,$AC$7,J100) -> 0
A101: 92 | B101: 인천시 | C101: ='04 § 연수구'!C13 -> 연수구 | D101: ='04 § 연수구'!D13 -> 4 | E101: ='04 § 연수구'!E13 -> 비류대로3R | F101: ='04 § 연수구'!F13 -> 인천여자고등학교 | G101: ='04 § 연수구'!G13 -> 선학초교 | H101: ='04 § 연수구'!H13 -> ○ | I101: ='04 § 연수구'!I13 -> 전용도로 | J101: ='04 § 연수구'!J13 -> 0.89 | ... U101: ='04 § 연수구'!U13 -> 0 | W101: =X101+Y101+Z101+AA101 -> 0.89 | X101: =SUMIF(I101,$X$6,J101) -> 0.89 | Y101: =SUMIF(I101,$Y$6,J101) -> 0 | Z101: =SUMIF(I101,$Z$6,J101) -> 0 | AA101: =AB101+AC101 -> 0 | AB101: =SUMIF(I101,$AB$7,J101) -> 0 | AC101: =SUMIF(I101,$AC$7,J101) -> 0
A102: 93 | B102: 인천시 | C102: ='04 § 연수구'!C14 -> 연수구 | D102: ='04 § 연수구'!D14 -> 5 | E102: ='04 § 연수구'!E14 -> 비류대로2L | F102: ='04 § 연수구'!F14 -> 선학초교 | G102: ='04 § 연수구'!G14 -> 인천여자고등학교 | H102: ='04 § 연수구'!H14 -> ○ | I102: ='04 § 연수구'!I14 -> 전용도로 | J102: ='04 § 연수구'!J14 -> 0.89 | ... U102: ='04 § 연수구'!U14 -> 0 | W102: =X102+Y102+Z102+AA102 -> 0.89 | X102: =SUMIF(I102,$X$6,J102) -> 0.89 | Y102: =SUMIF(I102,$Y$6,J102) -> 0 | Z102: =SUMIF(I102,$Z$6,J102) -> 0 | AA102: =AB102+AC102 -> 0 | AB102: =SUMIF(I102,$AB$7,J102) -> 0 | AC102: =SUMIF(I102,$AC$7,J102) -> 0
A103: 94 | B103: 인천시 | C103: ='04 § 연수구'!C15 -> 연수구 | D103: ='04 § 연수구'!D15 -> 6 | E103: ='04 § 연수구'!E15 -> 아암대로 | F103: ='04 § 연수구'!F15 -> 송도3교 | G103: ='04 § 연수구'!G15 -> 외암도사거리 | H103: ='04 § 연수구'!H15 -> ○ | I103: ='04 § 연수구'!I15 -> 겸용도로 (분리형) | J103: ='04 § 연수구'!J15 -> 2.5 | ... U103: ='04 § 연수구'!U15 -> 도로측 | W103: =X103+Y103+Z103+AA103 -> 2.5 | X103: =SUMIF(I103,$X$6,J103) -> 0 | Y103: =SUMIF(I103,$Y$6,J103) -> 0 | Z103: =SUMIF(I103,$Z$6,J103) -> 0 | AA103: =AB103+AC103 -> 2.5 | AB103: =SUMIF(I103,$AB$7,J103) -> 2.5 | AC103: =SUMIF(I103,$AC$7,J103) -> 0
A104: 95 | B104: 인천시 | C104: ='04 § 연수구'!C16 -> 연수구 | D104: ='04 § 연수구'!D16 -> 7 | E104: ='04 § 연수구'!E16 -> 옥련로1R | F104: ='04 § 연수구'!F16 -> 옥련사거리 | G104: ='04 § 연수구'!G16 -> 송도초교삼거리 | H104: ='04 § 연수구'!H16 -> ○ | I104: ='04 § 연수구'!I16 -> 겸용도로 (분리형) | J104: ='04 § 연수구'!J16 -> 0.93 | ... U104: ='04 § 연수구'!U16 -> 내측 | W104: =X104+Y104+Z104+AA104 -> 0.93 | X104: =SUMIF(I104,$X$6,J104) -> 0 | Y104: =SUMIF(I104,$Y$6,J104) -> 0 | Z104: =SUMIF(I104,$Z$6,J104) -> 0 | AA104: =AB104+AC104 -> 0.93 | AB104: =SUMIF(I104,$AB$7,J104) -> 0.93 | AC104: =SUMIF(I104,$AC$7,J104) -> 0
A105: 96 | B105: 인천시 | C105: ='04 § 연수구'!C17 -> 연수구 | D105: ='04 § 연수구'!D17 -> 8 | E105: ='04 § 연수구'!E17 -> 옥련로1L | F105: ='04 § 연수구'!F17 -> 송도초교삼거리 | G105: ='04 § 연수구'!G17 -> 옥련사거리 | H105: ='04 § 연수구'!H17 -> ○ | I105: ='04 § 연수구'!I17 -> 겸용도로 (분리형) | J105: ='04 § 연수구'!J17 -> 0.93 | ... U105: ='04 § 연수구'!U17 -> 내측 | W105: =X105+Y105+Z105+AA105 -> 0.93 | X105: =SUMIF(I105,$X$6,J105) -> 0 | Y105: =SUMIF(I105,$Y$6,J105) -> 0 | Z105: =SUMIF(I105,$Z$6,J105) -> 0 | AA105: =AB105+AC105 -> 0.93 | AB105: =SUMIF(I105,$AB$7,J105) -> 0.93 | AC105: =SUMIF(I105,$AC$7,J105) -> 0
A106: 97 | B106: 인천시 | C106: ='04 § 연수구'!C18 -> 연수구 | D106: ='04 § 연수구'!D18 -> 9 | E106: ='04 § 연수구'!E18 -> 독배로1R | F106: ='04 § 연수구'!F18 -> 함흥관 | G106: ='04 § 연수구'!G18 -> 옥련사거리 | H106: ='04 § 연수구'!H18 -> ○ | I106: ='04 § 연수구'!I18 -> 겸용도로 (분리형) | J106: ='04 § 연수구'!J18 -> 0.54 | ... U106: ='04 § 연수구'!U18 -> 중앙 | W106: =X106+Y106+Z106+AA106 -> 0.54 | X106: =SUMIF(I106,$X$6,J106) -> 0 | Y106: =SUMIF(I106,$Y$6,J106) -> 0 | Z106: =SUMIF(I106,$Z$6,J106) -> 0 | AA106: =AB106+AC106 -> 0.54 | AB106: =SUMIF(I106,$AB$7,J106) -> 0.54 | AC106: =SUMIF(I106,$AC$7,J106) -> 0
A107: 98 | B107: 인천시 | C107: ='04 § 연수구'!C19 -> 연수구 | D107: ='04 § 연수구'!D19 -> 10 | E107: ='04 § 연수구'!E19 -> 독배로1L | F107: ='04 § 연수구'!F19 -> 옥련여고 | G107: ='04 § 연수구'!G19 -> 옥골사거리 | H107: ='04 § 연수구'!H19 -> ○ | I107: ='04 § 연수구'!I19 -> 겸용도로 (분리형) | J107: ='04 § 연수구'!J19 -> 0.39 | ... U107: ='04 § 연수구'!U19 -> 중앙 | W107: =X107+Y107+Z107+AA107 -> 0.39 | X107: =SUMIF(I107,$X$6,J107) -> 0 | Y107: =SUMIF(I107,$Y$6,J107) -> 0 | Z107: =SUMIF(I107,$Z$6,J107) -> 0 | AA107: =AB107+AC107 -> 0.39 | AB107: =SUMIF(I107,$AB$7,J107) -> 0.39 | AC107: =SUMIF(I107,$AC$7,J107) -> 0
A108: 99 | B108: 인천시 | C108: ='04 § 연수구'!C20 -> 연수구 | D108: ='04 § 연수구'!D20 -> 11 | E108: ='04 § 연수구'!E20 -> 독배로2L | F108: ='04 § 연수구'!F20 -> 옥련사거리 | G108: ='04 § 연수구'!G20 -> 현대송도주유소 | H108: ='04 § 연수구'!H20 -> ○ | I108: ='04 § 연수구'!I20 -> 겸용도로 (분리형) | J108: ='04 § 연수구'!J20 -> 0.69 | ... U108: ='04 § 연수구'!U20 -> 중앙 | W108: =X108+Y108+Z108+AA108 -> 0.69 | X108: =SUMIF(I108,$X$6,J108) -> 0 | Y108: =SUMIF(I108,$Y$6,J108) -> 0 | Z108: =SUMIF(I108,$Z$6,J108) -> 0 | AA108: =AB108+AC108 -> 0.69 | AB108: =SUMIF(I108,$AB$7,J108) -> 0.69 | AC108: =SUMIF(I108,$AC$7,J108) -> 0
A109: 100 | B109: 인천시 | C109: ='04 § 연수구'!C21 -> 연수구 | D109: ='04 § 연수구'!D21 -> 12 | E109: ='04 § 연수구'!E21 -> 한나루로1R | F109: ='04 § 연수구'!F21 -> 현대송도주유소 | G109: ='04 § 연수구'!G21 -> 송도초교삼거리 | H109: ='04 § 연수구'!H21 -> ○ | I109: ='04 § 연수구'!I21 -> 겸용도로 (분리형) | J109: ='04 § 연수구'!J21 -> 1.2 | ... U109: ='04 § 연수구'!U21 -> 내측 | W109: =X109+Y109+Z109+AA109 -> 1.2 | X109: =SUMIF(I109,$X$6,J109) -> 0 | Y109: =SUMIF(I109,$Y$6,J109) -> 0 | Z109: =SUMIF(I109,$Z$6,J109) -> 0 | AA109: =AB109+AC109 -> 1.2 | AB109: =SUMIF(I109,$AB$7,J109) -> 1.2 | AC109: =SUMIF(I109,$AC$7,J109) -> 0
... A139: 130 | B139: 인천시 | C139: ='04 § 연수구'!C51 -> 연수구 | D139: ='04 § 연수구'!D51 -> 42 | E139: ='04 § 연수구'!E51 -> 매소홀로682번길 | F139: ='04 § 연수구'!F51 -> 창덕궁 | G139: ='04 § 연수구'!G51 -> 교통공원사거리 | H139: ='04 § 연수구'!H51 -> ○ | I139: ='04 § 연수구'!I51 -> 전용도로 | J139: ='04 § 연수구'!J51 -> 0.31 | ... U139: ='04 § 연수구'!U51 -> 0 | W139: =X139+Y139+Z139+AA139 -> 0.31 | X139: =SUMIF(I139,$X$6,J139) -> 0.31 | Y139: =SUMIF(I139,$Y$6,J139) -> 0 | Z139: =SUMIF(I139,$Z$6,J139) -> 0 | AA139: =AB139+AC139 -> 0 | AB139: =SUMIF(I139,$AB$7,J139) -> 0 | AC139: =SUMIF(I139,$AC$7,J139) -> 0
A140: 131 | B140: 인천시 | C140: ='05 § 남동구'!C9 -> 남동구 | D140: ='05 § 남동구'!D9 -> 118개 노선 | H140: ='05 § 남동구'!H9 -> 117 | J140: ='05 § 남동구'!J9 -> 117.4 | K140: ='05 § 남동구'!K9 -> 16 | L140: ='05 § 남동구'!L9 -> 7 | M140: ='05 § 남동구'!M9 -> 0 | N140: ='05 § 남동구'!N9 -> 86 | Q140: ='05 § 남동구'!Q9 -> 9 | T140: ='05 § 남동구'!T9 -> 0 | W140: =SUM(W141:W258) -> 117.4 | X140: =SUM(X141:X258) -> 20.32 | Y140: =SUM(Y141:Y258) -> 5.36 | Z140: =SUM(Z141:Z258) -> 0 | AA140: =SUM(AA141:AA258) -> 91.72 | AB140: =SUM(AB141:AB258) -> 82.59 | AC140: =SUM(AC141:AC258) -> 9.13
A141: 132 | B141: 인천시 | C141: ='05 § 남동구'!C10 -> 남동구 | D141: ='05 § 남동구'!D10 -> 1 | E141: ='05 § 남동구'!E10 -> 소래역남로 1R | F141: ='05 § 남동구'!F10 -> 아암대로 | G141: ='05 § 남동구'!G10 -> 앵고개로 | H141: ='05 § 남동구'!H10 -> ○ | I141: ='05 § 남동구'!I10 -> 겸용도로 (분리형) | J141: ='05 § 남동구'!J10 -> 0.5 | ... U141: ='05 § 남동구'!U10 -> 내측 | W141: =X141+Y141+Z141+AA141 -> 0.5 | X141: =SUMIF(I141,$X$6,J141) -> 0 | Y141: =SUMIF(I141,$Y$6,J141) -> 0 | Z141: =SUMIF(I141,$Z$6,J141) -> 0 | AA141: =AB141+AC141 -> 0.5 | AB141: =SUMIF(I141,$AB$7,J141) -> 0.5 | AC141: =SUMIF(I141,$AC$7,J141) -> 0
A142: 133 | B142: 인천시 | C142: ='05 § 남동구'!C11 -> 남동구 | D142: ='05 § 남동구'!D11 -> 2 | E142: ='05 § 남동구'!E11 -> 소래역남로 1L | F142: ='05 § 남동구'!F11 -> 아암대로 | G142: ='05 § 남동구'!G11 -> 앵고개로 | H142: ='05 § 남동구'!H11 -> ○ | I142: ='05 § 남동구'!I11 -> 겸용도로 (분리형) | J142: ='05 § 남동구'!J11 -> 0.5 | ... U142: ='05 § 남동구'!U11 -> 내측 | W142: =X142+Y142+Z142+AA142 -> 0.5 | X142: =SUMIF(I142,$X$6,J142) -> 0 | Y142: =SUMIF(I142,$Y$6,J142) -> 0 | Z142: =SUMIF(I142,$Z$6,J142) -> 0 | AA142: =AB142+AC142 -> 0.5 | AB142: =SUMIF(I142,$AB$7,J142) -> 0.5 | AC142: =SUMIF(I142,$AC$7,J142) -> 0
A143: 134 | B143: 인천시 | C143: ='05 § 남동구'!C12 -> 남동구 | D143: ='05 § 남동구'!D12 -> 3 | E143: ='05 § 남동구'!E12 -> 아암대로1 | F143: ='05 § 남동구'!F12 -> 아암대로 1437번길 | G143: ='05 § 남동구'!G12 -> 아암2교 | H143: ='05 § 남동구'!H12 -> ○ | I143: ='05 § 남동구'!I12 -> 전용도로 | J143: ='05 § 남동구'!J12 -> 1.51 | ... U143: ='05 § 남동구'!U12 -> 0 | W143: =X143+Y143+Z143+AA143 -> 1.51 | X143: =SUMIF(I143,$X$6,J143) -> 1.51 | Y143: =SUMIF(I143,$Y$6,J143) -> 0 | Z143: =SUMIF(I143,$Z$6,J143) -> 0 | AA143: =AB143+AC143 -> 0 | AB143: =SUMIF(I143,$AB$7,J143) -> 0 | AC143: =SUMIF(I143,$AC$7,J143) -> 0
A144: 135 | B144: 인천시 | C144: ='05 § 남동구'!C13 -> 남동구 | D144: ='05 § 남동구'!D13 -> 4 | E144: ='05 § 남동구'!E13 -> 아암대로2 | F144: ='05 § 남동구'!F13 -> 아암2교 | G144: ='05 § 남동구'!G13 -> 에코중앙로 | H144: ='05 § 남동구'!H13 -> ○ | I144: ='05 § 남동구'!I13 -> 겸용도로 (비분리형) | J144: ='05 § 남동구'!J13 -> 1 | ... U144: ='05 § 남동구'!U13 -> 0 | W144: =X144+Y144+Z144+AA144 -> 1 | X144: =SUMIF(I144,$X$6,J144) -> 0 | Y144: =SUMIF(I144,$Y$6,J144) -> 0 | Z144: =SUMIF(I144,$Z$6,J144) -> 0 | AA144: =AB144+AC144 -> 1 | AB144: =SUMIF(I144,$AB$7,J144) -> 0 | AC144: =SUMIF(I144,$AC$7,J144) -> 1
A145: 136 | B145: 인천시 | C145: ='05 § 남동구'!C14 -> 남동구 | D145: ='05 § 남동구'!D14 -> 5 | E145: ='05 § 남동구'!E14 -> 아암대로1437번길 1R | F145: ='05 § 남동구'!F14 -> 아암대로 | G145: ='05 § 남동구'!G14 -> 에코중앙로 | H145: ='05 § 남동구'!H14 -> ○ | I145: ='05 § 남동구'!I14 -> 전용차로 | J145: ='05 § 남동구'!J14 -> 0.34 | ... U145: ='05 § 남동구'!U14 -> 0 | W145: =X145+Y145+Z145+AA145 -> 0.34 | X145: =SUMIF(I145,$X$6,J145) -> 0 | Y145: =SUMIF(I145,$Y$6,J145) -> 0.34 | Z145: =SUMIF(I145,$Z$6,J145) -> 0 | AA145: =AB145+AC145 -> 0 | AB145: =SUMIF(I145,$AB$7,J145) -> 0 | AC145: =SUMIF(I145,$AC$7,J145) -> 0
A146: 137 | B146: 인천시 | C146: ='05 § 남동구'!C15 -> 남동구 | D146: ='05 § 남동구'!D15 -> 6 | E146: ='05 § 남동구'!E15 -> 아암대로1437번길 1L | F146: ='05 § 남동구'!F15 -> 아암대로 | G146: ='05 § 남동구'!G15 -> 에코중앙로 | H146: ='05 § 남동구'!H15 -> ○ | I146: ='05 § 남동구'!I15 -> 전용차로 | J146: ='05 § 남동구'!J15 -> 0.34 | ... U146: ='05 § 남동구'!U15 -> 0 | W146: =X146+Y146+Z146+AA146 -> 0.34 | X146: =SUMIF(I146,$X$6,J146) -> 0 | Y146: =SUMIF(I146,$Y$6,J146) -> 0.34 | Z146: =SUMIF(I146,$Z$6,J146) -> 0 | AA146: =AB146+AC146 -> 0 | AB146: =SUMIF(I146,$AB$7,J146) -> 0 | AC146: =SUMIF(I146,$AC$7,J146) -> 0
A147: 138 | B147: 인천시 | C147: ='05 § 남동구'!C16 -> 남동구 | D147: ='05 § 남동구'!D16 -> 7 | E147: ='05 § 남동구'!E16 -> 청능대로 남동대교 1R | F147: ='05 § 남동구'!F16 -> 스퀘어어1 | G147: ='05 § 남동구'!G16 -> 청능대로 | H147: ='05 § 남동구'!H16 -> ○ | I147: ='05 § 남동구'!I16 -> 겸용도로 (비분리형) | J147: ='05 § 남동구'!J16 -> 0.19 | ... U147: ='05 § 남동구'!U16 -> 내측 | W147: =X147+Y147+Z147+AA147 -> 0.19 | X147: =SUMIF(I147,$X$6,J147) -> 0 | Y147: =SUMIF(I147,$Y$6,J147) -> 0 | Z147: =SUMIF(I147,$Z$6,J147) -> 0 | AA147: =AB147+AC147 -> 0.19 | AB147: =SUMIF(I147,$AB$7,J147) -> 0 | AC147: =SUMIF(I147,$AC$7,J147) -> 0.19
A148: 139 | B148: 인천시 | C148: ='05 § 남동구'!C17 -> 남동구 | D148: ='05 § 남동구'!D17 -> 8 | E148: ='05 § 남동구'!E17 -> 청능대로 남동대교 1L | F148: ='05 § 남동구'!F17 -> 스퀘어어1 | G148: ='05 § 남동구'!G17 -> 청능대로 | H148: ='05 § 남동구'!H17 -> ○ | I148: ='05 § 남동구'!I17 -> 겸용도로 (비분리형) | J148: ='05 § 남동구'!J17 -> 0.19 | ... U148: ='05 § 남동구'!U17 -> 내측 | W148: =X148+Y148+Z148+AA148 -> 0.19 | X148: =SUMIF(I148,$X$6,J148) -> 0 | Y148: =SUMIF(I148,$Y$6,J148) -> 0 | Z148: =SUMIF(I148,$Z$6,J148) -> 0 | AA148: =AB148+AC148 -> 0.19 | AB148: =SUMIF(I148,$AB$7,J148) -> 0 | AC148: =SUMIF(I148,$AC$7,J148) -> 0.19
A149: 140 | B149: 인천시 | C149: ='05 § 남동구'!C18 -> 남동구 | D149: ='05 § 남동구'!D18 -> 9 | E149: ='05 § 남동구'!E18 -> 청능대로 1R | F149: ='05 § 남동구'!F18 -> 남동대교 | G149: ='05 § 남동구'!G18 -> 청능대로 484번길 4 | H149: ='05 § 남동구'!H18 -> ○ | I149: ='05 § 남동구'!I18 -> 전용도로 | J149: ='05 § 남동구'!J18 -> 2.55 | ... U149: ='05 § 남동구'!U18 -> 0 | W149: =X149+Y149+Z149+AA149 -> 2.55 | X149: =SUMIF(I149,$X$6,J149) -> 2.55 | Y149: =SUMIF(I149,$Y$6,J149) -> 0 | Z149: =SUMIF(I149,$Z$6,J149) -> 0 | AA149: =AB149+AC149 -> 0 | AB149: =SUMIF(I149,$AB$7,J149) -> 0 | AC149: =SUMIF(I149,$AC$7,J149) -> 0
A150: 141 | B150: 인천시 | C150: ='05 § 남동구'!C19 -> 남동구 | D150: ='05 § 남동구'!D19 -> 10 | E150: ='05 § 남동구'!E19 -> 청능대로 1R | F150: ='05 § 남동구'!F19 -> 남동대교 | G150: ='05 § 남동구'!G19 -> 청능대로 484번길 4 | H150: ='05 § 남동구'!H19 -> ○ | I150: ='05 § 남동구'!I19 -> 전용도로 | J150: ='05 § 남동구'!J19 -> 2.55 | ... U150: ='05 § 남동구'!U19 -> 0 | W150: =X150+Y150+Z150+AA150 -> 2.55 | X150: =SUMIF(I150,$X$6,J150) -> 2.55 | Y150: =SUMIF(I150,$Y$6,J150) -> 0 | Z150: =SUMIF(I150,$Z$6,J150) -> 0 | AA150: =AB150+AC150 -> 0 | AB150: =SUMIF(I150,$AB$7,J150) -> 0 | AC150: =SUMIF(I150,$AC$7,J150) -> 0
A151: 142 | B151: 인천시 | C151: ='05 § 남동구'!C20 -> 남동구 | D151: ='05 § 남동구'!D20 -> 11 | E151: ='05 § 남동구'!E20 -> 청능대로 2R | F151: ='05 § 남동구'!F20 -> 청능대로 484번길 4 | G151: ='05 § 남동구'!G20 -> 소래로 | H151: ='05 § 남동구'!H20 -> ○ | I151: ='05 § 남동구'!I20 -> 겸용도로 (분리형) | J151: ='05 § 남동구'!J20 -> 2.63 | ... U151: ='05 § 남동구'!U20 -> 내측 | W151: =X151+Y151+Z151+AA151 -> 2.63 | X151: =SUMIF(I151,$X$6,J151) -> 0 | Y151: =SUMIF(I151,$Y$6,J151) -> 0 | Z151: =SUMIF(I151,$Z$6,J151) -> 0 | AA151: =AB151+AC151 -> 2.63 | AB151: =SUMIF(I151,$AB$7,J151) -> 2.63 | AC151: =SUMIF(I151,$AC$7,J151) -> 0
A152: 143 | B152: 인천시 | C152: ='05 § 남동구'!C21 -> 남동구 | D152: ='05 § 남동구'!D21 -> 12 | E152: ='05 § 남동구'!E21 -> 청능대로 2L | F152: ='05 § 남동구'!F21 -> 청능대로 484번길 4 | G152: ='05 § 남동구'!G21 -> 소래로 | H152: ='05 § 남동구'!H21 -> ○ | I152: ='05 § 남동구'!I21 -> 겸용도로 (분리형) | J152: ='05 § 남동구'!J21 -> 2.63 | ... U152: ='05 § 남동구'!U21 -> 내측 | W152: =X152+Y152+Z152+AA152 -> 2.63 | X152: =SUMIF(I152,$X$6,J152) -> 0 | Y152: =SUMIF(I152,$Y$6,J152) -> 0 | Z152: =SUMIF(I152,$Z$6,J152) -> 0 | AA152: =AB152+AC152 -> 2.63 | AB152: =SUMIF(I152,$AB$7,J152) -> 2.63 | AC152: =SUMIF(I152,$AC$7,J152) -> 0
... A258: 249 | B258: 인천시 | C258: ='05 § 남동구'!C127 -> 남동구 | D258: ='05 § 남동구'!D127 -> 118 | E258: ='05 § 남동구'!E127 -> 남동대로8L | F258: ='05 § 남동구'!F127 -> 남동대로216 | G258: ='05 § 남동구'!G127 -> 고잔동714 | H258: ='05 § 남동구'!H127 -> ○ | I258: ='05 § 남동구'!I127 -> 겸용도로 (분리형) | J258: ='05 § 남동구'!J127 -> 2 | ... U258: ='05 § 남동구'!U127 -> 도로측 | W258: =X258+Y258+Z258+AA258 -> 2 | X258: =SUMIF(I258,$X$6,J258) -> 0 | Y258: =SUMIF(I258,$Y$6,J258) -> 0 | Z258: =SUMIF(I258,$Z$6,J258) -> 0 | AA258: =AB258+AC258 -> 2 | AB258: =SUMIF(I258,$AB$7,J258) -> 2 | AC258: =SUMIF(I258,$AC$7,J258) -> 0
A259: 250 | B259: 인천시 | C259: ='06 § 부평구'!C9 -> 부평구 | D259: ='06 § 부평구'!D9 -> 121개 노선 | H259: ='06 § 부평구'!H9 -> 117 | J259: ='06 § 부평구'!J9 -> 49.01 | K259: ='06 § 부평구'!K9 -> 5 | L259: ='06 § 부평구'!L9 -> 0 | M259: ='06 § 부평구'!M9 -> 0 | N259: ='06 § 부평구'!N9 -> 115 | Q259: ='06 § 부평구'!Q9 -> 1 | T259: ='06 § 부평구'!T9 -> 57 | W259: =SUM(W260:W380) -> 49.01 | X259: =SUM(X260:X380) -> 1.39 | Y259: =SUM(Y260:Y380) -> 0 | Z259: =SUM(Z260:Z380) -> 0 | AA259: =SUM(AA260:AA380) -> 47.62 | AB259: =SUM(AB260:AB380) -> 47.34 | AC259: =SUM(AC260:AC380) -> 0.28
A260: 251 | B260: 인천시 | C260: ='06 § 부평구'!C10 -> 부평구 | D260: ='06 § 부평구'!D10 -> 1-1 | E260: ='06 § 부평구'!E10 -> 굴포로R-1 | F260: ='06 § 부평구'!F10 -> 체육관로 교차점 | G260: ='06 § 부평구'!G10 -> 갈삼사거리 | H260: ='06 § 부평구'!H10 -> ○ | I260: ='06 § 부평구'!I10 -> 겸용도로 (분리형) | J260: ='06 § 부평구'!J10 -> 0.76 | ... U260: ='06 § 부평구'!U10 -> 내측 | W260: =X260+Y260+Z260+AA260 -> 0.76 | X260: =SUMIF(I260,$X$6,J260) -> 0 | Y260: =SUMIF(I260,$Y$6,J260) -> 0 | Z260: =SUMIF(I260,$Z$6,J260) -> 0 | AA260: =AB260+AC260 -> 0.76 | AB260: =SUMIF(I260,$AB$7,J260) -> 0.76 | AC260: =SUMIF(I260,$AC$7,J260) -> 0
A261: 252 | B261: 인천시 | C261: ='06 § 부평구'!C11 -> 부평구 | D261: ='06 § 부평구'!D11 -> 1-2 | E261: ='06 § 부평구'!E11 -> 굴포로R-2 | F261: ='06 § 부평구'!F11 -> 갈삼사거리 | G261: ='06 § 부평구'!G11 -> 부평공고 사거리 | H261: ='06 § 부평구'!H11 -> ○ | I261: ='06 § 부평구'!I11 -> 겸용도로 (분리형) | J261: ='06 § 부평구'!J11 -> 0.47 | ... U261: ='06 § 부평구'!U11 -> 내측 | W261: =X261+Y261+Z261+AA261 -> 0.47 | X261: =SUMIF(I261,$X$6,J261) -> 0 | Y261: =SUMIF(I261,$Y$6,J261) -> 0 | Z261: =SUMIF(I261,$Z$6,J261) -> 0 | AA261: =AB261+AC261 -> 0.47 | AB261: =SUMIF(I261,$AB$7,J261) -> 0.47 | AC261: =SUMIF(I261,$AC$7,J261) -> 0
A262: 253 | B262: 인천시 | C262: ='06 § 부평구'!C12 -> 부평구 | D262: ='06 § 부평구'!D12 -> 2-1 | E262: ='06 § 부평구'!E12 -> 굴포로L | F262: ='06 § 부평구'!F12 -> 한국지엠 삼거리 | G262: ='06 § 부평구'!G12 -> 갈삼사거리 | H262: ='06 § 부평구'!H12 -> ○ | I262: ='06 § 부평구'!I12 -> 겸용도로 (분리형) | J262: ='06 § 부평구'!J12 -> 0.87 | ... U262: ='06 § 부평구'!U12 -> 내측 | W262: =X262+Y262+Z262+AA262 -> 0.87 | X262: =SUMIF(I262,$X$6,J262) -> 0 | Y262: =SUMIF(I262,$Y$6,J262) -> 0 | Z262: =SUMIF(I262,$Z$6,J262) -> 0 | AA262: =AB262+AC262 -> 0.87 | AB262: =SUMIF(I262,$AB$7,J262) -> 0.87 | AC262: =SUMIF(I262,$AC$7,J262) -> 0
A263: 254 | B263: 인천시 | C263: ='06 § 부평구'!C13 -> 부평구 | D263: ='06 § 부평구'!D13 -> 3-1 | E263: ='06 § 부평구'!E13 -> 경원대로L-1 | F263: ='06 § 부평구'!F13 -> 백범로교차점 (십정사거리) | G263: ='06 § 부평구'!G13 -> 열우물로교차점 (열우물사거리) | H263: ='06 § 부평구'!H13 -> ○ | I263: ='06 § 부평구'!I13 -> 겸용도로 (분리형) | J263: ='06 § 부평구'!J13 -> 0.45 | ... U263: ='06 § 부평구'!U13 -> 내측 | W263: =X263+Y263+Z263+AA263 -> 0.45 | X263: =SUMIF(I263,$X$6,J263) -> 0 | Y263: =SUMIF(I263,$Y$6,J263) -> 0 | Z263: =SUMIF(I263,$Z$6,J263) -> 0 | AA263: =AB263+AC263 -> 0.45 | AB263: =SUMIF(I263,$AB$7,J263) -> 0.45 | AC263: =SUMIF(I263,$AC$7,J263) -> 0
A264: 255 | B264: 인천시 | C264: ='06 § 부평구'!C14 -> 부평구 | D264: ='06 § 부평구'!D14 -> 3-2 | E264: ='06 § 부평구'!E14 -> 경원대로L-2 | F264: ='06 § 부평구'!F14 -> 열우물로교차점 (열우물사거리) | G264: ='06 § 부평구'!G14 -> 상정중학교 | H264: ='06 § 부평구'!H14 -> ○ | I264: ='06 § 부평구'!I14 -> 겸용도로 (분리형) | J264: ='06 § 부평구'!J14 -> 0.11 | ... U264: ='06 § 부평구'!U14 -> 내측 | W264: =X264+Y264+Z264+AA264 -> 0.11 | X264: =SUMIF(I264,$X$6,J264) -> 0 | Y264: =SUMIF(I264,$Y$6,J264) -> 0 | Z264: =SUMIF(I264,$Z$6,J264) -> 0 | AA264: =AB264+AC264 -> 0.11 | AB264: =SUMIF(I264,$AB$7,J264) -> 0.11 | AC264: =SUMIF(I264,$AC$7,J264) -> 0
A265: 256 | B265: 인천시 | C265: ='06 § 부평구'!C15 -> 부평구 | D265: ='06 § 부평구'!D15 -> 3-3 | E265: ='06 § 부평구'!E15 -> 경원대로L-3 | F265: ='06 § 부평구'!F15 -> 상정중학교 | G265: ='06 § 부평구'!G15 -> 상정고등학교 | H265: ='06 § 부평구'!H15 -> ○ | I265: ='06 § 부평구'!I15 -> 겸용도로 (분리형) | J265: ='06 § 부평구'!J15 -> 0.25 | ... U265: ='06 § 부평구'!U15 -> 내측 | W265: =X265+Y265+Z265+AA265 -> 0.25 | X265: =SUMIF(I265,$X$6,J265) -> 0 | Y265: =SUMIF(I265,$Y$6,J265) -> 0 | Z265: =SUMIF(I265,$Z$6,J265) -> 0 | AA265: =AB265+AC265 -> 0.25 | AB265: =SUMIF(I265,$AB$7,J265) -> 0.25 | AC265: =SUMIF(I265,$AC$7,J265) -> 0
A266: 257 | B266: 인천시 | C266: ='06 § 부평구'!C16 -> 부평구 | D266: ='06 § 부평구'!D16 -> 3-4 | E266: ='06 § 부평구'!E16 -> 경원대로L-4 | F266: ='06 § 부평구'!F16 -> 상정고등학교 | G266: ='06 § 부평구'!G16 -> 십정119안전센터 | H266: ='06 § 부평구'!H16 -> ○ | I266: ='06 § 부평구'!I16 -> 겸용도로 (분리형) | J266: ='06 § 부평구'!J16 -> 0.07 | ... U266: ='06 § 부평구'!U16 -> 내측 | W266: =X266+Y266+Z266+AA266 -> 0.07 | X266: =SUMIF(I266,$X$6,J266) -> 0 | Y266: =SUMIF(I266,$Y$6,J266) -> 0 | Z266: =SUMIF(I266,$Z$6,J266) -> 0 | AA266: =AB266+AC266 -> 0.07 | AB266: =SUMIF(I266,$AB$7,J266) -> 0.07 | AC266: =SUMIF(I266,$AC$7,J266) -> 0
A267: 258 | B267: 인천시 | C267: ='06 § 부평구'!C17 -> 부평구 | D267: ='06 § 부평구'!D17 -> 3-5 | E267: ='06 § 부평구'!E17 -> 경원대로L-5 | F267: ='06 § 부평구'!F17 -> 십정119안전센터 | G267: ='06 § 부평구'!G17 -> 함봉로교차점 | H267: ='06 § 부평구'!H17 -> ○ | I267: ='06 § 부평구'!I17 -> 겸용도로 (분리형) | J267: ='06 § 부평구'!J17 -> 0.19 | ... U267: ='06 § 부평구'!U17 -> 내측 | W267: =X267+Y267+Z267+AA267 -> 0.19 | X267: =SUMIF(I267,$X$6,J267) -> 0 | Y267: =SUMIF(I267,$Y$6,J267) -> 0 | Z267: =SUMIF(I267,$Z$6,J267) -> 0 | AA267: =AB267+AC267 -> 0.19 | AB267: =SUMIF(I267,$AB$7,J267) -> 0.19 | AC267: =SUMIF(I267,$AC$7,J267) -> 0
A268: 259 | B268: 인천시 | C268: ='06 § 부평구'!C18 -> 부평구 | D268: ='06 § 부평구'!D18 -> 3-6 | E268: ='06 § 부평구'!E18 -> 경원대로L-6 | F268: ='06 § 부평구'!F18 -> 함봉로교차점 | G268: ='06 § 부평구'!G18 -> 부평도서관 | H268: ='06 § 부평구'!H18 -> ○ | I268: ='06 § 부평구'!I18 -> 겸용도로 (분리형) | J268: ='06 § 부평구'!J18 -> 0.63 | ... U268: ='06 § 부평구'!U18 -> 내측 | W268: =X268+Y268+Z268+AA268 -> 0.63 | X268: =SUMIF(I268,$X$6,J268) -> 0 | Y268: =SUMIF(I268,$Y$6,J268) -> 0 | Z268: =SUMIF(I268,$Z$6,J268) -> 0 | AA268: =AB268+AC268 -> 0.63 | AB268: =SUMIF(I268,$AB$7,J268) -> 0.63 | AC268: =SUMIF(I268,$AC$7,J268) -> 0
A269: 260 | B269: 인천시 | C269: ='06 § 부평구'!C19 -> 부평구 | D269: ='06 § 부평구'!D19 -> 3-7 | E269: ='06 § 부평구'!E19 -> 경원대로L-7 | F269: ='06 § 부평구'!F19 -> 부평도서관 | G269: ='06 § 부평구'!G19 -> 부평서여중 | H269: ='06 § 부평구'!H19 -> ○ | I269: ='06 § 부평구'!I19 -> 겸용도로 (분리형) | J269: ='06 § 부평구'!J19 -> 0.21 | ... U269: ='06 § 부평구'!U19 -> 내측 | W269: =X269+Y269+Z269+AA269 -> 0.21 | X269: =SUMIF(I269,$X$6,J269) -> 0 | Y269: =SUMIF(I269,$Y$6,J269) -> 0 | Z269: =SUMIF(I269,$Z$6,J269) -> 0 | AA269: =AB269+AC269 -> 0.21 | AB269: =SUMIF(I269,$AB$7,J269) -> 0.21 | AC269: =SUMIF(I269,$AC$7,J269) -> 0
A270: 261 | B270: 인천시 | C270: ='06 § 부평구'!C20 -> 부평구 | D270: ='06 § 부평구'!D20 -> 3-8 | E270: ='06 § 부평구'!E20 -> 경원대로L-8 | F270: ='06 § 부평구'!F20 -> 부평서여중 | G270: ='06 § 부평구'!G20 -> 신촌사거리 | H270: ='06 § 부평구'!H20 -> ○ | I270: ='06 § 부평구'!I20 -> 겸용도로 (분리형) | J270: ='06 § 부평구'!J20 -> 0.09 | ... U270: ='06 § 부평구'!U20 -> 내측 | W270: =X270+Y270+Z270+AA270 -> 0.09 | X270: =SUMIF(I270,$X$6,J270) -> 0 | Y270: =SUMIF(I270,$Y$6,J270) -> 0 | Z270: =SUMIF(I270,$Z$6,J270) -> 0 | AA270: =AB270+AC270 -> 0.09 | AB270: =SUMIF(I270,$AB$7,J270) -> 0.09 | AC270: =SUMIF(I270,$AC$7,J270) -> 0
A271: 262 | B271: 인천시 | C271: ='06 § 부평구'!C21 -> 부평구 | D271: ='06 § 부평구'!D21 -> 3-9 | E271: ='06 § 부평구'!E21 -> 경원대로L-9 | F271: ='06 § 부평구'!F21 -> 마장로교차점 | G271: ='06 § 부평구'!G21 -> 현대아파트1단지111동앞 | H271: ='06 § 부평구'!H21 -> ○ | I271: ='06 § 부평구'!I21 -> 겸용도로 (분리형) | J271: ='06 § 부평구'!J21 -> 0.2 | ... U271: ='06 § 부평구'!U21 -> 내측 | W271: =X271+Y271+Z271+AA271 -> 0.2 | X271: =SUMIF(I271,$X$6,J271) -> 0 | Y271: =SUMIF(I271,$Y$6,J271) -> 0 | Z271: =SUMIF(I271,$Z$6,J271) -> 0 | AA271: =AB271+AC271 -> 0.2 | AB271: =SUMIF(I271,$AB$7,J271) -> 0.2 | AC271: =SUMIF(I271,$AC$7,J271) -> 0
... A380: 371 | B380: 인천시 | C380: ='06 § 부평구'!C130 -> 부평구 | D380: ='06 § 부평구'!D130 -> 45-2 | E380: ='06 § 부평구'!E130 -> 세월천로 | F380: ='06 § 부평구'!F130 -> 세월천로137번길 | G380: ='06 § 부평구'!G130 -> 세월천로179번 | H380: ='06 § 부평구'!H130 -> 0 | I380: ='06 § 부평구'!I130 -> 겸용도로 (분리형) | J380: ='06 § 부평구'!J130 -> 0.37 | ... U380: ='06 § 부평구'!U130 -> 내측 | W380: =X380+Y380+Z380+AA380 -> 0.37 | X380: =SUMIF(I380,$X$6,J380) -> 0 | Y380: =SUMIF(I380,$Y$6,J380) -> 0 | Z380: =SUMIF(I380,$Z$6,J380) -> 0 | AA380: =AB380+AC380 -> 0.37 | AB380: =SUMIF(I380,$AB$7,J380) -> 0.37 | AC380: =SUMIF(I380,$AC$7,J380) -> 0
A381: 372 | B381: 인천시 | C381: ='07 § 계양구'!C9 -> 계양구 | D381: ='07 § 계양구'!D9 -> 45개 노선 | H381: ='07 § 계양구'!H9 -> 24 | J381: ='07 § 계양구'!J9 -> 33.81 | K381: ='07 § 계양구'!K9 -> 2 | L381: ='07 § 계양구'!L9 -> 2 | M381: ='07 § 계양구'!M9 -> 0 | N381: ='07 § 계양구'!N9 -> 31 | Q381: ='07 § 계양구'!Q9 -> 10 | T381: ='07 § 계양구'!T9 -> 20 | W381: =SUM(W382:W426) -> 33.81 | X381: =SUM(X382:X426) -> 3.02 | Y381: =SUM(Y382:Y426) -> 0.64 | Z381: =SUM(Z382:Z426) -> 0 | AA381: =SUM(AA382:AA426) -> 30.15 | AB381: =SUM(AB382:AB426) -> 18.45 | AC381: =SUM(AC382:AC426) -> 11.7
A382: 373 | B382: 인천시 | C382: ='07 § 계양구'!C10 -> 계양구 | D382: ='07 § 계양구'!D10 -> 1 | E382: ='07 § 계양구'!E10 -> 계양로R | F382: ='07 § 계양구'!F10 -> 한마음병원 | G382: ='07 § 계양구'!G10 -> 경인고속도로 | H382: ='07 § 계양구'!H10 -> 0 | I382: ='07 § 계양구'!I10 -> 겸용도로 (분리형) | J382: ='07 § 계양구'!J10 -> 0.5 | ... U382: ='07 § 계양구'!U10 -> 내측 | W382: =X382+Y382+Z382+AA382 -> 0.5 | X382: =SUMIF(I382,$X$6,J382) -> 0 | Y382: =SUMIF(I382,$Y$6,J382) -> 0 | Z382: =SUMIF(I382,$Z$6,J382) -> 0 | AA382: =AB382+AC382 -> 0.5 | AB382: =SUMIF(I382,$AB$7,J382) -> 0.5 | AC382: =SUMIF(I382,$AC$7,J382) -> 0
A383: 374 | B383: 인천시 | C383: ='07 § 계양구'!C11 -> 계양구 | D383: ='07 § 계양구'!D11 -> 2 | E383: ='07 § 계양구'!E11 -> 계양로L | F383: ='07 § 계양구'!F11 -> 경인고속도로 | G383: ='07 § 계양구'!G11 -> 계산3거리 | H383: ='07 § 계양구'!H11 -> 0 | I383: ='07 § 계양구'!I11 -> 겸용도로 (분리형) | J383: ='07 § 계양구'!J11 -> 2.14 | ... U383: ='07 § 계양구'!U11 -> 중앙 | W383: =X383+Y383+Z383+AA383 -> 2.14 | X383: =SUMIF(I383,$X$6,J383) -> 0 | Y383: =SUMIF(I383,$Y$6,J383) -> 0 | Z383: =SUMIF(I383,$Z$6,J383) -> 0 | AA383: =AB383+AC383 -> 2.14 | AB383: =SUMIF(I383,$AB$7,J383) -> 2.14 | AC383: =SUMIF(I383,$AC$7,J383) -> 0
A384: 375 | B384: 인천시 | C384: ='07 § 계양구'!C12 -> 계양구 | D384: ='07 § 계양구'!D12 -> 3 | E384: ='07 § 계양구'!E12 -> 경명로1R | F384: ='07 § 계양구'!F12 -> 임학지하차도 | G384: ='07 § 계양구'!G12 -> 계산역 | H384: ='07 § 계양구'!H12 -> 0 | I384: ='07 § 계양구'!I12 -> 겸용도로 (분리형) | J384: ='07 § 계양구'!J12 -> 0.68 | ... U384: ='07 § 계양구'!U12 -> 내측 | W384: =X384+Y384+Z384+AA384 -> 0.68 | X384: =SUMIF(I384,$X$6,J384) -> 0 | Y384: =SUMIF(I384,$Y$6,J384) -> 0 | Z384: =SUMIF(I384,$Z$6,J384) -> 0 | AA384: =AB384+AC384 -> 0.68 | AB384: =SUMIF(I384,$AB$7,J384) -> 0.68 | AC384: =SUMIF(I384,$AC$7,J384) -> 0
A385: 376 | B385: 인천시 | C385: ='07 § 계양구'!C13 -> 계양구 | D385: ='07 § 계양구'!D13 -> 4 | E385: ='07 § 계양구'!E13 -> 경명로2R | F385: ='07 § 계양구'!F13 -> 기아자동차 | G385: ='07 § 계양구'!G13 -> KT&G | H385: ='07 § 계양구'!H13 -> 0 | I385: ='07 § 계양구'!I13 -> 겸용도로 (분리형) | J385: ='07 § 계양구'!J13 -> 0.19 | ... U385: ='07 § 계양구'!U13 -> 내측 | W385: =X385+Y385+Z385+AA385 -> 0.19 | X385: =SUMIF(I385,$X$6,J385) -> 0 | Y385: =SUMIF(I385,$Y$6,J385) -> 0 | Z385: =SUMIF(I385,$Z$6,J385) -> 0 | AA385: =AB385+AC385 -> 0.19 | AB385: =SUMIF(I385,$AB$7,J385) -> 0.19 | AC385: =SUMIF(I385,$AC$7,J385) -> 0
A386: 377 | B386: 인천시 | C386: ='07 § 계양구'!C14 -> 계양구 | D386: ='07 § 계양구'!D14 -> 5 | E386: ='07 § 계양구'!E14 -> 계산길 | F386: ='07 § 계양구'!F14 -> 계산초교 | G386: ='07 § 계양구'!G14 -> 계양문화회관 | H386: ='07 § 계양구'!H14 -> 0 | I386: ='07 § 계양구'!I14 -> 겸용도로 (비분리형) | J386: ='07 § 계양구'!J14 -> 0.33 | ... U386: ='07 § 계양구'!U14 -> 0 | W386: =X386+Y386+Z386+AA386 -> 0.33 | X386: =SUMIF(I386,$X$6,J386) -> 0 | Y386: =SUMIF(I386,$Y$6,J386) -> 0 | Z386: =SUMIF(I386,$Z$6,J386) -> 0 | AA386: =AB386+AC386 -> 0.33 | AB386: =SUMIF(I386,$AB$7,J386) -> 0 | AC386: =SUMIF(I386,$AC$7,J386) -> 0.33
A387: 378 | B387: 인천시 | C387: ='07 § 계양구'!C15 -> 계양구 | D387: ='07 § 계양구'!D15 -> 6 | E387: ='07 § 계양구'!E15 -> 경명로1L | F387: ='07 § 계양구'!F15 -> 대림바드 | G387: ='07 § 계양구'!G15 -> 신도브레뉴 | H387: ='07 § 계양구'!H15 -> 0 | I387: ='07 § 계양구'!I15 -> 겸용도로 (분리형) | J387: ='07 § 계양구'!J15 -> 0.15 | ... U387: ='07 § 계양구'!U15 -> 내측 | W387: =X387+Y387+Z387+AA387 -> 0.15 | X387: =SUMIF(I387,$X$6,J387) -> 0 | Y387: =SUMIF(I387,$Y$6,J387) -> 0 | Z387: =SUMIF(I387,$Z$6,J387) -> 0 | AA387: =AB387+AC387 -> 0.15 | AB387: =SUMIF(I387,$AB$7,J387) -> 0.15 | AC387: =SUMIF(I387,$AC$7,J387) -> 0
A388: 379 | B388: 인천시 | C388: ='07 § 계양구'!C16 -> 계양구 | D388: ='07 § 계양구'!D16 -> 7 | E388: ='07 § 계양구'!E16 -> 경명로2L | F388: ='07 § 계양구'!F16 -> 계산3거리 | G388: ='07 § 계양구'!G16 -> 계산주공 | H388: ='07 § 계양구'!H16 -> 0 | I388: ='07 § 계양구'!I16 -> 겸용도로 (분리형) | J388: ='07 § 계양구'!J16 -> 1.04 | ... U388: ='07 § 계양구'!U16 -> 내측 | W388: =X388+Y388+Z388+AA388 -> 1.04 | X388: =SUMIF(I388,$X$6,J388) -> 0 | Y388: =SUMIF(I388,$Y$6,J388) -> 0 | Z388: =SUMIF(I388,$Z$6,J388) -> 0 | AA388: =AB388+AC388 -> 1.04 | AB388: =SUMIF(I388,$AB$7,J388) -> 1.04 | AC388: =SUMIF(I388,$AC$7,J388) -> 0
A389: 380 | B389: 인천시 | C389: ='07 § 계양구'!C17 -> 계양구 | D389: ='07 § 계양구'!D17 -> 8 | E389: ='07 § 계양구'!E17 -> 봉화로1R | F389: ='07 § 계양구'!F17 -> 서운사거리 | G389: ='07 § 계양구'!G17 -> 봉오고가시점 | H389: ='07 § 계양구'!H17 -> ○ | I389: ='07 § 계양구'!I17 -> 겸용도로 (비분리형) | J389: ='07 § 계양구'!J17 -> 1.3 | ... U389: ='07 § 계양구'!U17 -> 0 | W389: =X389+Y389+Z389+AA389 -> 1.3 | X389: =SUMIF(I389,$X$6,J389) -> 0 | Y389: =SUMIF(I389,$Y$6,J389) -> 0 | Z389: =SUMIF(I389,$Z$6,J389) -> 0 | AA389: =AB389+AC389 -> 1.3 | AB389: =SUMIF(I389,$AB$7,J389) -> 0 | AC389: =SUMIF(I389,$AC$7,J389) -> 1.3
A390: 381 | B390: 인천시 | C390: ='07 § 계양구'!C18 -> 계양구 | D390: ='07 § 계양구'!D18 -> 9 | E390: ='07 § 계양구'!E18 -> 봉화로2R | F390: ='07 § 계양구'!F18 -> 봉오고가교 | G390: ='07 § 계양구'!G18 -> 봉오고가교유턴지점 | H390: ='07 § 계양구'!H18 -> ○ | I390: ='07 § 계양구'!I18 -> 전용차로 | J390: ='07 § 계양구'!J18 -> 0.32 | ... U390: ='07 § 계양구'!U18 -> 0 | W390: =X390+Y390+Z390+AA390 -> 0.32 | X390: =SUMIF(I390,$X$6,J390) -> 0 | Y390: =SUMIF(I390,$Y$6,J390) -> 0.32 | Z390: =SUMIF(I390,$Z$6,J390) -> 0 | AA390: =AB390+AC390 -> 0 | AB390: =SUMIF(I390,$AB$7,J390) -> 0 | AC390: =SUMIF(I390,$AC$7,J390) -> 0
A391: 382 | B391: 인천시 | C391: ='07 § 계양구'!C19 -> 계양구 | D391: ='07 § 계양구'!D19 -> 10 | E391: ='07 § 계양구'!E19 -> 봉화로3R | F391: ='07 § 계양구'!F19 -> 봉오고가교유턴구역 | G391: ='07 § 계양구'!G19 -> 중동대로입구 | H391: ='07 § 계양구'!H19 -> ○ | I391: ='07 § 계양구'!I19 -> 겸용도로 (비분리형) | J391: ='07 § 계양구'!J19 -> 0.1 | ... U391: ='07 § 계양구'!U19 -> 0 | W391: =X391+Y391+Z391+AA391 -> 0.1 | X391: =SUMIF(I391,$X$6,J391) -> 0 | Y391: =SUMIF(I391,$Y$6,J391) -> 0 | Z391: =SUMIF(I391,$Z$6,J391) -> 0 | AA391: =AB391+AC391 -> 0.1 | AB391: =SUMIF(I391,$AB$7,J391) -> 0 | AC391: =SUMIF(I391,$AC$7,J391) -> 0.1
A392: 383 | B392: 인천시 | C392: ='07 § 계양구'!C20 -> 계양구 | D392: ='07 § 계양구'!D20 -> 11 | E392: ='07 § 계양구'!E20 -> 봉화로1L | F392: ='07 § 계양구'!F20 -> 중동대로입구 | G392: ='07 § 계양구'!G20 -> 봉오고가교유턴구역 | H392: ='07 § 계양구'!H20 -> ○ | I392: ='07 § 계양구'!I20 -> 겸용도로 (비분리형) | J392: ='07 § 계양구'!J20 -> 0.1 | ... U392: ='07 § 계양구'!U20 -> 0 | W392: =X392+Y392+Z392+AA392 -> 0.1 | X392: =SUMIF(I392,$X$6,J392) -> 0 | Y392: =SUMIF(I392,$Y$6,J392) -> 0 | Z392: =SUMIF(I392,$Z$6,J392) -> 0 | AA392: =AB392+AC392 -> 0.1 | AB392: =SUMIF(I392,$AB$7,J392) -> 0 | AC392: =SUMIF(I392,$AC$7,J392) -> 0.1
A393: 384 | B393: 인천시 | C393: ='07 § 계양구'!C21 -> 계양구 | D393: ='07 § 계양구'!D21 -> 12 | E393: ='07 § 계양구'!E21 -> 봉화로2L | F393: ='07 § 계양구'!F21 -> 봉오고가교유턴구역 | G393: ='07 § 계양구'!G21 -> 봉오고가교시점 | H393: ='07 § 계양구'!H21 -> ○ | I393: ='07 § 계양구'!I21 -> 전용차로 | J393: ='07 § 계양구'!J21 -> 0.32 | ... U393: ='07 § 계양구'!U21 -> 0 | W393: =X393+Y393+Z393+AA393 -> 0.32 | X393: =SUMIF(I393,$X$6,J393) -> 0 | Y393: =SUMIF(I393,$Y$6,J393) -> 0.32 | Z393: =SUMIF(I393,$Z$6,J393) -> 0 | AA393: =AB393+AC393 -> 0 | AB393: =SUMIF(I393,$AB$7,J393) -> 0 | AC393: =SUMIF(I393,$AC$7,J393) -> 0
... A426: 417 | B426: 인천시 | C426: ='07 § 계양구'!C54 -> 계양구 | D426: ='07 § 계양구'!D54 -> 45 | E426: ='07 § 계양구'!E54 -> 만봉길 | F426: ='07 § 계양구'!F54 -> 귤현역 3거리 | G426: ='07 § 계양구'!G54 -> 귤현역뒷편 | H426: ='07 § 계양구'!H54 -> ○ | I426: ='07 § 계양구'!I54 -> 겸용도로 (분리형) | J426: ='07 § 계양구'!J54 -> 0.33 | ... U426: ='07 § 계양구'!U54 -> 도로측 | W426: =X426+Y426+Z426+AA426 -> 0.33 | X426: =SUMIF(I426,$X$6,J426) -> 0 | Y426: =SUMIF(I426,$Y$6,J426) -> 0 | Z426: =SUMIF(I426,$Z$6,J426) -> 0 | AA426: =AB426+AC426 -> 0.33 | AB426: =SUMIF(I426,$AB$7,J426) -> 0.33 | AC426: =SUMIF(I426,$AC$7,J426) -> 0
A427: 418 | B427: 인천시 | C427: ='08 § 서구'!C9 -> 서구 | D427: ='08 § 서구'!D9 -> 39개 노선 | H427: ='08 § 서구'!H9 -> 37 | J427: ='08 § 서구'!J9 -> 50.77 | K427: ='08 § 서구'!K9 -> 4 | L427: ='08 § 서구'!L9 -> 0 | M427: ='08 § 서구'!M9 -> 0 | N427: ='08 § 서구'!N9 -> 32 | Q427: ='08 § 서구'!Q9 -> 3 | T427: ='08 § 서구'!T9 -> 10 | W427: =SUM(W428:W466) -> 50.77 | X427: =SUM(X428:X466) -> 5.32 | Y427: =SUM(Y428:Y466) -> 0 | Z427: =SUM(Z428:Z466) -> 0 | AA427: =SUM(AA428:AA466) -> 45.45 | AB427: =SUM(AB428:AB466) -> 41.85 | AC427: =SUM(AC428:AC466) -> 3.6
A428: 419 | B428: 인천시 | C428: ='08 § 서구'!C10 -> 서구 | D428: ='08 § 서구'!D10 -> 1 | E428: ='08 § 서구'!E10 -> 중봉대로1R | F428: ='08 § 서구'!F10 -> 인천교펌프장입구사거리 | G428: ='08 § 서구'!G10 -> 경서삼거리 | H428: ='08 § 서구'!H10 -> ○ | I428: ='08 § 서구'!I10 -> 겸용도로 (분리형) | J428: ='08 § 서구'!J10 -> 4.7 | ... U428: ='08 § 서구'!U10 -> 도로측 | W428: =X428+Y428+Z428+AA428 -> 4.7 | X428: =SUMIF(I428,$X$6,J428) -> 0 | Y428: =SUMIF(I428,$Y$6,J428) -> 0 | Z428: =SUMIF(I428,$Z$6,J428) -> 0 | AA428: =AB428+AC428 -> 4.7 | AB428: =SUMIF(I428,$AB$7,J428) -> 4.7 | AC428: =SUMIF(I428,$AC$7,J428) -> 0
...

Sheet 조사서식(총괄)
A1: 자전거도로 실태조사 총괄표
A4: 1. 기본사항 | G4: 2. 조사대상 자전거도로 현황 | Q4: 3. 판단
A5: 일련 번호 | B5: 노선명 | C5: 기점 | D5: 종점 | E5: 도로 연계성 | F5: 자전거도로 종류 | G5: 연장 (km) /.00 | H5: 자전거도로 폭원(m) /.0 | P5: 보행량 (점) | Q5: 개선 필요여부
H6: 전용도로 | I6: 전용차로 | J6: 우선도로 | K6: 겸용도로(분리형) | N6: 겸용도로(비분리형)
K7: 자전거도로 | L7: 보도 | M7: 유효폭원 | N7: 도로폭원 | O7: 유효폭원
A8: =ROW()-7 -> 1 | B8: 송도국제대로L | C8: 송도1교 끝단 | D8: 솔찬공원 | E8: o | F8: 전용도로 | G8: 2.89 | H8: 2 | P8: 3 | Q8: o
A9: =ROW()-7 -> 2 | B9: 송도국제대로R | C9: 송도1교 끝단 | D9: 솔찬공원 | E9: o | F9: 전용도로 | G9: 2.87 | H9: 2.1 | P9: 3
A10: =ROW()-7 -> 3 | B10: 컨벤시아대로1R | C10: 송도더프라우월드마크1단지 옆 | D10: 월드마크8단지 앞 | E10: o | F10: 겸용도로 | G10: 0.95 | K10: 2.9 | L10: 1.8 | M10: 1.9 | P10: 3 | Q10: o
A11: =ROW()-7 -> 4 | B11: 컨벤시아대로2R | C11: 센트럴파크 입구 | D11: 투모로우시티 | E11: o | F11: 전용도로 | G11: 0.66 | H11: 2.8 | P11: 3 | Q11: o
A12: =ROW()-7 -> 5 | B12: 컨벤시아대로3R | C12: 송도동 103-1 | D12: 잭니클라우스 골프장 | E12: o | F12: 겸용도로 | G12: 2.84 | K12: 1.8~3.0 | L12: 3.5 | M12: 1.8~3.0 | P12: 3
A13: =ROW()-7 -> 6 | B13: 컨벤시아대로1L | C13: 이안아파트 옆 | D13: 송도동 10-39 | E13: o | F13: 전용도로 | G13: 2.14 | H13: 1.6 | P13: 2 | Q13: o
A14: =ROW()-7 -> 7 | B14: 컨벤시아대로2L | C14: 송도동 10-39 | D14: 인천대학교 | E14: o | F14: 겸용도로 | G14: 1.29 | N14: 2 | O14: 1.8 | P14: 2 | Q14: o
A15: =ROW()-7 -> 8 | B15: 아트센터대로R | C15: 송도IBS타워 | D15: 송도IBS타워 | E15: o | F15: 전용도로 | G15: 0.75 | H15: 3.2 | P15: 2
A16: =ROW()-7 -> 9 | B16: 아트센터대로L | C16: 송도3교 끝 | D16: G타워 | E16: o | F16: 전용도로 | G16: 1.44 | H16: 3 | P16: 3
A17: =ROW()-7 -> 10 | B17: 인천타워대로 | C17: 송도동 11-22 | D17: 송도동 29-2 | E17: o | F17: 전용도로 | G17: 3.86 | H17: 2.8 | P17: 2
A18: =ROW()-7 -> 11 | B18: 첨단대로 | C18: BRC 스마트벨리 | D18: 송도동 211-3 | E18: o | F18: 전용도로 | G18: 1.35 | H18: 3 | P18: 2
A19: =ROW()-7 -> 12 | B19: 신송로1R | C19: 송도동 2-14 | D19: 송도이안아파트 | E19: o | F19: 겸용도로 | G19: 0.88 | K19: 2.2 | L19: 1.5 | M19: 1.2 | P19: 3
A20: =ROW()-7 -> 13 | B20: 신송로2R | C20: 스타벅스 | D20: 송도2동 주민센터 | E20: o | F20: 전용도로 | G20: 1.09 | H20: 2 | P20: 2
A21: =ROW()-7 -> 14 | B21: 신송로1L | C21: 송도동 2-14 | D21: 밀레니엄시티 | E21: o | F21: 겸용도로 | G21: 0.88 | K21: 1.1 | L21: 1.3 | M21: 1.1 | P21: 3
A22: =ROW()-7 -> 15 | B22: 신송로2L | C22: 힐스테이트301동 | D22: 더샵하버뷰1303동 | E22: o | F22: 전용도로 | G22: 0.44 | H22: 1.9 | P22: 2
A23: =ROW()-7 -> 16 | B23: 신송로3L | C23: 국제학교 | D23: 엑스포아파트 901동 | E23: o | F23: 겸용도로 | G23: 0.35 | N23: 3.9 | O23: 2.5 | P23: 2 | Q23: o
A24: =ROW()-7 -> 17 | B24: 신송로4L | C24: 그린워크2차 1101동 | D24: 커낼워크 겨울동 | E24: o | F24: 전용도로 | G24: 0.23 | H24: 2 | P24: 2
A25: =ROW()-7 -> 18 | B25: 해돋이로1R | C25: 현대아이파크 113동 | D25: 해양경찰청 앞 | E25: o | F25: 전용도로 | G25: 1.26 | H25: 1.3 | P25: 3
A26: =ROW()-7 -> 19 | B26: 해돋이로2R | C26: 현대힐스테이트 602동 | D26: 커낼워크 가을동 | E26: o | F26: 전용도로 | G26: 1.04 | H26: 1.9 | P26: 2
A27: =ROW()-7 -> 20 | B27: 해돋이로1L | C27: 현대아이파크 113동 | D27: 송도지구대 | E27: o | F27: 전용도로 | G27: 0.92 | H27: 1.2 | P27: 3
A28: =ROW()-7 -> 21 | B28: 해돋이로2L | C28: 퍼스트월드 6동 | D28: 퍼스트월드 C동 | E28: o | F28: 전용도로 | G28: 0.35 | H28: 1.5 | P28: 3
A29: =ROW()-7 -> 22 | B29: 해돋이로3L | C29: 월드마크 701동 | D29: 하버뷰 101동 | E29: o | F29: 전용도로 | G29: 0.78 | H29: 1.8 | P29: 2
A30: =ROW()-7 -> 23 | B30: 해돋이로4L | C30: 커낼워크 여름동 | D30: 커낼워크 여름동 | E30: o | F30: 전용도로 | G30: 0.05 | H30: 2.9 | P30: 2
A31: =ROW()-7 -> 24 | B31: 센트럴로1R | C31: 해돋이공원 | D31: 퍼스트월드 1동 | E31: o | F31: 전용도로 | G31: 1.33 | H31: 1.8 | P31: 2 | Q31: o
A32: =ROW()-7 -> 25 | B32: 센트럴로2R | C32: 센트럴파크2차 201동 | D32: 커낼워크 봄동 | E32: o | F32: 겸용도로 | G32: 0.76 | N32: 4.3 | O32: 3 | P32: 2
A33: =ROW()-7 -> 26 | B33: 센트럴로1L | C33: 해돋이공원 | D33: 쉐라톤호텔 | E33: o | F33: 전용도로 | G33: 1.32 | H33: 1.7 | P33: 2
A34: =ROW()-7 -> 27 | B34: 센트럴로2L | C34: 센트럴파크 | D34: 1,3공구 공동구 사무실 | E34: o | F34: 전용도로 | G34: 0.82 | H34: 2.8 | P34: 3
A35: =ROW()-7 -> 28 | B35: 센트럴로3L | C35: 1,3공구 공동구 사무실 | D35: 커낼워크 봄동 | E35: o | F35: 겸용도로 | G35: 0.26 | K35: 2.9 | L35: 2.4 | M35: 2.9 | P35: 3
A36: =ROW()-7 -> 29 | B36: 센트럴로3L | C36: IBS타워 | D36: IBS타워 | E36: o | F36: 전용도로 | G36: 0.15 | H36: 2.8 | P36: 1
A37: =ROW()-7 -> 30 | B37: 테크노파크로1R | C37: 미추홀타워 | D37: 롯데마트 | E37: o | F37: 전용도로 | G37: 1.31 | H37: 2 | P37: 2
A38: =ROW()-7 -> 31 | B38: 테크노파크로2R | C38: 센트럴파크 | D38: 한옥마을 | E38: o | F38: 전용도로 | G38: 0.56 | H38: 2.8 | P38: 2
A39: =ROW()-7 -> 32 | B39: 테크노파크로1L | C39: 미추홀공원 | D39: 롯데몰 현장 | E39: o | F39: 전용도로 | G39: 1.35 | H39: 1.6 | P39: 2
A40: =ROW()-7 -> 33 | B40: 테크노파크로2L | C40: 송도파크호텔 | D40: 투모로우시티 | E40: o | F40: 전용도로 | G40: 0.15 | H40: 2.8 | P40: 1
A41: =ROW()-7 -> 34 | B41: 테크노파크로3L | C41: 센트럴파크호텔 | D41: 센트럴파크호텔 | E41: o | F41: 겸용도로 | G41: 0.17 | K41: 2.8 | L41: 2.7 | M41: 2.8 | P41: 1
A42: =ROW()-7 -> 35 | B42: 해송로1R | C42: 가톨릭대학교 | D42: 지식정보단지역 | E42: o | F42: 전용도로 | G42: 0.68 | H42: 1.75 | P42: 3
A43: =ROW()-7 -> 36 | B43: 해송로1L | C43: 가톨릭대학교 | D43: 지식정보단지역 | E43: o | F43: 전용도로 | G43: 0.68 | H43: 1.75 | P43: 3
A44: =ROW()-7 -> 37 | B44: 해송로2R | C44: 웰카운티 218동 | D44: 웰카운티 212동 | E44: o | F44: 겸용도로 | G44: 0.67 | K44: 1.3 | L44: 1.8 | M44: 1.3 | P44: 1
A45: =ROW()-7 -> 38 | B45: 해송로2L | C45: 웰카운티 218동 | D45: 웰카운티 118동 | E45: o | F45: 겸용도로 | G45: 0.67 | K45: 1.3 | L45: 1.8 | M45: 1.3 | P45: 1
A46: =ROW()-7 -> 39 | B46: 아카데미로1R | C46: 셀트리온1공장 | D46: 인천대 정문 건너편 | E46: o | F46: 겸용도로 | G46: 1.07 | N46: 3.6 | O46: 2.5 | P46: 2
A47: =ROW()-7 -> 40 | B47: 아카데미로2R | C47: 인천대 정문 건너편 | D47: 송도동 115-4 | E47: o | F47: 겸용도로 | G47: 0.4 | K47: 1.4 | L47: 2.2 | M47: 1.4 | P47: 2
A48: =ROW()-7 -> 41 | B48: 아카데미로1L | C48: 셀트리온1공장 | D48: 인천대학교 끝 | E48: o | F48: 전용도로 | G48: 1.45 | H48: 1.6 | P48: 2
A49: =ROW()-7 -> 42 | B49: 아카데미로2L | C49: 잭니클라우스 골프장 | D49: 잭니클라우스 골프장 | E49: o | F49: 겸용도로 | G49: 0.95 | K49: 1.5 | L49: 2.8 | M49: 1.5 | P49: 2
A50: =ROW()-7 -> 43 | B50: 하모니로1R | C50: 풍림아이원 213동 | D50: 세진프라자 | E50: o | F50: 겸용도로 | G50: 0.37 | K50: 1.2 | L50: 1.4 | M50: 1.2 | P50: 3
A51: =ROW()-7 -> 44 | B51: 하모니로2R | C51: 퍼스트월드 6동 | D51: 남측유수지 | E51: o | F51: 전용도로 | G51: 2.53 | H51: 1.5 | P51: 2
A52: =ROW()-7 -> 45 | B52: 하모니로1L | C52: 먼우금초교 | D52: 해돋이공원 | E52: o | F52: 겸용도로 | G52: 0.6 | K52: 1.2 | L52: 1.4 | M52: 1.2 | P52: 3
A53: =ROW()-7 -> 46 | B53: 하모니로2L | C53: 경신R&D센터 | D53: 남측유수지 | E53: o | F53: 전용도로 | G53: 2.3 | H53: 1.8 | P53: 2
A54: =ROW()-7 -> 47 | B54: 송도과학로R | C54: 송도동 168-1 | D54: 송도동 187 | E54: o | F54: 전용도로 | G54: 1.31 | H54: 1.9 | P54: 2
A55: =ROW()-7 -> 48 | B55: 송도과학로L | C55: 송도동 158-3 | D55: 송도동 165 | E55: o | F55: 전용도로 | G55: 1.31 | H55: 1.9 | P55: 2
A56: =ROW()-7 -> 49 | B56: 송도문화로 | C56: 송도동 168-3 | D56: 송도동 187-6 | E56: o | F56: 전용도로 | G56: 1.28 | H56: 1.9~2.9 | P56: 2
A57: =ROW()-7 -> 50 | B57: 송도교육로R | C57: 그린스퀘어 101동 | D57: 송도동 200-6 | E57: o | F57: 겸용도로 | G57: 0.97 | K57: 1.4 | L57: 5.1 | M57: 1.4 | P57: 2
A58: =ROW()-7 -> 51 | B58: 송도교육로L | C58: 송도동 191-2 | D58: 송도동 197-1 | E58: o | F58: 겸용도로 | G58: 0.96 | K58: 1.4 | L58: 5.1 | M58: 1.4 | P58: 2
A59: =ROW()-7 -> 52 | B59: 송도미래로R | C59: BRC연구소 | D59: 송도동 220 | E59: o | F59: 전용도로 | G59: 1.5 | H59: 1.9~2.9 | P59: 2
A60: =ROW()-7 -> 53 | B60: 송도미래로L | C60: 송도동 213-1 | D60: 송도동 212-3 | E60: o | F60: 전용도로 | G60: 1.5 | H60: 1.9~2.9 | P60: 2
A61: =ROW()-7 -> 54 | B61: 지식기반로R | C61: 호빗랜드 | D61: 유니버스골프클럽 | E61: o | F61: 전용도로 | G61: 1.56 | H61: 1.9~2.9 | P61: 2
A62: =ROW()-7 -> 55 | B62: 지식기반로L | C62: 송도동 216-1 | D62: 송도동 220 | E62: o | F62: 전용도로 | G62: 1.5 | H62: 1.9~2.9 | P62: 2
A63: =ROW()-7 -> 56 | B63: 컨벤시아대로42번길1R | C63: 더프라우102동 앞 | D63: 송도동 15-1 | E63: o | F63: 겸용도로 | G63: 1.09 | N63: 1.7 | O63: 1.3 | P63: 4
A64: =ROW()-7 -> 57 | B64: 컨벤시아대로42번길1L | C64: 더프라우102동 앞 | D64: 송도동 16-1 | E64: o | F64: 겸용도로 | G64: 1.05 | N64: 1.4 | O64: 1.4 | P64: 4
A65: =ROW()-7 -> 58 | B65: 컨벤시아대로42번길2R | C65: 송도동 16-2 | D65: 커낼워크 봄동 | E65: o | F65: 겸용도로 | G65: 0.89 | K65: 1.7 | L65: 2 | M65: 1.7 | P65: 2
A66: =ROW()-7 -> 59 | B66: 컨벤시아대로42번길2L | C66: 엑스포 1004동 | D66: 엑스포 1006동 | E66: o | F66: 겸용도로 | G66: 0.18 | K66: 1.5 | L66: 2 | M66: 1.5 | P66: 2
A67: =ROW()-7 -> 60 | B67: 컨벤시아대로42번길4L | C67: 더샵그린애비뉴8단지 804동 | D67: 더샵그린애비뉴8단지 809동 | E67: o | F67: 겸용도로 | G67: 0.18 | K67: 1.5 | L67: 2 | M67: 1.5 | P67: 2
A68: =ROW()-7 -> 61 | B68: 컨벤시아대로42번길3R | C68: 더샵그린애비뉴 805동 | D68: 자이하버뷰 104동 | E68: o | F68: 겸용도로 | G68: 0.87 | K68: 1.5 | L68: 2 | M68: 1.5 | P68: 2
A69: =ROW()-7 -> 62 | B69: 컨벤시아대로42번길5L | C69: 더샵그린애비뉴 704동 | D69: 자이하버뷰 105동 | E69: o | F69: 겸용도로 | G69: 0.87 | K69: 1.5 | L69: 2 | M69: 1.5 | P69: 2
A70: =ROW()-7 -> 63 | B70: 컨벤시아대로42번길4R | C70: 더샵그린애비뉴 705동 | D70: 더샵센트럴파크2 A동 | E70: o | F70: 겸용도로 | G70: 0.98 | K70: 1.2 | L70: 2 | M70: 1.2 | P70: 2
A71: =ROW()-7 -> 64 | B71: 컨벤시아대로42번길6L | C71: 푸르지오월드마크102동 | D71: 푸르지오월드마크802동 | E71: o | F71: 겸용도로 | G71: 0.98 | K71: 1.4 | L71: 2 | M71: 0.8 | P71: 2
A72: =ROW()-7 -> 65 | B72: 아트센터대로97번길1R | C72: 커낼워크 가을동 | D72: 커낼워크 가을동 | E72: o | F72: 겸용도로 | G72: 0.06 | K72: 1.5 | L72: 2 | M72: 1.5 | P72: 2
A73: =ROW()-7 -> 66 | B73: 아트센터대로97번길2R | C73: 국제학교 | D73: 더샵하버뷰 1401동 | E73: o | F73: 겸용도로 | G73: 0.7 | K73: 1.5 | L73: 2 | M73: 1.5 | P73: 2
A74: =ROW()-7 -> 67 | B74: 아트센터대로97번길3R | C74: 더샵그린워크 1601동 | D74: 더샵센트럴파크1 B동 | E74: o | F74: 전용도로 | G74: 0.56 | H74: 3 | P74: 2
A75: =ROW()-7 -> 68 | B75: 아트센터대로97번길3R | C75: 더샵그린워크 1601동 | D75: 더샵센트럴파크1 B동 | E75: o | F75: 전용도로 | G75: 0.56 | H75: 3 | P75: 2
A76: =ROW()-7 -> 69 | B76: 아트센터대로97번길2L | C76: 더샵하버뷰2 1503동 | D76: 더샵센트럴파크2 203동 | E76: o | F76: 전용도로 | G76: 0.56 | H76: 3 | P76: 2
A77: =ROW()-7 -> 70 | B77: 컨벤시아대로130번길1R | C77: 푸르지오월드마크 801동 | D77: 푸르지오하버뷰 104동 | E77: o | F77: 겸용도로 | G77: 0.78 | K77: 1.5 | L77: 1.7~2.2 | M77: 1.5 | P77: 2
A78: =ROW()-7 -> 71 | B78: 컨벤시아대로130번길2R | C78: 커낼워크 여름동 | D78: 커낼워크 여름동 | E78: o | F78: 겸용도로 | G78: 0.6 | K78: 1.5 | L78: 2 | M78: 1.5 | P78: 2
A79: =ROW()-7 -> 72 | B79: 컨벤시아대로130번길L | C79: 푸르지오월드마크 801동 | D79: 푸르지오하버뷰 104동 | E79: o | F79: 겸용도로 | G79: 0.77 | K79: 1.5 | L79: 2 | M79: 1.5 | P79: 2
A80: =ROW()-7 -> 73 | B80: 송도과학로27번길1R | C80: 송도동 159-1 | D80: 롯데캐슬104동 | E80: o | F80: 겸용도로 | G80: 0.53 | K80: 1.4 | L80: 2.1 | M80: 1.4 | P80: 2
A81: =ROW()-7 -> 74 | B81: 송도과학로27번길1L | C81: 송도동 158-2 | D81: 롯데캐슬104동 | E81: o | F81: 겸용도로 | G81: 0.53 | K81: 1.4 | L81: 2.1 | M81: 1.4 | P81: 2
A82: =ROW()-7 -> 75 | B82: 송도과학로27번길2R | C82: 송도동 158-1 | D82: 송도동 166 | E82: o | F82: 겸용도로 | G82: 0.33 | K82: 1.4 | L82: 2.1 | M82: 1.4 | P82: 2
A83: =ROW()-7 -> 76 | B83: 송도과학로27번길2L | C83: 송도동 154 | D83: 박문여고 | E83: o | F83: 겸용도로 | G83: 0.43 | K83: 1.4 | L83: 2.1 | M83: 1.4 | P83: 2
A84: =ROW()-7 -> 77 | B84: 송도과학로51번길R | C84: 송도동 166 | D84: 연세대학교 R&D캠퍼스3 | E84: o | F84: 겸용도로 | G84: 2.62 | K84: 1.4~1.9 | L84: 2.1 | M84: 1.4~1.9 | P84: 2
A85: =ROW()-7 -> 78 | B85: 송도과학로51번길L | C85: 송도동 159-2 | D85: 송원초교 | E85: o | F85: 겸용도로 | G85: 0.63 | K85: 1.4 | L85: 2.1 | M85: 1.4 | P85: 2
A86: =ROW()-7 -> 79 | B86: 송도과학로16번길1R | C86: 송도동 168-1 | D86: 송도동 168-2 | E86: o | F86: 겸용도로 | G86: 0.47 | K86: 1.9 | L86: 2.8 | M86: 1.9 | P86: 2
A87: =ROW()-7 -> 80 | B87: 송도과학로16번길L | C87: 송도동 169 | D87: 송도동 171 | E87: o | F87: 겸용도로 | G87: 0.37 | K87: 1.9 | L87: 2.8 | M87: 1.9 | P87: 2
A88: =ROW()-7 -> 81 | B88: 송도과학로16번길2R | C88: 송도동 169 | D88: 송도동 171 | E88: o | F88: 겸용도로 | G88: 0.32 | K88: 1.9 | L88: 1.6 | M88: 1.9 | P88: 2
A89: =ROW()-7 -> 82 | B89: 송도과학로16번길2L | C89: 송도동 172-1 | D89: 송도동 178-1 | E89: o | F89: 겸용도로 | G89: 0.32 | K89: 1.9 | L89: 1.6 | M89: 1.9 | P89: 2
A90: =ROW()-7 -> 83 | B90: 송도과학로84번길R | C90: 송도동 172-4 | D90: 송도동 178-4 | E90: o | F90: 겸용도로 | G90: 0.5 | K90: 1.9 | L90: 2.9 | M90: 1.9 | P90: 2
A91: =ROW()-7 -> 84 | B91: 송도과학로84번길L | C91: 송도동 180-2 | D91: 송도동 185-1 | E91: o | F91: 겸용도로 | G91: 0.46 | K91: 1.9 | L91: 2.9 | M91: 1.9 | P91: 2
A92: =ROW()-7 -> 85 | B92: 송도문화로28번길R | C92: 송도동190-1 | D92: 송도동190-4 | E92: o | F92: 겸용도로 | G92: 0.71 | K92: 1.1~1.4 | L92: 1.9 | M92: 1.1~1.4 | P92: 2
A93: =ROW()-7 -> 86 | B93: 송도문화로28번길L | C93: 송도동191-1 | D93: 송도동192-1 | E93: o | F93: 겸용도로 | G93: 0.75 | K93: 1.1~1.4 | L93: 1.9 | M93: 1.1~1.4 | P93: 2
A94: =ROW()-7 -> 87 | B94: 송도과학로130번길R | C94: 글로벌 R&D센터 | D94: 송도동180-3 | E94: o | F94: 전용도로 | G94: 0.6 | H94: 2.9 | P94: 2
A95: =ROW()-7 -> 88 | B95: 송도과학로130번길L | C95: 글로벌 R&D센터 | D95: 송도동180-3 | E95: o | F95: 전용도로 | G95: 0.6 | H95: 2.8 | P95: 2
A96: =ROW()-7 -> 89 | B96: 송도문화로120번길1R | C96: 송도동193-1 | D96: 송도동201-2 | E96: o | F96: 겸용도로 | G96: 0.62 | K96: 1.4 | L96: 2.1 | M96: 1.4 | P96: 2
A97: =ROW()-7 -> 90 | B97: 송도문화로120번길1L | C97: 송도동195-1 | D97: 송도동202 | E97: o | F97: 겸용도로 | G97: 0.56 | K97: 1.3 | L97: 2.2 | M97: 1.3 | P97: 2
A98: =ROW()-7 -> 91 | B98: 송도문화로120번길2R | C98: 송도동196-1 | D98: 송도동197-1 | E98: o | F98: 겸용도로 | G98: 0.3 | K98: 1.4 | L98: 2.1 | M98: 1.4 | P98: 2
A99: =ROW()-7 -> 92 | B99: 송도문화로120번길2L | C99: 송도동195-1 | D99: 송도동195-2 | E99: o | F99: 겸용도로 | G99: 0.26 | K99: 1.4 | L99: 2.1 | M99: 1.4 | P99: 2
A100: =ROW()-7 -> 93 | B100: 송도문화로120번길3R | C100: 송도동196-1 | D100: 송도동197-2 | E100: o | F100: 겸용도로 | G100: 0.31 | K100: 1.4 | L100: 2.1 | M100: 1.4 | P100: 2
A101: =ROW()-7 -> 94 | B101: 송도문화로120번길3L | C101: 송도동196-1 | D101: 송도동197-2 | E101: o | F101: 겸용도로 | G101: 0.31 | K101: 1.4 | L101: 2.1 | M101: 1.4 | P101: 2
A102: =ROW()-7 -> 95 | B102: 첨단대로30번길R | C102: 송도동203-5 | D102: 송도동213-4 | E102: o | F102: 겸용도로 | G102: 0.2 | K102: 1.4~1.9 | L102: 2.1 | M102: 1.4~1.9 | P102: 2
...

Sheet 01 § 중구
A1: 자전거도로 실태조사 총괄표
A4: 1.기본사항 | I4: 2.조사대상 자전거도로 현황 | T4: 3.판단 | W4: 4. 자전거도로 연장
A5: No | B5: 시도 | C5: 자치구 | D5: 일련번호 | E5: 노선명 | F5: 기점 | G5: 종점 | H5: 도로 연계성 | I5: 자전거도로 종류 | J5: 총연장 (km) /0.00 | K5: 자전거도로 폭원(m) /.0 | S5: 보행량 (점) | T5: 개선 필요여부 | U5: 자전거 도로 위치 | V5: 비고 및 점검 | W5: 자전거도로 연장(km) /.00
K6: 전용도로 | L6: 전용차로 | M6: 우선도로 | N6: 자전거보행자겸용도로 | W6: 총연장(km) /0.00 | X6: 전용도로 | Y6: 전용차로 | Z6: 우선도로 | AA6: 자전거보행자겸용도로
N7: 분리형 | Q7: 비분리형 | AA7: 소계 | AB7: 겸용도로 (분리형) | AC7: 겸용도로 (비분리형)
N8: 자전거도로 | O8: 보도 | P8: 유효폭원 | Q8: 도로폭원 | R8: 유효폭원
B9: 인천시 | C9: 중구 | D9: 38개 노선 | H9: =COUNTIF(H10:H1048576,"○") -> 34 | J9: =SUM(J10:J1048576) -> 20.71 | K9: =COUNTIF(I10:I1048576,X6) -> 14 | L9: =COUNTIF(I10:I1048576,Y6) -> 0 | M9: =COUNTIF(I10:I1048576,Z6) -> 0 | N9: =COUNTIF(I10:I1048576,AB7) -> 19 | Q9: =COUNTIF(I10:I1048576,AC7) -> 5 | T9: =COUNTIF(T10:T1048576,"○") -> 1 | W9: =SUM(W10:W1048576) -> 20.71 | X9: =SUM(X10:X1048576) -> 9.2 | Y9: =SUM(Y10:Y1048576) -> 0 | Z9: =SUM(Z10:Z1048576) -> 0 | AA9: =SUM(AA10:AA1048576) -> 11.51 | AB9: =SUM(AB10:AB1048576) -> 9.48 | AC9: =SUM(AC10:AC1048576) -> 2.03
A10: 1 | B10: 인천시 | C10: 중구 | D10: 1 | E10: 월미로1 | F10: 우회고가 사거리 | G10: 8부두 앞 | I10: 겸용도로 (분리형) | J10: 0.2 | N10: 1.8 | O10: 1.4 | P10: =-1-0.25+N10+O10-0.25 -> 1.7 | S10: 2 | U10: 도로측 | W10: =X10+Y10+Z10+AA10 -> 0.2 | X10: =SUMIF(I10,$X$6,J10) -> 0 | Y10: =SUMIF(I10,$Y$6,J10) -> 0 | Z10: =SUMIF(I10,$Z$6,J10) -> 0 | AA10: =AB10+AC10 -> 0.2 | AB10: =SUMIF(I10,$AB$7,J10) -> 0.2 | AC10: =SUMIF(I10,$AC$7,J10) -> 0
A11: 2 | B11: 인천시 | C11: 중구 | D11: 2 | E11: 월미로2 | F11: 8부두 앞 | G11: 월미도입구 삼거리 | I11: 전용도로 | J11: 0.06 | K11: 1.8 | S11: 2 | V11: 재검토 | W11: =X11+Y11+Z11+AA11 -> 0.06 | X11: =SUMIF(I11,$X$6,J11) -> 0.06 | Y11: =SUMIF(I11,$Y$6,J11) -> 0 | Z11: =SUMIF(I11,$Z$6,J11) -> 0 | AA11: =AB11+AC11 -> 0 | AB11: =SUMIF(I11,$AB$7,J11) -> 0 | AC11: =SUMIF(I11,$AC$7,J11) -> 0
A12: 3 | B12: 인천시 | C12: 중구 | D12: 3 | E12: 월미로3 | F12: 인항철골 | G12: 월미공원역 | I12: 전용도로 | J12: 0.62 | K12: 1.3 | S12: 3 | W12: =X12+Y12+Z12+AA12 -> 0.62 | X12: =SUMIF(I12,$X$6,J12) -> 0.62 | Y12: =SUMIF(I12,$Y$6,J12) -> 0 | Z12: =SUMIF(I12,$Z$6,J12) -> 0 | AA12: =AB12+AC12 -> 0 | AB12: =SUMIF(I12,$AB$7,J12) -> 0 | AC12: =SUMIF(I12,$AC$7,J12) -> 0
A13: 4 | B13: 인천시 | C13: 중구 | D13: 4 | E13: 월미로4 | F13: 월미공원 정문 | G13: 갑문 입구 | H13: ○ | I13: 겸용도로 (비분리형) | J13: 1.18 | Q13: 2.5 | R13: =-1-0.25+Q13-0.25 -> 1 | S13: 3 | W13: =X13+Y13+Z13+AA13 -> 1.18 | X13: =SUMIF(I13,$X$6,J13) -> 0 | Y13: =SUMIF(I13,$Y$6,J13) -> 0 | Z13: =SUMIF(I13,$Z$6,J13) -> 0 | AA13: =AB13+AC13 -> 1.18 | AB13: =SUMIF(I13,$AB$7,J13) -> 0 | AC13: =SUMIF(I13,$AC$7,J13) -> 1.18
A14: 5 | B14: 인천시 | C14: 중구 | D14: 5 | E14: 월미로5 | F14: 갑문입구 | G14: 문타운입구 | H14: ○ | I14: 겸용도로 (분리형) | J14: 0.72 | N14: 1.7 | O14: 1.6 | P14: =-1-0.25+N14+O14-0.25 -> 1.8 | S14: 3 | U14: 내측 | W14: =X14+Y14+Z14+AA14 -> 0.72 | X14: =SUMIF(I14,$X$6,J14) -> 0 | Y14: =SUMIF(I14,$Y$6,J14) -> 0 | Z14: =SUMIF(I14,$Z$6,J14) -> 0 | AA14: =AB14+AC14 -> 0.72 | AB14: =SUMIF(I14,$AB$7,J14) -> 0.72 | AC14: =SUMIF(I14,$AC$7,J14) -> 0
A15: 6 | B15: 인천시 | C15: 중구 | D15: 6 | E15: 월미로6 | F15: 월미도 문타운 | G15: 월미로 260번길 | H15: ○ | I15: 겸용도로 (비분리형) | J15: 0.28 | Q15: 2.7 | R15: =-1-0.25+Q15-0.25 -> 1.2 | S15: 3 | W15: =X15+Y15+Z15+AA15 -> 0.28 | X15: =SUMIF(I15,$X$6,J15) -> 0 | Y15: =SUMIF(I15,$Y$6,J15) -> 0 | Z15: =SUMIF(I15,$Z$6,J15) -> 0 | AA15: =AB15+AC15 -> 0.28 | AB15: =SUMIF(I15,$AB$7,J15) -> 0 | AC15: =SUMIF(I15,$AC$7,J15) -> 0.28
A16: 7 | B16: 인천시 | C16: 중구 | D16: 7 | E16: 월미로7 | F16: 월미로 266번길 | G16: 월미공원 후문 | H16: ○ | I16: 겸용도로 (분리형) | J16: 0.44 | N16: 1.6 | O16: 2.2 | P16: =-1-0.25+N16+O16-0.25 -> 2.3 | S16: 3 | U16: 판단불가 | V16: 재검토 | W16: =X16+Y16+Z16+AA16 -> 0.44 | X16: =SUMIF(I16,$X$6,J16) -> 0 | Y16: =SUMIF(I16,$Y$6,J16) -> 0 | Z16: =SUMIF(I16,$Z$6,J16) -> 0 | AA16: =AB16+AC16 -> 0.44 | AB16: =SUMIF(I16,$AB$7,J16) -> 0.44 | AC16: =SUMIF(I16,$AC$7,J16) -> 0
A17: 8 | B17: 인천시 | C17: 중구 | D17: 8 | E17: 월미로8R | F17: 월미공원 후문 | G17: 월미로 189번길 | H17: ○ | I17: 전용도로 | J17: 0.29 | K17: 1 | S17: 2 | W17: =X17+Y17+Z17+AA17 -> 0.29 | X17: =SUMIF(I17,$X$6,J17) -> 0.29 | Y17: =SUMIF(I17,$Y$6,J17) -> 0 | Z17: =SUMIF(I17,$Z$6,J17) -> 0 | AA17: =AB17+AC17 -> 0 | AB17: =SUMIF(I17,$AB$7,J17) -> 0 | AC17: =SUMIF(I17,$AC$7,J17) -> 0
A18: 9 | B18: 인천시 | C18: 중구 | D18: 9 | E18: 월미로8L | F18: 월미로 189번길 | G18: 월미공원 후문 | H18: ○ | I18: 전용도로 | J18: 0.31 | K18: 1 | W18: =X18+Y18+Z18+AA18 -> 0.31 | X18: =SUMIF(I18,$X$6,J18) -> 0.31 | Y18: =SUMIF(I18,$Y$6,J18) -> 0 | Z18: =SUMIF(I18,$Z$6,J18) -> 0 | AA18: =AB18+AC18 -> 0 | AB18: =SUMIF(I18,$AB$7,J18) -> 0 | AC18: =SUMIF(I18,$AC$7,J18) -> 0
A19: 10 | B19: 인천시 | C19: 중구 | D19: 10 | E19: 축항대로1 | F19: 라이프아파트 정문 | G19: 연안부두로 75번길 | H19: ○ | I19: 겸용도로 (분리형) | J19: 0.41 | N19: 2.2 | O19: 2.3 | P19: =-1-0.25+N19+O19-0.25 -> 3 | S19: 2 | U19: 내측 | W19: =X19+Y19+Z19+AA19 -> 0.41 | X19: =SUMIF(I19,$X$6,J19) -> 0 | Y19: =SUMIF(I19,$Y$6,J19) -> 0 | Z19: =SUMIF(I19,$Z$6,J19) -> 0 | AA19: =AB19+AC19 -> 0.41 | AB19: =SUMIF(I19,$AB$7,J19) -> 0.41 | AC19: =SUMIF(I19,$AC$7,J19) -> 0
A20: 11 | B20: 인천시 | C20: 중구 | D20: 11 | E20: 축항대로2L | F20: 연안부두로 75번길 | G20: 연안부두로 33번길 | H20: ○ | I20: 겸용도로 (비분리형) | J20: 0.35 | Q20: 3.2 | R20: =-1-0.25+Q20-0.25 -> 1.7 | S20: 2 | W20: =X20+Y20+Z20+AA20 -> 0.35 | X20: =SUMIF(I20,$X$6,J20) -> 0 | Y20: =SUMIF(I20,$Y$6,J20) -> 0 | Z20: =SUMIF(I20,$Z$6,J20) -> 0 | AA20: =AB20+AC20 -> 0.35 | AB20: =SUMIF(I20,$AB$7,J20) -> 0 | AC20: =SUMIF(I20,$AC$7,J20) -> 0.35
A21: 12 | B21: 인천시 | C21: 중구 | D21: 12 | E21: 축항대로2R | F21: 연안부두로 75번길 | G21: 연안부두로 33번길 | H21: ○ | I21: 겸용도로 (분리형) | J21: 0.33 | N21: 1 | O21: 2 | P21: =-1-0.25+N21+O21-0.25 -> 1.5 | S21: 2 | U21: 내측 | W21: =X21+Y21+Z21+AA21 -> 0.33 | X21: =SUMIF(I21,$X$6,J21) -> 0 | Y21: =SUMIF(I21,$Y$6,J21) -> 0 | Z21: =SUMIF(I21,$Z$6,J21) -> 0 | AA21: =AB21+AC21 -> 0.33 | AB21: =SUMIF(I21,$AB$7,J21) -> 0.33 | AC21: =SUMIF(I21,$AC$7,J21) -> 0
A22: 13 | B22: 인천시 | C22: 중구 | D22: 13 | E22: 연안부두로1 | F22: 연안부두로 33번길 | G22: 어시장 사거리 | H22: ○ | I22: 겸용도로 (분리형) | J22: 0.25 | N22: 2.5 | O22: 2 | P22: =-1-0.25+N22+O22-0.25 -> 3 | S22: 4 | U22: 내측 | W22: =X22+Y22+Z22+AA22 -> 0.25 | X22: =SUMIF(I22,$X$6,J22) -> 0 | Y22: =SUMIF(I22,$Y$6,J22) -> 0 | Z22: =SUMIF(I22,$Z$6,J22) -> 0 | AA22: =AB22+AC22 -> 0.25 | AB22: =SUMIF(I22,$AB$7,J22) -> 0.25 | AC22: =SUMIF(I22,$AC$7,J22) -> 0
A23: 14 | B23: 인천시 | C23: 중구 | D23: 14 | E23: 축항대로3 (86번길) | F23: 어시장 사거리 | G23: 라이프아파트 정문 | H23: ○ | I23: 겸용도로 (비분리형) | J23: 0.15 | Q23: 3.3 | R23: =-1-0.25+Q23-0.25 -> 1.8 | S23: 3 | W23: =X23+Y23+Z23+AA23 -> 0.15 | X23: =SUMIF(I23,$X$6,J23) -> 0 | Y23: =SUMIF(I23,$Y$6,J23) -> 0 | Z23: =SUMIF(I23,$Z$6,J23) -> 0 | AA23: =AB23+AC23 -> 0.15 | AB23: =SUMIF(I23,$AB$7,J23) -> 0 | AC23: =SUMIF(I23,$AC$7,J23) -> 0.15
A24: 15 | B24: 인천시 | C24: 중구 | D24: 15 | E24: 축항대로4 | F24: 연안부두로 33번길 | G24: 축항대로 118번길 | H24: ○ | I24: 겸용도로 (분리형) | J24: 0.27 | N24: 1.2 | O24: 2 | P24: =-1-0.25+N24+O24-0.25 -> 1.7 | S24: 2 | U24: 내측 | W24: =X24+Y24+Z24+AA24 -> 0.27 | X24: =SUMIF(I24,$X$6,J24) -> 0 | Y24: =SUMIF(I24,$Y$6,J24) -> 0 | Z24: =SUMIF(I24,$Z$6,J24) -> 0 | AA24: =AB24+AC24 -> 0.27 | AB24: =SUMIF(I24,$AB$7,J24) -> 0.27 | AC24: =SUMIF(I24,$AC$7,J24) -> 0
A25: 16 | B25: 인천시 | C25: 중구 | D25: 16 | E25: 축항대로5 | F25: 연안사거리 | G25: GS CJ대한통운 항만주유소 | H25: ○ | I25: 전용도로 | J25: 0.32 | K25: 1.3 | W25: =X25+Y25+Z25+AA25 -> 0.32 | X25: =SUMIF(I25,$X$6,J25) -> 0.32 | Y25: =SUMIF(I25,$Y$6,J25) -> 0 | Z25: =SUMIF(I25,$Z$6,J25) -> 0 | AA25: =AB25+AC25 -> 0 | AB25: =SUMIF(I25,$AB$7,J25) -> 0 | AC25: =SUMIF(I25,$AC$7,J25) -> 0
A26: 17 | B26: 인천시 | C26: 중구 | D26: 17 | E26: 축항대로6R | F26: 축항대로 81-1 | G26: 서해대로 293번길 | H26: ○ | I26: 전용도로 | J26: 0.35 | K26: 1.7 | W26: =X26+Y26+Z26+AA26 -> 0.35 | X26: =SUMIF(I26,$X$6,J26) -> 0.35 | Y26: =SUMIF(I26,$Y$6,J26) -> 0 | Z26: =SUMIF(I26,$Z$6,J26) -> 0 | AA26: =AB26+AC26 -> 0 | AB26: =SUMIF(I26,$AB$7,J26) -> 0 | AC26: =SUMIF(I26,$AC$7,J26) -> 0
A27: 18 | B27: 인천시 | C27: 중구 | D27: 18 | E27: 축항대로6L | F27: 축항대로 81-1 | G27: 서해대로 293번길 | H27: ○ | I27: 전용도로 | J27: 0.24 | K27: 1.5 | W27: =X27+Y27+Z27+AA27 -> 0.24 | X27: =SUMIF(I27,$X$6,J27) -> 0.24 | Y27: =SUMIF(I27,$Y$6,J27) -> 0 | Z27: =SUMIF(I27,$Z$6,J27) -> 0 | AA27: =AB27+AC27 -> 0 | AB27: =SUMIF(I27,$AB$7,J27) -> 0 | AC27: =SUMIF(I27,$AC$7,J27) -> 0
A28: 19 | B28: 인천시 | C28: 중구 | D28: 19 | E28: 축항대로7R | F28: 제2경인고속도로 시점 | G28: 서해사거리 | H28: ○ | I28: 겸용도로 (분리형) | J28: 0.29 | N28: 1.1 | O28: 2.5 | P28: =-1-0.25+N28+O28-0.25 -> 2.1 | S28: 3 | U28: 내측 | W28: =X28+Y28+Z28+AA28 -> 0.29 | X28: =SUMIF(I28,$X$6,J28) -> 0 | Y28: =SUMIF(I28,$Y$6,J28) -> 0 | Z28: =SUMIF(I28,$Z$6,J28) -> 0 | AA28: =AB28+AC28 -> 0.29 | AB28: =SUMIF(I28,$AB$7,J28) -> 0.29 | AC28: =SUMIF(I28,$AC$7,J28) -> 0
A29: 20 | B29: 인천시 | C29: 중구 | D29: 20 | E29: 축항대로7L | F29: 제2경인고속도로 시점 | G29: 서해사거리 | H29: ○ | I29: 겸용도로 (분리형) | J29: 0.25 | N29: 1.1 | O29: 2.7 | P29: =-1-0.25+N29+O29-0.25 -> 2.3 | S29: 3 | U29: 내측 | W29: =X29+Y29+Z29+AA29 -> 0.25 | X29: =SUMIF(I29,$X$6,J29) -> 0 | Y29: =SUMIF(I29,$Y$6,J29) -> 0 | Z29: =SUMIF(I29,$Z$6,J29) -> 0 | AA29: =AB29+AC29 -> 0.25 | AB29: =SUMIF(I29,$AB$7,J29) -> 0.25 | AC29: =SUMIF(I29,$AC$7,J29) -> 0
A30: 21 | B30: 인천시 | C30: 중구 | D30: 21 | E30: 축항대로8R | F30: 서해사거리 | G30: 연안사거리 | H30: ○ | I30: 겸용도로 (분리형) | J30: 1.51 | N30: 1.3 | O30: 2.2 | P30: =-1-0.25+N30+O30-0.25 -> 2 | S30: 3 | U30: 내측 | W30: =X30+Y30+Z30+AA30 -> 1.51 | X30: =SUMIF(I30,$X$6,J30) -> 0 | Y30: =SUMIF(I30,$Y$6,J30) -> 0 | Z30: =SUMIF(I30,$Z$6,J30) -> 0 | AA30: =AB30+AC30 -> 1.51 | AB30: =SUMIF(I30,$AB$7,J30) -> 1.51 | AC30: =SUMIF(I30,$AC$7,J30) -> 0
A31: 22 | B31: 인천시 | C31: 중구 | D31: 22 | E31: 축항대로8L | F31: 서해사거리 | G31: 연안사거리 | H31: ○ | I31: 겸용도로 (분리형) | J31: 1.35 | N31: 1.4 | O31: 2 | P31: =-1-0.25+N31+O31-0.25 -> 1.9 | S31: 3 | U31: 도로측 | W31: =X31+Y31+Z31+AA31 -> 1.35 | X31: =SUMIF(I31,$X$6,J31) -> 0 | Y31: =SUMIF(I31,$Y$6,J31) -> 0 | Z31: =SUMIF(I31,$Z$6,J31) -> 0 | AA31: =AB31+AC31 -> 1.35 | AB31: =SUMIF(I31,$AB$7,J31) -> 1.35 | AC31: =SUMIF(I31,$AC$7,J31) -> 0
A32: 23 | B32: 인천시 | C32: 중구 | D32: 23 | E32: 축항대로9R | F32: SK남항 주유소 | G32: 축항대로 165번길 | H32: ○ | I32: 겸용도로 (분리형) | J32: 0.37 | N32: 1.8 | O32: 2 | P32: =-1-0.25+N32+O32-0.25 -> 2.3 | S32: 1 | U32: 내측 | W32: =X32+Y32+Z32+AA32 -> 0.37 | X32: =SUMIF(I32,$X$6,J32) -> 0 | Y32: =SUMIF(I32,$Y$6,J32) -> 0 | Z32: =SUMIF(I32,$Z$6,J32) -> 0 | AA32: =AB32+AC32 -> 0.37 | AB32: =SUMIF(I32,$AB$7,J32) -> 0.37 | AC32: =SUMIF(I32,$AC$7,J32) -> 0
A33: 24 | B33: 인천시 | C33: 중구 | D33: 24 | E33: 축항대로9L | F33: SK남항주유소 | G33: 서해대로 293번길 | H33: ○ | I33: 겸용도로 (분리형) | J33: 0.38 | N33: 1.8 | O33: 1.8 | P33: =-1-0.25+N33+O33-0.25 -> 2.1 | S33: 1 | U33: 내측 | W33: =X33+Y33+Z33+AA33 -> 0.38 | X33: =SUMIF(I33,$X$6,J33) -> 0 | Y33: =SUMIF(I33,$Y$6,J33) -> 0 | Z33: =SUMIF(I33,$Z$6,J33) -> 0 | AA33: =AB33+AC33 -> 0.38 | AB33: =SUMIF(I33,$AB$7,J33) -> 0.38 | AC33: =SUMIF(I33,$AC$7,J33) -> 0
A34: 25 | B34: 인천시 | C34: 중구 | D34: 25 | E34: 축항대로10R | F34: 축항대로 117번길 | G34: 서해대로 293번길 | H34: ○ | I34: 겸용도로 (분리형) | J34: 0.36 | N34: 1.4 | O34: 2.2 | P34: =-1-0.25+N34+O34-0.25 -> 2.1 | S34: 1 | U34: 내측 | W34: =X34+Y34+Z34+AA34 -> 0.36 | X34: =SUMIF(I34,$X$6,J34) -> 0 | Y34: =SUMIF(I34,$Y$6,J34) -> 0 | Z34: =SUMIF(I34,$Z$6,J34) -> 0 | AA34: =AB34+AC34 -> 0.36 | AB34: =SUMIF(I34,$AB$7,J34) -> 0.36 | AC34: =SUMIF(I34,$AC$7,J34) -> 0
A35: 26 | B35: 인천시 | C35: 중구 | D35: 26 | E35: 축항대로10L | F35: 축항대로 117번길 | G35: 서해대로 293번길 | H35: ○ | I35: 겸용도로 (분리형) | J35: 0.37 | N35: 1.7 | O35: 1.7 | P35: =-1-0.25+N35+O35-0.25 -> 1.9 | S35: 1 | U35: 내측 | W35: =X35+Y35+Z35+AA35 -> 0.37 | X35: =SUMIF(I35,$X$6,J35) -> 0 | Y35: =SUMIF(I35,$Y$6,J35) -> 0 | Z35: =SUMIF(I35,$Z$6,J35) -> 0 | AA35: =AB35+AC35 -> 0.37 | AB35: =SUMIF(I35,$AB$7,J35) -> 0.37 | AC35: =SUMIF(I35,$AC$7,J35) -> 0
A36: 27 | B36: 인천시 | C36: 중구 | D36: 27 | E36: 갯골수로1 | F36: 제2경인고속도로 시점 | G36: 인천환경공단 남항사업소 | H36: ○ | I36: 전용도로 | J36: 1.14 | K36: 1.8 | T36: ○ | W36: =X36+Y36+Z36+AA36 -> 1.14 | X36: =SUMIF(I36,$X$6,J36) -> 1.14 | Y36: =SUMIF(I36,$Y$6,J36) -> 0 | Z36: =SUMIF(I36,$Z$6,J36) -> 0 | AA36: =AB36+AC36 -> 0 | AB36: =SUMIF(I36,$AB$7,J36) -> 0 | AC36: =SUMIF(I36,$AC$7,J36) -> 0
A37: 28 | B37: 인천시 | C37: 중구 | D37: 28 | E37: 갯골수로2 | F37: 제2경인고속도로 시점 | G37: 인천환경공단 남항사업소 | H37: ○ | I37: 겸용도로 (분리형) | J37: 0.61 | N37: 2 | O37: 2.2 | P37: =-1-0.25+N37+O37-0.25 -> 2.7 | S37: 3 | U37: 판단불가 | V37: 재검토 | W37: =X37+Y37+Z37+AA37 -> 0.61 | X37: =SUMIF(I37,$X$6,J37) -> 0 | Y37: =SUMIF(I37,$Y$6,J37) -> 0 | Z37: =SUMIF(I37,$Z$6,J37) -> 0 | AA37: =AB37+AC37 -> 0.61 | AB37: =SUMIF(I37,$AB$7,J37) -> 0.61 | AC37: =SUMIF(I37,$AC$7,J37) -> 0
A38: 29 | B38: 인천시 | C38: 중구 | D38: 29 | E38: 서해대로1R | F38: 옹암사거리 | G38: 신흥동3가 58-6 | H38: ○ | I38: 전용도로 | J38: 1.68 | K38: 1 | W38: =X38+Y38+Z38+AA38 -> 1.68 | X38: =SUMIF(I38,$X$6,J38) -> 1.68 | Y38: =SUMIF(I38,$Y$6,J38) -> 0 | Z38: =SUMIF(I38,$Z$6,J38) -> 0 | AA38: =AB38+AC38 -> 0 | AB38: =SUMIF(I38,$AB$7,J38) -> 0 | AC38: =SUMIF(I38,$AC$7,J38) -> 0
A39: 30 | B39: 인천시 | C39: 중구 | D39: 30 | E39: 서해대로1L | F39: 옹암사거리 | G39: 신흥동3가 58-6 | H39: ○ | I39: 전용도로 | J39: 1.69 | K39: 1 | W39: =X39+Y39+Z39+AA39 -> 1.69 | X39: =SUMIF(I39,$X$6,J39) -> 1.69 | Y39: =SUMIF(I39,$Y$6,J39) -> 0 | Z39: =SUMIF(I39,$Z$6,J39) -> 0 | AA39: =AB39+AC39 -> 0 | AB39: =SUMIF(I39,$AB$7,J39) -> 0 | AC39: =SUMIF(I39,$AC$7,J39) -> 0
A40: 31 | B40: 인천시 | C40: 중구 | D40: 31 | E40: 축항대로11R | F40: 서해대로 94번길 | G40: 중구문화회관 | H40: ○ | I40: 전용도로 | J40: 0.88 | K40: 1.8 | W40: =X40+Y40+Z40+AA40 -> 0.88 | X40: =SUMIF(I40,$X$6,J40) -> 0.88 | Y40: =SUMIF(I40,$Y$6,J40) -> 0 | Z40: =SUMIF(I40,$Z$6,J40) -> 0 | AA40: =AB40+AC40 -> 0 | AB40: =SUMIF(I40,$AB$7,J40) -> 0 | AC40: =SUMIF(I40,$AC$7,J40) -> 0
A41: 32 | B41: 인천시 | C41: 중구 | D41: 32 | E41: 축항대로11L | F41: 서해대로 94번길 | G41: 중구문화회관 | H41: ○ | I41: 전용도로 | J41: 0.81 | K41: 1.8 | W41: =X41+Y41+Z41+AA41 -> 0.81 | X41: =SUMIF(I41,$X$6,J41) -> 0.81 | Y41: =SUMIF(I41,$Y$6,J41) -> 0 | Z41: =SUMIF(I41,$Z$6,J41) -> 0 | AA41: =AB41+AC41 -> 0 | AB41: =SUMIF(I41,$AB$7,J41) -> 0 | AC41: =SUMIF(I41,$AC$7,J41) -> 0
A42: 33 | B42: 인천시 | C42: 중구 | D42: 33 | E42: 서해대로2R | F42: 중구문화회관 | G42: 신흥동3가 56 | H42: ○ | I42: 겸용도로 (분리형) | J42: 0.59 | N42: 1.7 | O42: 3.1 | P42: =-1-0.25+N42+O42-0.25 -> 3.3 | S42: 1 | U42: 내측 | W42: =X42+Y42+Z42+AA42 -> 0.59 | X42: =SUMIF(I42,$X$6,J42) -> 0 | Y42: =SUMIF(I42,$Y$6,J42) -> 0 | Z42: =SUMIF(I42,$Z$6,J42) -> 0 | AA42: =AB42+AC42 -> 0.59 | AB42: =SUMIF(I42,$AB$7,J42) -> 0.59 | AC42: =SUMIF(I42,$AC$7,J42) -> 0
A43: 34 | B43: 인천시 | C43: 중구 | D43: 34 | E43: 서해대로2L | F43: 중구문화회관 | G43: 신흥동3가 56 | H43: ○ | I43: 겸용도로 (분리형) | J43: 0.57 | N43: 1.8 | O43: 3 | P43: =-1-0.25+N43+O43-0.25 -> 3.3 | S43: 1 | U43: 내측 | W43: =X43+Y43+Z43+AA43 -> 0.57 | X43: =SUMIF(I43,$X$6,J43) -> 0 | Y43: =SUMIF(I43,$Y$6,J43) -> 0 | Z43: =SUMIF(I43,$Z$6,J43) -> 0 | AA43: =AB43+AC43 -> 0.57 | AB43: =SUMIF(I43,$AB$7,J43) -> 0.57 | AC43: =SUMIF(I43,$AC$7,J43) -> 0
A44: 35 | B44: 인천시 | C44: 중구 | D44: 35 | E44: 서해대로3 | F44: 롯데마트 사거리 | G44: 항운아파트 정문 | I44: 겸용도로 (비분리형) | J44: 0.07 | Q44: 9.5 | R44: =-1-0.25+Q44-0.25 -> 8 | S44: 2 | W44: =X44+Y44+Z44+AA44 -> 0.07 | X44: =SUMIF(I44,$X$6,J44) -> 0 | Y44: =SUMIF(I44,$Y$6,J44) -> 0 | Z44: =SUMIF(I44,$Z$6,J44) -> 0 | AA44: =AB44+AC44 -> 0.07 | AB44: =SUMIF(I44,$AB$7,J44) -> 0 | AC44: =SUMIF(I44,$AC$7,J44) -> 0.07
A45: 36 | B45: 인천시 | C45: 중구 | D45: 36 | E45: 서해대로4R | F45: 신흥사거리 | G45: 율목동주민센터 맞은편 | H45: ○ | I45: 전용도로 | J45: 0.31 | K45: 1.7 | W45: =X45+Y45+Z45+AA45 -> 0.31 | X45: =SUMIF(I45,$X$6,J45) -> 0.31 | Y45: =SUMIF(I45,$Y$6,J45) -> 0 | Z45: =SUMIF(I45,$Z$6,J45) -> 0 | AA45: =AB45+AC45 -> 0 | AB45: =SUMIF(I45,$AB$7,J45) -> 0 | AC45: =SUMIF(I45,$AC$7,J45) -> 0
A46: 37 | B46: 인천시 | C46: 중구 | D46: 37 | E46: 서해대로5R | F46: 율목동주민센터 맞은편 | G46: 유동삼거리 | H46: ○ | I46: 겸용도로 (분리형) | J46: 0.21 | N46: 1 | O46: 2.2 | P46: =-1-0.25+N46+O46-0.25 -> 1.7 | S46: 3 | U46: 도로측 | W46: =X46+Y46+Z46+AA46 -> 0.21 | X46: =SUMIF(I46,$X$6,J46) -> 0 | Y46: =SUMIF(I46,$Y$6,J46) -> 0 | Z46: =SUMIF(I46,$Z$6,J46) -> 0 | AA46: =AB46+AC46 -> 0.21 | AB46: =SUMIF(I46,$AB$7,J46) -> 0.21 | AC46: =SUMIF(I46,$AC$7,J46) -> 0
A47: 38 | B47: 인천시 | C47: 중구 | D47: 38 | E47: 서해대로4L | F47: 신흥사거리 | G47: 유동삼거리 | H47: ○ | I47: 전용도로 | J47: 0.5 | K47: 1.7 | W47: =X47+Y47+Z47+AA47 -> 0.5 | X47: =SUMIF(I47,$X$6,J47) -> 0.5 | Y47: =SUMIF(I47,$Y$6,J47) -> 0 | Z47: =SUMIF(I47,$Z$6,J47) -> 0 | AA47: =AB47+AC47 -> 0 | AB47: =SUMIF(I47,$AB$7,J47) -> 0 | AC47: =SUMIF(I47,$AC$7,J47) -> 0

Sheet 02 § 동구
A1: 자전거도로 실태조사 총괄표
A4: 1.기본사항 | I4: 2.조사대상 자전거도로 현황 | T4: 3.판단 | W4: 4. 자전거도로 연장
A5: No | B5: 시도 | C5: 자치구 | D5: 일련번호 | E5: 노선명 | F5: 기점 | G5: 종점 | H5: 도로 연계성 | I5: 자전거도로 종류 | J5: 총연장 (km) /0.00 | K5: 자전거도로 폭원(m) /.0 | S5: 보행량 (점) | T5: 개선 필요여부 | U5: 자전거 도로 위치 | V5: 비고 및 점검 | W5: 자전거도로 연장(km) /.00
K6: 전용도로 | L6: 전용차로 | M6: 우선도로 | N6: 자전거보행자겸용도로 | W6: 총연장(km) /0.00 | X6: 전용도로 | Y6: 전용차로 | Z6: 우선도로 | AA6: 자전거보행자겸용도로
N7: 분리형 | Q7: 비분리형 | AA7: 소계 | AB7: 겸용도로 (분리형) | AC7: 겸용도로 (비분리형)
N8: 자전거도로 | O8: 보도 | P8: 유효폭원 | Q8: 도로폭원 | R8: 유효폭원
B9: 인천시 | C9: 동구 | D9: 6개 노선 | H9: =COUNTIF(H10:H1048576,"○") -> 6 | J9: =SUM(J10:J1048576) -> 5.61 | K9: =COUNTIF(I10:I1048576,X6) -> 2 | L9: =COUNTIF(I10:I1048576,Y6) -> 0 | M9: =COUNTIF(I10:I1048576,Z6) -> 0 | N9: =COUNTIF(I10:I1048576,AB7) -> 4 | Q9: =COUNTIF(I10:I1048576,AC7) -> 0 | T9: =COUNTIF(T10:T1048576,"○") -> 1 | W9: =SUM(W10:W1048576) -> 5.61 | X9: =SUM(X10:X1048576) -> 3.42 | Y9: =SUM(Y10:Y1048576) -> 0 | Z9: =SUM(Z10:Z1048576) -> 0 | AA9: =SUM(AA10:AA1048576) -> 2.19 | AB9: =SUM(AB10:AB1048576) -> 2.19 | AC9: =SUM(AC10:AC1048576) -> 0
A10: 1 | B10: 인천시 | C10: 동구 | D10: 1 | E10: 인중로1R | F10: s-oil항구 주유소 | G10: 송현사거리 | H10: ○ | I10: 전용도로 | J10: 1.72 | K10: 1.9 | S10: 1 | W10: =X10+Y10+Z10+AA10 -> 1.72 | X10: =SUMIF(I10,$X$6,J10) -> 1.72 | Y10: =SUMIF(I10,$Y$6,J10) -> 0 | Z10: =SUMIF(I10,$Z$6,J10) -> 0 | AA10: =AB10+AC10 -> 0 | AB10: =SUMIF(I10,$AB$7,J10) -> 0 | AC10: =SUMIF(I10,$AC$7,J10) -> 0
A11: 2 | B11: 인천시 | C11: 동구 | D11: 2 | E11: 인중로1L | F11: 송현사거리 | G11: s-oil항구 주유소 | H11: ○ | I11: 전용도로 | J11: 1.7 | K11: 2 | S11: 1 | W11: =X11+Y11+Z11+AA11 -> 1.7 | X11: =SUMIF(I11,$X$6,J11) -> 1.7 | Y11: =SUMIF(I11,$Y$6,J11) -> 0 | Z11: =SUMIF(I11,$Z$6,J11) -> 0 | AA11: =AB11+AC11 -> 0 | AB11: =SUMIF(I11,$AB$7,J11) -> 0 | AC11: =SUMIF(I11,$AC$7,J11) -> 0
A12: 3 | B12: 인천시 | C12: 동구 | D12: 3 | E12: 새천년로 | F12: 명보그린빌 | G12: 제중종합 한의원 | H12: ○ | I12: 겸용도로 (분리형) | J12: 0.6 | N12: 2.1 | O12: 2.7 | P12: =-1-0.25+N12+O12-0.25 -> 3.3 | S12: 3 | U12: 내측 | W12: =X12+Y12+Z12+AA12 -> 0.6 | X12: =SUMIF(I12,$X$6,J12) -> 0 | Y12: =SUMIF(I12,$Y$6,J12) -> 0 | Z12: =SUMIF(I12,$Z$6,J12) -> 0 | AA12: =AB12+AC12 -> 0.6 | AB12: =SUMIF(I12,$AB$7,J12) -> 0.6 | AC12: =SUMIF(I12,$AC$7,J12) -> 0
A13: 4 | B13: 인천시 | C13: 동구 | D13: 4 | E13: 인중로2 | F13: 송림고가교 | G13: 송현 할인마트 | H13: ○ | I13: 겸용도로 (분리형) | J13: 0.53 | N13: 1.3 | O13: 3.5 | P13: =-1-0.25+N13+O13-0.25 -> 3.3 | S13: 3 | T13: ○ | U13: 도로측 | W13: =X13+Y13+Z13+AA13 -> 0.53 | X13: =SUMIF(I13,$X$6,J13) -> 0 | Y13: =SUMIF(I13,$Y$6,J13) -> 0 | Z13: =SUMIF(I13,$Z$6,J13) -> 0 | AA13: =AB13+AC13 -> 0.53 | AB13: =SUMIF(I13,$AB$7,J13) -> 0.53 | AC13: =SUMIF(I13,$AC$7,J13) -> 0
A14: 5 | B14: 인천시 | C14: 동구 | D14: 5 | E14: 염전로40번길 | F14: 인천백병원 | G14: 송림체육관 | H14: ○ | I14: 겸용도로 (분리형) | J14: 0.47 | N14: 1.5 | O14: 2.5 | P14: =-1-0.25+N14+O14-0.25 -> 2.5 | S14: 3 | U14: 내측 | W14: =X14+Y14+Z14+AA14 -> 0.47 | X14: =SUMIF(I14,$X$6,J14) -> 0 | Y14: =SUMIF(I14,$Y$6,J14) -> 0 | Z14: =SUMIF(I14,$Z$6,J14) -> 0 | AA14: =AB14+AC14 -> 0.47 | AB14: =SUMIF(I14,$AB$7,J14) -> 0.47 | AC14: =SUMIF(I14,$AC$7,J14) -> 0
A15: 6 | B15: 인천시 | C15: 동구 | D15: 6 | E15: 중봉대로 | F15: 경기실업 | G15: 글로비스 인천영업소 | H15: ○ | I15: 겸용도로 (분리형) | J15: 0.59 | N15: 1.6 | O15: 1.8 | P15: =-1-0.25+N15+O15-0.25 -> 1.9 | S15: 1 | U15: 도로측 | W15: =X15+Y15+Z15+AA15 -> 0.59 | X15: =SUMIF(I15,$X$6,J15) -> 0 | Y15: =SUMIF(I15,$Y$6,J15) -> 0 | Z15: =SUMIF(I15,$Z$6,J15) -> 0 | AA15: =AB15+AC15 -> 0.59 | AB15: =SUMIF(I15,$AB$7,J15) -> 0.59 | AC15: =SUMIF(I15,$AC$7,J15) -> 0

Sheet 03 § 남구
A1: 자전거도로 실태조사 총괄표
A4: 1.기본사항 | I4: 2.조사대상 자전거도로 현황 | T4: 3.판단 | W4: 4. 자전거도로 연장
A5: No | B5: 시도 | C5: 자치구 | D5: 일련번호 | E5: 노선명 | F5: 기점 | G5: 종점 | H5: 도로 연계성 | I5: 자전거도로 종류 | J5: 총연장 (km) /0.00 | K5: 자전거도로 폭원(m) /.0 | S5: 보행량 (점) | T5: 개선 필요여부 | U5: 자전거 도로 위치 | V5: 비고 및 점검 | W5: 자전거도로 연장(km) /.00
K6: 전용도로 | L6: 전용차로 | M6: 우선도로 | N6: 자전거보행자겸용도로 | W6: 총연장(km) /0.00 | X6: 전용도로 | Y6: 전용차로 | Z6: 우선도로 | AA6: 자전거보행자겸용도로
N7: 분리형 | Q7: 비분리형 | AA7: 소계 | AB7: 겸용도로 (분리형) | AC7: 겸용도로 (비분리형)
N8: 자전거도로 | O8: 보도 | P8: 유효폭원 | Q8: 도로폭원 | R8: 유효폭원
B9: 인천시 | C9: 남구 | D9: 40개 노선 | H9: =COUNTIF(H10:H1048576,"○") -> 13 | J9: =SUM(J10:J1048576) -> 15.97 | K9: =COUNTIF(I10:I1048576,X6) -> 7 | L9: =COUNTIF(I10:I1048576,Y6) -> 0 | M9: =COUNTIF(I10:I1048576,Z6) -> 0 | N9: =COUNTIF(I10:I1048576,AB7) -> 33 | Q9: =COUNTIF(I10:I1048576,AC7) -> 0 | T9: =COUNTIF(T10:T1048576,"○") -> 10 | W9: =SUM(W10:W1048576) -> 15.97 | X9: =SUM(X10:X1048576) -> 3.76 | Y9: =SUM(Y10:Y1048576) -> 0 | Z9: =SUM(Z10:Z1048576) -> 0 | AA9: =SUM(AA10:AA1048576) -> 12.21 | AB9: =SUM(AB10:AB1048576) -> 12.21 | AC9: =SUM(AC10:AC1048576) -> 0
A10: 1 | B10: 인천시 | C10: 남구 | D10: 1 | E10: 매소홀로1R | F10: 두산위브 아파트 | G10: 두산위브 아파트 | H10: ○ | I10: 전용도로 | J10: 0.15 | K10: 1.2 | W10: =X10+Y10+Z10+AA10 -> 0.15 | X10: =SUMIF(I10,$X$6,J10) -> 0.15 | Y10: =SUMIF(I10,$Y$6,J10) -> 0 | Z10: =SUMIF(I10,$Z$6,J10) -> 0 | AA10: =AB10+AC10 -> 0 | AB10: =SUMIF(I10,$AB$7,J10) -> 0 | AC10: =SUMIF(I10,$AC$7,J10) -> 0
A11: 2 | B11: 인천시 | C11: 남구 | D11: 2 | E11: 매소홀로2R | F11: 문학경기장 | G11: 선학동 28-1 | H11: ○ | I11: 전용도로 | J11: 1.02 | W11: =X11+Y11+Z11+AA11 -> 1.02 | X11: =SUMIF(I11,$X$6,J11) -> 1.02 | Y11: =SUMIF(I11,$Y$6,J11) -> 0 | Z11: =SUMIF(I11,$Z$6,J11) -> 0 | AA11: =AB11+AC11 -> 0 | AB11: =SUMIF(I11,$AB$7,J11) -> 0 | AC11: =SUMIF(I11,$AC$7,J11) -> 0
A12: 3 | B12: 인천시 | C12: 남구 | D12: 3 | E12: 매소홀로1L | F12: 무형문화제 전수교육관 | G12: 관교동 549-13 | H12: ○ | I12: 전용도로 | J12: 1.15 | K12: 1.5 | W12: =X12+Y12+Z12+AA12 -> 1.15 | X12: =SUMIF(I12,$X$6,J12) -> 1.15 | Y12: =SUMIF(I12,$Y$6,J12) -> 0 | Z12: =SUMIF(I12,$Z$6,J12) -> 0 | AA12: =AB12+AC12 -> 0 | AB12: =SUMIF(I12,$AB$7,J12) -> 0 | AC12: =SUMIF(I12,$AC$7,J12) -> 0
A13: 4 | B13: 인천시 | C13: 남구 | D13: 4 | E13: 인하로1R | F13: 인하로 134번길 3 | G13: 제운사거리 | H13: ○ | I13: 겸용도로 (분리형) | J13: 0.41 | N13: 1.5 | O13: 1.5 | P13: =-1-0.25+N13+O13-0.25 -> 1.5 | S13: 2 | U13: 도로측 | W13: =X13+Y13+Z13+AA13 -> 0.41 | X13: =SUMIF(I13,$X$6,J13) -> 0 | Y13: =SUMIF(I13,$Y$6,J13) -> 0 | Z13: =SUMIF(I13,$Z$6,J13) -> 0 | AA13: =AB13+AC13 -> 0.41 | AB13: =SUMIF(I13,$AB$7,J13) -> 0.41 | AC13: =SUMIF(I13,$AC$7,J13) -> 0
A14: 5 | B14: 인천시 | C14: 남구 | D14: 5 | E14: 인하로2R | F14: 인하로 398 | G14: 관교 초등학교 | I14: 겸용도로 (분리형) | J14: 0.17 | N14: 1.5 | O14: 1 | P14: =-1-0.25+N14+O14-0.25 -> 1 | S14: 2 | T14: ○ | U14: 중앙 | W14: =X14+Y14+Z14+AA14 -> 0.17 | X14: =SUMIF(I14,$X$6,J14) -> 0 | Y14: =SUMIF(I14,$Y$6,J14) -> 0 | Z14: =SUMIF(I14,$Z$6,J14) -> 0 | AA14: =AB14+AC14 -> 0.17 | AB14: =SUMIF(I14,$AB$7,J14) -> 0.17 | AC14: =SUMIF(I14,$AC$7,J14) -> 0
A15: 6 | B15: 인천시 | C15: 남구 | D15: 6 | E15: 인하로1L | F15: 신라 아파트 | G15: 승학 사거리 | I15: 겸용도로 (분리형) | J15: 0.08 | N15: 1.5 | O15: 1 | P15: =-1-0.25+N15+O15-0.25 -> 1 | S15: 3 | U15: 도로측 | W15: =X15+Y15+Z15+AA15 -> 0.08 | X15: =SUMIF(I15,$X$6,J15) -> 0 | Y15: =SUMIF(I15,$Y$6,J15) -> 0 | Z15: =SUMIF(I15,$Z$6,J15) -> 0 | AA15: =AB15+AC15 -> 0.08 | AB15: =SUMIF(I15,$AB$7,J15) -> 0.08 | AC15: =SUMIF(I15,$AC$7,J15) -> 0
A16: 7 | B16: 인천시 | C16: 남구 | D16: 7 | E16: 인주대로1R | F16: 독정이 삼거리 | G16: 인주대로 174 | I16: 겸용도로 (분리형) | J16: 0.09 | N16: 1.5 | O16: 1.3 | P16: =-1-0.25+N16+O16-0.25 -> 1.3 | S16: 3 | T16: ○ | U16: 중앙 | W16: =X16+Y16+Z16+AA16 -> 0.09 | X16: =SUMIF(I16,$X$6,J16) -> 0 | Y16: =SUMIF(I16,$Y$6,J16) -> 0 | Z16: =SUMIF(I16,$Z$6,J16) -> 0 | AA16: =AB16+AC16 -> 0.09 | AB16: =SUMIF(I16,$AB$7,J16) -> 0.09 | AC16: =SUMIF(I16,$AC$7,J16) -> 0
A17: 8 | B17: 인천시 | C17: 남구 | D17: 8 | E17: 인주대로1L | F17: 독정이 삼거리 | G17: 수봉남로1 | I17: 겸용도로 (분리형) | J17: 0.05 | N17: 1.5 | O17: 1 | P17: =-1-0.25+N17+O17-0.25 -> 1 | S17: 3 | T17: ○ | U17: 중앙 | W17: =X17+Y17+Z17+AA17 -> 0.05 | X17: =SUMIF(I17,$X$6,J17) -> 0 | Y17: =SUMIF(I17,$Y$6,J17) -> 0 | Z17: =SUMIF(I17,$Z$6,J17) -> 0 | AA17: =AB17+AC17 -> 0.05 | AB17: =SUMIF(I17,$AB$7,J17) -> 0.05 | AC17: =SUMIF(I17,$AC$7,J17) -> 0
A18: 9 | B18: 인천시 | C18: 남구 | D18: 9 | E18: 인주대로2L | F18: 인주대로 237번길 2 | G18: 용일 사거리 | H18: ○ | I18: 겸용도로 (분리형) | J18: 0.41 | N18: 1.5 | O18: 1.5 | P18: =-1-0.25+N18+O18-0.25 -> 1.5 | S18: 3 | U18: 내측 | W18: =X18+Y18+Z18+AA18 -> 0.41 | X18: =SUMIF(I18,$X$6,J18) -> 0 | Y18: =SUMIF(I18,$Y$6,J18) -> 0 | Z18: =SUMIF(I18,$Z$6,J18) -> 0 | AA18: =AB18+AC18 -> 0.41 | AB18: =SUMIF(I18,$AB$7,J18) -> 0.41 | AC18: =SUMIF(I18,$AC$7,J18) -> 0
A19: 10 | B19: 인천시 | C19: 남구 | D19: 10 | E19: 장천로1R | F19: 장천로 14번길 3 | G19: 숭의 오거리 | I19: 겸용도로 (분리형) | J19: 0.21 | N19: 1.5 | O19: 1.5 | P19: =-1-0.25+N19+O19-0.25 -> 1.5 | S19: 2 | T19: ○ | U19: 도로측 | W19: =X19+Y19+Z19+AA19 -> 0.21 | X19: =SUMIF(I19,$X$6,J19) -> 0 | Y19: =SUMIF(I19,$Y$6,J19) -> 0 | Z19: =SUMIF(I19,$Z$6,J19) -> 0 | AA19: =AB19+AC19 -> 0.21 | AB19: =SUMIF(I19,$AB$7,J19) -> 0.21 | AC19: =SUMIF(I19,$AC$7,J19) -> 0
A20: 11 | B20: 인천시 | C20: 남구 | D20: 11 | E20: 장천로1L | F20: 장천 사거리 | G20: 장천로91 | I20: 겸용도로 (분리형) | J20: 0.21 | N20: 1.5 | O20: 0.3 | P20: =-1-0.25+N20+O20-0.25 -> 0.3 | S20: 2 | T20: ○ | U20: 내측 | W20: =X20+Y20+Z20+AA20 -> 0.21 | X20: =SUMIF(I20,$X$6,J20) -> 0 | Y20: =SUMIF(I20,$Y$6,J20) -> 0 | Z20: =SUMIF(I20,$Z$6,J20) -> 0 | AA20: =AB20+AC20 -> 0.21 | AB20: =SUMIF(I20,$AB$7,J20) -> 0.21 | AC20: =SUMIF(I20,$AC$7,J20) -> 0
A21: 12 | B21: 인천시 | C21: 남구 | D21: 12 | E21: 경인로1R | F21: 경인로 336 | G21: 옛시민회관 사거리 | I21: 겸용도로 (분리형) | J21: 0.24 | N21: 1.5 | O21: 1.2 | P21: =-1-0.25+N21+O21-0.25 -> 1.2 | S21: 4 | T21: ○ | U21: 중앙 | W21: =X21+Y21+Z21+AA21 -> 0.24 | X21: =SUMIF(I21,$X$6,J21) -> 0 | Y21: =SUMIF(I21,$Y$6,J21) -> 0 | Z21: =SUMIF(I21,$Z$6,J21) -> 0 | AA21: =AB21+AC21 -> 0.24 | AB21: =SUMIF(I21,$AB$7,J21) -> 0.24 | AC21: =SUMIF(I21,$AC$7,J21) -> 0
A22: 13 | B22: 인천시 | C22: 남구 | D22: 13 | E22: 경인로1L | F22: 도화1동 주민센터 | G22: 경인로 339 | I22: 겸용도로 (분리형) | J22: 0.46 | N22: 1.5 | O22: 1 | P22: =-1-0.25+N22+O22-0.25 -> 1 | S22: 3 | U22: 중앙 | W22: =X22+Y22+Z22+AA22 -> 0.46 | X22: =SUMIF(I22,$X$6,J22) -> 0 | Y22: =SUMIF(I22,$Y$6,J22) -> 0 | Z22: =SUMIF(I22,$Z$6,J22) -> 0 | AA22: =AB22+AC22 -> 0.46 | AB22: =SUMIF(I22,$AB$7,J22) -> 0.46 | AC22: =SUMIF(I22,$AC$7,J22) -> 0
A23: 14 | B23: 인천시 | C23: 남구 | D23: 14 | E23: 석정로1R | F23: 숭의시장 사거리 | G23: 석정로 124 | I23: 겸용도로 (분리형) | J23: 0.32 | N23: 1.5 | O23: 1 | P23: =-1-0.25+N23+O23-0.25 -> 1 | S23: 3 | U23: 도로측 | W23: =X23+Y23+Z23+AA23 -> 0.32 | X23: =SUMIF(I23,$X$6,J23) -> 0 | Y23: =SUMIF(I23,$Y$6,J23) -> 0 | Z23: =SUMIF(I23,$Z$6,J23) -> 0 | AA23: =AB23+AC23 -> 0.32 | AB23: =SUMIF(I23,$AB$7,J23) -> 0.32 | AC23: =SUMIF(I23,$AC$7,J23) -> 0
A24: 15 | B24: 인천시 | C24: 남구 | D24: 15 | E24: 석정로2R | F24: 도화오거리 | G24: 석정로 300 | I24: 겸용도로 (분리형) | J24: 0.34 | N24: 1.5 | O24: 0.7 | P24: =-1-0.25+N24+O24-0.25 -> 0.7 | S24: 3 | U24: 중앙 | W24: =X24+Y24+Z24+AA24 -> 0.34 | X24: =SUMIF(I24,$X$6,J24) -> 0 | Y24: =SUMIF(I24,$Y$6,J24) -> 0 | Z24: =SUMIF(I24,$Z$6,J24) -> 0 | AA24: =AB24+AC24 -> 0.34 | AB24: =SUMIF(I24,$AB$7,J24) -> 0.34 | AC24: =SUMIF(I24,$AC$7,J24) -> 0
A25: 16 | B25: 인천시 | C25: 남구 | D25: 16 | E25: 석정로3R | F25: 석정로 348 | G25: 석정로 440 | I25: 겸용도로 (분리형) | J25: 0.92 | N25: 1.5 | O25: 1.5 | P25: =-1-0.25+N25+O25-0.25 -> 1.5 | S25: 4 | U25: 중앙 | W25: =X25+Y25+Z25+AA25 -> 0.92 | X25: =SUMIF(I25,$X$6,J25) -> 0 | Y25: =SUMIF(I25,$Y$6,J25) -> 0 | Z25: =SUMIF(I25,$Z$6,J25) -> 0 | AA25: =AB25+AC25 -> 0.92 | AB25: =SUMIF(I25,$AB$7,J25) -> 0.92 | AC25: =SUMIF(I25,$AC$7,J25) -> 0
A26: 17 | B26: 인천시 | C26: 남구 | D26: 17 | E26: 석정로1L | F26: 인천축구 전용경기장 | G26: 인천축구 전용경기장 | H26: ○ | I26: 겸용도로 (분리형) | J26: 0.11 | N26: 1.5 | O26: 3 | P26: =-1-0.25+N26+O26-0.25 -> 3 | S26: 3 | U26: 도로측 | W26: =X26+Y26+Z26+AA26 -> 0.11 | X26: =SUMIF(I26,$X$6,J26) -> 0 | Y26: =SUMIF(I26,$Y$6,J26) -> 0 | Z26: =SUMIF(I26,$Z$6,J26) -> 0 | AA26: =AB26+AC26 -> 0.11 | AB26: =SUMIF(I26,$AB$7,J26) -> 0.11 | AC26: =SUMIF(I26,$AC$7,J26) -> 0
A27: 18 | B27: 인천시 | C27: 남구 | D27: 18 | E27: 석정로2L | F27: 숭의시장 사거리 | G27: 석정로 113 | I27: 겸용도로 (분리형) | J27: 0.22 | N27: 1.5 | O27: 1.2 | P27: =-1-0.25+N27+O27-0.25 -> 1.2 | S27: 2 | U27: 중앙 | W27: =X27+Y27+Z27+AA27 -> 0.22 | X27: =SUMIF(I27,$X$6,J27) -> 0 | Y27: =SUMIF(I27,$Y$6,J27) -> 0 | Z27: =SUMIF(I27,$Z$6,J27) -> 0 | AA27: =AB27+AC27 -> 0.22 | AB27: =SUMIF(I27,$AB$7,J27) -> 0.22 | AC27: =SUMIF(I27,$AC$7,J27) -> 0
A28: 19 | B28: 인천시 | C28: 남구 | D28: 19 | E28: 석정로3L | F28: 선인재단 정문 | G28: 재물포 북부역입구 | I28: 겸용도로 (분리형) | J28: 0.2 | N28: 1.5 | O28: 1.2 | P28: =-1-0.25+N28+O28-0.25 -> 1.2 | S28: 3 | T28: ○ | U28: 내측 | W28: =X28+Y28+Z28+AA28 -> 0.2 | X28: =SUMIF(I28,$X$6,J28) -> 0 | Y28: =SUMIF(I28,$Y$6,J28) -> 0 | Z28: =SUMIF(I28,$Z$6,J28) -> 0 | AA28: =AB28+AC28 -> 0.2 | AB28: =SUMIF(I28,$AB$7,J28) -> 0.2 | AC28: =SUMIF(I28,$AC$7,J28) -> 0
A29: 20 | B29: 인천시 | C29: 남구 | D29: 20 | E29: 송림로1R | F29: 도화신동아 파밀리에 | G29: 도화신동아 파밀리에 | I29: 겸용도로 (분리형) | J29: 0.18 | N29: 1.5 | O29: 2.3 | P29: =-1-0.25+N29+O29-0.25 -> 2.3 | S29: 2 | U29: 도로측 | W29: =X29+Y29+Z29+AA29 -> 0.18 | X29: =SUMIF(I29,$X$6,J29) -> 0 | Y29: =SUMIF(I29,$Y$6,J29) -> 0 | Z29: =SUMIF(I29,$Z$6,J29) -> 0 | AA29: =AB29+AC29 -> 0.18 | AB29: =SUMIF(I29,$AB$7,J29) -> 0.18 | AC29: =SUMIF(I29,$AC$7,J29) -> 0
A30: 21 | B30: 인천시 | C30: 남구 | D30: 21 | E30: 송림로1L | F30: 송림로 203 | G30: 하늘꿈교회 | I30: 겸용도로 (분리형) | J30: 0.39 | N30: 1.5 | O30: 1.2 | P30: =-1-0.25+N30+O30-0.25 -> 1.2 | S30: 2 | U30: 도로측 | W30: =X30+Y30+Z30+AA30 -> 0.39 | X30: =SUMIF(I30,$X$6,J30) -> 0 | Y30: =SUMIF(I30,$Y$6,J30) -> 0 | Z30: =SUMIF(I30,$Z$6,J30) -> 0 | AA30: =AB30+AC30 -> 0.39 | AB30: =SUMIF(I30,$AB$7,J30) -> 0.39 | AC30: =SUMIF(I30,$AC$7,J30) -> 0
A31: 22 | B31: 인천시 | C31: 남구 | D31: 22 | E31: 주안로1 | F31: 도화오거리 | G31: 경인로 265번길 43 | I31: 겸용도로 (분리형) | J31: 0.31 | N31: 1.5 | O31: 1.5 | P31: =-1-0.25+N31+O31-0.25 -> 1.5 | S31: 3 | U31: 도로측 | W31: =X31+Y31+Z31+AA31 -> 0.31 | X31: =SUMIF(I31,$X$6,J31) -> 0 | Y31: =SUMIF(I31,$Y$6,J31) -> 0 | Z31: =SUMIF(I31,$Z$6,J31) -> 0 | AA31: =AB31+AC31 -> 0.31 | AB31: =SUMIF(I31,$AB$7,J31) -> 0.31 | AC31: =SUMIF(I31,$AC$7,J31) -> 0
A32: 23 | B32: 인천시 | C32: 남구 | D32: 23 | E32: 한나루로1R | F32: 제일시장 사거리 | G32: 한나루로 569 | I32: 겸용도로 (분리형) | J32: 0.68 | N32: 1.5 | O32: 1.2 | P32: =-1-0.25+N32+O32-0.25 -> 1.2 | S32: 3 | U32: 내측 | W32: =X32+Y32+Z32+AA32 -> 0.68 | X32: =SUMIF(I32,$X$6,J32) -> 0 | Y32: =SUMIF(I32,$Y$6,J32) -> 0 | Z32: =SUMIF(I32,$Z$6,J32) -> 0 | AA32: =AB32+AC32 -> 0.68 | AB32: =SUMIF(I32,$AB$7,J32) -> 0.68 | AC32: =SUMIF(I32,$AC$7,J32) -> 0
A33: 24 | B33: 인천시 | C33: 남구 | D33: 24 | E33: 한나루로1L | F33: 재넘이길 6 | G33: 한나루로 521 | H33: ○ | I33: 겸용도로 (분리형) | J33: 0.84 | N33: 1.5 | O33: 1.5 | P33: =-1-0.25+N33+O33-0.25 -> 1.5 | S33: 3 | U33: 도로측 | W33: =X33+Y33+Z33+AA33 -> 0.84 | X33: =SUMIF(I33,$X$6,J33) -> 0 | Y33: =SUMIF(I33,$Y$6,J33) -> 0 | Z33: =SUMIF(I33,$Z$6,J33) -> 0 | AA33: =AB33+AC33 -> 0.84 | AB33: =SUMIF(I33,$AB$7,J33) -> 0.84 | AC33: =SUMIF(I33,$AC$7,J33) -> 0
A34: 25 | B34: 인천시 | C34: 남구 | D34: 25 | E34: 한나루로2L | F34: 한나루로 569 | G34: 제일시장 사거리 | I34: 겸용도로 (분리형) | J34: 0.23 | N34: 1.5 | O34: 1 | P34: =-1-0.25+N34+O34-0.25 -> 1 | S34: 3 | U34: 내측 | W34: =X34+Y34+Z34+AA34 -> 0.23 | X34: =SUMIF(I34,$X$6,J34) -> 0 | Y34: =SUMIF(I34,$Y$6,J34) -> 0 | Z34: =SUMIF(I34,$Z$6,J34) -> 0 | AA34: =AB34+AC34 -> 0.23 | AB34: =SUMIF(I34,$AB$7,J34) -> 0.23 | AC34: =SUMIF(I34,$AC$7,J34) -> 0
A35: 26 | B35: 인천시 | C35: 남구 | D35: 26 | E35: 미추홀대로1R | F35: 미추홀대로 614번길 3 | G35: 미추홀대로 662 | I35: 겸용도로 (분리형) | J35: 0.48 | N35: 1.5 | O35: 1.2 | P35: =-1-0.25+N35+O35-0.25 -> 1.2 | S35: 3 | U35: 내측 | W35: =X35+Y35+Z35+AA35 -> 0.48 | X35: =SUMIF(I35,$X$6,J35) -> 0 | Y35: =SUMIF(I35,$Y$6,J35) -> 0 | Z35: =SUMIF(I35,$Z$6,J35) -> 0 | AA35: =AB35+AC35 -> 0.48 | AB35: =SUMIF(I35,$AB$7,J35) -> 0.48 | AC35: =SUMIF(I35,$AC$7,J35) -> 0
A36: 27 | B36: 인천시 | C36: 남구 | D36: 27 | E36: 미추홀대로1L | F36: 미추홀대로 669 | G36: 신기사거리 | I36: 겸용도로 (분리형) | J36: 0.62 | N36: 1.5 | O36: 1.2 | P36: =-1-0.25+N36+O36-0.25 -> 1.2 | S36: 3 | U36: 중앙 | W36: =X36+Y36+Z36+AA36 -> 0.62 | X36: =SUMIF(I36,$X$6,J36) -> 0 | Y36: =SUMIF(I36,$Y$6,J36) -> 0 | Z36: =SUMIF(I36,$Z$6,J36) -> 0 | AA36: =AB36+AC36 -> 0.62 | AB36: =SUMIF(I36,$AB$7,J36) -> 0.62 | AC36: =SUMIF(I36,$AC$7,J36) -> 0
A37: 28 | B37: 인천시 | C37: 남구 | D37: 28 | E37: 경원대로R | F37: 경원대로 654 | G37: 주승로 180 | I37: 겸용도로 (분리형) | J37: 0.45 | N37: 1.5 | O37: 1.2 | P37: =-1-0.25+N37+O37-0.25 -> 1.2 | S37: 2 | U37: 중앙 | W37: =X37+Y37+Z37+AA37 -> 0.45 | X37: =SUMIF(I37,$X$6,J37) -> 0 | Y37: =SUMIF(I37,$Y$6,J37) -> 0 | Z37: =SUMIF(I37,$Z$6,J37) -> 0 | AA37: =AB37+AC37 -> 0.45 | AB37: =SUMIF(I37,$AB$7,J37) -> 0.45 | AC37: =SUMIF(I37,$AC$7,J37) -> 0
A38: 29 | B38: 인천시 | C38: 남구 | D38: 29 | E38: 경원대로1L | F38: 관교여자 중학교 | G38: 승기사거리 | I38: 겸용도로 (분리형) | J38: 0.52 | N38: 1.5 | O38: 0.6 | P38: =-1-0.25+N38+O38-0.25 -> 0.6 | S38: 2 | U38: 중앙 | W38: =X38+Y38+Z38+AA38 -> 0.52 | X38: =SUMIF(I38,$X$6,J38) -> 0 | Y38: =SUMIF(I38,$Y$6,J38) -> 0 | Z38: =SUMIF(I38,$Z$6,J38) -> 0 | AA38: =AB38+AC38 -> 0.52 | AB38: =SUMIF(I38,$AB$7,J38) -> 0.52 | AC38: =SUMIF(I38,$AC$7,J38) -> 0
A39: 30 | B39: 인천시 | C39: 남구 | D39: 30 | E39: 경원대로2L | F39: 문학경기장 사거리 | G39: 박태환 수영장 | H39: ○ | I39: 전용도로 | J39: 0.54 | K39: 1.5 | W39: =X39+Y39+Z39+AA39 -> 0.54 | X39: =SUMIF(I39,$X$6,J39) -> 0.54 | Y39: =SUMIF(I39,$Y$6,J39) -> 0 | Z39: =SUMIF(I39,$Z$6,J39) -> 0 | AA39: =AB39+AC39 -> 0 | AB39: =SUMIF(I39,$AB$7,J39) -> 0 | AC39: =SUMIF(I39,$AC$7,J39) -> 0
A40: 31 | B40: 인천시 | C40: 남구 | D40: 31 | E40: 예술로L | F40: 종합터미널입구 | G40: 터미널 사거리 | H40: ○ | I40: 전용도로 | J40: 0.5 | K40: 1.5 | W40: =X40+Y40+Z40+AA40 -> 0.5 | X40: =SUMIF(I40,$X$6,J40) -> 0.5 | Y40: =SUMIF(I40,$Y$6,J40) -> 0 | Z40: =SUMIF(I40,$Z$6,J40) -> 0 | AA40: =AB40+AC40 -> 0 | AB40: =SUMIF(I40,$AB$7,J40) -> 0 | AC40: =SUMIF(I40,$AC$7,J40) -> 0
A41: 32 | B41: 인천시 | C41: 남구 | D41: 32 | E41: 수봉로R | F41: 수봉로 19-1 | G41: 수봉로 7 | I41: 겸용도로 (분리형) | J41: 0.16 | N41: 1.5 | O41: 1.2 | P41: =-1-0.25+N41+O41-0.25 -> 1.2 | S41: 5 | T41: ○ | U41: 도로측 | W41: =X41+Y41+Z41+AA41 -> 0.16 | X41: =SUMIF(I41,$X$6,J41) -> 0 | Y41: =SUMIF(I41,$Y$6,J41) -> 0 | Z41: =SUMIF(I41,$Z$6,J41) -> 0 | AA41: =AB41+AC41 -> 0.16 | AB41: =SUMIF(I41,$AB$7,J41) -> 0.16 | AC41: =SUMIF(I41,$AC$7,J41) -> 0
A42: 33 | B42: 인천시 | C42: 남구 | D42: 33 | E42: 석정로 49번길R | F42: 인천축구 전용경기장 | G42: 인천축구 전용경기장 | H42: ○ | I42: 겸용도로 (분리형) | J42: 0.15 | N42: 1.5 | O42: 0.8 | P42: =-1-0.25+N42+O42-0.25 -> 0.8 | S42: 2 | U42: 도로측 | W42: =X42+Y42+Z42+AA42 -> 0.15 | X42: =SUMIF(I42,$X$6,J42) -> 0 | Y42: =SUMIF(I42,$Y$6,J42) -> 0 | Z42: =SUMIF(I42,$Z$6,J42) -> 0 | AA42: =AB42+AC42 -> 0.15 | AB42: =SUMIF(I42,$AB$7,J42) -> 0.15 | AC42: =SUMIF(I42,$AC$7,J42) -> 0
A43: 34 | B43: 인천시 | C43: 남구 | D43: 34 | E43: 샛골로R | F43: 인천축구 전용경기장 | G43: 인천축구 전용경기장 | H43: ○ | I43: 겸용도로 (분리형) | J43: 0.46 | N43: 1.5 | O43: 1.5 | P43: =-1-0.25+N43+O43-0.25 -> 1.5 | S43: 2 | U43: 도로측 | W43: =X43+Y43+Z43+AA43 -> 0.46 | X43: =SUMIF(I43,$X$6,J43) -> 0 | Y43: =SUMIF(I43,$Y$6,J43) -> 0 | Z43: =SUMIF(I43,$Z$6,J43) -> 0 | AA43: =AB43+AC43 -> 0.46 | AB43: =SUMIF(I43,$AB$7,J43) -> 0.46 | AC43: =SUMIF(I43,$AC$7,J43) -> 0
A44: 35 | B44: 인천시 | C44: 남구 | D44: 35 | E44: 독배로R | F44: 경인북길 1 | G44: 용현 사거리 | I44: 겸용도로 (분리형) | J44: 0.45 | N44: 1.5 | O44: 1.2 | P44: =-1-0.25+N44+O44-0.25 -> 1.2 | S44: 3 | U44: 도로측 | W44: =X44+Y44+Z44+AA44 -> 0.45 | X44: =SUMIF(I44,$X$6,J44) -> 0 | Y44: =SUMIF(I44,$Y$6,J44) -> 0 | Z44: =SUMIF(I44,$Z$6,J44) -> 0 | AA44: =AB44+AC44 -> 0.45 | AB44: =SUMIF(I44,$AB$7,J44) -> 0.45 | AC44: =SUMIF(I44,$AC$7,J44) -> 0
A45: 36 | B45: 인천시 | C45: 남구 | D45: 36 | E45: 매소홀로 309번길 R | F45: 엑슬루타워 103동 | G45: 엑슬루타워 101동 | I45: 겸용도로 (분리형) | J45: 0.24 | N45: 1 | O45: 2 | P45: =-1-0.25+N45+O45-0.25 -> 1.5 | S45: 2 | T45: ○ | U45: 도로측 | W45: =X45+Y45+Z45+AA45 -> 0.24 | X45: =SUMIF(I45,$X$6,J45) -> 0 | Y45: =SUMIF(I45,$Y$6,J45) -> 0 | Z45: =SUMIF(I45,$Z$6,J45) -> 0 | AA45: =AB45+AC45 -> 0.24 | AB45: =SUMIF(I45,$AB$7,J45) -> 0.24 | AC45: =SUMIF(I45,$AC$7,J45) -> 0
A46: 37 | B46: 인천시 | C46: 남구 | D46: 37 | E46: 아암로R | F46: 경인방송 | G46: 제2경인 시점 | I46: 겸용도로 (분리형) | J46: 0.96 | N46: 1.5 | O46: 0.6 | P46: =-1-0.25+N46+O46-0.25 -> 0.6 | S46: 1 | U46: 중앙 | W46: =X46+Y46+Z46+AA46 -> 0.96 | X46: =SUMIF(I46,$X$6,J46) -> 0 | Y46: =SUMIF(I46,$Y$6,J46) -> 0 | Z46: =SUMIF(I46,$Z$6,J46) -> 0 | AA46: =AB46+AC46 -> 0.96 | AB46: =SUMIF(I46,$AB$7,J46) -> 0.96 | AC46: =SUMIF(I46,$AC$7,J46) -> 0
A47: 38 | B47: 인천시 | C47: 남구 | D47: 38 | E47: 매소홀로 290번길 R | F47: 두산위브 아파트 | G47: 두산위브 아파트 | H47: ○ | I47: 전용도로 | J47: 0.2 | K47: 1.5 | W47: =X47+Y47+Z47+AA47 -> 0.2 | X47: =SUMIF(I47,$X$6,J47) -> 0.2 | Y47: =SUMIF(I47,$Y$6,J47) -> 0 | Z47: =SUMIF(I47,$Z$6,J47) -> 0 | AA47: =AB47+AC47 -> 0 | AB47: =SUMIF(I47,$AB$7,J47) -> 0 | AC47: =SUMIF(I47,$AC$7,J47) -> 0
A48: 39 | B48: 인천시 | C48: 남구 | D48: 39 | E48: 매소홀로 290번길 L | F48: 남부경찰서 | G48: 매소홀로 290번길 8 | H48: ○ | I48: 전용도로 | J48: 0.2 | K48: 1.5 | W48: =X48+Y48+Z48+AA48 -> 0.2 | X48: =SUMIF(I48,$X$6,J48) -> 0.2 | Y48: =SUMIF(I48,$Y$6,J48) -> 0 | Z48: =SUMIF(I48,$Z$6,J48) -> 0 | AA48: =AB48+AC48 -> 0 | AB48: =SUMIF(I48,$AB$7,J48) -> 0 | AC48: =SUMIF(I48,$AC$7,J48) -> 0
A49: 40 | B49: 인천시 | C49: 남구 | D49: 40 | E49: 숙골로L | F49: 인천대 삼거리 | G49: 도화동 37-20 | I49: 겸용도로 (분리형) | J49: 0.65 | N49: 1.5 | O49: 1.2 | P49: =-1-0.25+N49+O49-0.25 -> 1.2 | S49: 1 | T49: ○ | U49: 중앙 | W49: =X49+Y49+Z49+AA49 -> 0.65 | X49: =SUMIF(I49,$X$6,J49) -> 0 | Y49: =SUMIF(I49,$Y$6,J49) -> 0 | Z49: =SUMIF(I49,$Z$6,J49) -> 0 | AA49: =AB49+AC49 -> 0.65 | AB49: =SUMIF(I49,$AB$7,J49) -> 0.65 | AC49: =SUMIF(I49,$AC$7,J49) -> 0

Sheet 04 § 연수구
A1: 자전거도로 실태조사 총괄표
A4: 1.기본사항 | I4: 2.조사대상 자전거도로 현황 | T4: 3.판단 | W4: 4. 자전거도로 연장
A5: No | B5: 시도 | C5: 자치구 | D5: 일련번호 | E5: 노선명 | F5: 기점 | G5: 종점 | H5: 도로 연계성 | I5: 자전거도로 종류 | J5: 총연장 (km) /0.00 | K5: 자전거도로 폭원(m) /.0 | S5: 보행량 (점) | T5: 개선 필요여부 | U5: 자전거 도로 위치 | V5: 비고 및 점검 | W5: 자전거도로 연장(km) /.00
K6: 전용도로 | L6: 전용차로 | M6: 우선도로 | N6: 자전거보행자겸용도로 | W6: 총연장(km) /0.00 | X6: 전용도로 | Y6: 전용차로 | Z6: 우선도로 | AA6: 자전거보행자겸용도로
N7: 분리형 | Q7: 비분리형 | AA7: 소계 | AB7: 겸용도로 (분리형) | AC7: 겸용도로 (비분리형)
N8: 자전거도로 | O8: 보도 | P8: 유효폭원 | Q8: 도로폭원 | R8: 유효폭원
B9: 인천시 | C9: 연수구 | D9: 42개 노선 | H9: =COUNTIF(H10:H1048576,"○") -> 42 | J9: =SUM(J10:J1048576) -> 52.22 | K9: =COUNTIF(I10:I1048576,X6) -> 21 | L9: =COUNTIF(I10:I1048576,Y6) -> 0 | M9: =COUNTIF(I10:I1048576,Z6) -> 0 | N9: =COUNTIF(I10:I1048576,AB7) -> 19 | Q9: =COUNTIF(I10:I1048576,AC7) -> 2 | T9: =COUNTIF(T10:T1048576,"○") -> 16 | W9: =SUM(W10:W1048576) -> 52.22 | X9: =SUM(X10:X1048576) -> 26.67 | Y9: =SUM(Y10:Y1048576) -> 0 | Z9: =SUM(Z10:Z1048576) -> 0 | AA9: =SUM(AA10:AA1048576) -> 25.55 | AB9: =SUM(AB10:AB1048576) -> 23.77 | AC9: =SUM(AC10:AC1048576) -> 1.78
A10: 1 | B10: 인천시 | C10: 연수구 | D10: 1 | E10: 비류대로1R | F10: 송학둥지@ | G10: 청학사거리 | H10: ○ | I10: 겸용도로 (분리형) | J10: 1.8 | N10: 1.8 | O10: 4 | P10: =-1-0.25+N10+O10-0.25 -> 4.3 | S10: 4 | T10: ○ | U10: 도로측 | W10: =X10+Y10+Z10+AA10 -> 1.8 | X10: =SUMIF(I10,$X$6,J10) -> 0 | Y10: =SUMIF(I10,$Y$6,J10) -> 0 | Z10: =SUMIF(I10,$Z$6,J10) -> 0 | AA10: =AB10+AC10 -> 1.8 | AB10: =SUMIF(I10,$AB$7,J10) -> 1.8 | AC10: =SUMIF(I10,$AC$7,J10) -> 0
A11: 2 | B11: 인천시 | C11: 연수구 | D11: 2 | E11: 비류대로1L | F11: 청학사거리 | G11: 청학@ 맞은편 | H11: ○ | I11: 겸용도로 (분리형) | J11: 0.36 | N11: 1.8 | O11: 4 | P11: =-1-0.25+N11+O11-0.25 -> 4.3 | S11: 4 | T11: ○ | U11: 도로측 | W11: =X11+Y11+Z11+AA11 -> 0.36 | X11: =SUMIF(I11,$X$6,J11) -> 0 | Y11: =SUMIF(I11,$Y$6,J11) -> 0 | Z11: =SUMIF(I11,$Z$6,J11) -> 0 | AA11: =AB11+AC11 -> 0.36 | AB11: =SUMIF(I11,$AB$7,J11) -> 0.36 | AC11: =SUMIF(I11,$AC$7,J11) -> 0
A12: 3 | B12: 인천시 | C12: 연수구 | D12: 3 | E12: 비류대로2R | F12: 청학사거리 | G12: 수리봉사거리 | H12: ○ | I12: 전용도로 | J12: 1.1 | K12: 1.8 | W12: =X12+Y12+Z12+AA12 -> 1.1 | X12: =SUMIF(I12,$X$6,J12) -> 1.1 | Y12: =SUMIF(I12,$Y$6,J12) -> 0 | Z12: =SUMIF(I12,$Z$6,J12) -> 0 | AA12: =AB12+AC12 -> 0 | AB12: =SUMIF(I12,$AB$7,J12) -> 0 | AC12: =SUMIF(I12,$AC$7,J12) -> 0
A13: 4 | B13: 인천시 | C13: 연수구 | D13: 4 | E13: 비류대로3R | F13: 인천여자고등학교 | G13: 선학초교 | H13: ○ | I13: 전용도로 | J13: 0.89 | K13: 1.8 | W13: =X13+Y13+Z13+AA13 -> 0.89 | X13: =SUMIF(I13,$X$6,J13) -> 0.89 | Y13: =SUMIF(I13,$Y$6,J13) -> 0 | Z13: =SUMIF(I13,$Z$6,J13) -> 0 | AA13: =AB13+AC13 -> 0 | AB13: =SUMIF(I13,$AB$7,J13) -> 0 | AC13: =SUMIF(I13,$AC$7,J13) -> 0
A14: 5 | B14: 인천시 | C14: 연수구 | D14: 5 | E14: 비류대로2L | F14: 선학초교 | G14: 인천여자고등학교 | H14: ○ | I14: 전용도로 | J14: 0.89 | K14: 1.8 | W14: =X14+Y14+Z14+AA14 -> 0.89 | X14: =SUMIF(I14,$X$6,J14) -> 0.89 | Y14: =SUMIF(I14,$Y$6,J14) -> 0 | Z14: =SUMIF(I14,$Z$6,J14) -> 0 | AA14: =AB14+AC14 -> 0 | AB14: =SUMIF(I14,$AB$7,J14) -> 0 | AC14: =SUMIF(I14,$AC$7,J14) -> 0
A15: 6 | B15: 인천시 | C15: 연수구 | D15: 6 | E15: 아암대로 | F15: 송도3교 | G15: 외암도사거리 | H15: ○ | I15: 겸용도로 (분리형) | J15: 2.5 | N15: 2.2 | O15: 1.6 | P15: =-1-0.25+N15+O15-0.25 -> 2.3 | S15: 2 | U15: 도로측 | W15: =X15+Y15+Z15+AA15 -> 2.5 | X15: =SUMIF(I15,$X$6,J15) -> 0 | Y15: =SUMIF(I15,$Y$6,J15) -> 0 | Z15: =SUMIF(I15,$Z$6,J15) -> 0 | AA15: =AB15+AC15 -> 2.5 | AB15: =SUMIF(I15,$AB$7,J15) -> 2.5 | AC15: =SUMIF(I15,$AC$7,J15) -> 0
A16: 7 | B16: 인천시 | C16: 연수구 | D16: 7 | E16: 옥련로1R | F16: 옥련사거리 | G16: 송도초교삼거리 | H16: ○ | I16: 겸용도로 (분리형) | J16: 0.93 | N16: 1.2 | O16: 2 | P16: =-1-0.25+N16+O16-0.25 -> 1.7 | S16: 4 | T16: ○ | U16: 내측 | W16: =X16+Y16+Z16+AA16 -> 0.93 | X16: =SUMIF(I16,$X$6,J16) -> 0 | Y16: =SUMIF(I16,$Y$6,J16) -> 0 | Z16: =SUMIF(I16,$Z$6,J16) -> 0 | AA16: =AB16+AC16 -> 0.93 | AB16: =SUMIF(I16,$AB$7,J16) -> 0.93 | AC16: =SUMIF(I16,$AC$7,J16) -> 0
A17: 8 | B17: 인천시 | C17: 연수구 | D17: 8 | E17: 옥련로1L | F17: 송도초교삼거리 | G17: 옥련사거리 | H17: ○ | I17: 겸용도로 (분리형) | J17: 0.93 | N17: 1.2 | O17: 2 | P17: =-1-0.25+N17+O17-0.25 -> 1.7 | S17: 4 | T17: ○ | U17: 내측 | W17: =X17+Y17+Z17+AA17 -> 0.93 | X17: =SUMIF(I17,$X$6,J17) -> 0 | Y17: =SUMIF(I17,$Y$6,J17) -> 0 | Z17: =SUMIF(I17,$Z$6,J17) -> 0 | AA17: =AB17+AC17 -> 0.93 | AB17: =SUMIF(I17,$AB$7,J17) -> 0.93 | AC17: =SUMIF(I17,$AC$7,J17) -> 0
A18: 9 | B18: 인천시 | C18: 연수구 | D18: 9 | E18: 독배로1R | F18: 함흥관 | G18: 옥련사거리 | H18: ○ | I18: 겸용도로 (분리형) | J18: 0.54 | N18: 1.2 | O18: 2 | P18: =-1-0.25+N18+O18-0.25 -> 1.7 | S18: 4 | T18: ○ | U18: 중앙 | W18: =X18+Y18+Z18+AA18 -> 0.54 | X18: =SUMIF(I18,$X$6,J18) -> 0 | Y18: =SUMIF(I18,$Y$6,J18) -> 0 | Z18: =SUMIF(I18,$Z$6,J18) -> 0 | AA18: =AB18+AC18 -> 0.54 | AB18: =SUMIF(I18,$AB$7,J18) -> 0.54 | AC18: =SUMIF(I18,$AC$7,J18) -> 0
A19: 10 | B19: 인천시 | C19: 연수구 | D19: 10 | E19: 독배로1L | F19: 옥련여고 | G19: 옥골사거리 | H19: ○ | I19: 겸용도로 (분리형) | J19: 0.39 | N19: 1.2 | O19: 1.6 | P19: =-1-0.25+N19+O19-0.25 -> 1.3 | S19: 4 | T19: ○ | U19: 중앙 | W19: =X19+Y19+Z19+AA19 -> 0.39 | X19: =SUMIF(I19,$X$6,J19) -> 0 | Y19: =SUMIF(I19,$Y$6,J19) -> 0 | Z19: =SUMIF(I19,$Z$6,J19) -> 0 | AA19: =AB19+AC19 -> 0.39 | AB19: =SUMIF(I19,$AB$7,J19) -> 0.39 | AC19: =SUMIF(I19,$AC$7,J19) -> 0
A20: 11 | B20: 인천시 | C20: 연수구 | D20: 11 | E20: 독배로2L | F20: 옥련사거리 | G20: 현대송도주유소 | H20: ○ | I20: 겸용도로 (분리형) | J20: 0.69 | N20: 1.2 | O20: 2 | P20: =-1-0.25+N20+O20-0.25 -> 1.7 | S20: 4 | T20: ○ | U20: 중앙 | W20: =X20+Y20+Z20+AA20 -> 0.69 | X20: =SUMIF(I20,$X$6,J20) -> 0 | Y20: =SUMIF(I20,$Y$6,J20) -> 0 | Z20: =SUMIF(I20,$Z$6,J20) -> 0 | AA20: =AB20+AC20 -> 0.69 | AB20: =SUMIF(I20,$AB$7,J20) -> 0.69 | AC20: =SUMIF(I20,$AC$7,J20) -> 0
A21: 12 | B21: 인천시 | C21: 연수구 | D21: 12 | E21: 한나루로1R | F21: 현대송도주유소 | G21: 송도초교삼거리 | H21: ○ | I21: 겸용도로 (분리형) | J21: 1.2 | N21: 1.8 | O21: 2.1 | P21: =-1-0.25+N21+O21-0.25 -> 2.4 | S21: 4 | U21: 내측 | W21: =X21+Y21+Z21+AA21 -> 1.2 | X21: =SUMIF(I21,$X$6,J21) -> 0 | Y21: =SUMIF(I21,$Y$6,J21) -> 0 | Z21: =SUMIF(I21,$Z$6,J21) -> 0 | AA21: =AB21+AC21 -> 1.2 | AB21: =SUMIF(I21,$AB$7,J21) -> 1.2 | AC21: =SUMIF(I21,$AC$7,J21) -> 0
A22: 13 | B22: 인천시 | C22: 연수구 | D22: 13 | E22: 한나루로1L | F22: 송도초교삼거리 | G22: 백산2차@ | H22: ○ | I22: 겸용도로 (분리형) | J22: 1.2 | N22: 1.8 | O22: 2.1 | P22: =-1-0.25+N22+O22-0.25 -> 2.4 | S22: 4 | U22: 내측 | W22: =X22+Y22+Z22+AA22 -> 1.2 | X22: =SUMIF(I22,$X$6,J22) -> 0 | Y22: =SUMIF(I22,$Y$6,J22) -> 0 | Z22: =SUMIF(I22,$Z$6,J22) -> 0 | AA22: =AB22+AC22 -> 1.2 | AB22: =SUMIF(I22,$AB$7,J22) -> 1.2 | AC22: =SUMIF(I22,$AC$7,J22) -> 0
A23: 14 | B23: 인천시 | C23: 연수구 | D23: 14 | E23: 미추홀대로1R | F23: 청학공고 | G23: 청학사거리 | H23: ○ | I23: 전용도로 | J23: 0.53 | K23: 1.5 | W23: =X23+Y23+Z23+AA23 -> 0.53 | X23: =SUMIF(I23,$X$6,J23) -> 0.53 | Y23: =SUMIF(I23,$Y$6,J23) -> 0 | Z23: =SUMIF(I23,$Z$6,J23) -> 0 | AA23: =AB23+AC23 -> 0 | AB23: =SUMIF(I23,$AB$7,J23) -> 0 | AC23: =SUMIF(I23,$AC$7,J23) -> 0
A24: 15 | B24: 인천시 | C24: 연수구 | D24: 15 | E24: 미추홀대로1L | F24: 청학사거리 | G24: 연수서해@ | H24: ○ | I24: 전용도로 | J24: 0.39 | K24: 1.5 | W24: =X24+Y24+Z24+AA24 -> 0.39 | X24: =SUMIF(I24,$X$6,J24) -> 0.39 | Y24: =SUMIF(I24,$Y$6,J24) -> 0 | Z24: =SUMIF(I24,$Z$6,J24) -> 0 | AA24: =AB24+AC24 -> 0 | AB24: =SUMIF(I24,$AB$7,J24) -> 0 | AC24: =SUMIF(I24,$AC$7,J24) -> 0
A25: 16 | B25: 인천시 | C25: 연수구 | D25: 16 | E25: 벚꽃로1R | F25: 원인재역삼거리 | G25: 연화사거리 | H25: ○ | I25: 겸용도로 (분리형) | J25: 0.27 | N25: 1.5 | O25: 2.1 | P25: =-1-0.25+N25+O25-0.25 -> 2.1 | S25: 4 | T25: ○ | U25: 내측 | W25: =X25+Y25+Z25+AA25 -> 0.27 | X25: =SUMIF(I25,$X$6,J25) -> 0 | Y25: =SUMIF(I25,$Y$6,J25) -> 0 | Z25: =SUMIF(I25,$Z$6,J25) -> 0 | AA25: =AB25+AC25 -> 0.27 | AB25: =SUMIF(I25,$AB$7,J25) -> 0.27 | AC25: =SUMIF(I25,$AC$7,J25) -> 0
A26: 17 | B26: 인천시 | C26: 연수구 | D26: 17 | E26: 벚꽃로3R | F26: 연수장례식장 | G26: 연수자동차공업사 | H26: ○ | I26: 겸용도로 (분리형) | J26: 0.31 | N26: 1.5 | O26: 2.1 | P26: =-1-0.25+N26+O26-0.25 -> 2.1 | S26: 4 | T26: ○ | U26: 내측 | W26: =X26+Y26+Z26+AA26 -> 0.31 | X26: =SUMIF(I26,$X$6,J26) -> 0 | Y26: =SUMIF(I26,$Y$6,J26) -> 0 | Z26: =SUMIF(I26,$Z$6,J26) -> 0 | AA26: =AB26+AC26 -> 0.31 | AB26: =SUMIF(I26,$AB$7,J26) -> 0.31 | AC26: =SUMIF(I26,$AC$7,J26) -> 0
A27: 18 | B27: 인천시 | C27: 연수구 | D27: 18 | E27: 벚꽃로2R | F27: 연화사거리 | G27: 연수장례식장 | H27: ○ | I27: 겸용도로 (비분리형) | J27: 0.58 | Q27: 2.2 | R27: =-1-0.25+Q27-0.25 -> 0.7 | S27: 4 | T27: ○ | W27: =X27+Y27+Z27+AA27 -> 0.58 | X27: =SUMIF(I27,$X$6,J27) -> 0 | Y27: =SUMIF(I27,$Y$6,J27) -> 0 | Z27: =SUMIF(I27,$Z$6,J27) -> 0 | AA27: =AB27+AC27 -> 0.58 | AB27: =SUMIF(I27,$AB$7,J27) -> 0 | AC27: =SUMIF(I27,$AC$7,J27) -> 0.58
A28: 19 | B28: 인천시 | C28: 연수구 | D28: 19 | E28: 청능대로1R | F28: 연수사거리 | G28: 기아모터스 | H28: ○ | I28: 겸용도로 (분리형) | J28: 1.5 | N28: 1.5 | O28: 1.5 | P28: =-1-0.25+N28+O28-0.25 -> 1.5 | S28: 4 | U28: 내측 | W28: =X28+Y28+Z28+AA28 -> 1.5 | X28: =SUMIF(I28,$X$6,J28) -> 0 | Y28: =SUMIF(I28,$Y$6,J28) -> 0 | Z28: =SUMIF(I28,$Z$6,J28) -> 0 | AA28: =AB28+AC28 -> 1.5 | AB28: =SUMIF(I28,$AB$7,J28) -> 1.5 | AC28: =SUMIF(I28,$AC$7,J28) -> 0
A29: 20 | B29: 인천시 | C29: 연수구 | D29: 20 | E29: 청능대로1L | F29: 태평2차@ | G29: 연수사거리 | H29: ○ | I29: 겸용도로 (분리형) | J29: 1.6 | N29: 1.5 | O29: 1.5 | P29: =-1-0.25+N29+O29-0.25 -> 1.5 | S29: 4 | U29: 내측 | W29: =X29+Y29+Z29+AA29 -> 1.6 | X29: =SUMIF(I29,$X$6,J29) -> 0 | Y29: =SUMIF(I29,$Y$6,J29) -> 0 | Z29: =SUMIF(I29,$Z$6,J29) -> 0 | AA29: =AB29+AC29 -> 1.6 | AB29: =SUMIF(I29,$AB$7,J29) -> 1.6 | AC29: =SUMIF(I29,$AC$7,J29) -> 0
A30: 21 | B30: 인천시 | C30: 연수구 | D30: 21 | E30: 앵고개로1R | F30: 동춘역사거리 | G30: 송도3교 | H30: ○ | I30: 전용도로 | J30: 3.3 | K30: 1.5 | W30: =X30+Y30+Z30+AA30 -> 3.3 | X30: =SUMIF(I30,$X$6,J30) -> 3.3 | Y30: =SUMIF(I30,$Y$6,J30) -> 0 | Z30: =SUMIF(I30,$Z$6,J30) -> 0 | AA30: =AB30+AC30 -> 0 | AB30: =SUMIF(I30,$AB$7,J30) -> 0 | AC30: =SUMIF(I30,$AC$7,J30) -> 0
A31: 22 | B31: 인천시 | C31: 연수구 | D31: 22 | E31: 앵고개로1L | F31: 송도3교 | G31: 동춘역사거리 | H31: ○ | I31: 전용도로 | J31: 3.3 | K31: 1.5 | W31: =X31+Y31+Z31+AA31 -> 3.3 | X31: =SUMIF(I31,$X$6,J31) -> 3.3 | Y31: =SUMIF(I31,$Y$6,J31) -> 0 | Z31: =SUMIF(I31,$Z$6,J31) -> 0 | AA31: =AB31+AC31 -> 0 | AB31: =SUMIF(I31,$AB$7,J31) -> 0 | AC31: =SUMIF(I31,$AC$7,J31) -> 0
A32: 23 | B32: 인천시 | C32: 연수구 | D32: 23 | E32: 능허대로1R | F32: 동막역사거리 | G32: 대건고등학교 | H32: ○ | I32: 전용도로 | J32: 0.64 | K32: 1.5 | W32: =X32+Y32+Z32+AA32 -> 0.64 | X32: =SUMIF(I32,$X$6,J32) -> 0.64 | Y32: =SUMIF(I32,$Y$6,J32) -> 0 | Z32: =SUMIF(I32,$Z$6,J32) -> 0 | AA32: =AB32+AC32 -> 0 | AB32: =SUMIF(I32,$AB$7,J32) -> 0 | AC32: =SUMIF(I32,$AC$7,J32) -> 0
A33: 24 | B33: 인천시 | C33: 연수구 | D33: 24 | E33: 능허대로1L | F33: 대건고등학교 | G33: 동막역사거리 | H33: ○ | I33: 전용도로 | J33: 0.64 | K33: 1.5 | W33: =X33+Y33+Z33+AA33 -> 0.64 | X33: =SUMIF(I33,$X$6,J33) -> 0.64 | Y33: =SUMIF(I33,$Y$6,J33) -> 0 | Z33: =SUMIF(I33,$Z$6,J33) -> 0 | AA33: =AB33+AC33 -> 0 | AB33: =SUMIF(I33,$AB$7,J33) -> 0 | AC33: =SUMIF(I33,$AC$7,J33) -> 0
A34: 25 | B34: 인천시 | C34: 연수구 | D34: 25 | E34: 먼우금로1R | F34: 구석말삼거리 | G34: 메가박스앞 | H34: ○ | I34: 전용도로 | J34: 2.3 | K34: 1.5 | W34: =X34+Y34+Z34+AA34 -> 2.3 | X34: =SUMIF(I34,$X$6,J34) -> 2.3 | Y34: =SUMIF(I34,$Y$6,J34) -> 0 | Z34: =SUMIF(I34,$Z$6,J34) -> 0 | AA34: =AB34+AC34 -> 0 | AB34: =SUMIF(I34,$AB$7,J34) -> 0 | AC34: =SUMIF(I34,$AC$7,J34) -> 0
A35: 26 | B35: 인천시 | C35: 연수구 | D35: 26 | E35: 먼우금로1L | F35: 메가박스앞 | G35: 구석말삼거리 | H35: ○ | I35: 전용도로 | J35: 2.3 | K35: 1.5 | W35: =X35+Y35+Z35+AA35 -> 2.3 | X35: =SUMIF(I35,$X$6,J35) -> 2.3 | Y35: =SUMIF(I35,$Y$6,J35) -> 0 | Z35: =SUMIF(I35,$Z$6,J35) -> 0 | AA35: =AB35+AC35 -> 0 | AB35: =SUMIF(I35,$AB$7,J35) -> 0 | AC35: =SUMIF(I35,$AC$7,J35) -> 0
A36: 27 | B36: 인천시 | C36: 연수구 | D36: 27 | E36: 원인재로1R | F36: 서면초교사거리 | G36: 길마산사거리 | H36: ○ | I36: 전용도로 | J36: 3.5 | K36: 1.5 | W36: =X36+Y36+Z36+AA36 -> 3.5 | X36: =SUMIF(I36,$X$6,J36) -> 3.5 | Y36: =SUMIF(I36,$Y$6,J36) -> 0 | Z36: =SUMIF(I36,$Z$6,J36) -> 0 | AA36: =AB36+AC36 -> 0 | AB36: =SUMIF(I36,$AB$7,J36) -> 0 | AC36: =SUMIF(I36,$AC$7,J36) -> 0
A37: 28 | B37: 인천시 | C37: 연수구 | D37: 28 | E37: 원인재로1L | F37: 길마산사거리 | G37: 서면초교사거리 | H37: ○ | I37: 전용도로 | J37: 3.5 | K37: 1.5 | W37: =X37+Y37+Z37+AA37 -> 3.5 | X37: =SUMIF(I37,$X$6,J37) -> 3.5 | Y37: =SUMIF(I37,$Y$6,J37) -> 0 | Z37: =SUMIF(I37,$Z$6,J37) -> 0 | AA37: =AB37+AC37 -> 0 | AB37: =SUMIF(I37,$AB$7,J37) -> 0 | AC37: =SUMIF(I37,$AC$7,J37) -> 0
A38: 29 | B38: 인천시 | C38: 연수구 | D38: 29 | E38: 함박뫼로 | F38: 함박뫼사거리 | G38: 연화사거리 | H38: ○ | I38: 겸용도로 (비분리형) | J38: 1.2 | Q38: 2.4 | R38: =-1-0.25+Q38-0.25 -> 0.9 | S38: 4 | T38: ○ | W38: =X38+Y38+Z38+AA38 -> 1.2 | X38: =SUMIF(I38,$X$6,J38) -> 0 | Y38: =SUMIF(I38,$Y$6,J38) -> 0 | Z38: =SUMIF(I38,$Z$6,J38) -> 0 | AA38: =AB38+AC38 -> 1.2 | AB38: =SUMIF(I38,$AB$7,J38) -> 0 | AC38: =SUMIF(I38,$AC$7,J38) -> 1.2
A39: 30 | B39: 인천시 | C39: 연수구 | D39: 30 | E39: 경원대로1R | F39: 송도1교 | G39: 선학역사거리 | H39: ○ | I39: 겸용도로 (분리형) | J39: 4.4 | N39: 1.3 | O39: 2.4 | P39: =-1-0.25+N39+O39-0.25 -> 2.2 | S39: 4 | T39: ○ | U39: 내측 | W39: =X39+Y39+Z39+AA39 -> 4.4 | X39: =SUMIF(I39,$X$6,J39) -> 0 | Y39: =SUMIF(I39,$Y$6,J39) -> 0 | Z39: =SUMIF(I39,$Z$6,J39) -> 0 | AA39: =AB39+AC39 -> 4.4 | AB39: =SUMIF(I39,$AB$7,J39) -> 4.4 | AC39: =SUMIF(I39,$AC$7,J39) -> 0
A40: 31 | B40: 인천시 | C40: 연수구 | D40: 31 | E40: 경원대로2R | F40: 금호종합상가 | G40: 선학역1번출구 | H40: ○ | I40: 겸용도로 (분리형) | J40: 0.12 | N40: 1.5 | O40: 3.5 | P40: =-1-0.25+N40+O40-0.25 -> 3.5 | S40: 4 | T40: ○ | U40: 내측 | W40: =X40+Y40+Z40+AA40 -> 0.12 | X40: =SUMIF(I40,$X$6,J40) -> 0 | Y40: =SUMIF(I40,$Y$6,J40) -> 0 | Z40: =SUMIF(I40,$Z$6,J40) -> 0 | AA40: =AB40+AC40 -> 0.12 | AB40: =SUMIF(I40,$AB$7,J40) -> 0.12 | AC40: =SUMIF(I40,$AC$7,J40) -> 0
A41: 32 | B41: 인천시 | C41: 연수구 | D41: 32 | E41: 경원대로3R | F41: 선학동금호타운6동 뒤 | G41: sk서해주유소 | H41: ○ | I41: 겸용도로 (분리형) | J41: 0.37 | N41: 2 | O41: 4 | P41: =-1-0.25+N41+O41-0.25 -> 4.5 | S41: 4 | T41: ○ | U41: 내측 | W41: =X41+Y41+Z41+AA41 -> 0.37 | X41: =SUMIF(I41,$X$6,J41) -> 0 | Y41: =SUMIF(I41,$Y$6,J41) -> 0 | Z41: =SUMIF(I41,$Z$6,J41) -> 0 | AA41: =AB41+AC41 -> 0.37 | AB41: =SUMIF(I41,$AB$7,J41) -> 0.37 | AC41: =SUMIF(I41,$AC$7,J41) -> 0
A42: 33 | B42: 인천시 | C42: 연수구 | D42: 33 | E42: 경원대로1L | F42: 온누리꽃농원 | G42: 선학동먹자골목입구 | H42: ○ | I42: 겸용도로 (분리형) | J42: 0.36 | N42: 1.3 | O42: 2.4 | P42: =-1-0.25+N42+O42-0.25 -> 2.2 | S42: 4 | T42: ○ | U42: 내측 | W42: =X42+Y42+Z42+AA42 -> 0.36 | X42: =SUMIF(I42,$X$6,J42) -> 0 | Y42: =SUMIF(I42,$Y$6,J42) -> 0 | Z42: =SUMIF(I42,$Z$6,J42) -> 0 | AA42: =AB42+AC42 -> 0.36 | AB42: =SUMIF(I42,$AB$7,J42) -> 0.36 | AC42: =SUMIF(I42,$AC$7,J42) -> 0
A43: 34 | B43: 인천시 | C43: 연수구 | D43: 34 | E43: 경원대로2L | F43: 선학역사거리 | G43: 송도1교 | H43: ○ | I43: 겸용도로 (분리형) | J43: 4.3 | N43: 1.5 | O43: 3 | P43: =-1-0.25+N43+O43-0.25 -> 3 | S43: 4 | T43: ○ | U43: 내측 | W43: =X43+Y43+Z43+AA43 -> 4.3 | X43: =SUMIF(I43,$X$6,J43) -> 0 | Y43: =SUMIF(I43,$Y$6,J43) -> 0 | Z43: =SUMIF(I43,$Z$6,J43) -> 0 | AA43: =AB43+AC43 -> 4.3 | AB43: =SUMIF(I43,$AB$7,J43) -> 4.3 | AC43: =SUMIF(I43,$AC$7,J43) -> 0
A44: 35 | B44: 인천시 | C44: 연수구 | D44: 35 | E44: 경원대로4R | F44: 선학역사거리 | G44: 금호종합상가 | H44: ○ | I44: 전용도로 | J44: 0.29 | K44: 1.5 | W44: =X44+Y44+Z44+AA44 -> 0.29 | X44: =SUMIF(I44,$X$6,J44) -> 0.29 | Y44: =SUMIF(I44,$Y$6,J44) -> 0 | Z44: =SUMIF(I44,$Z$6,J44) -> 0 | AA44: =AB44+AC44 -> 0 | AB44: =SUMIF(I44,$AB$7,J44) -> 0 | AC44: =SUMIF(I44,$AC$7,J44) -> 0
A45: 36 | B45: 인천시 | C45: 연수구 | D45: 36 | E45: 경원대로5R | F45: 금호종합상가 | G45: 선학동금호타운6동귀 | H45: ○ | I45: 전용도로 | J45: 0.12 | K45: 1.5 | W45: =X45+Y45+Z45+AA45 -> 0.12 | X45: =SUMIF(I45,$X$6,J45) -> 0.12 | Y45: =SUMIF(I45,$Y$6,J45) -> 0 | Z45: =SUMIF(I45,$Z$6,J45) -> 0 | AA45: =AB45+AC45 -> 0 | AB45: =SUMIF(I45,$AB$7,J45) -> 0 | AC45: =SUMIF(I45,$AC$7,J45) -> 0
A46: 37 | B46: 인천시 | C46: 연수구 | D46: 37 | E46: 경원대로6R | F46: sk서해주유소 | G46: 시정순대 | H46: ○ | I46: 전용도로 | J46: 0.7 | K46: 1.5 | W46: =X46+Y46+Z46+AA46 -> 0.7 | X46: =SUMIF(I46,$X$6,J46) -> 0.7 | Y46: =SUMIF(I46,$Y$6,J46) -> 0 | Z46: =SUMIF(I46,$Z$6,J46) -> 0 | AA46: =AB46+AC46 -> 0 | AB46: =SUMIF(I46,$AB$7,J46) -> 0 | AC46: =SUMIF(I46,$AC$7,J46) -> 0
A47: 38 | B47: 인천시 | C47: 연수구 | D47: 38 | E47: 경원대로3L | F47: 문학경기장 | G47: 온누리꽃농원 | H47: ○ | I47: 전용도로 | J47: 0.87 | K47: 1.5 | W47: =X47+Y47+Z47+AA47 -> 0.87 | X47: =SUMIF(I47,$X$6,J47) -> 0.87 | Y47: =SUMIF(I47,$Y$6,J47) -> 0 | Z47: =SUMIF(I47,$Z$6,J47) -> 0 | AA47: =AB47+AC47 -> 0 | AB47: =SUMIF(I47,$AB$7,J47) -> 0 | AC47: =SUMIF(I47,$AC$7,J47) -> 0
A48: 39 | B48: 인천시 | C48: 연수구 | D48: 39 | E48: 경원대로4L | F48: 선학동먹자골목 | G48: 선학역사거리 | H48: ○ | I48: 전용도로 | J48: 0.3 | K48: 1.5 | W48: =X48+Y48+Z48+AA48 -> 0.3 | X48: =SUMIF(I48,$X$6,J48) -> 0.3 | Y48: =SUMIF(I48,$Y$6,J48) -> 0 | Z48: =SUMIF(I48,$Z$6,J48) -> 0 | AA48: =AB48+AC48 -> 0 | AB48: =SUMIF(I48,$AB$7,J48) -> 0 | AC48: =SUMIF(I48,$AC$7,J48) -> 0
A49: 40 | B49: 인천시 | C49: 연수구 | D49: 40 | E49: 예술로1R | F49: 문학경기장역 | G49: 종합터미널입구 | H49: ○ | I49: 전용도로 | J49: 0.56 | K49: 1.5 | W49: =X49+Y49+Z49+AA49 -> 0.56 | X49: =SUMIF(I49,$X$6,J49) -> 0.56 | Y49: =SUMIF(I49,$Y$6,J49) -> 0 | Z49: =SUMIF(I49,$Z$6,J49) -> 0 | AA49: =AB49+AC49 -> 0 | AB49: =SUMIF(I49,$AB$7,J49) -> 0 | AC49: =SUMIF(I49,$AC$7,J49) -> 0
A50: 41 | B50: 인천시 | C50: 연수구 | D50: 41 | E50: 예술로1L | F50: 창덕궁 | G50: 문학경기장역 | H50: ○ | I50: 전용도로 | J50: 0.24 | K50: 1.5 | W50: =X50+Y50+Z50+AA50 -> 0.24 | X50: =SUMIF(I50,$X$6,J50) -> 0.24 | Y50: =SUMIF(I50,$Y$6,J50) -> 0 | Z50: =SUMIF(I50,$Z$6,J50) -> 0 | AA50: =AB50+AC50 -> 0 | AB50: =SUMIF(I50,$AB$7,J50) -> 0 | AC50: =SUMIF(I50,$AC$7,J50) -> 0
A51: 42 | B51: 인천시 | C51: 연수구 | D51: 42 | E51: 매소홀로682번길 | F51: 창덕궁 | G51: 교통공원사거리 | H51: ○ | I51: 전용도로 | J51: 0.31 | K51: 1.5 | W51: =X51+Y51+Z51+AA51 -> 0.31 | X51: =SUMIF(I51,$X$6,J51) -> 0.31 | Y51: =SUMIF(I51,$Y$6,J51) -> 0 | Z51: =SUMIF(I51,$Z$6,J51) -> 0 | AA51: =AB51+AC51 -> 0 | AB51: =SUMIF(I51,$AB$7,J51) -> 0 | AC51: =SUMIF(I51,$AC$7,J51) -> 0

Sheet 05 § 남동구
A1: 자전거도로 실태조사 총괄표
A4: 1.기본사항 | I4: 2.조사대상 자전거도로 현황 | T4: 3.판단 | W4: 4. 자전거도로 연장
A5: No | B5: 시도 | C5: 자치구 | D5: 일련번호 | E5: 노선명 | F5: 기점 | G5: 종점 | H5: 도로 연계성 | I5: 자전거도로 종류 | J5: 총연장 (km) /0.00 | K5: 자전거도로 폭원(m) /.0 | S5: 보행량 (점) | T5: 개선 필요여부 | U5: 자전거 도로 위치 | V5: 비고 및 점검 | W5: 자전거도로 연장(km) /.00
K6: 전용도로 | L6: 전용차로 | M6: 우선도로 | N6: 자전거보행자겸용도로 | W6: 총연장(km) /0.00 | X6: 전용도로 | Y6: 전용차로 | Z6: 우선도로 | AA6: 자전거보행자겸용도로
N7: 분리형 | Q7: 비분리형 | AA7: 소계 | AB7: 겸용도로 (분리형) | AC7: 겸용도로 (비분리형)
N8: 자전거도로 | O8: 보도 | P8: 유효폭원 | Q8: 도로폭원 | R8: 유효폭원
B9: 인천시 | C9: 남동구 | D9: 118개 노선 | H9: =COUNTIF(H10:H1048576,"○") -> 117 | J9: =SUM(J10:J1048576) -> 117.4 | K9: =COUNTIF(I10:I1048576,X6) -> 16 | L9: =COUNTIF(I10:I1048576,Y6) -> 7 | M9: =COUNTIF(I10:I1048576,Z6) -> 0 | N9: =COUNTIF(I10:I1048576,AB7) -> 86 | Q9: =COUNTIF(I10:I1048576,AC7) -> 9 | T9: =COUNTIF(T10:T1048576,"○") -> 0 | W9: =SUM(W10:W1048576) -> 117.4 | X9: =SUM(X10:X1048576) -> 20.32 | Y9: =SUM(Y10:Y1048576) -> 5.36 | Z9: =SUM(Z10:Z1048576) -> 0 | AA9: =SUM(AA10:AA1048576) -> 91.72 | AB9: =SUM(AB10:AB1048576) -> 82.59 | AC9: =SUM(AC10:AC1048576) -> 9.13
A10: 1 | B10: 인천시 | C10: 남동구 | D10: 1 | E10: 소래역남로 1R | F10: 아암대로 | G10: 앵고개로 | H10: ○ | I10: 겸용도로 (분리형) | J10: 0.5 | N10: 1.6 | O10: 2.6 | P10: =-1-0.25+N10+O10-0.25 -> 2.7 | S10: 2 | U10: 내측 | W10: =X10+Y10+Z10+AA10 -> 0.5 | X10: =SUMIF(I10,$X$6,J10) -> 0 | Y10: =SUMIF(I10,$Y$6,J10) -> 0 | Z10: =SUMIF(I10,$Z$6,J10) -> 0 | AA10: =AB10+AC10 -> 0.5 | AB10: =SUMIF(I10,$AB$7,J10) -> 0.5 | AC10: =SUMIF(I10,$AC$7,J10) -> 0
A11: 2 | B11: 인천시 | C11: 남동구 | D11: 2 | E11: 소래역남로 1L | F11: 아암대로 | G11: 앵고개로 | H11: ○ | I11: 겸용도로 (분리형) | J11: 0.5 | N11: 1.6 | O11: 2.6 | P11: =-1-0.25+N11+O11-0.25 -> 2.7 | S11: 2 | U11: 내측 | W11: =X11+Y11+Z11+AA11 -> 0.5 | X11: =SUMIF(I11,$X$6,J11) -> 0 | Y11: =SUMIF(I11,$Y$6,J11) -> 0 | Z11: =SUMIF(I11,$Z$6,J11) -> 0 | AA11: =AB11+AC11 -> 0.5 | AB11: =SUMIF(I11,$AB$7,J11) -> 0.5 | AC11: =SUMIF(I11,$AC$7,J11) -> 0
A12: 3 | B12: 인천시 | C12: 남동구 | D12: 3 | E12: 아암대로1 | F12: 아암대로 1437번길 | G12: 아암2교 | H12: ○ | I12: 전용도로 | J12: 1.51 | K12: 2.2 | S12: 3 | W12: =X12+Y12+Z12+AA12 -> 1.51 | X12: =SUMIF(I12,$X$6,J12) -> 1.51 | Y12: =SUMIF(I12,$Y$6,J12) -> 0 | Z12: =SUMIF(I12,$Z$6,J12) -> 0 | AA12: =AB12+AC12 -> 0 | AB12: =SUMIF(I12,$AB$7,J12) -> 0 | AC12: =SUMIF(I12,$AC$7,J12) -> 0
A13: 4 | B13: 인천시 | C13: 남동구 | D13: 4 | E13: 아암대로2 | F13: 아암2교 | G13: 에코중앙로 | H13: ○ | I13: 겸용도로 (비분리형) | J13: 1 | Q13: 1 | R13: =-1-0.25+Q13-0.25 -> -0.5 | S13: 3 | V13: 재검토 | W13: =X13+Y13+Z13+AA13 -> 1 | X13: =SUMIF(I13,$X$6,J13) -> 0 | Y13: =SUMIF(I13,$Y$6,J13) -> 0 | Z13: =SUMIF(I13,$Z$6,J13) -> 0 | AA13: =AB13+AC13 -> 1 | AB13: =SUMIF(I13,$AB$7,J13) -> 0 | AC13: =SUMIF(I13,$AC$7,J13) -> 1
A14: 5 | B14: 인천시 | C14: 남동구 | D14: 5 | E14: 아암대로1437번길 1R | F14: 아암대로 | G14: 에코중앙로 | H14: ○ | I14: 전용차로 | J14: 0.34 | L14: 1 | S14: 2 | W14: =X14+Y14+Z14+AA14 -> 0.34 | X14: =SUMIF(I14,$X$6,J14) -> 0 | Y14: =SUMIF(I14,$Y$6,J14) -> 0.34 | Z14: =SUMIF(I14,$Z$6,J14) -> 0 | AA14: =AB14+AC14 -> 0 | AB14: =SUMIF(I14,$AB$7,J14) -> 0 | AC14: =SUMIF(I14,$AC$7,J14) -> 0
A15: 6 | B15: 인천시 | C15: 남동구 | D15: 6 | E15: 아암대로1437번길 1L | F15: 아암대로 | G15: 에코중앙로 | H15: ○ | I15: 전용차로 | J15: 0.34 | L15: 1 | S15: 2 | W15: =X15+Y15+Z15+AA15 -> 0.34 | X15: =SUMIF(I15,$X$6,J15) -> 0 | Y15: =SUMIF(I15,$Y$6,J15) -> 0.34 | Z15: =SUMIF(I15,$Z$6,J15) -> 0 | AA15: =AB15+AC15 -> 0 | AB15: =SUMIF(I15,$AB$7,J15) -> 0 | AC15: =SUMIF(I15,$AC$7,J15) -> 0
A16: 7 | B16: 인천시 | C16: 남동구 | D16: 7 | E16: 청능대로 남동대교 1R | F16: 스퀘어어1 | G16: 청능대로 | H16: ○ | I16: 겸용도로 (비분리형) | J16: 0.19 | Q16: 1.8 | R16: =-1-0.25+Q16-0.25 -> 0.3 | S16: 3 | U16: 내측 | V16: 재검토 | W16: =X16+Y16+Z16+AA16 -> 0.19 | X16: =SUMIF(I16,$X$6,J16) -> 0 | Y16: =SUMIF(I16,$Y$6,J16) -> 0 | Z16: =SUMIF(I16,$Z$6,J16) -> 0 | AA16: =AB16+AC16 -> 0.19 | AB16: =SUMIF(I16,$AB$7,J16) -> 0 | AC16: =SUMIF(I16,$AC$7,J16) -> 0.19
A17: 8 | B17: 인천시 | C17: 남동구 | D17: 8 | E17: 청능대로 남동대교 1L | F17: 스퀘어어1 | G17: 청능대로 | H17: ○ | I17: 겸용도로 (비분리형) | J17: 0.19 | Q17: 1.8 | R17: =-1-0.25+Q17-0.25 -> 0.3 | S17: 3 | U17: 내측 | V17: 재검토 | W17: =X17+Y17+Z17+AA17 -> 0.19 | X17: =SUMIF(I17,$X$6,J17) -> 0 | Y17: =SUMIF(I17,$Y$6,J17) -> 0 | Z17: =SUMIF(I17,$Z$6,J17) -> 0 | AA17: =AB17+AC17 -> 0.19 | AB17: =SUMIF(I17,$AB$7,J17) -> 0 | AC17: =SUMIF(I17,$AC$7,J17) -> 0.19
A18: 9 | B18: 인천시 | C18: 남동구 | D18: 9 | E18: 청능대로 1R | F18: 남동대교 | G18: 청능대로 484번길 4 | H18: ○ | I18: 전용도로 | J18: 2.55 | K18: 1.4 | S18: 2 | W18: =X18+Y18+Z18+AA18 -> 2.55 | X18: =SUMIF(I18,$X$6,J18) -> 2.55 | Y18: =SUMIF(I18,$Y$6,J18) -> 0 | Z18: =SUMIF(I18,$Z$6,J18) -> 0 | AA18: =AB18+AC18 -> 0 | AB18: =SUMIF(I18,$AB$7,J18) -> 0 | AC18: =SUMIF(I18,$AC$7,J18) -> 0
A19: 10 | B19: 인천시 | C19: 남동구 | D19: 10 | E19: 청능대로 1R | F19: 남동대교 | G19: 청능대로 484번길 4 | H19: ○ | I19: 전용도로 | J19: 2.55 | K19: 1.4 | S19: 2 | W19: =X19+Y19+Z19+AA19 -> 2.55 | X19: =SUMIF(I19,$X$6,J19) -> 2.55 | Y19: =SUMIF(I19,$Y$6,J19) -> 0 | Z19: =SUMIF(I19,$Z$6,J19) -> 0 | AA19: =AB19+AC19 -> 0 | AB19: =SUMIF(I19,$AB$7,J19) -> 0 | AC19: =SUMIF(I19,$AC$7,J19) -> 0
A20: 11 | B20: 인천시 | C20: 남동구 | D20: 11 | E20: 청능대로 2R | F20: 청능대로 484번길 4 | G20: 소래로 | H20: ○ | I20: 겸용도로 (분리형) | J20: 2.63 | N20: 1.3 | O20: 3.2 | P20: =-1-0.25+N20+O20-0.25 -> 3 | S20: 2 | U20: 내측 | W20: =X20+Y20+Z20+AA20 -> 2.63 | X20: =SUMIF(I20,$X$6,J20) -> 0 | Y20: =SUMIF(I20,$Y$6,J20) -> 0 | Z20: =SUMIF(I20,$Z$6,J20) -> 0 | AA20: =AB20+AC20 -> 2.63 | AB20: =SUMIF(I20,$AB$7,J20) -> 2.63 | AC20: =SUMIF(I20,$AC$7,J20) -> 0
A21: 12 | B21: 인천시 | C21: 남동구 | D21: 12 | E21: 청능대로 2L | F21: 청능대로 484번길 4 | G21: 소래로 | H21: ○ | I21: 겸용도로 (분리형) | J21: 2.63 | N21: 1.3 | O21: 3.2 | P21: =-1-0.25+N21+O21-0.25 -> 3 | S21: 2 | U21: 내측 | W21: =X21+Y21+Z21+AA21 -> 2.63 | X21: =SUMIF(I21,$X$6,J21) -> 0 | Y21: =SUMIF(I21,$Y$6,J21) -> 0 | Z21: =SUMIF(I21,$Z$6,J21) -> 0 | AA21: =AB21+AC21 -> 2.63 | AB21: =SUMIF(I21,$AB$7,J21) -> 2.63 | AC21: =SUMIF(I21,$AC$7,J21) -> 0
A22: 13 | B22: 인천시 | C22: 남동구 | D22: 13 | E22: 소래역로 1R | F22: 은봉로 | G22: 아암대로 | H22: ○ | I22: 겸용도로 (분리형) | J22: 1.34 | N22: 1.3 | O22: 2 | P22: =-1-0.25+N22+O22-0.25 -> 1.8 | S22: 1 | U22: 내측 | W22: =X22+Y22+Z22+AA22 -> 1.34 | X22: =SUMIF(I22,$X$6,J22) -> 0 | Y22: =SUMIF(I22,$Y$6,J22) -> 0 | Z22: =SUMIF(I22,$Z$6,J22) -> 0 | AA22: =AB22+AC22 -> 1.34 | AB22: =SUMIF(I22,$AB$7,J22) -> 1.34 | AC22: =SUMIF(I22,$AC$7,J22) -> 0
A23: 14 | B23: 인천시 | C23: 남동구 | D23: 14 | E23: 소래역로 1L | F23: 은봉로 | G23: 아암대로 | H23: ○ | I23: 겸용도로 (분리형) | J23: 1.34 | N23: 1.3 | O23: 2 | P23: =-1-0.25+N23+O23-0.25 -> 1.8 | S23: 1 | U23: 내측 | W23: =X23+Y23+Z23+AA23 -> 1.34 | X23: =SUMIF(I23,$X$6,J23) -> 0 | Y23: =SUMIF(I23,$Y$6,J23) -> 0 | Z23: =SUMIF(I23,$Z$6,J23) -> 0 | AA23: =AB23+AC23 -> 1.34 | AB23: =SUMIF(I23,$AB$7,J23) -> 1.34 | AC23: =SUMIF(I23,$AC$7,J23) -> 0
A24: 15 | B24: 인천시 | C24: 남동구 | D24: 15 | E24: 포구로 1R | F24: 남동구 논현동 600-9 | G24: 남동구 논현동 600-3 | H24: ○ | I24: 겸용도로 (분리형) | J24: 0.43 | N24: 1.6 | O24: 2.2 | P24: =-1-0.25+N24+O24-0.25 -> 2.3 | S24: 2 | U24: 내측 | W24: =X24+Y24+Z24+AA24 -> 0.43 | X24: =SUMIF(I24,$X$6,J24) -> 0 | Y24: =SUMIF(I24,$Y$6,J24) -> 0 | Z24: =SUMIF(I24,$Z$6,J24) -> 0 | AA24: =AB24+AC24 -> 0.43 | AB24: =SUMIF(I24,$AB$7,J24) -> 0.43 | AC24: =SUMIF(I24,$AC$7,J24) -> 0
A25: 16 | B25: 인천시 | C25: 남동구 | D25: 16 | E25: 포구로 1L | F25: 남동구 논현동 602-1 | G25: 남동구 논현동 601-1 | H25: ○ | I25: 겸용도로 (분리형) | J25: 0.43 | N25: 1.6 | O25: 2.2 | P25: =-1-0.25+N25+O25-0.25 -> 2.3 | S25: 2 | U25: 내측 | W25: =X25+Y25+Z25+AA25 -> 0.43 | X25: =SUMIF(I25,$X$6,J25) -> 0 | Y25: =SUMIF(I25,$Y$6,J25) -> 0 | Z25: =SUMIF(I25,$Z$6,J25) -> 0 | AA25: =AB25+AC25 -> 0.43 | AB25: =SUMIF(I25,$AB$7,J25) -> 0.43 | AC25: =SUMIF(I25,$AC$7,J25) -> 0
A26: 17 | B26: 인천시 | C26: 남동구 | D26: 17 | E26: 앵고개로 1L | F26: 연수교 | G26: 논고개길사거리 | H26: ○ | I26: 전용도로 | J26: 3.12 | K26: 1.8 | S26: 2 | W26: =X26+Y26+Z26+AA26 -> 3.12 | X26: =SUMIF(I26,$X$6,J26) -> 3.12 | Y26: =SUMIF(I26,$Y$6,J26) -> 0 | Z26: =SUMIF(I26,$Z$6,J26) -> 0 | AA26: =AB26+AC26 -> 0 | AB26: =SUMIF(I26,$AB$7,J26) -> 0 | AC26: =SUMIF(I26,$AC$7,J26) -> 0
A27: 18 | B27: 인천시 | C27: 남동구 | D27: 18 | E27: 앵고개로 2R | F27: 앵고개로 716 | G27: 소래포구역 | H27: ○ | I27: 전용도로 | J27: 1.93 | K27: 1.2 | S27: 2 | W27: =X27+Y27+Z27+AA27 -> 1.93 | X27: =SUMIF(I27,$X$6,J27) -> 1.93 | Y27: =SUMIF(I27,$Y$6,J27) -> 0 | Z27: =SUMIF(I27,$Z$6,J27) -> 0 | AA27: =AB27+AC27 -> 0 | AB27: =SUMIF(I27,$AB$7,J27) -> 0 | AC27: =SUMIF(I27,$AC$7,J27) -> 0
A28: 19 | B28: 인천시 | C28: 남동구 | D28: 19 | E28: 앵고개로 2L | F28: 앵고개로 717 | G28: 소래포구역 | H28: ○ | I28: 전용도로 | J28: 1.93 | K28: 1.2 | S28: 2 | W28: =X28+Y28+Z28+AA28 -> 1.93 | X28: =SUMIF(I28,$X$6,J28) -> 1.93 | Y28: =SUMIF(I28,$Y$6,J28) -> 0 | Z28: =SUMIF(I28,$Z$6,J28) -> 0 | AA28: =AB28+AC28 -> 0 | AB28: =SUMIF(I28,$AB$7,J28) -> 0 | AC28: =SUMIF(I28,$AC$7,J28) -> 0
A29: 20 | B29: 인천시 | C29: 남동구 | D29: 20 | E29: 앵고개로 3R | F29: 남동구 앵고개로 928 | G29: 장도로 26-1 | H29: ○ | I29: 겸용도로 (분리형) | J29: 0.25 | N29: 1.2 | O29: 2.8 | P29: =-1-0.25+N29+O29-0.25 -> 2.5 | S29: 3 | U29: 내측 | W29: =X29+Y29+Z29+AA29 -> 0.25 | X29: =SUMIF(I29,$X$6,J29) -> 0 | Y29: =SUMIF(I29,$Y$6,J29) -> 0 | Z29: =SUMIF(I29,$Z$6,J29) -> 0 | AA29: =AB29+AC29 -> 0.25 | AB29: =SUMIF(I29,$AB$7,J29) -> 0.25 | AC29: =SUMIF(I29,$AC$7,J29) -> 0
A30: 21 | B30: 인천시 | C30: 남동구 | D30: 21 | E30: 앵고개로 3L | F30: 남동구 소래역동로 2-15 | G30: 남동구 논현동 674 | H30: ○ | I30: 겸용도로 (분리형) | J30: 0.25 | N30: 1.2 | O30: 2.8 | P30: =-1-0.25+N30+O30-0.25 -> 2.5 | S30: 3 | U30: 내측 | W30: =X30+Y30+Z30+AA30 -> 0.25 | X30: =SUMIF(I30,$X$6,J30) -> 0 | Y30: =SUMIF(I30,$Y$6,J30) -> 0 | Z30: =SUMIF(I30,$Z$6,J30) -> 0 | AA30: =AB30+AC30 -> 0.25 | AB30: =SUMIF(I30,$AB$7,J30) -> 0.25 | AC30: =SUMIF(I30,$AC$7,J30) -> 0
A31: 22 | B31: 인천시 | C31: 남동구 | D31: 22 | E31: 매소홀로 1L | F31: 서창동 611번지 | G31: 서창동 608번지 | H31: ○ | I31: 겸용도로 (분리형) | J31: 0.17 | N31: 2.8 | O31: 4.2 | P31: =-1-0.25+N31+O31-0.25 -> 5.5 | S31: 2 | U31: 도로측 | W31: =X31+Y31+Z31+AA31 -> 0.17 | X31: =SUMIF(I31,$X$6,J31) -> 0 | Y31: =SUMIF(I31,$Y$6,J31) -> 0 | Z31: =SUMIF(I31,$Z$6,J31) -> 0 | AA31: =AB31+AC31 -> 0.17 | AB31: =SUMIF(I31,$AB$7,J31) -> 0.17 | AC31: =SUMIF(I31,$AC$7,J31) -> 0
A32: 23 | B32: 인천시 | C32: 남동구 | D32: 23 | E32: 매소홀로 2L | F32: 매소홀로 1118 | G32: 매소홀로 1090 | H32: ○ | I32: 겸용도로 (분리형) | J32: 0.29 | N32: 1.4 | O32: 2 | P32: =-1-0.25+N32+O32-0.25 -> 1.9 | S32: 2 | U32: 도로측 | W32: =X32+Y32+Z32+AA32 -> 0.29 | X32: =SUMIF(I32,$X$6,J32) -> 0 | Y32: =SUMIF(I32,$Y$6,J32) -> 0 | Z32: =SUMIF(I32,$Z$6,J32) -> 0 | AA32: =AB32+AC32 -> 0.29 | AB32: =SUMIF(I32,$AB$7,J32) -> 0.29 | AC32: =SUMIF(I32,$AC$7,J32) -> 0
A33: 24 | B33: 인천시 | C33: 남동구 | D33: 24 | E33: 매소홀로 3R | F33: 남동중학교 | G33: 소래로 | H33: ○ | I33: 겸용도로 (분리형) | J33: 0.55 | N33: 1.2 | O33: 1.2 | P33: =-1-0.25+N33+O33-0.25 -> 0.9 | S33: 2 | U33: 도로측 | W33: =X33+Y33+Z33+AA33 -> 0.55 | X33: =SUMIF(I33,$X$6,J33) -> 0 | Y33: =SUMIF(I33,$Y$6,J33) -> 0 | Z33: =SUMIF(I33,$Z$6,J33) -> 0 | AA33: =AB33+AC33 -> 0.55 | AB33: =SUMIF(I33,$AB$7,J33) -> 0.55 | AC33: =SUMIF(I33,$AC$7,J33) -> 0
A34: 25 | B34: 인천시 | C34: 남동구 | D34: 25 | E34: 매소홀로 3L | F34: 매소홀로 1040 | G34: 소래로 | H34: ○ | I34: 겸용도로 (분리형) | J34: 0.55 | N34: 1.2 | O34: 1.2 | P34: =-1-0.25+N34+O34-0.25 -> 0.9 | S34: 2 | U34: 도로측 | W34: =X34+Y34+Z34+AA34 -> 0.55 | X34: =SUMIF(I34,$X$6,J34) -> 0 | Y34: =SUMIF(I34,$Y$6,J34) -> 0 | Z34: =SUMIF(I34,$Z$6,J34) -> 0 | AA34: =AB34+AC34 -> 0.55 | AB34: =SUMIF(I34,$AB$7,J34) -> 0.55 | AC34: =SUMIF(I34,$AC$7,J34) -> 0
A35: 26 | B35: 인천시 | C35: 남동구 | D35: 26 | E35: 매소홀로 4R | F35: 소래로 | G35: 매소홀터털 | H35: ○ | I35: 겸용도로 (분리형) | J35: 0.27 | N35: 1.5 | O35: 2.5 | P35: =-1-0.25+N35+O35-0.25 -> 2.5 | S35: 3 | U35: 도로측 | W35: =X35+Y35+Z35+AA35 -> 0.27 | X35: =SUMIF(I35,$X$6,J35) -> 0 | Y35: =SUMIF(I35,$Y$6,J35) -> 0 | Z35: =SUMIF(I35,$Z$6,J35) -> 0 | AA35: =AB35+AC35 -> 0.27 | AB35: =SUMIF(I35,$AB$7,J35) -> 0.27 | AC35: =SUMIF(I35,$AC$7,J35) -> 0
A36: 27 | B36: 인천시 | C36: 남동구 | D36: 27 | E36: 매소홀로 4L | F36: 소래로 | G36: 매소홀터털 | H36: ○ | I36: 겸용도로 (분리형) | J36: 0.27 | N36: 1.5 | O36: 2.5 | P36: =-1-0.25+N36+O36-0.25 -> 2.5 | S36: 3 | U36: 도로측 | W36: =X36+Y36+Z36+AA36 -> 0.27 | X36: =SUMIF(I36,$X$6,J36) -> 0 | Y36: =SUMIF(I36,$Y$6,J36) -> 0 | Z36: =SUMIF(I36,$Z$6,J36) -> 0 | AA36: =AB36+AC36 -> 0.27 | AB36: =SUMIF(I36,$AB$7,J36) -> 0.27 | AC36: =SUMIF(I36,$AC$7,J36) -> 0
A37: 28 | B37: 인천시 | C37: 남동구 | D37: 28 | E37: 매소홀로 5R | F37: 매소홀터널 | G37: 전재울사거리 | H37: ○ | I37: 겸용도로 (분리형) | J37: 1.69 | N37: 1.5 | O37: 2.5 | P37: =-1-0.25+N37+O37-0.25 -> 2.5 | S37: 3 | U37: 도로측 | W37: =X37+Y37+Z37+AA37 -> 1.69 | X37: =SUMIF(I37,$X$6,J37) -> 0 | Y37: =SUMIF(I37,$Y$6,J37) -> 0 | Z37: =SUMIF(I37,$Z$6,J37) -> 0 | AA37: =AB37+AC37 -> 1.69 | AB37: =SUMIF(I37,$AB$7,J37) -> 1.69 | AC37: =SUMIF(I37,$AC$7,J37) -> 0
A38: 29 | B38: 인천시 | C38: 남동구 | D38: 29 | E38: 매소홀로 5L | F38: 매소홀터널 | G38: 전재울사거리 | H38: ○ | I38: 겸용도로 (분리형) | J38: 1.69 | N38: 1.5 | O38: 2.5 | P38: =-1-0.25+N38+O38-0.25 -> 2.5 | S38: 3 | U38: 도로측 | W38: =X38+Y38+Z38+AA38 -> 1.69 | X38: =SUMIF(I38,$X$6,J38) -> 0 | Y38: =SUMIF(I38,$Y$6,J38) -> 0 | Z38: =SUMIF(I38,$Z$6,J38) -> 0 | AA38: =AB38+AC38 -> 1.69 | AB38: =SUMIF(I38,$AB$7,J38) -> 1.69 | AC38: =SUMIF(I38,$AC$7,J38) -> 0
A39: 30 | B39: 인천시 | C39: 남동구 | D39: 30 | E39: 매소홀로 6R | F39: 구월동 838-59 | G39: 구월동 838-65 | H39: ○ | I39: 전용차로 | J39: 0.16 | L39: 1.7 | S39: 3 | W39: =X39+Y39+Z39+AA39 -> 0.16 | X39: =SUMIF(I39,$X$6,J39) -> 0 | Y39: =SUMIF(I39,$Y$6,J39) -> 0.16 | Z39: =SUMIF(I39,$Z$6,J39) -> 0 | AA39: =AB39+AC39 -> 0 | AB39: =SUMIF(I39,$AB$7,J39) -> 0 | AC39: =SUMIF(I39,$AC$7,J39) -> 0
A40: 31 | B40: 인천시 | C40: 남동구 | D40: 31 | E40: 비류대로 1R | F40: 남동대로 | G40: 호구포로 | H40: ○ | I40: 겸용도로 (분리형) | J40: 0.58 | N40: 1.5 | O40: 1.8 | P40: =-1-0.25+N40+O40-0.25 -> 1.8 | S40: 1 | U40: 내측 | W40: =X40+Y40+Z40+AA40 -> 0.58 | X40: =SUMIF(I40,$X$6,J40) -> 0 | Y40: =SUMIF(I40,$Y$6,J40) -> 0 | Z40: =SUMIF(I40,$Z$6,J40) -> 0 | AA40: =AB40+AC40 -> 0.58 | AB40: =SUMIF(I40,$AB$7,J40) -> 0.58 | AC40: =SUMIF(I40,$AC$7,J40) -> 0
A41: 32 | B41: 인천시 | C41: 남동구 | D41: 32 | E41: 비류대로 2R | F41: 남동대로 | G41: 호구포로 | H41: ○ | I41: 겸용도로 (분리형) | J41: 0.58 | N41: 1.5 | O41: 1.8 | P41: =-1-0.25+N41+O41-0.25 -> 1.8 | S41: 1 | U41: 내측 | W41: =X41+Y41+Z41+AA41 -> 0.58 | X41: =SUMIF(I41,$X$6,J41) -> 0 | Y41: =SUMIF(I41,$Y$6,J41) -> 0 | Z41: =SUMIF(I41,$Z$6,J41) -> 0 | AA41: =AB41+AC41 -> 0.58 | AB41: =SUMIF(I41,$AB$7,J41) -> 0.58 | AC41: =SUMIF(I41,$AC$7,J41) -> 0
A42: 33 | B42: 인천시 | C42: 남동구 | D42: 33 | E42: 논현로 1R | F42: 논현로 62 | G42: 논현로 158 | H42: ○ | I42: 겸용도로 (분리형) | J42: 0.97 | N42: 1.3 | O42: 2.6 | P42: =-1-0.25+N42+O42-0.25 -> 2.4 | S42: 2 | U42: 내측 | W42: =X42+Y42+Z42+AA42 -> 0.97 | X42: =SUMIF(I42,$X$6,J42) -> 0 | Y42: =SUMIF(I42,$Y$6,J42) -> 0 | Z42: =SUMIF(I42,$Z$6,J42) -> 0 | AA42: =AB42+AC42 -> 0.97 | AB42: =SUMIF(I42,$AB$7,J42) -> 0.97 | AC42: =SUMIF(I42,$AC$7,J42) -> 0
A43: 34 | B43: 인천시 | C43: 남동구 | D43: 34 | E43: 논현로 2R | F43: 논고개로 136번길 5-7 | G43: 포구로 | H43: ○ | I43: 겸용도로 (분리형) | J43: 0.53 | N43: 1.8 | O43: 2.1 | P43: =-1-0.25+N43+O43-0.25 -> 2.4 | S43: 2 | U43: 내측 | W43: =X43+Y43+Z43+AA43 -> 0.53 | X43: =SUMIF(I43,$X$6,J43) -> 0 | Y43: =SUMIF(I43,$Y$6,J43) -> 0 | Z43: =SUMIF(I43,$Z$6,J43) -> 0 | AA43: =AB43+AC43 -> 0.53 | AB43: =SUMIF(I43,$AB$7,J43) -> 0.53 | AC43: =SUMIF(I43,$AC$7,J43) -> 0
A44: 35 | B44: 인천시 | C44: 남동구 | D44: 35 | E44: 함박뫼로 1R | F44: 호구포로 | G44: 논곡중학교 | H44: ○ | I44: 겸용도로 (분리형) | J44: 0.26 | N44: 1.4 | O44: 1.4 | P44: =-1-0.25+N44+O44-0.25 -> 1.3 | S44: 1 | U44: 내측 | W44: =X44+Y44+Z44+AA44 -> 0.26 | X44: =SUMIF(I44,$X$6,J44) -> 0 | Y44: =SUMIF(I44,$Y$6,J44) -> 0 | Z44: =SUMIF(I44,$Z$6,J44) -> 0 | AA44: =AB44+AC44 -> 0.26 | AB44: =SUMIF(I44,$AB$7,J44) -> 0.26 | AC44: =SUMIF(I44,$AC$7,J44) -> 0
A45: 36 | B45: 인천시 | C45: 남동구 | D45: 36 | E45: 함박뫼로 2L | F45: 호구포로 | G45: 논곡중학교 | H45: ○ | I45: 겸용도로 (분리형) | J45: 0.26 | N45: 1.4 | O45: 1.4 | P45: =-1-0.25+N45+O45-0.25 -> 1.3 | S45: 1 | U45: 내측 | W45: =X45+Y45+Z45+AA45 -> 0.26 | X45: =SUMIF(I45,$X$6,J45) -> 0 | Y45: =SUMIF(I45,$Y$6,J45) -> 0 | Z45: =SUMIF(I45,$Z$6,J45) -> 0 | AA45: =AB45+AC45 -> 0.26 | AB45: =SUMIF(I45,$AB$7,J45) -> 0.26 | AC45: =SUMIF(I45,$AC$7,J45) -> 0
A46: 37 | B46: 인천시 | C46: 남동구 | D46: 37 | E46: 정각로 1R | F46: 정각로 2 | G46: 트리온시티 | H46: ○ | I46: 전용도로 | J46: 0.55 | K46: 1.8 | S46: 3 | W46: =X46+Y46+Z46+AA46 -> 0.55 | X46: =SUMIF(I46,$X$6,J46) -> 0.55 | Y46: =SUMIF(I46,$Y$6,J46) -> 0 | Z46: =SUMIF(I46,$Z$6,J46) -> 0 | AA46: =AB46+AC46 -> 0 | AB46: =SUMIF(I46,$AB$7,J46) -> 0 | AC46: =SUMIF(I46,$AC$7,J46) -> 0
A47: 38 | B47: 인천시 | C47: 남동구 | D47: 38 | E47: 정각로 2R | F47: 인천교육청 | G47: 인천광역시청 | H47: ○ | I47: 전용도로 | J47: 0.55 | K47: 1.8 | S47: 3 | W47: =X47+Y47+Z47+AA47 -> 0.55 | X47: =SUMIF(I47,$X$6,J47) -> 0.55 | Y47: =SUMIF(I47,$Y$6,J47) -> 0 | Z47: =SUMIF(I47,$Z$6,J47) -> 0 | AA47: =AB47+AC47 -> 0 | AB47: =SUMIF(I47,$AB$7,J47) -> 0 | AC47: =SUMIF(I47,$AC$7,J47) -> 0
A48: 39 | B48: 인천시 | C48: 남동구 | D48: 39 | E48: 백범로 1R | F48: 장수동 660-10 | G48: 만수주공사거리 | H48: ○ | I48: 겸용도로 (분리형) | J48: 1.23 | N48: 1.9 | O48: 2.7 | P48: =-1-0.25+N48+O48-0.25 -> 3.1 | S48: 2 | U48: 내측 | W48: =X48+Y48+Z48+AA48 -> 1.23 | X48: =SUMIF(I48,$X$6,J48) -> 0 | Y48: =SUMIF(I48,$Y$6,J48) -> 0 | Z48: =SUMIF(I48,$Z$6,J48) -> 0 | AA48: =AB48+AC48 -> 1.23 | AB48: =SUMIF(I48,$AB$7,J48) -> 1.23 | AC48: =SUMIF(I48,$AC$7,J48) -> 0
A49: 40 | B49: 인천시 | C49: 남동구 | D49: 40 | E49: 백범로 1L | F49: 백범로 67 | G49: 장수동 695-4 | H49: ○ | I49: 겸용도로 (분리형) | J49: 0.63 | N49: 1.9 | O49: 2.7 | P49: =-1-0.25+N49+O49-0.25 -> 3.1 | S49: 2 | U49: 내측 | W49: =X49+Y49+Z49+AA49 -> 0.63 | X49: =SUMIF(I49,$X$6,J49) -> 0 | Y49: =SUMIF(I49,$Y$6,J49) -> 0 | Z49: =SUMIF(I49,$Z$6,J49) -> 0 | AA49: =AB49+AC49 -> 0.63 | AB49: =SUMIF(I49,$AB$7,J49) -> 0.63 | AC49: =SUMIF(I49,$AC$7,J49) -> 0
A50: 41 | B50: 인천시 | C50: 남동구 | D50: 41 | E50: 백범로 2R | F50: 만수주공사거리 | G50: 간석사거리 | H50: ○ | I50: 겸용도로 (분리형) | J50: 1.41 | N50: 1.5 | O50: 1.2 | P50: =-1-0.25+N50+O50-0.25 -> 1.2 | S50: 2 | U50: 도로측 | W50: =X50+Y50+Z50+AA50 -> 1.41 | X50: =SUMIF(I50,$X$6,J50) -> 0 | Y50: =SUMIF(I50,$Y$6,J50) -> 0 | Z50: =SUMIF(I50,$Z$6,J50) -> 0 | AA50: =AB50+AC50 -> 1.41 | AB50: =SUMIF(I50,$AB$7,J50) -> 1.41 | AC50: =SUMIF(I50,$AC$7,J50) -> 0
A51: 42 | B51: 인천시 | C51: 남동구 | D51: 42 | E51: 백범로 2L | F51: 간석사거리 | G51: 만수주공사거리 | H51: ○ | I51: 겸용도로 (분리형) | J51: 1.37 | N51: 1.5 | O51: 1.2 | P51: =-1-0.25+N51+O51-0.25 -> 1.2 | S51: 2 | U51: 도로측 | W51: =X51+Y51+Z51+AA51 -> 1.37 | X51: =SUMIF(I51,$X$6,J51) -> 0 | Y51: =SUMIF(I51,$Y$6,J51) -> 0 | Z51: =SUMIF(I51,$Z$6,J51) -> 0 | AA51: =AB51+AC51 -> 1.37 | AB51: =SUMIF(I51,$AB$7,J51) -> 1.37 | AC51: =SUMIF(I51,$AC$7,J51) -> 0
A52: 43 | B52: 인천시 | C52: 남동구 | D52: 43 | E52: 백범로 3R | F52: 백범로 278 | G52: 백범로 304 | H52: ○ | I52: 겸용도로 (분리형) | J52: 0.22 | N52: 1.2 | O52: 3.4 | P52: =-1-0.25+N52+O52-0.25 -> 3.1 | S52: 2 | U52: 내측 | W52: =X52+Y52+Z52+AA52 -> 0.22 | X52: =SUMIF(I52,$X$6,J52) -> 0 | Y52: =SUMIF(I52,$Y$6,J52) -> 0 | Z52: =SUMIF(I52,$Z$6,J52) -> 0 | AA52: =AB52+AC52 -> 0.22 | AB52: =SUMIF(I52,$AB$7,J52) -> 0.22 | AC52: =SUMIF(I52,$AC$7,J52) -> 0
A53: 44 | B53: 인천시 | C53: 남동구 | D53: 44 | E53: 백범로 4R | F53: 백범로400 | G53: 백범로 422번길 6 | H53: ○ | I53: 겸용도로 (비분리형) | J53: 0.23 | Q53: 1.5 | R53: =-1-0.25+Q53-0.25 -> 0 | S53: 1 | W53: =X53+Y53+Z53+AA53 -> 0.23 | X53: =SUMIF(I53,$X$6,J53) -> 0 | Y53: =SUMIF(I53,$Y$6,J53) -> 0 | Z53: =SUMIF(I53,$Z$6,J53) -> 0 | AA53: =AB53+AC53 -> 0.23 | AB53: =SUMIF(I53,$AB$7,J53) -> 0 | AC53: =SUMIF(I53,$AC$7,J53) -> 0.23
A54: 45 | B54: 인천시 | C54: 남동구 | D54: 45 | E54: 백범로 4L | F54: 백범로 455 | G54: 백범로 441 | H54: ○ | I54: 겸용도로 (분리형) | J54: 0.16 | N54: 1.5 | O54: 4 | P54: =-1-0.25+N54+O54-0.25 -> 4 | S54: 1 | U54: 내측 | W54: =X54+Y54+Z54+AA54 -> 0.16 | X54: =SUMIF(I54,$X$6,J54) -> 0 | Y54: =SUMIF(I54,$Y$6,J54) -> 0 | Z54: =SUMIF(I54,$Z$6,J54) -> 0 | AA54: =AB54+AC54 -> 0.16 | AB54: =SUMIF(I54,$AB$7,J54) -> 0.16 | AC54: =SUMIF(I54,$AC$7,J54) -> 0
A55: 46 | B55: 인천시 | C55: 남동구 | D55: 46 | E55: 문화로 1R | F55: 문화로 159 | G55: 올림픽공원사거리 | H55: ○ | I55: 겸용도로 (분리형) | J55: 0.33 | N55: 1.5 | O55: 1.3 | P55: =-1-0.25+N55+O55-0.25 -> 1.3 | S55: 1 | U55: 중앙 | W55: =X55+Y55+Z55+AA55 -> 0.33 | X55: =SUMIF(I55,$X$6,J55) -> 0 | Y55: =SUMIF(I55,$Y$6,J55) -> 0 | Z55: =SUMIF(I55,$Z$6,J55) -> 0 | AA55: =AB55+AC55 -> 0.33 | AB55: =SUMIF(I55,$AB$7,J55) -> 0.33 | AC55: =SUMIF(I55,$AC$7,J55) -> 0
A56: 47 | B56: 인천시 | C56: 남동구 | D56: 47 | E56: 문화로 1L | F56: 대우제사거리 | G56: 올림픽공원사거리 | H56: ○ | I56: 겸용도로 (분리형) | J56: 0.33 | N56: 1.3 | O56: 2.3 | P56: =-1-0.25+N56+O56-0.25 -> 2.1 | S56: 2 | U56: 내측 | W56: =X56+Y56+Z56+AA56 -> 0.33 | X56: =SUMIF(I56,$X$6,J56) -> 0 | Y56: =SUMIF(I56,$Y$6,J56) -> 0 | Z56: =SUMIF(I56,$Z$6,J56) -> 0 | AA56: =AB56+AC56 -> 0.33 | AB56: =SUMIF(I56,$AB$7,J56) -> 0.33 | AC56: =SUMIF(I56,$AC$7,J56) -> 0
A57: 48 | B57: 인천시 | C57: 남동구 | D57: 48 | E57: 문화로 2R | F57: 문화로 119-1 | G57: 문화로 115번길 2 | H57: ○ | I57: 겸용도로 (분리형) | J57: 0.04 | N57: 1 | O57: 2.4 | P57: =-1-0.25+N57+O57-0.25 -> 1.9 | S57: 2 | U57: 중앙 | W57: =X57+Y57+Z57+AA57 -> 0.04 | X57: =SUMIF(I57,$X$6,J57) -> 0 | Y57: =SUMIF(I57,$Y$6,J57) -> 0 | Z57: =SUMIF(I57,$Z$6,J57) -> 0 | AA57: =AB57+AC57 -> 0.04 | AB57: =SUMIF(I57,$AB$7,J57) -> 0.04 | AC57: =SUMIF(I57,$AC$7,J57) -> 0
A58: 49 | B58: 인천시 | C58: 남동구 | D58: 49 | E58: 문화로 2L | F58: 올림픽공원사거리 | G58: 중앙공원사거리 | H58: ○ | I58: 겸용도로 (분리형) | J58: 0.64 | N58: 1.7 | O58: 2.3 | P58: =-1-0.25+N58+O58-0.25 -> 2.5 | S58: 2 | U58: 중앙 | W58: =X58+Y58+Z58+AA58 -> 0.64 | X58: =SUMIF(I58,$X$6,J58) -> 0 | Y58: =SUMIF(I58,$Y$6,J58) -> 0 | Z58: =SUMIF(I58,$Z$6,J58) -> 0 | AA58: =AB58+AC58 -> 0.64 | AB58: =SUMIF(I58,$AB$7,J58) -> 0.64 | AC58: =SUMIF(I58,$AC$7,J58) -> 0
A59: 50 | B59: 인천시 | C59: 남동구 | D59: 50 | E59: 경인로 1L | F59: 간석동 풍림@ 107동 | G59: 주안로 270 | H59: ○ | I59: 겸용도로 (분리형) | J59: 0.28 | N59: 1.5 | O59: 2.6 | P59: =-1-0.25+N59+O59-0.25 -> 2.6 | S59: 2 | U59: 중앙 | W59: =X59+Y59+Z59+AA59 -> 0.28 | X59: =SUMIF(I59,$X$6,J59) -> 0 | Y59: =SUMIF(I59,$Y$6,J59) -> 0 | Z59: =SUMIF(I59,$Z$6,J59) -> 0 | AA59: =AB59+AC59 -> 0.28 | AB59: =SUMIF(I59,$AB$7,J59) -> 0.28 | AC59: =SUMIF(I59,$AC$7,J59) -> 0
A60: 51 | B60: 인천시 | C60: 남동구 | D60: 51 | E60: 경인로 2R | F60: 경인로 582 | G60: 경인로 620-1 | H60: ○ | I60: 겸용도로 (분리형) | J60: 0.37 | N60: 1.3 | O60: 3 | P60: =-1-0.25+N60+O60-0.25 -> 2.8 | S60: 2 | U60: 내측 | W60: =X60+Y60+Z60+AA60 -> 0.37 | X60: =SUMIF(I60,$X$6,J60) -> 0 | Y60: =SUMIF(I60,$Y$6,J60) -> 0 | Z60: =SUMIF(I60,$Z$6,J60) -> 0 | AA60: =AB60+AC60 -> 0.37 | AB60: =SUMIF(I60,$AB$7,J60) -> 0.37 | AC60: =SUMIF(I60,$AC$7,J60) -> 0
A61: 52 | B61: 인천시 | C61: 남동구 | D61: 52 | E61: 경인로 2L | F61: 경인로 583 | G61: 경인로 607 | H61: ○ | I61: 겸용도로 (분리형) | J61: 0.27 | N61: 1.2 | O61: 3 | P61: =-1-0.25+N61+O61-0.25 -> 2.7 | S61: 2 | U61: 내측 | W61: =X61+Y61+Z61+AA61 -> 0.27 | X61: =SUMIF(I61,$X$6,J61) -> 0 | Y61: =SUMIF(I61,$Y$6,J61) -> 0 | Z61: =SUMIF(I61,$Z$6,J61) -> 0 | AA61: =AB61+AC61 -> 0.27 | AB61: =SUMIF(I61,$AB$7,J61) -> 0.27 | AC61: =SUMIF(I61,$AC$7,J61) -> 0
A62: 53 | B62: 인천시 | C62: 남동구 | D62: 53 | E62: 경인로 3R | F62: 인천메트로 | G62: 경인로 752 | H62: ○ | I62: 겸용도로 (분리형) | J62: 0.76 | N62: 1.3 | O62: 2.6 | P62: =-1-0.25+N62+O62-0.25 -> 2.4 | S62: 2 | U62: 내측 | W62: =X62+Y62+Z62+AA62 -> 0.76 | X62: =SUMIF(I62,$X$6,J62) -> 0 | Y62: =SUMIF(I62,$Y$6,J62) -> 0 | Z62: =SUMIF(I62,$Z$6,J62) -> 0 | AA62: =AB62+AC62 -> 0.76 | AB62: =SUMIF(I62,$AB$7,J62) -> 0.76 | AC62: =SUMIF(I62,$AC$7,J62) -> 0
A63: 54 | B63: 인천시 | C63: 남동구 | D63: 54 | E63: 인주대로 1R | F63: 인주대로 554 | G63: 올림픽공원사거리 | H63: ○ | I63: 겸용도로 (분리형) | J63: 0.12 | N63: 1 | O63: 1.6 | P63: =-1-0.25+N63+O63-0.25 -> 1.1 | S63: 2 | U63: 도로측 | W63: =X63+Y63+Z63+AA63 -> 0.12 | X63: =SUMIF(I63,$X$6,J63) -> 0 | Y63: =SUMIF(I63,$Y$6,J63) -> 0 | Z63: =SUMIF(I63,$Z$6,J63) -> 0 | AA63: =AB63+AC63 -> 0.12 | AB63: =SUMIF(I63,$AB$7,J63) -> 0.12 | AC63: =SUMIF(I63,$AC$7,J63) -> 0
A64: 55 | B64: 인천시 | C64: 남동구 | D64: 55 | E64: 인주대로 1L | F64: 인주대로 551 | G64: 올림픽공원사거리 | H64: ○ | I64: 겸용도로 (분리형) | J64: 0.12 | N64: 1 | O64: 1.1 | P64: =-1-0.25+N64+O64-0.25 -> 0.6 | S64: 2 | U64: 도로측 | W64: =X64+Y64+Z64+AA64 -> 0.12 | X64: =SUMIF(I64,$X$6,J64) -> 0 | Y64: =SUMIF(I64,$Y$6,J64) -> 0 | Z64: =SUMIF(I64,$Z$6,J64) -> 0 | AA64: =AB64+AC64 -> 0.12 | AB64: =SUMIF(I64,$AB$7,J64) -> 0.12 | AC64: =SUMIF(I64,$AC$7,J64) -> 0
A65: 56 | B65: 인천시 | C65: 남동구 | D65: 56 | E65: 인주대로 2R | F65: 올림픽공원사거리 | G65: 문예회관사거리 | H65: ○ | I65: 겸용도로 (분리형) | J65: 0.1 | N65: 1.4 | O65: 2.8 | P65: =-1-0.25+N65+O65-0.25 -> 2.7 | S65: 2 | U65: 내측 | W65: =X65+Y65+Z65+AA65 -> 0.1 | X65: =SUMIF(I65,$X$6,J65) -> 0 | Y65: =SUMIF(I65,$Y$6,J65) -> 0 | Z65: =SUMIF(I65,$Z$6,J65) -> 0 | AA65: =AB65+AC65 -> 0.1 | AB65: =SUMIF(I65,$AB$7,J65) -> 0.1 | AC65: =SUMIF(I65,$AC$7,J65) -> 0
A66: 57 | B66: 인천시 | C66: 남동구 | D66: 57 | E66: 인주대로 2L | F66: 올림픽공원사거리 | G66: 문예회관사거리 | H66: ○ | I66: 겸용도로 (분리형) | J66: 0.1 | N66: 1 | O66: 1.3 | P66: =-1-0.25+N66+O66-0.25 -> 0.8 | S66: 2 | U66: 중앙 | W66: =X66+Y66+Z66+AA66 -> 0.1 | X66: =SUMIF(I66,$X$6,J66) -> 0 | Y66: =SUMIF(I66,$Y$6,J66) -> 0 | Z66: =SUMIF(I66,$Z$6,J66) -> 0 | AA66: =AB66+AC66 -> 0.1 | AB66: =SUMIF(I66,$AB$7,J66) -> 0.1 | AC66: =SUMIF(I66,$AC$7,J66) -> 0
A67: 58 | B67: 인천시 | C67: 남동구 | D67: 58 | E67: 인주대로 3R | F67: 인주대로 580 | G67: 인주대로 630 | H67: ○ | I67: 전용도로 | J67: 0.54 | K67: 1.2 | S67: 2 | W67: =X67+Y67+Z67+AA67 -> 0.54 | X67: =SUMIF(I67,$X$6,J67) -> 0.54 | Y67: =SUMIF(I67,$Y$6,J67) -> 0 | Z67: =SUMIF(I67,$Z$6,J67) -> 0 | AA67: =AB67+AC67 -> 0 | AB67: =SUMIF(I67,$AB$7,J67) -> 0 | AC67: =SUMIF(I67,$AC$7,J67) -> 0
A68: 59 | B68: 인천시 | C68: 남동구 | D68: 59 | E68: 인주대로 3L | F68: 인주대로 585 | G68: 인주대로 629 | H68: ○ | I68: 전용도로 | J68: 0.54 | K68: 1.2 | S68: 2 | W68: =X68+Y68+Z68+AA68 -> 0.54 | X68: =SUMIF(I68,$X$6,J68) -> 0.54 | Y68: =SUMIF(I68,$Y$6,J68) -> 0 | Z68: =SUMIF(I68,$Z$6,J68) -> 0 | AA68: =AB68+AC68 -> 0 | AB68: =SUMIF(I68,$AB$7,J68) -> 0 | AC68: =SUMIF(I68,$AC$7,J68) -> 0
A69: 60 | B69: 인천시 | C69: 남동구 | D69: 60 | E69: 인주대로 4R | F69: 길병원사거리 | G69: 관문교사거리 | H69: ○ | I69: 겸용도로 (분리형) | J69: 2.3 | N69: 1 | O69: 1.6 | P69: =-1-0.25+N69+O69-0.25 -> 1.1 | S69: 2 | U69: 도로측 | W69: =X69+Y69+Z69+AA69 -> 2.3 | X69: =SUMIF(I69,$X$6,J69) -> 0 | Y69: =SUMIF(I69,$Y$6,J69) -> 0 | Z69: =SUMIF(I69,$Z$6,J69) -> 0 | AA69: =AB69+AC69 -> 2.3 | AB69: =SUMIF(I69,$AB$7,J69) -> 2.3 | AC69: =SUMIF(I69,$AC$7,J69) -> 0
A70: 61 | B70: 인천시 | C70: 남동구 | D70: 61 | E70: 인주대로 4L | F70: 길병원사거리 | G70: 관문교사거리 | H70: ○ | I70: 겸용도로 (분리형) | J70: 2.3 | N70: 1 | O70: 1.6 | P70: =-1-0.25+N70+O70-0.25 -> 1.1 | S70: 2 | U70: 도로측 | W70: =X70+Y70+Z70+AA70 -> 2.3 | X70: =SUMIF(I70,$X$6,J70) -> 0 | Y70: =SUMIF(I70,$Y$6,J70) -> 0 | Z70: =SUMIF(I70,$Z$6,J70) -> 0 | AA70: =AB70+AC70 -> 2.3 | AB70: =SUMIF(I70,$AB$7,J70) -> 2.3 | AC70: =SUMIF(I70,$AC$7,J70) -> 0
A71: 62 | B71: 인천시 | C71: 남동구 | D71: 62 | E71: 인주대로 5R | F71: 인주대로 1014 | G71: 치아고개 삼거리 | H71: ○ | I71: 겸용도로 (분리형) | J71: 0.61 | N71: 1.2 | O71: 2.2 | P71: =-1-0.25+N71+O71-0.25 -> 1.9 | S71: 2 | U71: 중앙 | W71: =X71+Y71+Z71+AA71 -> 0.61 | X71: =SUMIF(I71,$X$6,J71) -> 0 | Y71: =SUMIF(I71,$Y$6,J71) -> 0 | Z71: =SUMIF(I71,$Z$6,J71) -> 0 | AA71: =AB71+AC71 -> 0.61 | AB71: =SUMIF(I71,$AB$7,J71) -> 0.61 | AC71: =SUMIF(I71,$AC$7,J71) -> 0
A72: 63 | B72: 인천시 | C72: 남동구 | D72: 63 | E72: 수인로 1R | F72: 장수동 488-9 | G72: 치아고개 삼거리 | H72: ○ | I72: 겸용도로 (분리형) | J72: 1.1 | N72: 1.7 | O72: 2.7 | P72: =-1-0.25+N72+O72-0.25 -> 2.9 | S72: 2 | U72: 내측 | W72: =X72+Y72+Z72+AA72 -> 1.1 | X72: =SUMIF(I72,$X$6,J72) -> 0 | Y72: =SUMIF(I72,$Y$6,J72) -> 0 | Z72: =SUMIF(I72,$Z$6,J72) -> 0 | AA72: =AB72+AC72 -> 1.1 | AB72: =SUMIF(I72,$AB$7,J72) -> 1.1 | AC72: =SUMIF(I72,$AC$7,J72) -> 0
A73: 64 | B73: 인천시 | C73: 남동구 | D73: 64 | E73: 수인로 1L | F73: 수인로 3722 | G73: 치아고개 삼거리 | H73: ○ | I73: 겸용도로 (분리형) | J73: 1.2 | N73: 1.7 | O73: 2.7 | P73: =-1-0.25+N73+O73-0.25 -> 2.9 | S73: 2 | U73: 내측 | W73: =X73+Y73+Z73+AA73 -> 1.2 | X73: =SUMIF(I73,$X$6,J73) -> 0 | Y73: =SUMIF(I73,$Y$6,J73) -> 0 | Z73: =SUMIF(I73,$Z$6,J73) -> 0 | AA73: =AB73+AC73 -> 1.2 | AB73: =SUMIF(I73,$AB$7,J73) -> 1.2 | AC73: =SUMIF(I73,$AC$7,J73) -> 0
A74: 65 | B74: 인천시 | C74: 남동구 | D74: 65 | E74: 수인로 2R | F74: 치아고개삼거리 | G74: 수인로 3539 | H74: ○ | I74: 겸용도로 (분리형) | J74: 0.87 | N74: 1.9 | O74: 2.8 | P74: =-1-0.25+N74+O74-0.25 -> 3.2 | S74: 2 | U74: 내측 | W74: =X74+Y74+Z74+AA74 -> 0.87 | X74: =SUMIF(I74,$X$6,J74) -> 0 | Y74: =SUMIF(I74,$Y$6,J74) -> 0 | Z74: =SUMIF(I74,$Z$6,J74) -> 0 | AA74: =AB74+AC74 -> 0.87 | AB74: =SUMIF(I74,$AB$7,J74) -> 0.87 | AC74: =SUMIF(I74,$AC$7,J74) -> 0
A75: 66 | B75: 인천시 | C75: 남동구 | D75: 66 | E75: 수인로 2L | F75: 치아고개삼거리 | G75: 수인로 3580 | H75: ○ | I75: 겸용도로 (분리형) | J75: 0.45 | N75: 1.7 | O75: 2.3 | P75: =-1-0.25+N75+O75-0.25 -> 2.5 | S75: 2 | U75: 내측 | W75: =X75+Y75+Z75+AA75 -> 0.45 | X75: =SUMIF(I75,$X$6,J75) -> 0 | Y75: =SUMIF(I75,$Y$6,J75) -> 0 | Z75: =SUMIF(I75,$Z$6,J75) -> 0 | AA75: =AB75+AC75 -> 0.45 | AB75: =SUMIF(I75,$AB$7,J75) -> 0.45 | AC75: =SUMIF(I75,$AC$7,J75) -> 0
A76: 67 | B76: 인천시 | C76: 남동구 | D76: 67 | E76: 만의골로 1R | F76: 만의골로 10 | G76: 만의골로 168 | H76: ○ | I76: 겸용도로 (분리형) | J76: 1.71 | N76: 1.8 | O76: 1.9 | P76: =-1-0.25+N76+O76-0.25 -> 2.2 | S76: 3 | U76: 내측 | W76: =X76+Y76+Z76+AA76 -> 1.71 | X76: =SUMIF(I76,$X$6,J76) -> 0 | Y76: =SUMIF(I76,$Y$6,J76) -> 0 | Z76: =SUMIF(I76,$Z$6,J76) -> 0 | AA76: =AB76+AC76 -> 1.71 | AB76: =SUMIF(I76,$AB$7,J76) -> 1.71 | AC76: =SUMIF(I76,$AC$7,J76) -> 0
A77: 68 | B77: 인천시 | C77: 남동구 | D77: 68 | E77: 장수천 | F77: 장수로 42 | G77: 매소홀로 1040 | H77: ○ | I77: 전용도로 | J77: 2.15 | K77: 1.7 | S77: 4 | V77: 재검토 | W77: =X77+Y77+Z77+AA77 -> 2.15 | X77: =SUMIF(I77,$X$6,J77) -> 2.15 | Y77: =SUMIF(I77,$Y$6,J77) -> 0 | Z77: =SUMIF(I77,$Z$6,J77) -> 0 | AA77: =AB77+AC77 -> 0 | AB77: =SUMIF(I77,$AB$7,J77) -> 0 | AC77: =SUMIF(I77,$AC$7,J77) -> 0
A78: 69 | B78: 인천시 | C78: 남동구 | D78: 69 | E78: 논현고잔로 1R | F78: 아암대로 | G78: 청능대로 | H78: ○ | I78: 전용차로 | J78: 2 | L78: 1.7 | W78: =X78+Y78+Z78+AA78 -> 2 | X78: =SUMIF(I78,$X$6,J78) -> 0 | Y78: =SUMIF(I78,$Y$6,J78) -> 2 | Z78: =SUMIF(I78,$Z$6,J78) -> 0 | AA78: =AB78+AC78 -> 0 | AB78: =SUMIF(I78,$AB$7,J78) -> 0 | AC78: =SUMIF(I78,$AC$7,J78) -> 0
A79: 70 | B79: 인천시 | C79: 남동구 | D79: 70 | E79: 논현고잔로 2R | F79: 청능대로 | G79: 은봉로 | H79: ○ | I79: 겸용도로 (분리형) | J79: 0.52 | N79: 1.6 | O79: 2 | P79: =-1-0.25+N79+O79-0.25 -> 2.1 | S79: 2 | U79: 내측 | W79: =X79+Y79+Z79+AA79 -> 0.52 | X79: =SUMIF(I79,$X$6,J79) -> 0 | Y79: =SUMIF(I79,$Y$6,J79) -> 0 | Z79: =SUMIF(I79,$Z$6,J79) -> 0 | AA79: =AB79+AC79 -> 0.52 | AB79: =SUMIF(I79,$AB$7,J79) -> 0.52 | AC79: =SUMIF(I79,$AC$7,J79) -> 0
A80: 71 | B80: 인천시 | C80: 남동구 | D80: 71 | E80: 논현고잔로 1L | F80: 은봉로 | G80: 청능대로 | H80: ○ | I80: 겸용도로 (분리형) | J80: 0.52 | N80: 1.6 | O80: 2 | P80: =-1-0.25+N80+O80-0.25 -> 2.1 | S80: 2 | U80: 내측 | W80: =X80+Y80+Z80+AA80 -> 0.52 | X80: =SUMIF(I80,$X$6,J80) -> 0 | Y80: =SUMIF(I80,$Y$6,J80) -> 0 | Z80: =SUMIF(I80,$Z$6,J80) -> 0 | AA80: =AB80+AC80 -> 0.52 | AB80: =SUMIF(I80,$AB$7,J80) -> 0.52 | AC80: =SUMIF(I80,$AC$7,J80) -> 0
A81: 72 | B81: 인천시 | C81: 남동구 | D81: 72 | E81: 논현고잔로 2L | F81: 청능대로 | G81: 아암대로 | H81: ○ | I81: 전용차로 | J81: 2 | L81: 1.7 | W81: =X81+Y81+Z81+AA81 -> 2 | X81: =SUMIF(I81,$X$6,J81) -> 0 | Y81: =SUMIF(I81,$Y$6,J81) -> 2 | Z81: =SUMIF(I81,$Z$6,J81) -> 0 | AA81: =AB81+AC81 -> 0 | AB81: =SUMIF(I81,$AB$7,J81) -> 0 | AC81: =SUMIF(I81,$AC$7,J81) -> 0
A82: 73 | B82: 인천시 | C82: 남동구 | D82: 73 | E82: 예술로 1R | F82: 인하로 | G82: 인주대로 | H82: ○ | I82: 겸용도로 (분리형) | J82: 0.68 | N82: 1.7 | O82: 3 | P82: =-1-0.25+N82+O82-0.25 -> 3.2 | S82: 4 | U82: 중앙 | W82: =X82+Y82+Z82+AA82 -> 0.68 | X82: =SUMIF(I82,$X$6,J82) -> 0 | Y82: =SUMIF(I82,$Y$6,J82) -> 0 | Z82: =SUMIF(I82,$Z$6,J82) -> 0 | AA82: =AB82+AC82 -> 0.68 | AB82: =SUMIF(I82,$AB$7,J82) -> 0.68 | AC82: =SUMIF(I82,$AC$7,J82) -> 0
A83: 74 | B83: 인천시 | C83: 남동구 | D83: 74 | E83: 예술로 2R | F83: 구월로 | G83: 백범로 | H83: ○ | I83: 겸용도로 (분리형) | J83: 1.2 | N83: 1.5 | O83: 1.5 | P83: =-1-0.25+N83+O83-0.25 -> 1.5 | S83: 2 | U83: 내측 | V83: 재검토 | W83: =X83+Y83+Z83+AA83 -> 1.2 | X83: =SUMIF(I83,$X$6,J83) -> 0 | Y83: =SUMIF(I83,$Y$6,J83) -> 0 | Z83: =SUMIF(I83,$Z$6,J83) -> 0 | AA83: =AB83+AC83 -> 1.2 | AB83: =SUMIF(I83,$AB$7,J83) -> 1.2 | AC83: =SUMIF(I83,$AC$7,J83) -> 0
A84: 75 | B84: 인천시 | C84: 남동구 | D84: 75 | E84: 예술로 1L | F84: 정각로 | G84: 인주대로 | H84: ○ | I84: 전용도로 | J84: 0.56 | K84: 1.7 | W84: =X84+Y84+Z84+AA84 -> 0.56 | X84: =SUMIF(I84,$X$6,J84) -> 0.56 | Y84: =SUMIF(I84,$Y$6,J84) -> 0 | Z84: =SUMIF(I84,$Z$6,J84) -> 0 | AA84: =AB84+AC84 -> 0 | AB84: =SUMIF(I84,$AB$7,J84) -> 0 | AC84: =SUMIF(I84,$AC$7,J84) -> 0
A85: 76 | B85: 인천시 | C85: 남동구 | D85: 76 | E85: 논고개로1R | F85: 아암대로 | G85: 앵고개로 | H85: ○ | I85: 겸용도로 (분리형) | J85: 0.53 | N85: 1.5 | O85: 2 | P85: =-1-0.25+N85+O85-0.25 -> 2 | S85: 3 | U85: 중앙 | W85: =X85+Y85+Z85+AA85 -> 0.53 | X85: =SUMIF(I85,$X$6,J85) -> 0 | Y85: =SUMIF(I85,$Y$6,J85) -> 0 | Z85: =SUMIF(I85,$Z$6,J85) -> 0 | AA85: =AB85+AC85 -> 0.53 | AB85: =SUMIF(I85,$AB$7,J85) -> 0.53 | AC85: =SUMIF(I85,$AC$7,J85) -> 0
A86: 77 | B86: 인천시 | C86: 남동구 | D86: 77 | E86: 논고개로2R | F86: 앵고개로 | G86: 앵고개로847번길 | H86: ○ | I86: 전용도로 | J86: 0.35 | K86: 1.5 | W86: =X86+Y86+Z86+AA86 -> 0.35 | X86: =SUMIF(I86,$X$6,J86) -> 0.35 | Y86: =SUMIF(I86,$Y$6,J86) -> 0 | Z86: =SUMIF(I86,$Z$6,J86) -> 0 | AA86: =AB86+AC86 -> 0 | AB86: =SUMIF(I86,$AB$7,J86) -> 0 | AC86: =SUMIF(I86,$AC$7,J86) -> 0
A87: 78 | B87: 인천시 | C87: 남동구 | D87: 78 | E87: 논고개로3R | F87: 앵고개로847번길 | G87: 오봉로 | H87: ○ | I87: 겸용도로 (분리형) | J87: 2 | N87: 1.5 | O87: 2 | P87: =-1-0.25+N87+O87-0.25 -> 2 | S87: 3 | U87: 내측 | W87: =X87+Y87+Z87+AA87 -> 2 | X87: =SUMIF(I87,$X$6,J87) -> 0 | Y87: =SUMIF(I87,$Y$6,J87) -> 0 | Z87: =SUMIF(I87,$Z$6,J87) -> 0 | AA87: =AB87+AC87 -> 2 | AB87: =SUMIF(I87,$AB$7,J87) -> 2 | AC87: =SUMIF(I87,$AC$7,J87) -> 0
A88: 79 | B88: 인천시 | C88: 남동구 | D88: 79 | E88: 논고개로4R | F88: 오봉로 | G88: 비류대로 | H88: ○ | I88: 겸용도로 (분리형) | J88: 0.6 | N88: 2 | O88: 2 | P88: =-1-0.25+N88+O88-0.25 -> 2.5 | S88: 3 | U88: 내측 | W88: =X88+Y88+Z88+AA88 -> 0.6 | X88: =SUMIF(I88,$X$6,J88) -> 0 | Y88: =SUMIF(I88,$Y$6,J88) -> 0 | Z88: =SUMIF(I88,$Z$6,J88) -> 0 | AA88: =AB88+AC88 -> 0.6 | AB88: =SUMIF(I88,$AB$7,J88) -> 0.6 | AC88: =SUMIF(I88,$AC$7,J88) -> 0
A89: 80 | B89: 인천시 | C89: 남동구 | D89: 80 | E89: 논고개로1L | F89: 도림로 49번길 | G89: 앵고개로847번길 | H89: ○ | I89: 겸용도로 (분리형) | J89: 3.2 | N89: 1.5 | O89: 2 | P89: =-1-0.25+N89+O89-0.25 -> 2 | S89: 2 | U89: 내측 | W89: =X89+Y89+Z89+AA89 -> 3.2 | X89: =SUMIF(I89,$X$6,J89) -> 0 | Y89: =SUMIF(I89,$Y$6,J89) -> 0 | Z89: =SUMIF(I89,$Z$6,J89) -> 0 | AA89: =AB89+AC89 -> 3.2 | AB89: =SUMIF(I89,$AB$7,J89) -> 3.2 | AC89: =SUMIF(I89,$AC$7,J89) -> 0
A90: 81 | B90: 인천시 | C90: 남동구 | D90: 81 | E90: 논고개로2L | F90: 앵고개로847번길 | G90: 앵고개로 | H90: ○ | I90: 전용도로 | J90: 0.35 | K90: 1.5 | W90: =X90+Y90+Z90+AA90 -> 0.35 | X90: =SUMIF(I90,$X$6,J90) -> 0.35 | Y90: =SUMIF(I90,$Y$6,J90) -> 0 | Z90: =SUMIF(I90,$Z$6,J90) -> 0 | AA90: =AB90+AC90 -> 0 | AB90: =SUMIF(I90,$AB$7,J90) -> 0 | AC90: =SUMIF(I90,$AC$7,J90) -> 0
A91: 82 | B91: 인천시 | C91: 남동구 | D91: 82 | E91: 논고개로3L | F91: 앵고개로 | G91: 아암대로 | H91: ○ | I91: 겸용도로 (분리형) | J91: 0.53 | N91: 1.5 | O91: 2 | P91: =-1-0.25+N91+O91-0.25 -> 2 | S91: 2 | U91: 내측 | W91: =X91+Y91+Z91+AA91 -> 0.53 | X91: =SUMIF(I91,$X$6,J91) -> 0 | Y91: =SUMIF(I91,$Y$6,J91) -> 0 | Z91: =SUMIF(I91,$Z$6,J91) -> 0 | AA91: =AB91+AC91 -> 0.53 | AB91: =SUMIF(I91,$AB$7,J91) -> 0.53 | AC91: =SUMIF(I91,$AC$7,J91) -> 0
A92: 83 | B92: 인천시 | C92: 남동구 | D92: 83 | E92: 구월남로1R | F92: 호구포로 | G92: 남동대로 | H92: ○ | I92: 겸용도로 (분리형) | J92: 0.94 | N92: 1.5 | O92: 6 | P92: =-1-0.25+N92+O92-0.25 -> 6 | S92: 3 | U92: 내측 | W92: =X92+Y92+Z92+AA92 -> 0.94 | X92: =SUMIF(I92,$X$6,J92) -> 0 | Y92: =SUMIF(I92,$Y$6,J92) -> 0 | Z92: =SUMIF(I92,$Z$6,J92) -> 0 | AA92: =AB92+AC92 -> 0.94 | AB92: =SUMIF(I92,$AB$7,J92) -> 0.94 | AC92: =SUMIF(I92,$AC$7,J92) -> 0
A93: 84 | B93: 인천시 | C93: 남동구 | D93: 84 | E93: 소래로1R | F93: 논현동 73번지 | G93: 남촌도림동54번지 | H93: ○ | I93: 겸용도로 (비분리형) | J93: 2.82 | Q93: 7 | R93: =-1-0.25+Q93-0.25 -> 5.5 | S93: 2 | U93: 내측 | V93: 재검토 | W93: =X93+Y93+Z93+AA93 -> 2.82 | X93: =SUMIF(I93,$X$6,J93) -> 0 | Y93: =SUMIF(I93,$Y$6,J93) -> 0 | Z93: =SUMIF(I93,$Z$6,J93) -> 0 | AA93: =AB93+AC93 -> 2.82 | AB93: =SUMIF(I93,$AB$7,J93) -> 0 | AC93: =SUMIF(I93,$AC$7,J93) -> 2.82
A94: 85 | B94: 인천시 | C94: 남동구 | D94: 85 | E94: 소래로2R | F94: 남촌도림동54번지 | G94: 인주대로 | H94: ○ | I94: 겸용도로 (분리형) | J94: 0.99 | N94: 2.5 | O94: 1.5 | P94: =-1-0.25+N94+O94-0.25 -> 2.5 | S94: 1 | U94: 내측 | W94: =X94+Y94+Z94+AA94 -> 0.99 | X94: =SUMIF(I94,$X$6,J94) -> 0 | Y94: =SUMIF(I94,$Y$6,J94) -> 0 | Z94: =SUMIF(I94,$Z$6,J94) -> 0 | AA94: =AB94+AC94 -> 0.99 | AB94: =SUMIF(I94,$AB$7,J94) -> 0.99 | AC94: =SUMIF(I94,$AC$7,J94) -> 0
A95: 86 | B95: 인천시 | C95: 남동구 | D95: 86 | E95: 소래로3R | F95: 남촌도림동54번지 | G95: 인주대로 | H95: ○ | I95: 겸용도로 (분리형) | J95: 1.85 | N95: 1.5 | O95: 2 | P95: =-1-0.25+N95+O95-0.25 -> 2 | S95: 2 | U95: 중앙 | W95: =X95+Y95+Z95+AA95 -> 1.85 | X95: =SUMIF(I95,$X$6,J95) -> 0 | Y95: =SUMIF(I95,$Y$6,J95) -> 0 | Z95: =SUMIF(I95,$Z$6,J95) -> 0 | AA95: =AB95+AC95 -> 1.85 | AB95: =SUMIF(I95,$AB$7,J95) -> 1.85 | AC95: =SUMIF(I95,$AC$7,J95) -> 0
A96: 87 | B96: 인천시 | C96: 남동구 | D96: 87 | E96: 소래로1L | F96: 인주대로820번길 | G96: 아암대로 | H96: ○ | I96: 겸용도로 (분리형) | J96: 4.98 | N96: 2.5 | O96: 1.5 | P96: =-1-0.25+N96+O96-0.25 -> 2.5 | S96: 1 | U96: 내측 | W96: =X96+Y96+Z96+AA96 -> 4.98 | X96: =SUMIF(I96,$X$6,J96) -> 0 | Y96: =SUMIF(I96,$Y$6,J96) -> 0 | Z96: =SUMIF(I96,$Z$6,J96) -> 0 | AA96: =AB96+AC96 -> 4.98 | AB96: =SUMIF(I96,$AB$7,J96) -> 4.98 | AC96: =SUMIF(I96,$AC$7,J96) -> 0
A97: 88 | B97: 인천시 | C97: 남동구 | D97: 88 | E97: 호구포로1R | F97: 청능대로 | G97: 비류대로 | H97: ○ | I97: 겸용도로 (분리형) | J97: 2.7 | N97: 1.7 | O97: 2 | P97: =-1-0.25+N97+O97-0.25 -> 2.2 | S97: 1 | U97: 내측 | W97: =X97+Y97+Z97+AA97 -> 2.7 | X97: =SUMIF(I97,$X$6,J97) -> 0 | Y97: =SUMIF(I97,$Y$6,J97) -> 0 | Z97: =SUMIF(I97,$Z$6,J97) -> 0 | AA97: =AB97+AC97 -> 2.7 | AB97: =SUMIF(I97,$AB$7,J97) -> 2.7 | AC97: =SUMIF(I97,$AC$7,J97) -> 0
A98: 89 | B98: 인천시 | C98: 남동구 | D98: 89 | E98: 호구포로2R | F98: 비류대로 | G98: 성마달로 | H98: ○ | I98: 겸용도로 (분리형) | J98: 2.4 | N98: 1.5 | O98: 2 | P98: =-1-0.25+N98+O98-0.25 -> 2 | S98: 1 | U98: 중앙 | W98: =X98+Y98+Z98+AA98 -> 2.4 | X98: =SUMIF(I98,$X$6,J98) -> 0 | Y98: =SUMIF(I98,$Y$6,J98) -> 0 | Z98: =SUMIF(I98,$Z$6,J98) -> 0 | AA98: =AB98+AC98 -> 2.4 | AB98: =SUMIF(I98,$AB$7,J98) -> 2.4 | AC98: =SUMIF(I98,$AC$7,J98) -> 0
A99: 90 | B99: 인천시 | C99: 남동구 | D99: 90 | E99: 호구포로3R | F99: 성마달로 | G99: 구월남로 | H99: ○ | I99: 겸용도로 (분리형) | J99: 0.93 | N99: 1.5 | O99: 1 | P99: =-1-0.25+N99+O99-0.25 -> 1 | S99: 3 | U99: 중앙 | W99: =X99+Y99+Z99+AA99 -> 0.93 | X99: =SUMIF(I99,$X$6,J99) -> 0 | Y99: =SUMIF(I99,$Y$6,J99) -> 0 | Z99: =SUMIF(I99,$Z$6,J99) -> 0 | AA99: =AB99+AC99 -> 0.93 | AB99: =SUMIF(I99,$AB$7,J99) -> 0.93 | AC99: =SUMIF(I99,$AC$7,J99) -> 0
A100: 91 | B100: 인천시 | C100: 남동구 | D100: 91 | E100: 호구포로1L | F100: 백범로 | G100: 성마달로 | H100: ○ | I100: 겸용도로 (분리형) | J100: 1.9 | N100: 1.5 | O100: 2 | P100: =-1-0.25+N100+O100-0.25 -> 2 | S100: 3 | U100: 도로측 | W100: =X100+Y100+Z100+AA100 -> 1.9 | X100: =SUMIF(I100,$X$6,J100) -> 0 | Y100: =SUMIF(I100,$Y$6,J100) -> 0 | Z100: =SUMIF(I100,$Z$6,J100) -> 0 | AA100: =AB100+AC100 -> 1.9 | AB100: =SUMIF(I100,$AB$7,J100) -> 1.9 | AC100: =SUMIF(I100,$AC$7,J100) -> 0
A101: 92 | B101: 인천시 | C101: 남동구 | D101: 92 | E101: 호구포로2L | F101: 성마달로 | G101: 비류대로 | H101: ○ | I101: 겸용도로 (분리형) | J101: 2.4 | N101: 1.5 | O101: 2 | P101: =-1-0.25+N101+O101-0.25 -> 2 | S101: 1 | U101: 내측 | W101: =X101+Y101+Z101+AA101 -> 2.4 | X101: =SUMIF(I101,$X$6,J101) -> 0 | Y101: =SUMIF(I101,$Y$6,J101) -> 0 | Z101: =SUMIF(I101,$Z$6,J101) -> 0 | AA101: =AB101+AC101 -> 2.4 | AB101: =SUMIF(I101,$AB$7,J101) -> 2.4 | AC101: =SUMIF(I101,$AC$7,J101) -> 0
A102: 93 | B102: 인천시 | C102: 남동구 | D102: 93 | E102: 호구포로3L | F102: 비류대로 | G102: 청능대로 | H102: ○ | I102: 겸용도로 (분리형) | J102: 2.7 | N102: 1.5 | O102: 2 | P102: =-1-0.25+N102+O102-0.25 -> 2 | S102: 2 | U102: 중앙 | W102: =X102+Y102+Z102+AA102 -> 2.7 | X102: =SUMIF(I102,$X$6,J102) -> 0 | Y102: =SUMIF(I102,$Y$6,J102) -> 0 | Z102: =SUMIF(I102,$Z$6,J102) -> 0 | AA102: =AB102+AC102 -> 2.7 | AB102: =SUMIF(I102,$AB$7,J102) -> 2.7 | AC102: =SUMIF(I102,$AC$7,J102) -> 0
...

Sheet 06 § 부평구
A1: 자전거도로 실태조사 총괄표
A4: 1.기본사항 | I4: 2.조사대상 자전거도로 현황 | T4: 3.판단 | W4: 4. 자전거도로 연장
A5: No | B5: 시도 | C5: 자치구 | D5: 일련번호 | E5: 노선명 | F5: 기점 | G5: 종점 | H5: 도로 연계성 | I5: 자전거도로 종류 | J5: 총연장 (km) /0.00 | K5: 자전거도로 폭원(m) /.0 | S5: 보행량 (점) | T5: 개선 필요여부 | U5: 자전거 도로 위치 | V5: 비고 및 점검 | W5: 자전거도로 연장(km) /.00
K6: 전용도로 | L6: 전용차로 | M6: 우선도로 | N6: 자전거보행자겸용도로 | W6: 총연장(km) /0.00 | X6: 전용도로 | Y6: 전용차로 | Z6: 우선도로 | AA6: 자전거보행자겸용도로
N7: 분리형 | Q7: 비분리형 | AA7: 소계 | AB7: 겸용도로 (분리형) | AC7: 겸용도로 (비분리형)
N8: 자전거도로 | O8: 보도 | P8: 유효폭원 | Q8: 도로폭원 | R8: 유효폭원
B9: 인천시 | C9: 부평구 | D9: 121개 노선 | H9: =COUNTIF(H10:H1048576,"○") -> 117 | J9: =SUM(J10:J1048576) -> 49.01 | K9: =COUNTIF(I10:I1048576,X6) -> 5 | L9: =COUNTIF(I10:I1048576,Y6) -> 0 | M9: =COUNTIF(I10:I1048576,Z6) -> 0 | N9: =COUNTIF(I10:I1048576,AB7) -> 115 | Q9: =COUNTIF(I10:I1048576,AC7) -> 1 | T9: =COUNTIF(T10:T1048576,"○") -> 57 | W9: =SUM(W10:W1048576) -> 49.01 | X9: =SUM(X10:X1048576) -> 1.39 | Y9: =SUM(Y10:Y1048576) -> 0 | Z9: =SUM(Z10:Z1048576) -> 0 | AA9: =SUM(AA10:AA1048576) -> 47.62 | AB9: =SUM(AB10:AB1048576) -> 47.34 | AC9: =SUM(AC10:AC1048576) -> 0.28
A10: 1 | B10: 인천시 | C10: 부평구 | D10: 1-1 | E10: 굴포로R-1 | F10: 체육관로 교차점 | G10: 갈삼사거리 | H10: ○ | I10: 겸용도로 (분리형) | J10: 0.76 | N10: 2 | O10: 2.4 | P10: =-1-0.25+N10+O10-0.25 -> 2.9 | S10: 2 | U10: 내측 | W10: =X10+Y10+Z10+AA10 -> 0.76 | X10: =SUMIF(I10,$X$6,J10) -> 0 | Y10: =SUMIF(I10,$Y$6,J10) -> 0 | Z10: =SUMIF(I10,$Z$6,J10) -> 0 | AA10: =AB10+AC10 -> 0.76 | AB10: =SUMIF(I10,$AB$7,J10) -> 0.76 | AC10: =SUMIF(I10,$AC$7,J10) -> 0
A11: 2 | B11: 인천시 | C11: 부평구 | D11: 1-2 | E11: 굴포로R-2 | F11: 갈삼사거리 | G11: 부평공고 사거리 | H11: ○ | I11: 겸용도로 (분리형) | J11: 0.47 | N11: 2 | O11: 1.2 | P11: =-1-0.25+N11+O11-0.25 -> 1.7 | S11: 2 | T11: ○ | U11: 내측 | W11: =X11+Y11+Z11+AA11 -> 0.47 | X11: =SUMIF(I11,$X$6,J11) -> 0 | Y11: =SUMIF(I11,$Y$6,J11) -> 0 | Z11: =SUMIF(I11,$Z$6,J11) -> 0 | AA11: =AB11+AC11 -> 0.47 | AB11: =SUMIF(I11,$AB$7,J11) -> 0.47 | AC11: =SUMIF(I11,$AC$7,J11) -> 0
A12: 3 | B12: 인천시 | C12: 부평구 | D12: 2-1 | E12: 굴포로L | F12: 한국지엠 삼거리 | G12: 갈삼사거리 | H12: ○ | I12: 겸용도로 (분리형) | J12: 0.87 | N12: 1.7 | O12: 1.7 | P12: =-1-0.25+N12+O12-0.25 -> 1.9 | S12: 2 | T12: ○ | U12: 내측 | W12: =X12+Y12+Z12+AA12 -> 0.87 | X12: =SUMIF(I12,$X$6,J12) -> 0 | Y12: =SUMIF(I12,$Y$6,J12) -> 0 | Z12: =SUMIF(I12,$Z$6,J12) -> 0 | AA12: =AB12+AC12 -> 0.87 | AB12: =SUMIF(I12,$AB$7,J12) -> 0.87 | AC12: =SUMIF(I12,$AC$7,J12) -> 0
A13: 4 | B13: 인천시 | C13: 부평구 | D13: 3-1 | E13: 경원대로L-1 | F13: 백범로교차점 (십정사거리) | G13: 열우물로교차점 (열우물사거리) | H13: ○ | I13: 겸용도로 (분리형) | J13: 0.45 | N13: 1.6 | O13: 3.2 | P13: =-1-0.25+N13+O13-0.25 -> 3.3 | S13: 5 | T13: ○ | U13: 내측 | W13: =X13+Y13+Z13+AA13 -> 0.45 | X13: =SUMIF(I13,$X$6,J13) -> 0 | Y13: =SUMIF(I13,$Y$6,J13) -> 0 | Z13: =SUMIF(I13,$Z$6,J13) -> 0 | AA13: =AB13+AC13 -> 0.45 | AB13: =SUMIF(I13,$AB$7,J13) -> 0.45 | AC13: =SUMIF(I13,$AC$7,J13) -> 0
A14: 5 | B14: 인천시 | C14: 부평구 | D14: 3-2 | E14: 경원대로L-2 | F14: 열우물로교차점 (열우물사거리) | G14: 상정중학교 | H14: ○ | I14: 겸용도로 (분리형) | J14: 0.11 | N14: 1.8 | O14: 1.6 | P14: =-1-0.25+N14+O14-0.25 -> 1.9 | S14: 5 | T14: ○ | U14: 내측 | W14: =X14+Y14+Z14+AA14 -> 0.11 | X14: =SUMIF(I14,$X$6,J14) -> 0 | Y14: =SUMIF(I14,$Y$6,J14) -> 0 | Z14: =SUMIF(I14,$Z$6,J14) -> 0 | AA14: =AB14+AC14 -> 0.11 | AB14: =SUMIF(I14,$AB$7,J14) -> 0.11 | AC14: =SUMIF(I14,$AC$7,J14) -> 0
A15: 6 | B15: 인천시 | C15: 부평구 | D15: 3-3 | E15: 경원대로L-3 | F15: 상정중학교 | G15: 상정고등학교 | H15: ○ | I15: 겸용도로 (분리형) | J15: 0.25 | N15: 1.9 | O15: 1.4 | P15: =-1-0.25+N15+O15-0.25 -> 1.8 | S15: 5 | T15: ○ | U15: 내측 | W15: =X15+Y15+Z15+AA15 -> 0.25 | X15: =SUMIF(I15,$X$6,J15) -> 0 | Y15: =SUMIF(I15,$Y$6,J15) -> 0 | Z15: =SUMIF(I15,$Z$6,J15) -> 0 | AA15: =AB15+AC15 -> 0.25 | AB15: =SUMIF(I15,$AB$7,J15) -> 0.25 | AC15: =SUMIF(I15,$AC$7,J15) -> 0
A16: 7 | B16: 인천시 | C16: 부평구 | D16: 3-4 | E16: 경원대로L-4 | F16: 상정고등학교 | G16: 십정119안전센터 | H16: ○ | I16: 겸용도로 (분리형) | J16: 0.07 | N16: 1.3 | O16: 4.7 | P16: =-1-0.25+N16+O16-0.25 -> 4.5 | S16: 5 | T16: ○ | U16: 내측 | W16: =X16+Y16+Z16+AA16 -> 0.07 | X16: =SUMIF(I16,$X$6,J16) -> 0 | Y16: =SUMIF(I16,$Y$6,J16) -> 0 | Z16: =SUMIF(I16,$Z$6,J16) -> 0 | AA16: =AB16+AC16 -> 0.07 | AB16: =SUMIF(I16,$AB$7,J16) -> 0.07 | AC16: =SUMIF(I16,$AC$7,J16) -> 0
A17: 8 | B17: 인천시 | C17: 부평구 | D17: 3-5 | E17: 경원대로L-5 | F17: 십정119안전센터 | G17: 함봉로교차점 | H17: ○ | I17: 겸용도로 (분리형) | J17: 0.19 | N17: 2.1 | O17: 3.1 | P17: =-1-0.25+N17+O17-0.25 -> 3.7 | S17: 5 | T17: ○ | U17: 내측 | W17: =X17+Y17+Z17+AA17 -> 0.19 | X17: =SUMIF(I17,$X$6,J17) -> 0 | Y17: =SUMIF(I17,$Y$6,J17) -> 0 | Z17: =SUMIF(I17,$Z$6,J17) -> 0 | AA17: =AB17+AC17 -> 0.19 | AB17: =SUMIF(I17,$AB$7,J17) -> 0.19 | AC17: =SUMIF(I17,$AC$7,J17) -> 0
A18: 9 | B18: 인천시 | C18: 부평구 | D18: 3-6 | E18: 경원대로L-6 | F18: 함봉로교차점 | G18: 부평도서관 | H18: ○ | I18: 겸용도로 (분리형) | J18: 0.63 | N18: 1.8 | O18: 1.6 | P18: =-1-0.25+N18+O18-0.25 -> 1.9 | S18: 5 | T18: ○ | U18: 내측 | W18: =X18+Y18+Z18+AA18 -> 0.63 | X18: =SUMIF(I18,$X$6,J18) -> 0 | Y18: =SUMIF(I18,$Y$6,J18) -> 0 | Z18: =SUMIF(I18,$Z$6,J18) -> 0 | AA18: =AB18+AC18 -> 0.63 | AB18: =SUMIF(I18,$AB$7,J18) -> 0.63 | AC18: =SUMIF(I18,$AC$7,J18) -> 0
A19: 10 | B19: 인천시 | C19: 부평구 | D19: 3-7 | E19: 경원대로L-7 | F19: 부평도서관 | G19: 부평서여중 | H19: ○ | I19: 겸용도로 (분리형) | J19: 0.21 | N19: 1.6 | O19: 2.6 | P19: =-1-0.25+N19+O19-0.25 -> 2.7 | S19: 5 | T19: ○ | U19: 내측 | W19: =X19+Y19+Z19+AA19 -> 0.21 | X19: =SUMIF(I19,$X$6,J19) -> 0 | Y19: =SUMIF(I19,$Y$6,J19) -> 0 | Z19: =SUMIF(I19,$Z$6,J19) -> 0 | AA19: =AB19+AC19 -> 0.21 | AB19: =SUMIF(I19,$AB$7,J19) -> 0.21 | AC19: =SUMIF(I19,$AC$7,J19) -> 0
A20: 11 | B20: 인천시 | C20: 부평구 | D20: 3-8 | E20: 경원대로L-8 | F20: 부평서여중 | G20: 신촌사거리 | H20: ○ | I20: 겸용도로 (분리형) | J20: 0.09 | N20: 1.7 | O20: 2.6 | P20: =-1-0.25+N20+O20-0.25 -> 2.8 | S20: 5 | T20: ○ | U20: 내측 | W20: =X20+Y20+Z20+AA20 -> 0.09 | X20: =SUMIF(I20,$X$6,J20) -> 0 | Y20: =SUMIF(I20,$Y$6,J20) -> 0 | Z20: =SUMIF(I20,$Z$6,J20) -> 0 | AA20: =AB20+AC20 -> 0.09 | AB20: =SUMIF(I20,$AB$7,J20) -> 0.09 | AC20: =SUMIF(I20,$AC$7,J20) -> 0
A21: 12 | B21: 인천시 | C21: 부평구 | D21: 3-9 | E21: 경원대로L-9 | F21: 마장로교차점 | G21: 현대아파트1단지111동앞 | H21: ○ | I21: 겸용도로 (분리형) | J21: 0.2 | N21: 1.3 | O21: 1.4 | P21: =-1-0.25+N21+O21-0.25 -> 1.2 | S21: 5 | U21: 내측 | W21: =X21+Y21+Z21+AA21 -> 0.2 | X21: =SUMIF(I21,$X$6,J21) -> 0 | Y21: =SUMIF(I21,$Y$6,J21) -> 0 | Z21: =SUMIF(I21,$Z$6,J21) -> 0 | AA21: =AB21+AC21 -> 0.2 | AB21: =SUMIF(I21,$AB$7,J21) -> 0.2 | AC21: =SUMIF(I21,$AC$7,J21) -> 0
A22: 13 | B22: 인천시 | C22: 부평구 | D22: 3-10 | E22: 경원대로L-10 | F22: 현대아파트1단지111동앞 | G22: 2001부평아울렛 | H22: ○ | I22: 겸용도로 (분리형) | J22: 0.15 | N22: 1.4 | O22: 3.1 | P22: =-1-0.25+N22+O22-0.25 -> 3 | S22: 5 | U22: 내측 | W22: =X22+Y22+Z22+AA22 -> 0.15 | X22: =SUMIF(I22,$X$6,J22) -> 0 | Y22: =SUMIF(I22,$Y$6,J22) -> 0 | Z22: =SUMIF(I22,$Z$6,J22) -> 0 | AA22: =AB22+AC22 -> 0.15 | AB22: =SUMIF(I22,$AB$7,J22) -> 0.15 | AC22: =SUMIF(I22,$AC$7,J22) -> 0
A23: 14 | B23: 인천시 | C23: 부평구 | D23: 4-1 | E23: 경원대로R-1 | F23: 열우물로교차점 (열우물사거리) | G23: 선린감리교회 | H23: ○ | I23: 겸용도로 (분리형) | J23: 0.45 | N23: 1.5 | O23: 1.3 | P23: =-1-0.25+N23+O23-0.25 -> 1.3 | S23: 5 | T23: ○ | U23: 내측 | W23: =X23+Y23+Z23+AA23 -> 0.45 | X23: =SUMIF(I23,$X$6,J23) -> 0 | Y23: =SUMIF(I23,$Y$6,J23) -> 0 | Z23: =SUMIF(I23,$Z$6,J23) -> 0 | AA23: =AB23+AC23 -> 0.45 | AB23: =SUMIF(I23,$AB$7,J23) -> 0.45 | AC23: =SUMIF(I23,$AC$7,J23) -> 0
A24: 15 | B24: 인천시 | C24: 부평구 | D24: 4-2 | E24: 경원대로R-2 | F24: 선린감리교회 | G24: 백영아파트입구 | H24: ○ | I24: 겸용도로 (분리형) | J24: 0.11 | N24: 1.9 | O24: 1.3 | P24: =-1-0.25+N24+O24-0.25 -> 1.7 | S24: 5 | T24: ○ | U24: 내측 | W24: =X24+Y24+Z24+AA24 -> 0.11 | X24: =SUMIF(I24,$X$6,J24) -> 0 | Y24: =SUMIF(I24,$Y$6,J24) -> 0 | Z24: =SUMIF(I24,$Z$6,J24) -> 0 | AA24: =AB24+AC24 -> 0.11 | AB24: =SUMIF(I24,$AB$7,J24) -> 0.11 | AC24: =SUMIF(I24,$AC$7,J24) -> 0
A25: 16 | B25: 인천시 | C25: 부평구 | D25: 4-3 | E25: 경원대로R-3 | F25: 백영아파트입구 | G25: 경원대로1110번길 교차점 | H25: ○ | I25: 겸용도로 (분리형) | J25: 0.25 | N25: 1.7 | O25: 1.9 | P25: =-1-0.25+N25+O25-0.25 -> 2.1 | S25: 5 | T25: ○ | U25: 내측 | W25: =X25+Y25+Z25+AA25 -> 0.25 | X25: =SUMIF(I25,$X$6,J25) -> 0 | Y25: =SUMIF(I25,$Y$6,J25) -> 0 | Z25: =SUMIF(I25,$Z$6,J25) -> 0 | AA25: =AB25+AC25 -> 0.25 | AB25: =SUMIF(I25,$AB$7,J25) -> 0.25 | AC25: =SUMIF(I25,$AC$7,J25) -> 0
A26: 17 | B26: 인천시 | C26: 부평구 | D26: 4-4 | E26: 경원대로R-4 | F26: 경원대로1110번길 교차점 | G26: 상정로교차점 | H26: ○ | I26: 겸용도로 (분리형) | J26: 0.07 | N26: 1.4 | O26: 2.1 | P26: =-1-0.25+N26+O26-0.25 -> 2 | S26: 5 | T26: ○ | U26: 내측 | W26: =X26+Y26+Z26+AA26 -> 0.07 | X26: =SUMIF(I26,$X$6,J26) -> 0 | Y26: =SUMIF(I26,$Y$6,J26) -> 0 | Z26: =SUMIF(I26,$Z$6,J26) -> 0 | AA26: =AB26+AC26 -> 0.07 | AB26: =SUMIF(I26,$AB$7,J26) -> 0.07 | AC26: =SUMIF(I26,$AC$7,J26) -> 0
A27: 18 | B27: 인천시 | C27: 부평구 | D27: 4-5 | E27: 경원대로R-5 | F27: 경원대로1110번길 교차점 | G27: 경원대로1130번길 교차점 | H27: ○ | I27: 겸용도로 (분리형) | J27: 0.19 | N27: 1.8 | O27: 3.2 | P27: =-1-0.25+N27+O27-0.25 -> 3.5 | S27: 5 | T27: ○ | U27: 내측 | W27: =X27+Y27+Z27+AA27 -> 0.19 | X27: =SUMIF(I27,$X$6,J27) -> 0 | Y27: =SUMIF(I27,$Y$6,J27) -> 0 | Z27: =SUMIF(I27,$Z$6,J27) -> 0 | AA27: =AB27+AC27 -> 0.19 | AB27: =SUMIF(I27,$AB$7,J27) -> 0.19 | AC27: =SUMIF(I27,$AC$7,J27) -> 0
A28: 19 | B28: 인천시 | C28: 부평구 | D28: 4-6 | E28: 경원대로R-6 | F28: 경원대로1130번길 교차점 | G28: 아트센터로교차점 | H28: ○ | I28: 겸용도로 (분리형) | J28: 0.63 | N28: 1.8 | O28: 2.8 | P28: =-1-0.25+N28+O28-0.25 -> 3.1 | S28: 5 | T28: ○ | U28: 내측 | W28: =X28+Y28+Z28+AA28 -> 0.63 | X28: =SUMIF(I28,$X$6,J28) -> 0 | Y28: =SUMIF(I28,$Y$6,J28) -> 0 | Z28: =SUMIF(I28,$Z$6,J28) -> 0 | AA28: =AB28+AC28 -> 0.63 | AB28: =SUMIF(I28,$AB$7,J28) -> 0.63 | AC28: =SUMIF(I28,$AC$7,J28) -> 0
A29: 20 | B29: 인천시 | C29: 부평구 | D29: 4-7 | E29: 경원대로R-7 | F29: 아트센터로교차점 | G29: 신촌사거리 | H29: ○ | I29: 겸용도로 (분리형) | J29: 0.21 | N29: 1.3 | O29: 2.6 | P29: =-1-0.25+N29+O29-0.25 -> 2.4 | S29: 5 | U29: 내측 | W29: =X29+Y29+Z29+AA29 -> 0.21 | X29: =SUMIF(I29,$X$6,J29) -> 0 | Y29: =SUMIF(I29,$Y$6,J29) -> 0 | Z29: =SUMIF(I29,$Z$6,J29) -> 0 | AA29: =AB29+AC29 -> 0.21 | AB29: =SUMIF(I29,$AB$7,J29) -> 0.21 | AC29: =SUMIF(I29,$AC$7,J29) -> 0
A30: 21 | B30: 인천시 | C30: 부평구 | D30: 4-8 | E30: 경원대로R-9 | F30: 부평공원로교차점 | G30: 부영로교차점 | H30: ○ | I30: 겸용도로 (분리형) | J30: 0.2 | N30: 3.6 | O30: 1.5 | P30: =-1-0.25+N30+O30-0.25 -> 3.6 | S30: 5 | U30: 내측 | W30: =X30+Y30+Z30+AA30 -> 0.2 | X30: =SUMIF(I30,$X$6,J30) -> 0 | Y30: =SUMIF(I30,$Y$6,J30) -> 0 | Z30: =SUMIF(I30,$Z$6,J30) -> 0 | AA30: =AB30+AC30 -> 0.2 | AB30: =SUMIF(I30,$AB$7,J30) -> 0.2 | AC30: =SUMIF(I30,$AC$7,J30) -> 0
A31: 22 | B31: 인천시 | C31: 부평구 | D31: 4-9 | E31: 경원대로R-10 | F31: 부영로교차점 | G31: 두산위브아파트 | H31: ○ | I31: 겸용도로 (분리형) | J31: 0.15 | N31: 1.5 | O31: 4.1 | P31: =-1-0.25+N31+O31-0.25 -> 4.1 | S31: 5 | U31: 내측 | W31: =X31+Y31+Z31+AA31 -> 0.15 | X31: =SUMIF(I31,$X$6,J31) -> 0 | Y31: =SUMIF(I31,$Y$6,J31) -> 0 | Z31: =SUMIF(I31,$Z$6,J31) -> 0 | AA31: =AB31+AC31 -> 0.15 | AB31: =SUMIF(I31,$AB$7,J31) -> 0.15 | AC31: =SUMIF(I31,$AC$7,J31) -> 0
A32: 23 | B32: 인천시 | C32: 부평구 | D32: 5-1 | E32: 경인로L-1 | F32: 경인로667번길 | G32: 동암산로 교차점 | H32: ○ | I32: 겸용도로 (분리형) | J32: 0.7 | N32: 1.5 | O32: 2.3 | P32: =-1-0.25+N32+O32-0.25 -> 2.3 | S32: 5 | U32: 도로측 | W32: =X32+Y32+Z32+AA32 -> 0.7 | X32: =SUMIF(I32,$X$6,J32) -> 0 | Y32: =SUMIF(I32,$Y$6,J32) -> 0 | Z32: =SUMIF(I32,$Z$6,J32) -> 0 | AA32: =AB32+AC32 -> 0.7 | AB32: =SUMIF(I32,$AB$7,J32) -> 0.7 | AC32: =SUMIF(I32,$AC$7,J32) -> 0
A33: 24 | B33: 인천시 | C33: 부평구 | D33: 5-2 | E33: 경인로L-2 | F33: 경인로769번 | G33: 경인로859번 | H33: ○ | I33: 겸용도로 (분리형) | J33: 0.9 | N33: 1.5 | O33: 2.3 | P33: =-1-0.25+N33+O33-0.25 -> 2.3 | S33: 5 | U33: 도로측 | W33: =X33+Y33+Z33+AA33 -> 0.9 | X33: =SUMIF(I33,$X$6,J33) -> 0 | Y33: =SUMIF(I33,$Y$6,J33) -> 0 | Z33: =SUMIF(I33,$Z$6,J33) -> 0 | AA33: =AB33+AC33 -> 0.9 | AB33: =SUMIF(I33,$AB$7,J33) -> 0.9 | AC33: =SUMIF(I33,$AC$7,J33) -> 0
A34: 25 | B34: 인천시 | C34: 부평구 | D34: 5-3 | E34: 경인로L-3 | F34: 경인로869번 | G34: 경인로879번 | H34: ○ | I34: 겸용도로 (분리형) | J34: 0.08 | N34: 1.5 | O34: 2.4 | P34: =-1-0.25+N34+O34-0.25 -> 2.4 | S34: 5 | U34: 도로측 | W34: =X34+Y34+Z34+AA34 -> 0.08 | X34: =SUMIF(I34,$X$6,J34) -> 0 | Y34: =SUMIF(I34,$Y$6,J34) -> 0 | Z34: =SUMIF(I34,$Z$6,J34) -> 0 | AA34: =AB34+AC34 -> 0.08 | AB34: =SUMIF(I34,$AB$7,J34) -> 0.08 | AC34: =SUMIF(I34,$AC$7,J34) -> 0
A35: 26 | B35: 인천시 | C35: 부평구 | D35: 5-4 | E35: 경인로L-4 | F35: 경인로887번 | G35: 동소정사거리 (장제로27번) | H35: ○ | I35: 겸용도로 (분리형) | J35: 1.07 | N35: 1.5 | O35: 2.4 | P35: =-1-0.25+N35+O35-0.25 -> 2.4 | S35: 5 | U35: 도로측 | W35: =X35+Y35+Z35+AA35 -> 1.07 | X35: =SUMIF(I35,$X$6,J35) -> 0 | Y35: =SUMIF(I35,$Y$6,J35) -> 0 | Z35: =SUMIF(I35,$Z$6,J35) -> 0 | AA35: =AB35+AC35 -> 1.07 | AB35: =SUMIF(I35,$AB$7,J35) -> 1.07 | AC35: =SUMIF(I35,$AC$7,J35) -> 0
A36: 27 | B36: 인천시 | C36: 부평구 | D36: 6 | E36: 경인로R | F36: 부평사거리 | G36: 동수역2번출구 | H36: ○ | I36: 겸용도로 (분리형) | J36: 0.91 | N36: 1.5 | O36: 3 | P36: =-1-0.25+N36+O36-0.25 -> 3 | S36: 5 | T36: ○ | U36: 내측 | W36: =X36+Y36+Z36+AA36 -> 0.91 | X36: =SUMIF(I36,$X$6,J36) -> 0 | Y36: =SUMIF(I36,$Y$6,J36) -> 0 | Z36: =SUMIF(I36,$Z$6,J36) -> 0 | AA36: =AB36+AC36 -> 0.91 | AB36: =SUMIF(I36,$AB$7,J36) -> 0.91 | AC36: =SUMIF(I36,$AC$7,J36) -> 0
A37: 28 | B37: 인천시 | C37: 부평구 | D37: 7-1 | E37: 길주로R-1 | F37: 백마장사거리 | G37: 원길로교차점 | H37: ○ | I37: 겸용도로 (분리형) | J37: 0.47 | N37: 1.4 | O37: 2 | P37: =-1-0.25+N37+O37-0.25 -> 1.9 | S37: 5 | U37: 내측 | W37: =X37+Y37+Z37+AA37 -> 0.47 | X37: =SUMIF(I37,$X$6,J37) -> 0 | Y37: =SUMIF(I37,$Y$6,J37) -> 0 | Z37: =SUMIF(I37,$Z$6,J37) -> 0 | AA37: =AB37+AC37 -> 0.47 | AB37: =SUMIF(I37,$AB$7,J37) -> 0.47 | AC37: =SUMIF(I37,$AC$7,J37) -> 0
A38: 29 | B38: 인천시 | C38: 부평구 | D38: 7-2 | E38: 길주로R-2 | F38: 원길로교차점 | G38: 부평구청사거리 | H38: ○ | I38: 겸용도로 (분리형) | J38: 0.49 | N38: 1.4 | O38: 1.6 | P38: =-1-0.25+N38+O38-0.25 -> 1.5 | S38: 5 | U38: 내측 | W38: =X38+Y38+Z38+AA38 -> 0.49 | X38: =SUMIF(I38,$X$6,J38) -> 0 | Y38: =SUMIF(I38,$Y$6,J38) -> 0 | Z38: =SUMIF(I38,$Z$6,J38) -> 0 | AA38: =AB38+AC38 -> 0.49 | AB38: =SUMIF(I38,$AB$7,J38) -> 0.49 | AC38: =SUMIF(I38,$AC$7,J38) -> 0
A39: 30 | B39: 인천시 | C39: 부평구 | D39: 7-3 | E39: 길주로R-3 | F39: 부평구청사거리 | G39: 신복사거리 | H39: ○ | I39: 겸용도로 (분리형) | J39: 0.85 | N39: 1.6 | O39: 5.2 | P39: =-1-0.25+N39+O39-0.25 -> 5.3 | S39: 5 | U39: 내측 | W39: =X39+Y39+Z39+AA39 -> 0.85 | X39: =SUMIF(I39,$X$6,J39) -> 0 | Y39: =SUMIF(I39,$Y$6,J39) -> 0 | Z39: =SUMIF(I39,$Z$6,J39) -> 0 | AA39: =AB39+AC39 -> 0.85 | AB39: =SUMIF(I39,$AB$7,J39) -> 0.85 | AC39: =SUMIF(I39,$AC$7,J39) -> 0
A40: 31 | B40: 인천시 | C40: 부평구 | D40: 7-4 | E40: 길주로R-4 | F40: 신복사거리 | G40: 충선로교차점 | H40: ○ | I40: 겸용도로 (분리형) | J40: 0.45 | N40: 1.5 | O40: 4.8 | P40: =-1-0.25+N40+O40-0.25 -> 4.8 | S40: 5 | U40: 내측 | W40: =X40+Y40+Z40+AA40 -> 0.45 | X40: =SUMIF(I40,$X$6,J40) -> 0 | Y40: =SUMIF(I40,$Y$6,J40) -> 0 | Z40: =SUMIF(I40,$Z$6,J40) -> 0 | AA40: =AB40+AC40 -> 0.45 | AB40: =SUMIF(I40,$AB$7,J40) -> 0.45 | AC40: =SUMIF(I40,$AC$7,J40) -> 0
A41: 32 | B41: 인천시 | C41: 부평구 | D41: 7-5 | E41: 길주로R-5 | F41: 충선로교차점 | G41: 삼산체육관사거리 | H41: ○ | I41: 겸용도로 (분리형) | J41: 0.45 | N41: 1.5 | O41: 5 | P41: =-1-0.25+N41+O41-0.25 -> 5 | S41: 5 | U41: 내측 | W41: =X41+Y41+Z41+AA41 -> 0.45 | X41: =SUMIF(I41,$X$6,J41) -> 0 | Y41: =SUMIF(I41,$Y$6,J41) -> 0 | Z41: =SUMIF(I41,$Z$6,J41) -> 0 | AA41: =AB41+AC41 -> 0.45 | AB41: =SUMIF(I41,$AB$7,J41) -> 0.45 | AC41: =SUMIF(I41,$AC$7,J41) -> 0
A42: 33 | B42: 인천시 | C42: 부평구 | D42: 8-1 | E42: 길주로L-1 | F42: 백마장사거리 | G42: 부평구청사거리 | H42: ○ | I42: 겸용도로 (분리형) | J42: 1.36 | N42: 1.4 | O42: 2.7 | P42: =-1-0.25+N42+O42-0.25 -> 2.6 | S42: 5 | U42: 내측 | W42: =X42+Y42+Z42+AA42 -> 1.36 | X42: =SUMIF(I42,$X$6,J42) -> 0 | Y42: =SUMIF(I42,$Y$6,J42) -> 0 | Z42: =SUMIF(I42,$Z$6,J42) -> 0 | AA42: =AB42+AC42 -> 1.36 | AB42: =SUMIF(I42,$AB$7,J42) -> 1.36 | AC42: =SUMIF(I42,$AC$7,J42) -> 0
A43: 34 | B43: 인천시 | C43: 부평구 | D43: 8-2 | E43: 길주로L-2 | F43: 부평구청사거리 | G43: 신복사거리 | H43: ○ | I43: 겸용도로 (분리형) | J43: 0.86 | N43: 1.6 | O43: 3.6 | P43: =-1-0.25+N43+O43-0.25 -> 3.7 | S43: 5 | U43: 내측 | W43: =X43+Y43+Z43+AA43 -> 0.86 | X43: =SUMIF(I43,$X$6,J43) -> 0 | Y43: =SUMIF(I43,$Y$6,J43) -> 0 | Z43: =SUMIF(I43,$Z$6,J43) -> 0 | AA43: =AB43+AC43 -> 0.86 | AB43: =SUMIF(I43,$AB$7,J43) -> 0.86 | AC43: =SUMIF(I43,$AC$7,J43) -> 0
A44: 35 | B44: 인천시 | C44: 부평구 | D44: 8-3 | E44: 길주로L-3 | F44: 신복사거리 | G44: 충선로교차점 | H44: ○ | I44: 겸용도로 (분리형) | J44: 0.39 | N44: 1.5 | O44: 5 | P44: =-1-0.25+N44+O44-0.25 -> 5 | S44: 5 | U44: 내측 | W44: =X44+Y44+Z44+AA44 -> 0.39 | X44: =SUMIF(I44,$X$6,J44) -> 0 | Y44: =SUMIF(I44,$Y$6,J44) -> 0 | Z44: =SUMIF(I44,$Z$6,J44) -> 0 | AA44: =AB44+AC44 -> 0.39 | AB44: =SUMIF(I44,$AB$7,J44) -> 0.39 | AC44: =SUMIF(I44,$AC$7,J44) -> 0
A45: 36 | B45: 인천시 | C45: 부평구 | D45: 8-4 | E45: 길주로L-4 | F45: 충선로교차점 | G45: 삼산체육관사거리 | H45: ○ | I45: 겸용도로 (분리형) | J45: 0.5 | N45: 2.3 | O45: 7 | P45: =-1-0.25+N45+O45-0.25 -> 7.8 | S45: 5 | U45: 내측 | W45: =X45+Y45+Z45+AA45 -> 0.5 | X45: =SUMIF(I45,$X$6,J45) -> 0 | Y45: =SUMIF(I45,$Y$6,J45) -> 0 | Z45: =SUMIF(I45,$Z$6,J45) -> 0 | AA45: =AB45+AC45 -> 0.5 | AB45: =SUMIF(I45,$AB$7,J45) -> 0.5 | AC45: =SUMIF(I45,$AC$7,J45) -> 0
A46: 37 | B46: 인천시 | C46: 부평구 | D46: 9-1 | E46: 신트리로 | F46: 부평구청 | G46: 주부토로교차점 | H46: ○ | I46: 겸용도로 (분리형) | J46: 0.36 | N46: 1.5 | O46: 4 | P46: =-1-0.25+N46+O46-0.25 -> 4 | S46: 2 | U46: 내측 | W46: =X46+Y46+Z46+AA46 -> 0.36 | X46: =SUMIF(I46,$X$6,J46) -> 0 | Y46: =SUMIF(I46,$Y$6,J46) -> 0 | Z46: =SUMIF(I46,$Z$6,J46) -> 0 | AA46: =AB46+AC46 -> 0.36 | AB46: =SUMIF(I46,$AB$7,J46) -> 0.36 | AC46: =SUMIF(I46,$AC$7,J46) -> 0
A47: 38 | B47: 인천시 | C47: 부평구 | D47: 9-2 | E47: 신트리로 | F47: 주부토로교차점 | G47: 신트리로63번 | H47: ○ | I47: 겸용도로 (분리형) | J47: 0.23 | N47: 1.5 | O47: 4.1 | P47: =-1-0.25+N47+O47-0.25 -> 4.1 | S47: 2 | T47: ○ | U47: 내측 | W47: =X47+Y47+Z47+AA47 -> 0.23 | X47: =SUMIF(I47,$X$6,J47) -> 0 | Y47: =SUMIF(I47,$Y$6,J47) -> 0 | Z47: =SUMIF(I47,$Z$6,J47) -> 0 | AA47: =AB47+AC47 -> 0.23 | AB47: =SUMIF(I47,$AB$7,J47) -> 0.23 | AC47: =SUMIF(I47,$AC$7,J47) -> 0
A48: 39 | B48: 인천시 | C48: 부평구 | D48: 10 | E48: 주부토로L | F48: 신트리공원사거리 | G48: 갈산동 대동@출입구 | H48: ○ | I48: 겸용도로 (분리형) | J48: 0.48 | N48: 1.2 | O48: 1.4 | P48: =-1-0.25+N48+O48-0.25 -> 1.1 | S48: 2 | T48: ○ | U48: 내측 | W48: =X48+Y48+Z48+AA48 -> 0.48 | X48: =SUMIF(I48,$X$6,J48) -> 0 | Y48: =SUMIF(I48,$Y$6,J48) -> 0 | Z48: =SUMIF(I48,$Z$6,J48) -> 0 | AA48: =AB48+AC48 -> 0.48 | AB48: =SUMIF(I48,$AB$7,J48) -> 0.48 | AC48: =SUMIF(I48,$AC$7,J48) -> 0
A49: 40 | B49: 인천시 | C49: 부평구 | D49: 11 | E49: 주부토로R | F49: 신트리공원사거리 | G49: 부평공고 출입구 | H49: ○ | I49: 겸용도로 (분리형) | J49: 0.34 | N49: 1.2 | O49: 1.4 | P49: =-1-0.25+N49+O49-0.25 -> 1.1 | S49: 2 | T49: ○ | U49: 내측 | W49: =X49+Y49+Z49+AA49 -> 0.34 | X49: =SUMIF(I49,$X$6,J49) -> 0 | Y49: =SUMIF(I49,$Y$6,J49) -> 0 | Z49: =SUMIF(I49,$Z$6,J49) -> 0 | AA49: =AB49+AC49 -> 0.34 | AB49: =SUMIF(I49,$AB$7,J49) -> 0.34 | AC49: =SUMIF(I49,$AC$7,J49) -> 0
A50: 41 | B50: 인천시 | C50: 부평구 | D50: 12 | E50: 수변로 | F50: 삼산삼거리 | G50: 삼산 체육관역 | H50: ○ | I50: 겸용도로 (분리형) | J50: 1.13 | N50: 2.1 | O50: 2.5 | P50: =-1-0.25+N50+O50-0.25 -> 3.1 | S50: 3 | U50: 내측 | W50: =X50+Y50+Z50+AA50 -> 1.13 | X50: =SUMIF(I50,$X$6,J50) -> 0 | Y50: =SUMIF(I50,$Y$6,J50) -> 0 | Z50: =SUMIF(I50,$Z$6,J50) -> 0 | AA50: =AB50+AC50 -> 1.13 | AB50: =SUMIF(I50,$AB$7,J50) -> 1.13 | AC50: =SUMIF(I50,$AC$7,J50) -> 0
A51: 42 | B51: 인천시 | C51: 부평구 | D51: 13-1 | E51: 체육관로L-1 | F51: 평천로교차점 | G51: 진산고사거리 | H51: ○ | I51: 겸용도로 (분리형) | J51: 0.32 | N51: 2 | O51: 2.8 | P51: =-1-0.25+N51+O51-0.25 -> 3.3 | S51: 1 | T51: ○ | U51: 내측 | W51: =X51+Y51+Z51+AA51 -> 0.32 | X51: =SUMIF(I51,$X$6,J51) -> 0 | Y51: =SUMIF(I51,$Y$6,J51) -> 0 | Z51: =SUMIF(I51,$Z$6,J51) -> 0 | AA51: =AB51+AC51 -> 0.32 | AB51: =SUMIF(I51,$AB$7,J51) -> 0.32 | AC51: =SUMIF(I51,$AC$7,J51) -> 0
A52: 43 | B52: 인천시 | C52: 부평구 | D52: 13-2 | E52: 체육관로L-2 | F52: 진산고사거리 | G52: 수변로교차점 | H52: ○ | I52: 겸용도로 (분리형) | J52: 0.58 | N52: 1.5 | O52: 1.8 | P52: =-1-0.25+N52+O52-0.25 -> 1.8 | S52: 1 | T52: ○ | U52: 내측 | W52: =X52+Y52+Z52+AA52 -> 0.58 | X52: =SUMIF(I52,$X$6,J52) -> 0 | Y52: =SUMIF(I52,$Y$6,J52) -> 0 | Z52: =SUMIF(I52,$Z$6,J52) -> 0 | AA52: =AB52+AC52 -> 0.58 | AB52: =SUMIF(I52,$AB$7,J52) -> 0.58 | AC52: =SUMIF(I52,$AC$7,J52) -> 0
A53: 44 | B53: 인천시 | C53: 부평구 | D53: 14 | E53: 체육관로R | F53: 평천로교차점 | G53: 진산고사거리 | H53: ○ | I53: 겸용도로 (분리형) | J53: 0.32 | N53: 2 | O53: 3.3 | P53: =-1-0.25+N53+O53-0.25 -> 3.8 | S53: 1 | T53: ○ | U53: 내측 | W53: =X53+Y53+Z53+AA53 -> 0.32 | X53: =SUMIF(I53,$X$6,J53) -> 0 | Y53: =SUMIF(I53,$Y$6,J53) -> 0 | Z53: =SUMIF(I53,$Z$6,J53) -> 0 | AA53: =AB53+AC53 -> 0.32 | AB53: =SUMIF(I53,$AB$7,J53) -> 0.32 | AC53: =SUMIF(I53,$AC$7,J53) -> 0
A54: 45 | B54: 인천시 | C54: 부평구 | D54: 15 | E54: 충선로 | F54: 평천로 교차점 | G54: 길주로 교차점 | H54: ○ | I54: 겸용도로 (분리형) | J54: 0.95 | N54: 1.8 | O54: 1.9 | P54: =-1-0.25+N54+O54-0.25 -> 2.2 | S54: 3 | U54: 내측 | W54: =X54+Y54+Z54+AA54 -> 0.95 | X54: =SUMIF(I54,$X$6,J54) -> 0 | Y54: =SUMIF(I54,$Y$6,J54) -> 0 | Z54: =SUMIF(I54,$Z$6,J54) -> 0 | AA54: =AB54+AC54 -> 0.95 | AB54: =SUMIF(I54,$AB$7,J54) -> 0.95 | AC54: =SUMIF(I54,$AC$7,J54) -> 0
A55: 46 | B55: 인천시 | C55: 부평구 | D55: 16-1 | E55: 마장로L-1 | F55: 웑적사거리 | G55: 마장로175 (은광교회) | H55: ○ | I55: 겸용도로 (분리형) | J55: 1.23 | N55: 1.5 | O55: 2.1 | P55: =-1-0.25+N55+O55-0.25 -> 2.1 | S55: 2 | T55: ○ | U55: 내측 | W55: =X55+Y55+Z55+AA55 -> 1.23 | X55: =SUMIF(I55,$X$6,J55) -> 0 | Y55: =SUMIF(I55,$Y$6,J55) -> 0 | Z55: =SUMIF(I55,$Z$6,J55) -> 0 | AA55: =AB55+AC55 -> 1.23 | AB55: =SUMIF(I55,$AB$7,J55) -> 1.23 | AC55: =SUMIF(I55,$AC$7,J55) -> 0
A56: 47 | B56: 인천시 | C56: 부평구 | D56: 16-2 | E56: 마장로L-2 | F56: 마장로165 (산곡예일교회) | G56: 마장로155 | H56: ○ | I56: 겸용도로 (분리형) | J56: 0.13 | N56: 1.5 | O56: 0.3 | P56: =-1-0.25+N56+O56-0.25 -> 0.3 | S56: 2 | T56: ○ | U56: 내측 | W56: =X56+Y56+Z56+AA56 -> 0.13 | X56: =SUMIF(I56,$X$6,J56) -> 0 | Y56: =SUMIF(I56,$Y$6,J56) -> 0 | Z56: =SUMIF(I56,$Z$6,J56) -> 0 | AA56: =AB56+AC56 -> 0.13 | AB56: =SUMIF(I56,$AB$7,J56) -> 0.13 | AC56: =SUMIF(I56,$AC$7,J56) -> 0
A57: 48 | B57: 인천시 | C57: 부평구 | D57: 16-3 | E57: 마장로L-3 | F57: 마장로153 (교촌치킨) | G57: 현대아파트 출입구 | H57: ○ | I57: 겸용도로 (분리형) | J57: 0.32 | N57: 1.7 | O57: 1.3 | P57: =-1-0.25+N57+O57-0.25 -> 1.5 | S57: 2 | T57: ○ | U57: 내측 | W57: =X57+Y57+Z57+AA57 -> 0.32 | X57: =SUMIF(I57,$X$6,J57) -> 0 | Y57: =SUMIF(I57,$Y$6,J57) -> 0 | Z57: =SUMIF(I57,$Z$6,J57) -> 0 | AA57: =AB57+AC57 -> 0.32 | AB57: =SUMIF(I57,$AB$7,J57) -> 0.32 | AC57: =SUMIF(I57,$AC$7,J57) -> 0
A58: 49 | B58: 인천시 | C58: 부평구 | D58: 16-4 | E58: 마장로L-4 | F58: 현대아파트 출입구 | G58: 화랑로4 (에이빌딩) | H58: ○ | I58: 겸용도로 (분리형) | J58: 0.25 | N58: 1.7 | O58: 1.9 | P58: =-1-0.25+N58+O58-0.25 -> 2.1 | S58: 2 | T58: ○ | U58: 내측 | W58: =X58+Y58+Z58+AA58 -> 0.25 | X58: =SUMIF(I58,$X$6,J58) -> 0 | Y58: =SUMIF(I58,$Y$6,J58) -> 0 | Z58: =SUMIF(I58,$Z$6,J58) -> 0 | AA58: =AB58+AC58 -> 0.25 | AB58: =SUMIF(I58,$AB$7,J58) -> 0.25 | AC58: =SUMIF(I58,$AC$7,J58) -> 0
A59: 50 | B59: 인천시 | C59: 부평구 | D59: 16-5 | E59: 마장로L-5 | F59: 신촌사거리 | G59: 이규보로143 (굿모닝마트) | H59: ○ | I59: 겸용도로 (분리형) | J59: 0.19 | N59: 2.6 | O59: 4.6 | P59: =-1-0.25+N59+O59-0.25 -> 5.7 | S59: 2 | U59: 내측 | W59: =X59+Y59+Z59+AA59 -> 0.19 | X59: =SUMIF(I59,$X$6,J59) -> 0 | Y59: =SUMIF(I59,$Y$6,J59) -> 0 | Z59: =SUMIF(I59,$Z$6,J59) -> 0 | AA59: =AB59+AC59 -> 0.19 | AB59: =SUMIF(I59,$AB$7,J59) -> 0.19 | AC59: =SUMIF(I59,$AC$7,J59) -> 0
A60: 51 | B60: 인천시 | C60: 부평구 | D60: 16-6 | E60: 마장로L-6 | F60: 백운고가 상부L | G60: 부평대주파크빌 출입구 | H60: ○ | I60: 겸용도로 (분리형) | J60: 0.14 | N60: 1.3 | O60: 1.8 | P60: =-1-0.25+N60+O60-0.25 -> 1.6 | S60: 2 | U60: 내측 | W60: =X60+Y60+Z60+AA60 -> 0.14 | X60: =SUMIF(I60,$X$6,J60) -> 0 | Y60: =SUMIF(I60,$Y$6,J60) -> 0 | Z60: =SUMIF(I60,$Z$6,J60) -> 0 | AA60: =AB60+AC60 -> 0.14 | AB60: =SUMIF(I60,$AB$7,J60) -> 0.14 | AC60: =SUMIF(I60,$AC$7,J60) -> 0
A61: 52 | B61: 인천시 | C61: 부평구 | D61: 17-1 | E61: 마장로R-1 | F61: 마장로50 (인천관광호텔) | G61: 백운고가상부R | H61: ○ | I61: 겸용도로 (분리형) | J61: 0.14 | N61: 1.3 | O61: 1.8 | P61: =-1-0.25+N61+O61-0.25 -> 1.6 | S61: 2 | U61: 도로측 | W61: =X61+Y61+Z61+AA61 -> 0.14 | X61: =SUMIF(I61,$X$6,J61) -> 0 | Y61: =SUMIF(I61,$Y$6,J61) -> 0 | Z61: =SUMIF(I61,$Z$6,J61) -> 0 | AA61: =AB61+AC61 -> 0.14 | AB61: =SUMIF(I61,$AB$7,J61) -> 0.14 | AC61: =SUMIF(I61,$AC$7,J61) -> 0
A62: 53 | B62: 인천시 | C62: 부평구 | D62: 17-2 | E62: 마장로R-2 | F62: 신촌로7번길8 | G62: 신촌사거리 | H62: ○ | I62: 겸용도로 (분리형) | J62: 0.28 | N62: 1.4 | O62: 2.5 | P62: =-1-0.25+N62+O62-0.25 -> 2.4 | S62: 2 | U62: 도로측 | W62: =X62+Y62+Z62+AA62 -> 0.28 | X62: =SUMIF(I62,$X$6,J62) -> 0 | Y62: =SUMIF(I62,$Y$6,J62) -> 0 | Z62: =SUMIF(I62,$Z$6,J62) -> 0 | AA62: =AB62+AC62 -> 0.28 | AB62: =SUMIF(I62,$AB$7,J62) -> 0.28 | AC62: =SUMIF(I62,$AC$7,J62) -> 0
A63: 54 | B63: 인천시 | C63: 부평구 | D63: 17-3 | E63: 마장로R-3 | F63: 신촌사거리 | G63: 현대A.1단지입구 | H63: ○ | I63: 겸용도로 (분리형) | J63: 0.23 | N63: 1.5 | O63: 2.5 | P63: =-1-0.25+N63+O63-0.25 -> 2.5 | S63: 2 | T63: ○ | U63: 도로측 | W63: =X63+Y63+Z63+AA63 -> 0.23 | X63: =SUMIF(I63,$X$6,J63) -> 0 | Y63: =SUMIF(I63,$Y$6,J63) -> 0 | Z63: =SUMIF(I63,$Z$6,J63) -> 0 | AA63: =AB63+AC63 -> 0.23 | AB63: =SUMIF(I63,$AB$7,J63) -> 0.23 | AC63: =SUMIF(I63,$AC$7,J63) -> 0
A64: 55 | B64: 인천시 | C64: 부평구 | D64: 17-4 | E64: 마장로R-4 | F64: 현대오일뱅크주유소 | G64: 화랑북로교차점 | H64: ○ | I64: 겸용도로 (분리형) | J64: 0.57 | N64: 1.5 | O64: 2.5 | P64: =-1-0.25+N64+O64-0.25 -> 2.5 | S64: 2 | T64: ○ | U64: 도로측 | W64: =X64+Y64+Z64+AA64 -> 0.57 | X64: =SUMIF(I64,$X$6,J64) -> 0 | Y64: =SUMIF(I64,$Y$6,J64) -> 0 | Z64: =SUMIF(I64,$Z$6,J64) -> 0 | AA64: =AB64+AC64 -> 0.57 | AB64: =SUMIF(I64,$AB$7,J64) -> 0.57 | AC64: =SUMIF(I64,$AC$7,J64) -> 0
A65: 56 | B65: 인천시 | C65: 부평구 | D65: 17-5 | E65: 마장로R-5 | F65: 마장로220번길 교차점 | G65: 마장로242번길 교차점 | H65: ○ | I65: 겸용도로 (분리형) | J65: 0.21 | N65: 1.7 | O65: 2.1 | P65: =-1-0.25+N65+O65-0.25 -> 2.3 | S65: 2 | T65: ○ | U65: 도로측 | W65: =X65+Y65+Z65+AA65 -> 0.21 | X65: =SUMIF(I65,$X$6,J65) -> 0 | Y65: =SUMIF(I65,$Y$6,J65) -> 0 | Z65: =SUMIF(I65,$Z$6,J65) -> 0 | AA65: =AB65+AC65 -> 0.21 | AB65: =SUMIF(I65,$AB$7,J65) -> 0.21 | AC65: =SUMIF(I65,$AC$7,J65) -> 0
A66: 57 | B66: 인천시 | C66: 부평구 | D66: 17-6 | E66: 마장로R-6 | F66: 마장로272번길 교차점 | G66: 원적사거리 | H66: ○ | I66: 겸용도로 (분리형) | J66: 0.19 | N66: 1.6 | O66: 2.6 | P66: =-1-0.25+N66+O66-0.25 -> 2.7 | S66: 2 | U66: 도로측 | W66: =X66+Y66+Z66+AA66 -> 0.19 | X66: =SUMIF(I66,$X$6,J66) -> 0 | Y66: =SUMIF(I66,$Y$6,J66) -> 0 | Z66: =SUMIF(I66,$Z$6,J66) -> 0 | AA66: =AB66+AC66 -> 0.19 | AB66: =SUMIF(I66,$AB$7,J66) -> 0.19 | AC66: =SUMIF(I66,$AC$7,J66) -> 0
A67: 58 | B67: 인천시 | C67: 부평구 | D67: 17-7 | E67: 마장로R-7 | F67: 원적사거리 | G67: 마장로312 (디지털LG산곡프라자앞) | H67: ○ | I67: 겸용도로 (분리형) | J67: 0.15 | N67: 1.5 | O67: 2.4 | P67: =-1-0.25+N67+O67-0.25 -> 2.4 | S67: 2 | U67: 도로측 | W67: =X67+Y67+Z67+AA67 -> 0.15 | X67: =SUMIF(I67,$X$6,J67) -> 0 | Y67: =SUMIF(I67,$Y$6,J67) -> 0 | Z67: =SUMIF(I67,$Z$6,J67) -> 0 | AA67: =AB67+AC67 -> 0.15 | AB67: =SUMIF(I67,$AB$7,J67) -> 0.15 | AC67: =SUMIF(I67,$AC$7,J67) -> 0
A68: 59 | B68: 인천시 | C68: 부평구 | D68: 18 | E68: 아트센터로 | F68: 경원대로 교차점 | G68: 이규보로 교차점 | H68: ○ | I68: 겸용도로 (분리형) | J68: 0.25 | N68: 1.5 | O68: 1.6 | P68: =-1-0.25+N68+O68-0.25 -> 1.6 | S68: 1 | T68: ○ | U68: 내측 | W68: =X68+Y68+Z68+AA68 -> 0.25 | X68: =SUMIF(I68,$X$6,J68) -> 0 | Y68: =SUMIF(I68,$Y$6,J68) -> 0 | Z68: =SUMIF(I68,$Z$6,J68) -> 0 | AA68: =AB68+AC68 -> 0.25 | AB68: =SUMIF(I68,$AB$7,J68) -> 0.25 | AC68: =SUMIF(I68,$AC$7,J68) -> 0
A69: 60 | B69: 인천시 | C69: 부평구 | D69: 19-1 | E69: 부평대로L-1 | F69: 부평시장역 | G69: 부평구청역 | H69: ○ | I69: 겸용도로 (분리형) | J69: 0.86 | N69: 1.5 | O69: 4.1 | P69: =-1-0.25+N69+O69-0.25 -> 4.1 | S69: 5 | U69: 내측 | W69: =X69+Y69+Z69+AA69 -> 0.86 | X69: =SUMIF(I69,$X$6,J69) -> 0 | Y69: =SUMIF(I69,$Y$6,J69) -> 0 | Z69: =SUMIF(I69,$Z$6,J69) -> 0 | AA69: =AB69+AC69 -> 0.86 | AB69: =SUMIF(I69,$AB$7,J69) -> 0.86 | AC69: =SUMIF(I69,$AC$7,J69) -> 0
A70: 61 | B70: 인천시 | C70: 부평구 | D70: 19-2 | E70: 부평대로L-2 | F70: 부평구청역 | G70: 갈산역 | H70: ○ | I70: 겸용도로 (분리형) | J70: 0.86 | N70: 1.2 | O70: 3.4 | P70: =-1-0.25+N70+O70-0.25 -> 3.1 | S70: 5 | U70: 내측 | W70: =X70+Y70+Z70+AA70 -> 0.86 | X70: =SUMIF(I70,$X$6,J70) -> 0 | Y70: =SUMIF(I70,$Y$6,J70) -> 0 | Z70: =SUMIF(I70,$Z$6,J70) -> 0 | AA70: =AB70+AC70 -> 0.86 | AB70: =SUMIF(I70,$AB$7,J70) -> 0.86 | AC70: =SUMIF(I70,$AC$7,J70) -> 0
A71: 62 | B71: 인천시 | C71: 부평구 | D71: 19-3 | E71: 부평대로L-3 | F71: 갈산역 | G71: 부평북로교차점 | H71: ○ | I71: 겸용도로 (분리형) | J71: 0.54 | N71: 1.3 | O71: 3 | P71: =-1-0.25+N71+O71-0.25 -> 2.8 | S71: 5 | U71: 내측 | W71: =X71+Y71+Z71+AA71 -> 0.54 | X71: =SUMIF(I71,$X$6,J71) -> 0 | Y71: =SUMIF(I71,$Y$6,J71) -> 0 | Z71: =SUMIF(I71,$Z$6,J71) -> 0 | AA71: =AB71+AC71 -> 0.54 | AB71: =SUMIF(I71,$AB$7,J71) -> 0.54 | AC71: =SUMIF(I71,$AC$7,J71) -> 0
A72: 63 | B72: 인천시 | C72: 부평구 | D72: 19-4 | E72: 부평대로L-4 | F72: 부평북로교차점 | G72: 부평구경계 | H72: ○ | I72: 겸용도로 (분리형) | J72: 0.21 | N72: 1.3 | O72: 3.7 | P72: =-1-0.25+N72+O72-0.25 -> 3.5 | S72: 5 | U72: 내측 | W72: =X72+Y72+Z72+AA72 -> 0.21 | X72: =SUMIF(I72,$X$6,J72) -> 0 | Y72: =SUMIF(I72,$Y$6,J72) -> 0 | Z72: =SUMIF(I72,$Z$6,J72) -> 0 | AA72: =AB72+AC72 -> 0.21 | AB72: =SUMIF(I72,$AB$7,J72) -> 0.21 | AC72: =SUMIF(I72,$AC$7,J72) -> 0
A73: 64 | B73: 인천시 | C73: 부평구 | D73: 20-1 | E73: 부평대로R-1 | F73: 부평시장역 | G73: 부평구청역 | H73: ○ | I73: 겸용도로 (분리형) | J73: 0.86 | N73: 1.2 | O73: 3.5 | P73: =-1-0.25+N73+O73-0.25 -> 3.2 | S73: 5 | U73: 중앙 | W73: =X73+Y73+Z73+AA73 -> 0.86 | X73: =SUMIF(I73,$X$6,J73) -> 0 | Y73: =SUMIF(I73,$Y$6,J73) -> 0 | Z73: =SUMIF(I73,$Z$6,J73) -> 0 | AA73: =AB73+AC73 -> 0.86 | AB73: =SUMIF(I73,$AB$7,J73) -> 0.86 | AC73: =SUMIF(I73,$AC$7,J73) -> 0
A74: 65 | B74: 인천시 | C74: 부평구 | D74: 20-2 | E74: 부평대로R-2 | F74: 부평구청역 | G74: 사근다리 | H74: ○ | I74: 겸용도로 (분리형) | J74: 0.24 | N74: 1.2 | O74: 3.5 | P74: =-1-0.25+N74+O74-0.25 -> 3.2 | S74: 5 | U74: 중앙 | W74: =X74+Y74+Z74+AA74 -> 0.24 | X74: =SUMIF(I74,$X$6,J74) -> 0 | Y74: =SUMIF(I74,$Y$6,J74) -> 0 | Z74: =SUMIF(I74,$Z$6,J74) -> 0 | AA74: =AB74+AC74 -> 0.24 | AB74: =SUMIF(I74,$AB$7,J74) -> 0.24 | AC74: =SUMIF(I74,$AC$7,J74) -> 0
A75: 66 | B75: 인천시 | C75: 부평구 | D75: 20-3 | E75: 부평대로R-3 | F75: GS LPG충전소 | G75: 굴포로교차점 | H75: ○ | I75: 겸용도로 (분리형) | J75: 0.14 | N75: 1.2 | O75: 3.5 | P75: =-1-0.25+N75+O75-0.25 -> 3.2 | S75: 5 | U75: 중앙 | W75: =X75+Y75+Z75+AA75 -> 0.14 | X75: =SUMIF(I75,$X$6,J75) -> 0 | Y75: =SUMIF(I75,$Y$6,J75) -> 0 | Z75: =SUMIF(I75,$Z$6,J75) -> 0 | AA75: =AB75+AC75 -> 0.14 | AB75: =SUMIF(I75,$AB$7,J75) -> 0.14 | AC75: =SUMIF(I75,$AC$7,J75) -> 0
A76: 67 | B76: 인천시 | C76: 부평구 | D76: 20-4 | E76: 부평대로R-4 | F76: 굴포로교차점 | G76: 부평대로254번 | H76: ○ | I76: 겸용도로 (분리형) | J76: 0.21 | N76: 1.2 | O76: 4.6 | P76: =-1-0.25+N76+O76-0.25 -> 4.3 | S76: 5 | U76: 중앙 | W76: =X76+Y76+Z76+AA76 -> 0.21 | X76: =SUMIF(I76,$X$6,J76) -> 0 | Y76: =SUMIF(I76,$Y$6,J76) -> 0 | Z76: =SUMIF(I76,$Z$6,J76) -> 0 | AA76: =AB76+AC76 -> 0.21 | AB76: =SUMIF(I76,$AB$7,J76) -> 0.21 | AC76: =SUMIF(I76,$AC$7,J76) -> 0
A77: 68 | B77: 인천시 | C77: 부평구 | D77: 20-5 | E77: 부평대로R-5 | F77: 부평대로266번 | G77: 갈산역 | H77: ○ | I77: 겸용도로 (분리형) | J77: 0.09 | N77: 1.2 | O77: 3.7 | P77: =-1-0.25+N77+O77-0.25 -> 3.4 | S77: 5 | U77: 중앙 | W77: =X77+Y77+Z77+AA77 -> 0.09 | X77: =SUMIF(I77,$X$6,J77) -> 0 | Y77: =SUMIF(I77,$Y$6,J77) -> 0 | Z77: =SUMIF(I77,$Z$6,J77) -> 0 | AA77: =AB77+AC77 -> 0.09 | AB77: =SUMIF(I77,$AB$7,J77) -> 0.09 | AC77: =SUMIF(I77,$AC$7,J77) -> 0
A78: 69 | B78: 인천시 | C78: 부평구 | D78: 20-6 | E78: 부평대로R-6 | F78: 부평대로298번 | G78: 인천부평소방서 | H78: ○ | I78: 겸용도로 (분리형) | J78: 0.21 | N78: 1.2 | O78: 3.1 | P78: =-1-0.25+N78+O78-0.25 -> 2.8 | S78: 5 | T78: ○ | U78: 중앙 | W78: =X78+Y78+Z78+AA78 -> 0.21 | X78: =SUMIF(I78,$X$6,J78) -> 0 | Y78: =SUMIF(I78,$Y$6,J78) -> 0 | Z78: =SUMIF(I78,$Z$6,J78) -> 0 | AA78: =AB78+AC78 -> 0.21 | AB78: =SUMIF(I78,$AB$7,J78) -> 0.21 | AC78: =SUMIF(I78,$AC$7,J78) -> 0
A79: 70 | B79: 인천시 | C79: 부평구 | D79: 20-7 | E79: 부평대로R-7 | F79: 인천부평소방서 | G79: 부평북로교차점 | H79: ○ | I79: 겸용도로 (분리형) | J79: 0.19 | N79: 1.7 | O79: 4.1 | P79: =-1-0.25+N79+O79-0.25 -> 4.3 | S79: 5 | T79: ○ | U79: 중앙 | W79: =X79+Y79+Z79+AA79 -> 0.19 | X79: =SUMIF(I79,$X$6,J79) -> 0 | Y79: =SUMIF(I79,$Y$6,J79) -> 0 | Z79: =SUMIF(I79,$Z$6,J79) -> 0 | AA79: =AB79+AC79 -> 0.19 | AB79: =SUMIF(I79,$AB$7,J79) -> 0.19 | AC79: =SUMIF(I79,$AC$7,J79) -> 0
A80: 71 | B80: 인천시 | C80: 부평구 | D80: 20-8 | E80: 부평대로R-8 | F80: 부평북로교차점 | G80: 부평구경계 | H80: ○ | I80: 겸용도로 (분리형) | J80: 0.11 | N80: 1.6 | O80: 2.8 | P80: =-1-0.25+N80+O80-0.25 -> 2.9 | S80: 5 | T80: ○ | U80: 중앙 | W80: =X80+Y80+Z80+AA80 -> 0.11 | X80: =SUMIF(I80,$X$6,J80) -> 0 | Y80: =SUMIF(I80,$Y$6,J80) -> 0 | Z80: =SUMIF(I80,$Z$6,J80) -> 0 | AA80: =AB80+AC80 -> 0.11 | AB80: =SUMIF(I80,$AB$7,J80) -> 0.11 | AC80: =SUMIF(I80,$AC$7,J80) -> 0
A81: 72 | B81: 인천시 | C81: 부평구 | D81: 21-1 | E81: 대정로L-1 | F81: 부평시장역오거리 | G81: 주부토로교차점 | H81: ○ | I81: 겸용도로 (분리형) | J81: 0.11 | N81: 1.6 | O81: 3 | P81: =-1-0.25+N81+O81-0.25 -> 3.1 | S81: 4 | T81: ○ | U81: 도로측 | W81: =X81+Y81+Z81+AA81 -> 0.11 | X81: =SUMIF(I81,$X$6,J81) -> 0 | Y81: =SUMIF(I81,$Y$6,J81) -> 0 | Z81: =SUMIF(I81,$Z$6,J81) -> 0 | AA81: =AB81+AC81 -> 0.11 | AB81: =SUMIF(I81,$AB$7,J81) -> 0.11 | AC81: =SUMIF(I81,$AC$7,J81) -> 0
A82: 73 | B82: 인천시 | C82: 부평구 | D82: 21-2 | E82: 대정로L-2 | F82: 시장로터리 | G82: 굴다리오거리 | H82: ○ | I82: 겸용도로 (분리형) | J82: 0.34 | N82: 1.2 | O82: 2.8 | P82: =-1-0.25+N82+O82-0.25 -> 2.5 | S82: 4 | U82: 도로측 | W82: =X82+Y82+Z82+AA82 -> 0.34 | X82: =SUMIF(I82,$X$6,J82) -> 0 | Y82: =SUMIF(I82,$Y$6,J82) -> 0 | Z82: =SUMIF(I82,$Z$6,J82) -> 0 | AA82: =AB82+AC82 -> 0.34 | AB82: =SUMIF(I82,$AB$7,J82) -> 0.34 | AC82: =SUMIF(I82,$AC$7,J82) -> 0
A83: 74 | B83: 인천시 | C83: 부평구 | D83: 22-1 | E83: 대정로R-1 | F83: 부평시장역오거리 | G83: 대정로9번 | H83: ○ | I83: 겸용도로 (분리형) | J83: 0.02 | N83: 1.6 | O83: 3 | P83: =-1-0.25+N83+O83-0.25 -> 3.1 | S83: 4 | T83: ○ | U83: 도로측 | W83: =X83+Y83+Z83+AA83 -> 0.02 | X83: =SUMIF(I83,$X$6,J83) -> 0 | Y83: =SUMIF(I83,$Y$6,J83) -> 0 | Z83: =SUMIF(I83,$Z$6,J83) -> 0 | AA83: =AB83+AC83 -> 0.02 | AB83: =SUMIF(I83,$AB$7,J83) -> 0.02 | AC83: =SUMIF(I83,$AC$7,J83) -> 0
A84: 75 | B84: 인천시 | C84: 부평구 | D84: 22-2 | E84: 대정로R-2 | F84: 시장로터리 | G84: 굴다리오거리 | H84: ○ | I84: 겸용도로 (분리형) | J84: 0.34 | N84: 1.2 | O84: 2.8 | P84: =-1-0.25+N84+O84-0.25 -> 2.5 | S84: 4 | U84: 도로측 | W84: =X84+Y84+Z84+AA84 -> 0.34 | X84: =SUMIF(I84,$X$6,J84) -> 0 | Y84: =SUMIF(I84,$Y$6,J84) -> 0 | Z84: =SUMIF(I84,$Z$6,J84) -> 0 | AA84: =AB84+AC84 -> 0.34 | AB84: =SUMIF(I84,$AB$7,J84) -> 0.34 | AC84: =SUMIF(I84,$AC$7,J84) -> 0
A85: 76 | B85: 인천시 | C85: 부평구 | D85: 23-1 | E85: 원적로 | F85: 원적사거리 | G85: 금호이수마운트밸리 103동앞 | H85: ○ | I85: 겸용도로 (분리형) | J85: 0.23 | N85: 1.4 | O85: 0.4 | P85: =-1-0.25+N85+O85-0.25 -> 0.3 | S85: 3 | U85: 내측 | W85: =X85+Y85+Z85+AA85 -> 0.23 | X85: =SUMIF(I85,$X$6,J85) -> 0 | Y85: =SUMIF(I85,$Y$6,J85) -> 0 | Z85: =SUMIF(I85,$Z$6,J85) -> 0 | AA85: =AB85+AC85 -> 0.23 | AB85: =SUMIF(I85,$AB$7,J85) -> 0.23 | AC85: =SUMIF(I85,$AC$7,J85) -> 0
A86: 77 | B86: 인천시 | C86: 부평구 | D86: 23-2 | E86: 원적로 | F86: 한양A 7차 101동앞 | G86: 부평전화국 사거리 | H86: ○ | I86: 겸용도로 (분리형) | J86: 0.2 | N86: 1.3 | O86: 1.7 | P86: =-1-0.25+N86+O86-0.25 -> 1.5 | S86: 3 | T86: ○ | U86: 내측 | W86: =X86+Y86+Z86+AA86 -> 0.2 | X86: =SUMIF(I86,$X$6,J86) -> 0 | Y86: =SUMIF(I86,$Y$6,J86) -> 0 | Z86: =SUMIF(I86,$Z$6,J86) -> 0 | AA86: =AB86+AC86 -> 0.2 | AB86: =SUMIF(I86,$AB$7,J86) -> 0.2 | AC86: =SUMIF(I86,$AC$7,J86) -> 0
A87: 78 | B87: 인천시 | C87: 부평구 | D87: 24-1 | E87: 부흥로L-1 | F87: 부평구보건소 별관 | G87: 주부토로교차점 | H87: ○ | I87: 겸용도로 (분리형) | J87: 0.11 | N87: 1.5 | O87: 3.6 | P87: =-1-0.25+N87+O87-0.25 -> 3.6 | S87: 3 | T87: ○ | U87: 내측 | W87: =X87+Y87+Z87+AA87 -> 0.11 | X87: =SUMIF(I87,$X$6,J87) -> 0 | Y87: =SUMIF(I87,$Y$6,J87) -> 0 | Z87: =SUMIF(I87,$Z$6,J87) -> 0 | AA87: =AB87+AC87 -> 0.11 | AB87: =SUMIF(I87,$AB$7,J87) -> 0.11 | AC87: =SUMIF(I87,$AC$7,J87) -> 0
A88: 79 | B88: 인천시 | C88: 부평구 | D88: 24-2 | E88: 부흥로L-2 | F88: 부흥오거리주차장 | G88: 부흥오거리 | H88: ○ | I88: 겸용도로 (분리형) | J88: 0.04 | N88: 1 | O88: 2 | P88: =-1-0.25+N88+O88-0.25 -> 1.5 | S88: 3 | T88: ○ | U88: 내측 | W88: =X88+Y88+Z88+AA88 -> 0.04 | X88: =SUMIF(I88,$X$6,J88) -> 0 | Y88: =SUMIF(I88,$Y$6,J88) -> 0 | Z88: =SUMIF(I88,$Z$6,J88) -> 0 | AA88: =AB88+AC88 -> 0.04 | AB88: =SUMIF(I88,$AB$7,J88) -> 0.04 | AC88: =SUMIF(I88,$AC$7,J88) -> 0
A89: 80 | B89: 인천시 | C89: 부평구 | D89: 25 | E89: 부흥로R | F89: 시장역오거리 | G89: 우먼메디산부인과 출입구 | H89: ○ | I89: 겸용도로 (분리형) | J89: 0.1 | N89: 1.6 | O89: 2.9 | P89: =-1-0.25+N89+O89-0.25 -> 3 | S89: 3 | T89: ○ | U89: 중앙 | W89: =X89+Y89+Z89+AA89 -> 0.1 | X89: =SUMIF(I89,$X$6,J89) -> 0 | Y89: =SUMIF(I89,$Y$6,J89) -> 0 | Z89: =SUMIF(I89,$Z$6,J89) -> 0 | AA89: =AB89+AC89 -> 0.1 | AB89: =SUMIF(I89,$AB$7,J89) -> 0.1 | AC89: =SUMIF(I89,$AC$7,J89) -> 0
A90: 81 | B90: 인천시 | C90: 부평구 | D90: 26-1 | E90: 장제로L-1 | F90: 부흥오거리 | G90: 신복사거리 | H90: ○ | I90: 겸용도로 (분리형) | J90: 0.87 | N90: 1.5 | O90: 4 | P90: =-1-0.25+N90+O90-0.25 -> 4 | S90: 5 | U90: 도로측 | W90: =X90+Y90+Z90+AA90 -> 0.87 | X90: =SUMIF(I90,$X$6,J90) -> 0 | Y90: =SUMIF(I90,$Y$6,J90) -> 0 | Z90: =SUMIF(I90,$Z$6,J90) -> 0 | AA90: =AB90+AC90 -> 0.87 | AB90: =SUMIF(I90,$AB$7,J90) -> 0.87 | AC90: =SUMIF(I90,$AC$7,J90) -> 0
A91: 82 | B91: 인천시 | C91: 부평구 | D91: 26-2 | E91: 장제로L-2 | F91: 신복사거리 | G91: 굴포4교 | H91: ○ | I91: 겸용도로 (분리형) | J91: 0.3 | N91: 1.5 | O91: 2.4 | P91: =-1-0.25+N91+O91-0.25 -> 2.4 | S91: 5 | U91: 도로측 | W91: =X91+Y91+Z91+AA91 -> 0.3 | X91: =SUMIF(I91,$X$6,J91) -> 0 | Y91: =SUMIF(I91,$Y$6,J91) -> 0 | Z91: =SUMIF(I91,$Z$6,J91) -> 0 | AA91: =AB91+AC91 -> 0.3 | AB91: =SUMIF(I91,$AB$7,J91) -> 0.3 | AC91: =SUMIF(I91,$AC$7,J91) -> 0
A92: 83 | B92: 인천시 | C92: 부평구 | D92: 26-3 | E92: 장제로L-3 | F92: 굴포4교 | G92: 갈삼사거리 | H92: ○ | I92: 겸용도로 (분리형) | J92: 0.16 | N92: 1.4 | O92: 3.6 | P92: =-1-0.25+N92+O92-0.25 -> 3.5 | S92: 5 | U92: 도로측 | W92: =X92+Y92+Z92+AA92 -> 0.16 | X92: =SUMIF(I92,$X$6,J92) -> 0 | Y92: =SUMIF(I92,$Y$6,J92) -> 0 | Z92: =SUMIF(I92,$Z$6,J92) -> 0 | AA92: =AB92+AC92 -> 0.16 | AB92: =SUMIF(I92,$AB$7,J92) -> 0.16 | AC92: =SUMIF(I92,$AC$7,J92) -> 0
A93: 84 | B93: 인천시 | C93: 부평구 | D93: 26-4 | E93: 장제로L-4 | F93: 갈삼사거리 | G93: 삼산사거리 | H93: ○ | I93: 겸용도로 (분리형) | J93: 0.64 | N93: 1.4 | O93: 2.8 | P93: =-1-0.25+N93+O93-0.25 -> 2.7 | S93: 5 | U93: 도로측 | W93: =X93+Y93+Z93+AA93 -> 0.64 | X93: =SUMIF(I93,$X$6,J93) -> 0 | Y93: =SUMIF(I93,$Y$6,J93) -> 0 | Z93: =SUMIF(I93,$Z$6,J93) -> 0 | AA93: =AB93+AC93 -> 0.64 | AB93: =SUMIF(I93,$AB$7,J93) -> 0.64 | AC93: =SUMIF(I93,$AC$7,J93) -> 0
A94: 85 | B94: 인천시 | C94: 부평구 | D94: 27-1 | E94: 장제로R-1 | F94: 부흥오거리 | G94: 신복사거리 | H94: ○ | I94: 겸용도로 (분리형) | J94: 0.82 | N94: 1.5 | O94: 5 | P94: =-1-0.25+N94+O94-0.25 -> 5 | S94: 5 | U94: 내측 | W94: =X94+Y94+Z94+AA94 -> 0.82 | X94: =SUMIF(I94,$X$6,J94) -> 0 | Y94: =SUMIF(I94,$Y$6,J94) -> 0 | Z94: =SUMIF(I94,$Z$6,J94) -> 0 | AA94: =AB94+AC94 -> 0.82 | AB94: =SUMIF(I94,$AB$7,J94) -> 0.82 | AC94: =SUMIF(I94,$AC$7,J94) -> 0
A95: 86 | B95: 인천시 | C95: 부평구 | D95: 27-2 | E95: 장제로R-2 | F95: 신복사거리 | G95: 삼산사거리 | H95: ○ | I95: 겸용도로 (분리형) | J95: 1.09 | N95: 1.8 | O95: 3.8 | P95: =-1-0.25+N95+O95-0.25 -> 4.1 | S95: 5 | U95: 내측 | W95: =X95+Y95+Z95+AA95 -> 1.09 | X95: =SUMIF(I95,$X$6,J95) -> 0 | Y95: =SUMIF(I95,$Y$6,J95) -> 0 | Z95: =SUMIF(I95,$Z$6,J95) -> 0 | AA95: =AB95+AC95 -> 1.09 | AB95: =SUMIF(I95,$AB$7,J95) -> 1.09 | AC95: =SUMIF(I95,$AC$7,J95) -> 0
