Workbook

Sheet 인천시 § 총괄_최종정리(수정금지)
A1: 자전거도로 실태조사 총괄표
A4: 1.기본사항 | I4: 2.조사대상 자전거도로 현황 | T4: 3.판단 | W4: 4. 자전거도로 연장
A5: No | B5: 시도 | C5: 자치구 | D5: 일련번호 | E5: 노선명 | F5: 기점 | G5: 종점 | H5: 도로 연계성 | I5: 자전거도로 종류 | J5: 총연장 (km) /0.00 | K5: 자전거도로 폭원(m) /.0 | S5: 보행량 (점) | T5: 개선 필요여부 | U5: 자전거 도로 위치 | V5: 비고 및 점검 | W5: 자전거도로 연장(km) /.00
K6: 전용도로 | L6: 전용차로 | M6: 우선도로 | N6: 자전거보행자겸용도로 | W6: 총연장 (km) /0.00 | X6: 전용도로 | Y6: 전용차로 | Z6: 우선도로 | AA6: 자전거보행자겸용도로
N7: 분리형 | Q7: 비분리형 | AA7: 소계 | AB7: 겸용도로 (분리형) | AC7: 겸용도로 (비분리형)
N8: 자전거도로 | O8: 보도 | P8: 유효폭원 | Q8: 도로폭원 | R8: 유효폭원
B9: 인천시 | C9: 12개 지역 | D9: 625개 노선 | H9: =H10+H49+H56+H97+H140+H259+H381+H427+H467+H503+H506+H613 -> 548 | J9: =J10+J49+J56+J97+J140+J259+J381+J427+J467+J503+J506+J613 -> 598.62 | K9: =K10+K49+K56+K97+K140+K259+K381+K427+K467+K503+K506+K613 -> 140 | L9: =L10+L49+L56+L97+L140+L259+L381+L427+L467+L503+L506+L613 -> 9 | M9: =M10+M49+M56+M97+M140+M259+M381+M427+M467+M503+M506+M613 -> 0 | N9: =N10+N49+N56+N97+N140+N259+N381+N427+N467+N503+N506+N613 -> 421 | Q9: =Q10+Q49+Q56+Q97+Q140+Q259+Q381+Q427+Q467+Q503+Q506+Q613 -> 53 | T9: =T10+T49+T56+T97+T140+T259+T381+T427+T467+T503+T506+T613 -> 129 | W9: =W10+W49+W56+W97+W140+W259+W381+W427+W467+W503+W506+W613 -> 598.62 | X9: =X10+X49+X56+X97+X140+X259+X381+X427+X467+X503+X506+X613 -> 191.17 | Y9: =Y10+Y49+Y56+Y97+Y140+Y259+Y381+Y427+Y467+Y503+Y506+Y613 -> 6 | Z9: =Z10+Z49+Z56+Z97+Z140+Z259+Z381+Z427+Z467+Z503+Z506+Z613 -> 0 | AA9: =AA10+AA49+AA56+AA97+AA140+AA259+AA381+AA427+AA467+AA503+AA506+AA613 -> 401.45 | AB9: =AB10+AB49+AB56+AB97+AB140+AB259+AB381+AB427+AB467+AB503+AB506+AB613 -> 319.56 | AC9: =AC10+AC49+AC56+AC97+AC140+AC259+AC381+AC427+AC467+AC503+AC506+AC613 -> 81.89
A10: 1 | B10: 인천시 | C10: ='01 § 중구'!C9 -> 중구 | D10: ='01 § 중구'!D9 -> 38개 노선 | H10: ='01 § 중구'!H9 -> 34 | J10: ='01 § 중구'!J9 -> 20.71 | K10: ='01 § 중구'!K9 -> 14 | L10: ='01 § 중구'!L9 -> 0 | M10: ='01 § 중구'!M9 -> 0 | N10: ='01 § 중구'!N9 -> 19 | Q10: ='01 § 중구'!Q9 -> 5 | T10: ='01 § 중구'!T9 -> 1 | W10: =SUM(W11:W48) -> 20.71 | X10: =SUM(X11:X48) -> 9.2 | Y10: =SUM(Y11:Y48) -> 0 | Z10: =SUM(Z11:Z48) -> 0 | AA10: =SUM(AA11:AA48) -> 11.51 | AB10: =SUM(AB11:AB48) -> 9.48 | AC10: =SUM(AC11:AC48) -> 2.03
A11: 2 | B11: 인천시 | C11: ='01 § 중구'!C10 -> 중구 | D11: ='01 § 중구'!D10 -> 1 | E11: ='01 § 중구'!E10 -> 월미로1 | F11: ='01 § 중구'!F10 -> 우회고가 사거리 | G11: ='01 § 중구'!G10 -> 8부두 앞 | H11: ='01 § 중구'!H10 -> 0 | I11: ='01 § 중구'!I10 -> 겸용도로 (분리형) | J11: ='01 § 중구'!J10 -> 0.2 | ... U11: ='01 § 중구'!U10 -> 도로측 | W11: =X11+Y11+Z11+AA11 -> 0.2 | X11: =SUMIF(I11,$X$6,J11) -> 0 | Y11: =SUMIF(I11,$Y$6,J11) -> 0 | Z11: =SUMIF(I11,$Z$6,J11) -> 0 | AA11: =AB11+AC11 -> 0.2 | AB11: =SUMIF(I11,$AB$7,J11) -> 0.2 | AC11: =SUMIF(I11,$AC$7,J11) -> 0
A12: 3 | B12: 인천시 | C12: ='01 § 중구'!C11 -> 중구 | D12: ='01 § 중구'!D11 -> 2 | E12: ='01 § 중구'!E11 -> 월미로2 | F12: ='01 § 중구'!F11 -> 8부두 앞 | G12: ='01 § 중구'!G11 -> 월미도입구 삼거리 | H12: ='01 § 중구'!H11 -> 0 | I12: ='01 § 중구'!I11 -> 전용도로 | J12: ='01 § 중구'!J11 -> 0.06 | ... U12: ='01 § 중구'!U11 -> 0 | W12: =X12+Y12+Z12+AA12 -> 0.06 | X12: =SUMIF(I12,$X$6,J12) -> 0.06 | Y12: =SUMIF(I12,$Y$6,J12) -> 0 | Z12: =SUMIF(I12,$Z$6,J12) -> 0 | AA12: =AB12+AC12 -> 0 | AB12: =SUMIF(I12,$AB$7,J12) -> 0 | AC12: =SUMIF(I12,$AC$7,J12) -> 0
A13: 4 | B13: 인천시 | C13: ='01 § 중구'!C12 -> 중구 | D13: ='01 § 중구'!D12 -> 3 | E13: ='01 § 중구'!E12 -> 월미로3 | F13: ='01 § 중구'!F12 -> 인항철골 | G13: ='01 § 중구'!G12 -> 월미공원역 | H13: ='01 § 중구'!H12 -> 0 | I13: ='01 § 중구'!I12 -> 전용도로 | J13: ='01 § 중구'!J12 -> 0.62 | ... U13: ='01 § 중구'!U12 -> 0 | W13: =X13+Y13+Z13+AA13 -> 0.62 | X13: =SUMIF(I13,$X$6,J13) -> 0.62 | Y13: =SUMIF(I13,$Y$6,J13) -> 0 | Z13: =SUMIF(I13,$Z$6,J13) -> 0 | AA13: =AB13+AC13 -> 0 | AB13: =SUMIF(I13,$AB$7,J13) -> 0 | AC13: =SUMIF(I13,$AC$7,J13) -> 0
A14: 5 | B14: 인천시 | C14: ='01 § 중구'!C13 -> 중구 | D14: ='01 § 중구'!D13 -> 4 | E14: ='01 § 중구'!E13 -> 월미로4 | F14: ='01 § 중구'!F13 -> 월미공원 정문 | G14: ='01 § 중구'!G13 -> 갑문 입구 | H14: ='01 § 중구'!H13 -> ○ | I14: ='01 § 중구'!I13 -> 겸용도로 (비분리형) | J14: ='01 § 중구'!J13 -> 1.18 | ... U14: ='01 § 중구'!U13 -> 0 | W14: =X14+Y14+Z14+AA14 -> 1.18 | X14: =SUMIF(I14,$X$6,J14) -> 0 | Y14: =SUMIF(I14,$Y$6,J14) -> 0 | Z14: =SUMIF(I14,$Z$6,J14) -> 0 | AA14: =AB14+AC14 -> 1.18 | AB14: =SUMIF(I14,$AB$7,J14) -> 0 | AC14: =SUMIF(I14,$AC$7,J14) -> 1.18
A15: 6 | B15: 인천시 | C15: ='01 § 중구'!C14 -> 중구 | D15: ='01 § 중구'!D14 -> 5 | E15: ='01 § 중구'!E14 -> 월미로5 | F15: ='01 § 중구'!F14 -> 갑문입구 | G15: ='01 § 중구'!G14 -> 문타운입구 | H15: ='01 § 중구'!H14 -> ○ | I15: ='01 § 중구'!I14 -> 겸용도로 (분리형) | J15: ='01 § 중구'!J14 -> 0.72 | ... U15: ='01 § 중구'!U14 -> 내측 | W15: =X15+Y15+Z15+AA15 -> 0.72 | X15: =SUMIF(I15,$X$6,J15) -> 0 | Y15: =SUMIF(I15,$Y$6,J15) -> 0 | Z15: =SUMIF(I15,$Z$6,J15) -> 0 | AA15: =AB15+AC15 -> 0.72 | AB15: =SUMIF(I15,$AB$7,J15) -> 0.72 | AC15: =SUMIF(I15,$AC$7,J15) -> 0
A16: 7 | B16: 인천시 | C16: ='01 § 중구'!C15 -> 중구 | D16: ='01 § 중구'!D15 -> 6 | E16: ='01 § 중구'!E15 -> 월미로6 | F16: ='01 § 중구'!F15 -> 월미도 문타운 | G16: ='01 § 중구'!G15 -> 월미로 260번길 | H16: ='01 § 중구'!H15 -> ○ | I16: ='01 § 중구'!I15 -> 겸용도로 (비분리형) | J16: ='01 § 중구'!J15 -> 0.28 | ... U16: ='01 § 중구'!U15 -> 0 | W16: =X16+Y16+Z16+AA16 -> 0.28 | X16: =SUMIF(I16,$X$6,J16) -> 0 | Y16: =SUMIF(I16,$Y$6,J16) -> 0 | Z16: =SUMIF(I16,$Z$6,J16) -> 0 | AA16: =AB16+AC16 -> 0.28 | AB16: =SUMIF(I16,$AB$7,J16) -> 0 | AC16: =SUMIF(I16,$AC$7,J16) -> 0.28
A17: 8 | B17: 인천시 | C17: ='01 § 중구'!C16 -> 중구 | D17: ='01 § 중구'!D16 -> 7 | E17: ='01 § 중구'!E16 -> 월미로7 | F17: ='01 § 중구'!F16 -> 월미로 266번길 | G17: ='01 § 중구'!G16 -> 월미공원 후문 | H17: ='01 § 중구'!H16 -> ○ | I17: ='01 § 중구'!I16 -> 겸용도로 (분리형) | J17: ='01 § 중구'!J16 -> 0.44 | ... U17: ='01 § 중구'!U16 -> 판단불가 | W17: =X17+Y17+Z17+AA17 -> 0.44 | X17: =SUMIF(I17,$X$6,J17) -> 0 | Y17: =SUMIF(I17,$Y$6,J17) -> 0 | Z17: =SUMIF(I17,$Z$6,J17) -> 0 | AA17: =AB17+AC17 -> 0.44 | AB17: =SUMIF(I17,$AB$7,J17) -> 0.44 | AC17: =SUMIF(I17,$AC$7,J17) -> 0
A18: 9 | B18: 인천시 | C18: ='01 § 중구'!C17 -> 중구 | D18: ='01 § 중구'!D17 -> 8 | E18: ='01 § 중구'!E17 -> 월미로8R | F18: ='01 § 중구'!F17 -> 월미공원 후문 | G18: ='01 § 중구'!G17 -> 월미로 189번길 | H18: ='01 § 중구'!H17 -> ○ | I18: ='01 § 중구'!I17 -> 전용도로 | J18: ='01 § 중구'!J17 -> 0.29 | ... U18: ='01 § 중구'!U17 -> 0 | W18: =X18+Y18+Z18+AA18 -> 0.29 | X18: =SUMIF(I18,$X$6,J18) -> 0.29 | Y18: =SUMIF(I18,$Y$6,J18) -> 0 | Z18: =SUMIF(I18,$Z$6,J18) -> 0 | AA18: =AB18+AC18 -> 0 | AB18: =SUMIF(I18,$AB$7,J18) -> 0 | AC18: =SUMIF(I18,$AC$7,J18) -> 0
A19: 10 | B19: 인천시 | C19: ='01 § 중구'!C18 -> 중구 | D19: ='01 § 중구'!D18 -> 9 | E19: ='01 § 중구'!E18 -> 월미로8L | F19: ='01 § 중구'!F18 -> 월미로 189번길 | G19: ='01 § 중구'!G18 -> 월미공원 후문 | H19: ='01 § 중구'!H18 -> ○ | I19: ='01 § 중구'!I18 -> 전용도로 | J19: ='01 § 중구'!J18 -> 0.31 | ... U19: ='01 § 중구'!U18 -> 0 | W19: =X19+Y19+Z19+AA19 -> 0.31 | X19: =SUMIF(I19,$X$6,J19) -> 0.31 | Y19: =SUMIF(I19,$Y$6,J19) -> 0 | Z19: =SUMIF(I19,$Z$6,J19) -> 0 | AA19: =AB19+AC19 -> 0 | AB19: =SUMIF(I19,$AB$7,J19) -> 0 | AC19: =SUMIF(I19,$AC$7,J19) -> 0
A20: 11 | B20: 인천시 | C20: ='01 § 중구'!C19 -> 중구 | D20: ='01 § 중구'!D19 -> 10 | E20: ='01 § 중구'!E19 -> 축항대로1 | F20: ='01 § 중구'!F19 -> 라이프아파트 정문 | G20: ='01 § 중구'!G19 -> 연안부두로 75번길 | H20: ='01 § 중구'!H19 -> ○ | I20: ='01 § 중구'!I19 -> 겸용도로 (분리형) | J20: ='01 § 중구'!J19 -> 0.41 | ... U20: ='01 § 중구'!U19 -> 내측 | W20: =X20+Y20+Z20+AA20 -> 0.41 | X20: =SUMIF(I20,$X$6,J20) -> 0 | Y20: =SUMIF(I20,$Y$6,J20) -> 0 | Z20: =SUMIF(I20,$Z$6,J20) -> 0 | AA20: =AB20+AC20 -> 0.41 | AB20: =SUMIF(I20,$AB$7,J20) -> 0.41 | AC20: =SUMIF(I20,$AC$7,J20) -> 0
A21: 12 | B21: 인천시 | C21: ='01 § 중구'!C20 -> 중구 | D21: ='01 § 중구'!D20 -> 11 | E21: ='01 § 중구'!E20 -> 축항대로2L | F21: ='01 § 중구'!F20 -> 연안부두로 75번길 | G21: ='01 § 중구'!G20 -> 연안부두로 33번길 | H21: ='01 § 중구'!H20 -> ○ | I21: ='01 § 중구'!I20 -> 겸용도로 (비분리형) | J21: ='01 § 중구'!J20 -> 0.35 | ... U21: ='01 § 중구'!U20 -> 0 | W21: =X21+Y21+Z21+AA21 -> 0.35 | X21: =SUMIF(I21,$X$6,J21) -> 0 | Y21: =SUMIF(I21,$Y$6,J21) -> 0 | Z21: =SUMIF(I21,$Z$6,J21) -> 0 | AA21: =AB21+AC21 -> 0.35 | AB21: =SUMIF(I21,$AB$7,J21) -> 0 | AC21: =SUMIF(I21,$AC$7,J21) -> 0.35
A22: 13 | B22: 인천시 | C22: ='01 § 중구'!C21 -> 중구 | D22: ='01 § 중구'!D21 -> 12 | E22: ='01 § 중구'!E21 -> 축항대로2R | F22: ='01 § 중구'!F21 -> 연안부두로 75번길 | G22: ='01 § 중구'!G21 -> 연안부두로 33번길 | H22: ='01 § 중구'!H21 -> ○ | I22: ='01 § 중구'!I21 -> 겸용도로 (분리형) | J22: ='01 § 중구'!J21 -> 0.33 | ... U22: ='01 § 중구'!U21 -> 내측 | W22: =X22+Y22+Z22+AA22 -> 0.33 | X22: =SUMIF(I22,$X$6,J22) -> 0 | Y22: =SUMIF(I22,$Y$6,J22) -> 0 | Z22: =SUMIF(I22,$Z$6,J22) -> 0 | AA22: =AB22+AC22 -> 0.33 | AB22: =SUMIF(I22,$AB$7,J22) -> 0.33 | AC22: =SUMIF(I22,$AC$7,J22) -> 0
... A48: 39 | B48: 인천시 | C48: ='01 § 중구'!C47 -> 중구 | D48: ='01 § 중구'!D47 -> 38 | E48: ='01 § 중구'!E47 -> 서해대로4L | F48: ='01 § 중구'!F47 -> 신흥사거리 | G48: ='01 § 중구'!G47 -> 유동삼거리 | H48: ='01 § 중구'!H47 -> ○ | I48: ='01 § 중구'!I47 -> 전용도로 | J48: ='01 § 중구'!J47 -> 0.5 | ... U48: ='01 § 중구'!U47 -> 0 | W48: =X48+Y48+Z48+AA48 -> 0.5 | X48: =SUMIF(I48,$X$6,J48) -> 0.5 | Y48: =SUMIF(I48,$Y$6,J48) -> 0 | Z48: =SUMIF(I48,$Z$6,J48) -> 0 | AA48: =AB48+AC48 -> 0 | AB48: =SUMIF(I48,$AB$7,J48) -> 0 | AC48: =SUMIF(I48,$AC$7,J48) -> 0
A49: 40 | B49: 인천시 | C49: ='02 § 동구'!C9 -> 동구 | D49: ='02 § 동구'!D9 -> 6개 노선 | H49: ='02 § 동구'!H9 -> 6 | J49: ='02 § 동구'!J9 -> 5.61 | K49: ='02 § 동구'!K9 -> 2 | L49: ='02 § 동구'!L9 -> 0 | M49: ='02 § 동구'!M9 -> 0 | N49: ='02 § 동구'!N9 -> 4 | Q49: ='02 § 동구'!Q9 -> 0 | T49: ='02 § 동구'!T9 -> 1 | W49: =SUM(W50:W55) -> 5.61 | X49: =SUM(X50:X55) -> 3.42 | Y49: =SUM(Y50:Y55) -> 0 | Z49: =SUM(Z50:Z55) -> 0 | AA49: =SUM(AA50:AA55) -> 2.19 | AB49: =SUM(AB50:AB55) -> 2.19 | AC49: =SUM(AC50:AC55) -> 0
A50: 41 | B50: 인천시 | C50: ='02 § 동구'!C10 -> 동구 | D50: ='02 § 동구'!D10 -> 1 | E50: ='02 § 동구'!E10 -> 인중로1R | F50: ='02 § 동구'!F10 -> s-oil항구 주유소 | G50: ='02 § 동구'!G10 -> 송현사거리 | H50: ='02 § 동구'!H10 -> ○ | I50: ='02 § 동구'!I10 -> 전용도로 | J50: ='02 § 동구'!J10 -> 1.72 | ... U50: ='02 § 동구'!U10 -> 0 | W50: =X50+Y50+Z50+AA50 -> 1.72 | X50: =SUMIF(I50,$X$6,J50) -> 1.72 | Y50: =SUMIF(I50,$Y$6,J50) -> 0 | Z50: =SUMIF(I50,$Z$6,J50) -> 0 | AA50: =AB50+AC50 -> 0 | AB50: =SUMIF(I50,$AB$7,J50) -> 0 | AC50: =SUMIF(I50,$AC$7,J50) -> 0
A51: 42 | B51: 인천시 | C51: ='02 § 동구'!C11 -> 동구 | D51: ='02 § 동구'!D11 -> 2 | E51: ='02 § 동구'!E11 -> 인중로1L | F51: ='02 § 동구'!F11 -> 송현사거리 | G51: ='02 § 동구'!G11 -> s-oil항구 주유소 | H51: ='02 § 동구'!H11 -> ○ | I51: ='02 § 동구'!I11 -> 전용도로 | J51: ='02 § 동구'!J11 -> 1.7 | ... U51: ='02 § 동구'!U11 -> 0 | W51: =X51+Y51+Z51+AA51 -> 1.7 | X51: =SUMIF(I51,$X$6,J51) -> 1.7 | Y51: =SUMIF(I51,$Y$6,J51) -> 0 | Z51: =SUMIF(I51,$Z$6,J51) -> 0 | AA51: =AB51+AC51 -> 0 | AB51: =SUMIF(I51,$AB$7,J51) -> 0 | AC51: =SUMIF(I51,$AC$7,J51) -> 0
A52: 43 | B52: 인천시 | C52: ='02 § 동구'!C12 -> 동구 | D52: ='02 § 동구'!D12 -> 3 | E52: ='02 § 동구'!E12 -> 새천년로 | F52: ='02 § 동구'!F12 -> 명보그린빌 | G52: ='02 § 동구'!G12 -> 제중종합 한의원 | H52: ='02 § 동구'!H12 -> ○ | I52: ='02 § 동구'!I12 -> 겸용도로 (분리형) | J52: ='02 § 동구'!J12 -> 0.6 | ... U52: ='02 § 동구'!U12 -> 내측 | W52: =X52+Y52+Z52+AA52 -> 0.6 | X52: =SUMIF(I52,$X$6,J52) -> 0 | Y52: =SUMIF(I52,$Y$6,J52) -> 0 | Z52: =SUMIF(I52,$Z$6,J52) -> 0 | AA52: =AB52+AC52 -> 0.6 | AB52: =SUMIF(I52,$AB$7,J52) -> 0.6 | AC52: =SUMIF(I52,$AC$7,J52) -> 0
A53: 44 | B53: 인천시 | C53: ='02 § 동구'!C13 -> 동구 | D53: ='02 § 동구'!D13 -> 4 | E53: ='02 § 동구'!E13 -> 인중로2 | F53: ='02 § 동구'!F13 -> 송림고가교 | G53: ='02 § 동구'!G13 -> 송현 할인마트 | H53: ='02 § 동구'!H13 -> ○ | I53: ='02 § 동구'!I13 -> 겸용도로 (분리형) | J53: ='02 § 동구'!J13 -> 0.53 | ... U53: ='02 § 동구'!U13 -> 도로측 | W53: =X53+Y53+Z53+AA53 -> 0.53 | X53: =SUMIF(I53,$X$6,J53) -> 0 | Y53: =SUMIF(I53,$Y$6,J53) -> 0 | Z53: =SUMIF(I53,$Z$6,J53) -> 0 | AA53: =AB53+AC53 -> 0.53 | AB53: =SUMIF(I53,$AB$7,J53) -> 0.53 | AC53: =SUMIF(I53,$AC$7,J53) -> 0
A54: 45 | B54: 인천시 | C54: ='02 § 동구'!C14 -> 동구 | D54: ='02 § 동구'!D14 -> 5 | E54: ='02 § 동구'!E14 -> 염전로40번길 | F54: ='02 § 동구'!F14 -> 인천백병원 | G54: ='02 § 동구'!G14 -> 송림체육관 | H54: ='02 § 동구'!H14 -> ○ | I54: ='02 § 동구'!I14 -> 겸용도로 (분리형) | J54: ='02 § 동구'!J14 -> 0.47 | ... U54: ='02 § 동구'!U14 -> 내측 | W54: =X54+Y54+Z54+AA54 -> 0.47 | X54: =SUMIF(I54,$X$6,J54) -> 0 | Y54: =SUMIF(I54,$Y$6,J54) -> 0 | Z54: =SUMIF(I54,$Z$6,J54) -> 0 | AA54: =AB54+AC54 -> 0.47 | AB54: =SUMIF(I54,$AB$7,J54) -> 0.47 | AC54: =SUMIF(I54,$AC$7,J54) -> 0
A55: 46 | B55: 인천시 | C55: ='02 § 동구'!C15 -> 동구 | D55: ='02 § 동구'!D15 -> 6 | E55: ='02 § 동구'!E15 -> 중봉대로 | F55: ='02 § 동구'!F15 -> 경기실업 | G55: ='02 § 동구'!G15 -> 글로비스 인천영업소 | H55: ='02 § 동구'!H15 -> ○ | I55: ='02 § 동구'!I15 -> 겸용도로 (분리형) | J55: ='02 § 동구'!J15 -> 0.59 | ... U55: ='02 § 동구'!U15 -> 도로측 | W55: =X55+Y55+Z55+AA55 -> 0.59 | X55: =SUMIF(I55,$X$6,J55) -> 0 | Y55: =SUMIF(I55,$Y$6,J55) -> 0 | Z55: =SUMIF(I55,$Z$6,J55) -> 0 | AA55: =AB55+AC55 -> 0.59 | AB55: =SUMIF(I55,$AB$7,J55) -> 0.59 | AC55: =SUMIF(I55,$AC$7,J55) -> 0
A56: 47 | B56: 인천시 | C56: ='03 § 남구'!C9 -> 남구 | D56: ='03 § 남구'!D9 -> 40개 노선 | H56: ='03 § 남구'!H9 -> 13 | J56: ='03 § 남구'!J9 -> 15.97 | K56: ='03 § 남구'!K9 -> 7 | L56: ='03 § 남구'!L9 -> 0 | M56: ='03 § 남구'!M9 -> 0 | N56: ='03 § 남구'!N9 -> 33 | Q56: ='03 § 남구'!Q9 -> 0 | T56: ='03 § 남구'!T9 -> 10 | W56: =SUM(W57:W96) -> 15.97 | X56: =SUM(X57:X96) -> 3.76 | Y56: =SUM(Y57:Y96) -> 0 | Z56: =SUM(Z57:Z96) -> 0 | AA56: =SUM(AA57:AA96) -> 12.21 | AB56: =SUM(AB57:AB96) -> 12.21 | AC56: =SUM(AC57:AC96) -> 0
A57: 48 | B57: 인천시 | C57: ='03 § 남구'!C10 -> 남구 | D57: ='03 § 남구'!D10 -> 1 | E57: ='03 § 남구'!E10 -> 매소홀로1R | F57: ='03 § 남구'!F10 -> 두산위브 아파트 | G57: ='03 § 남구'!G10 -> 두산위브 아파트 | H57: ='03 § 남구'!H10 -> ○ | I57: ='03 § 남구'!I10 -> 전용도로 | J57: ='03 § 남구'!J10 -> 0.15 | ... U57: ='03 § 남구'!U10 -> 0 | W57: =X57+Y57+Z57+AA57 -> 0.15 | X57: =SUMIF(I57,$X$6,J57) -> 0.15 | Y57: =SUMIF(I57,$Y$6,J57) -> 0 | Z57: =SUMIF(I57,$Z$6,J57) -> 0 | AA57: =AB57+AC57 -> 0 | AB57: =SUMIF(I57,$AB$7,J57) -> 0 | AC57: =SUMIF(I57,$AC$7,J57) -> 0
A58: 49 | B58: 인천시 | C58: ='03 § 남구'!C11 -> 남구 | D58: ='03 § 남구'!D11 -> 2 | E58: ='03 § 남구'!E11 -> 매소홀로2R | F58: ='03 § 남구'!F11 -> 문학경기장 | G58: ='03 § 남구'!G11 -> 선학동 28-1 | H58: ='03 § 남구'!H11 -> ○ | I58: ='03 § 남구'!I11 -> 전용도로 | J58: ='03 § 남구'!J11 -> 1.02 | ... U58: ='03 § 남구'!U11 -> 0 | W58: =X58+Y58+Z58+AA58 -> 1.02 | X58: =SUMIF(I58,$X$6,J58) -> 1.02 | Y58: =SUMIF(I58,$Y$6,J58) -> 0 | Z58: =SUMIF(I58,$Z$6,J58) -> 0 | AA58: =AB58+AC58 -> 0 | AB58: =SUMIF(I58,$AB$7,J58) -> 0 | AC58: =SUMIF(I58,$AC$7,J58) -> 0
A59: 50 | B59: 인천시 | C59: ='03 § 남구'!C12 -> 남구 | D59: ='03 § 남구'!D12 -> 3 | E59: ='03 § 남구'!E12 -> 매소홀로1L | F59: ='03 § 남구'!F12 -> 무형문화제 전수교육관 | G59: ='03 § 남구'!G12 -> 관교동 549-13 | H59: ='03 § 남구'!H12 -> ○ | I59: ='03 § 남구'!I12 -> 전용도로 | J59: ='03 § 남구'!J12 -> 1.15 | ... U59: ='03 § 남구'!U12 -> 0 | W59: =X59+Y59+Z59+AA59 -> 1.15 | X59: =SUMIF(I59,$X$6,J59) -> 1.15 | Y59: =SUMIF(I59,$Y$6,J59) -> 0 | Z59: =SUMIF(I59,$Z$6,J59) -> 0 | AA59: =AB59+AC59 -> 0 | AB59: =SUMIF(I59,$AB$7,J59) -> 0 | AC59: =SUMIF(I59,$AC$7,J59) -> 0
A60: 51 | B60: 인천시 | C60: ='03 § 남구'!C13 -> 남구 | D60: ='03 § 남구'!D13 -> 4 | E60: ='03 § 남구'!E13 -> 인하로1R | F60: ='03 § 남구'!F13 -> 인하로 134번길 3 | G60: ='03 § 남구'!G13 -> 제운사거리 | H60: ='03 § 남구'!H13 -> ○ | I60: ='03 § 남구'!I13 -> 겸용도로 (분리형) | J60: ='03 § 남구'!J13 -> 0.41 | ... U60: ='03 § 남구'!U13 -> 도로측 | W60: =X60+Y60+Z60+AA60 -> 0.41 | X60: =SUMIF(I60,$X$6,J60) -> 0 | Y60: =SUMIF(I60,$Y$6,J60) -> 0 | Z60: =SUMIF(I60,$Z$6,J60) -> 0 | AA60: =AB60+AC60 -> 0.41 | AB60: =SUMIF(I60,$AB$7,J60) -> 0.41 | AC60: =SUMIF(I60,$AC$7,J60) -> 0
A61: 52 | B61: 인천시 | C61: ='03 § 남구'!C14 -> 남구 | D61: ='03 § 남구'!D14 -> 5 | E61: ='03 § 남구'!E14 -> 인하로2R | F61: ='03 § 남구'!F14 -> 인하로 398 | G61: ='03 § 남구'!G14 -> 관교 초등학교 | H61: ='03 § 남구'!H14 -> 0 | I61: ='03 § 남구'!I14 -> 겸용도로 (분리형) | J61: ='03 § 남구'!J14 -> 0.17 | ... U61: ='03 § 남구'!U14 -> 중앙 | W61: =X61+Y61+Z61+AA61 -> 0.17 | X61: =SUMIF(I61,$X$6,J61) -> 0 | Y61: =SUMIF(I61,$Y$6,J61) -> 0 | Z61: =SUMIF(I61,$Z$6,J61) -> 0 | AA61: =AB61+AC61 -> 0.17 | AB61: =SUMIF(I61,$AB$7,J61) -> 0.17 | AC61: =SUMIF(I61,$AC$7,J61) -> 0
A62: 53 | B62: 인천시 | C62: ='03 § 남구'!C15 -> 남구 | D62: ='03 § 남구'!D15 -> 6 | E62: ='03 § 남구'!E15 -> 인하로1L | F62: ='03 § 남구'!F15 -> 신라 아파트 | G62: ='03 § 남구'!G15 -> 승학 사거리 | H62: ='03 § 남구'!H15 -> 0 | I62: ='03 § 남구'!I15 -> 겸용도로 (분리형) | J62: ='03 § 남구'!J15 -> 0.08 | ... U62: ='03 § 남구'!U15 -> 도로측 | W62: =X62+Y62+Z62+AA62 -> 0.08 | X62: =SUMIF(I62,$X$6,J62) -> 0 | Y62: =SUMIF(I62,$Y$6,J62) -> 0 | Z62: =SUMIF(I62,$Z$6,J62) -> 0 | AA62: =AB62+AC62 -> 0.08 | AB62: =SUMIF(I62,$AB$7,J62) -> 0.08 | AC62: =SUMIF(I62,$AC$7,J62) -> 0
A63: 54 | B63: 인천시 | C63: ='03 § 남구'!C16 -> 남구 | D63: ='03 § 남구'!D16 -> 7 | E63: ='03 § 남구'!E16 -> 인주대로1R | F63: ='03 § 남구'!F16 -> 독정이 삼거리 | G63: ='03 § 남구'!G16 -> 인주대로 174 | H63: ='03 § 남구'!H16 -> 0 | I63: ='03 § 남구'!I16 -> 겸용도로 (분리형) | J63: ='03 § 남구'!J16 -> 0.09 | ... U63: ='03 § 남구'!U16 -> 중앙 | W63: =X63+Y63+Z63+AA63 -> 0.09 | X63: =SUMIF(I63,$X$6,J63) -> 0 | Y63: =SUMIF(I63,$Y$6,J63) -> 0 | Z63: =SUMIF(I63,$Z$6,J63) -> 0 | AA63: =AB63+AC63 -> 0.09 | AB63: =SUMIF(I63,$AB$7,J63) -> 0.09 | AC63: =SUMIF(I63,$AC$7,J63) -> 0
A64: 55 | B64: 인천시 | C64: ='03 § 남구'!C17 -> 남구 | D64: ='03 § 남구'!D17 -> 8 | E64: ='03 § 남구'!E17 -> 인주대로1L | F64: ='03 § 남구'!F17 -> 독정이 삼거리 | G64: ='03 § 남구'!G17 -> 수봉남로1 | H64: ='03 § 남구'!H17 -> 0 | I64: ='03 § 남구'!I17 -> 겸용도로 (분리형) | J64: ='03 § 남구'!J17 -> 0.05 | ... U64: ='03 § 남구'!U17 -> 중앙 | W64: =X64+Y64+Z64+AA64 -> 0.05 | X64: =SUMIF(I64,$X$6,J64) -> 0 | Y64: =SUMIF(I64,$Y$6,J64) -> 0 | Z64: =SUMIF(I64,$Z$6,J64) -> 0 | AA64: =AB64+AC64 -> 0.05 | AB64: =SUMIF(I64,$AB$7,J64) -> 0.05 | AC64: =SUMIF(I64,$AC$7,J64) -> 0
A65: 56 | B65: 인천시 | C65: ='03 § 남구'!C18 -> 남구 | D65: ='03 § 남구'!D18 -> 9 | E65: ='03 § 남구'!E18 -> 인주대로2L | F65: ='03 § 남구'!F18 -> 인주대로 237번길 2 | G65: ='03 § 남구'!G18 -> 용일 사거리 | H65: ='03 § 남구'!H18 -> ○ | I65: ='03 § 남구'!I18 -> 겸용도로 (분리형) | J65: ='03 § 남구'!J18 -> 0.41 | ... U65: ='03 § 남구'!U18 -> 내측 | W65: =X65+Y65+Z65+AA65 -> 0.41 | X65: =SUMIF(I65,$X$6,J65) -> 0 | Y65: =SUMIF(I65,$Y$6,J65) -> 0 | Z65: =SUMIF(I65,$Z$6,J65) -> 0 | AA65: =AB65+AC65 -> 0.41 | AB65: =SUMIF(I65,$AB$7,J65) -> 0.41 | AC65: =SUMIF(I65,$AC$7,J65) -> 0
A66: 57 | B66: 인천시 | C66: ='03 § 남구'!C19 -> 남구 | D66: ='03 § 남구'!D19 -> 10 | E66: ='03 § 남구'!E19 -> 장천로1R | F66: ='03 § 남구'!F19 -> 장천로 14번길 3 | G66: ='03 § 남구'!G19 -> 숭의 오거리 | H66: ='03 § 남구'!H19 -> 0 | I66: ='03 § 남구'!I19 -> 겸용도로 (분리형) | J66: ='03 § 남구'!J19 -> 0.21 | ... U66: ='03 § 남구'!U19 -> 도로측 | W66: =X66+Y66+Z66+AA66 -> 0.21 | X66: =SUMIF(I66,$X$6,J66) -> 0 | Y66: =SUMIF(I66,$Y$6,J66) -> 0 | Z66: =SUMIF(I66,$Z$6,J66) -> 0 | AA66: =AB66+AC66 -> 0.21 | AB66: =SUMIF(I66,$AB$7,J66) -> 0.21 | AC66: =SUMIF(I66,$AC$7,J66) -> 0
A67: 58 | B67: 인천시 | C67: ='03 § 남구'!C20 -> 남구 | D67: ='03 § 남구'!D20 -> 11 | E67: ='03 § 남구'!E20 -> 장천로1L | F67: ='03 § 남구'!F20 -> 장천 사거리 | G67: ='03 § 남구'!G20 -> 장천로91 | H67: ='03 § 남구'!H20 -> 0 | I67: ='03 § 남구'!I20 -> 겸용도로 (분리형) | J67: ='03 § 남구'!J20 -> 0.21 | ... U67: ='03 § 남구'!U20 -> 내측 | W67: =X67+Y67+Z67+AA67 -> 0.21 | X67: =SUMIF(I67,$X$6,J67) -> 0 | Y67: =SUMIF(I67,$Y$6,J67) -> 0 | Z67: =SUMIF(I67,$Z$6,J67) -> 0 | AA67: =AB67+AC67 -> 0.21 | AB67: =SUMIF(I67,$AB$7,J67) -> 0.21 | AC67: =SUMIF(I67,$AC$7,J67) -> 0
...

Sheet 조사서식(총괄)
A1: 자전거도로 실태조사 총괄표
A4: 1. 기본사항 | G4: 2. 조사대상 자전거도로 현황 | Q4: 3. 판단
A5: 일련 번호 | B5: 노선명 | C5: 기점 | D5: 종점 | E5: 도로 연계성 | F5: 자전거도로 종류 | G5: 연장 (km) /.00 | H5: 자전거도로 폭원(m) /.0 | P5: 보행량 (점) | Q5: 개선 필요여부
H6: 전용도로 | I6: 전용차로 | J6: 우선도로 | K6: 겸용도로(분리형) | N6: 겸용도로(비분리형)
K7: 자전거도로 | L7: 보도 | M7: 유효폭원 | N7: 도로폭원 | O7: 유효폭원
A8: =ROW()-7 -> 1 | B8: 송도국제대로L | C8: 송도1교 끝단 | D8: 솔찬공원 | E8: o | F8: 전용도로 | G8: 2.89 | H8: 2 | P8: 3 | Q8: o
A9: =ROW()-7 -> 2 | B9: 송도국제대로R | C9: 송도1교 끝단 | D9: 솔찬공원 | E9: o | F9: 전용도로 | G9: 2.87 | H9: 2.1 | P9: 3
A10: =ROW()-7 -> 3 | B10: 컨벤시아대로1R | C10: 송도더프라우월드마크1단지 옆 | D10: 월드마크8단지 앞 | E10: o | F10: 겸용도로 | G10: 0.95 | K10: 2.9 | L10: 1.8 | M10: 1.9 | P10: 3 | Q10: o
A11: =ROW()-7 -> 4 | B11: 컨벤시아대로2R | C11: 센트럴파크 입구 | D11: 투모로우시티 | E11: o | F11: 전용도로 | G11: 0.66 | H11: 2.8 | P11: 3 | Q11: o
A12: =ROW()-7 -> 5 | B12: 컨벤시아대로3R | C12: 송도동 103-1 | D12: 잭니클라우스 골프장 | E12: o | F12: 겸용도로 | G12: 2.84 | K12: 1.8~3.0 | L12: 3.5 | M12: 1.8~3.0 | P12: 3
A13: =ROW()-7 -> 6 | B13: 컨벤시아대로1L | C13: 이안아파트 옆 | D13: 송도동 10-39 | E13: o | F13: 전용도로 | G13: 2.14 | H13: 1.6 | P13: 2 | Q13: o
A14: =ROW()-7 -> 7 | B14: 컨벤시아대로2L | C14: 송도동 10-39 | D14: 인천대학교 | E14: o | F14: 겸용도로 | G14: 1.29 | N14: 2 | O14: 1.8 | P14: 2 | Q14: o
A15: =ROW()-7 -> 8 | B15: 아트센터대로R | C15: 송도IBS타워 | D15: 송도IBS타워 | E15: o | F15: 전용도로 | G15: 0.75 | H15: 3.2 | P15: 2
A16: =ROW()-7 -> 9 | B16: 아트센터대로L | C16: 송도3교 끝 | D16: G타워 | E16: o | F16: 전용도로 | G16: 1.44 | H16: 3 | P16: 3
A17: =ROW()-7 -> 10 | B17: 인천타워대로 | C17: 송도동 11-22 | D17: 송도동 29-2 | E17: o | F17: 전용도로 | G17: 3.86 | H17: 2.8 | P17: 2
A18: =ROW()-7 -> 11 | B18: 첨단대로 | C18: BRC 스마트벨리 | D18: 송도동 211-3 | E18: o | F18: 전용도로 | G18: 1.35 | H18: 3 | P18: 2
A19: =ROW()-7 -> 12 | B19: 신송로1R | C19: 송도동 2-14 | D19: 송도이안아파트 | E19: o | F19: 겸용도로 | G19: 0.88 | K19: 2.2 | L19: 1.5 | M19: 1.2 | P19: 3
A20: =ROW()-7 -> 13 | B20: 신송로2R | C20: 스타벅스 | D20: 송도2동 주민센터 | E20: o | F20: 전용도로 | G20: 1.09 | H20: 2 | P20: 2
A21: =ROW()-7 -> 14 | B21: 신송로1L | C21: 송도동 2-14 | D21: 밀레니엄시티 | E21: o | F21: 겸용도로 | G21: 0.88 | K21: 1.1 | L21: 1.3 | M21: 1.1 | P21: 3
A22: =ROW()-7 -> 15 | B22: 신송로2L | C22: 힐스테이트301동 | D22: 더샵하버뷰1303동 | E22: o | F22: 전용도로 | G22: 0.44 | H22: 1.9 | P22: 2
A23: =ROW()-7 -> 16 | B23: 신송로3L | C23: 국제학교 | D23: 엑스포아파트 901동 | E23: o | F23: 겸용도로 | G23: 0.35 | N23: 3.9 | O23: 2.5 | P23: 2 | Q23: o
A24: =ROW()-7 -> 17 | B24: 신송로4L | C24: 그린워크2차 1101동 | D24: 커낼워크 겨울동 | E24: o | F24: 전용도로 | G24: 0.23 | H24: 2 | P24: 2
A25: =ROW()-7 -> 18 | B25: 해돋이로1R | C25: 현대아이파크 113동 | D25: 해양경찰청 앞 | E25: o | F25: 전용도로 | G25: 1.26 | H25: 1.3 | P25: 3
A26: =ROW()-7 -> 19 | B26: 해돋이로2R | C26: 현대힐스테이트 602동 | D26: 커낼워크 가을동 | E26: o | F26: 전용도로 | G26: 1.04 | H26: 1.9 | P26: 2
A27: =ROW()-7 -> 20 | B27: 해돋이로1L | C27: 현대아이파크 113동 | D27: 송도지구대 | E27: o | F27: 전용도로 | G27: 0.92 | H27: 1.2 | P27: 3
A28: =ROW()-7 -> 21 | B28: 해돋이로2L | C28: 퍼스트월드 6동 | D28: 퍼스트월드 C동 | E28: o | F28: 전용도로 | G28: 0.35 | H28: 1.5 | P28: 3
A29: =ROW()-7 -> 22 | B29: 해돋이로3L | C29: 월드마크 701동 | D29: 하버뷰 101동 | E29: o | F29: 전용도로 | G29: 0.78 | H29: 1.8 | P29: 2
A30: =ROW()-7 -> 23 | B30: 해돋이로4L | C30: 커낼워크 여름동 | D30: 커낼워크 여름동 | E30: o | F30: 전용도로 | G30: 0.05 | H30: 2.9 | P30: 2
A31: =ROW()-7 -> 24 | B31: 센트럴로1R | C31: 해돋이공원 | D31: 퍼스트월드 1동 | E31: o | F31: 전용도로 | G31: 1.33 | H31: 1.8 | P31: 2 | Q31: o
A32: =ROW()-7 -> 25 | B32: 센트럴로2R | C32: 센트럴파크2차 201동 | D32: 커낼워크 봄동 | E32: o | F32: 겸용도로 | G32: 0.76 | N32: 4.3 | O32: 3 | P32: 2
A33: =ROW()-7 -> 26 | B33: 센트럴로1L | C33: 해돋이공원 | D33: 쉐라톤호텔 | E33: o | F33: 전용도로 | G33: 1.32 | H33: 1.7 | P33: 2
A34: =ROW()-7 -> 27 | B34: 센트럴로2L | C34: 센트럴파크 | D34: 1,3공구 공동구 사무실 | E34: o | F34: 전용도로 | G34: 0.82 | H34: 2.8 | P34: 3
A35: =ROW()-7 -> 28 | B35: 센트럴로3L | C35: 1,3공구 공동구 사무실 | D35: 커낼워크 봄동 | E35: o | F35: 겸용도로 | G35: 0.26 | K35: 2.9 | L35: 2.4 | M35: 2.9 | P35: 3
A36: =ROW()-7 -> 29 | B36: 센트럴로3L | C36: IBS타워 | D36: IBS타워 | E36: o | F36: 전용도로 | G36: 0.15 | H36: 2.8 | P36: 1
A37: =ROW()-7 -> 30 | B37: 테크노파크로1R | C37: 미추홀타워 | D37: 롯데마트 | E37: o | F37: 전용도로 | G37: 1.31 | H37: 2 | P37: 2
A38: =ROW()-7 -> 31 | B38: 테크노파크로2R | C38: 센트럴파크 | D38: 한옥마을 | E38: o | F38: 전용도로 | G38: 0.56 | H38: 2.8 | P38: 2
A39: =ROW()-7 -> 32 | B39: 테크노파크로1L | C39: 미추홀공원 | D39: 롯데몰 현장 | E39: o | F39: 전용도로 | G39: 1.35 | H39: 1.6 | P39: 2
A40: =ROW()-7 -> 33 | B40: 테크노파크로2L | C40: 송도파크호텔 | D40: 투모로우시티 | E40: o | F40: 전용도로 | G40: 0.15 | H40: 2.8 | P40: 1
A41: =ROW()-7 -> 34 | B41: 테크노파크로3L | C41: 센트럴파크호텔 | D41: 센트럴파크호텔 | E41: o | F41: 겸용도로 | G41: 0.17 | K41: 2.8 | L41: 2.7 | M41: 2.8 | P41: 1
A42: =ROW()-7 -> 35 | B42: 해송로1R | C42: 가톨릭대학교 | D42: 지식정보단지역 | E42: o | F42: 전용도로 | G42: 0.68 | H42: 1.75 | P42: 3
...

Sheet 01 § 중구
A1: 자전거도로 실태조사 총괄표
A4: 1.기본사항 | I4: 2.조사대상 자전거도로 현황 | T4: 3.판단 | W4: 4. 자전거도로 연장
A5: No | B5: 시도 | C5: 자치구 | D5: 일련번호 | E5: 노선명 | F5: 기점 | G5: 종점 | H5: 도로 연계성 | I5: 자전거도로 종류 | J5: 총연장 (km) /0.00 | K5: 자전거도로 폭원(m) /.0 | S5: 보행량 (점) | T5: 개선 필요여부 | U5: 자전거 도로 위치 | V5: 비고 및 점검 | W5: 자전거도로 연장(km) /.00
K6: 전용도로 | L6: 전용차로 | M6: 우선도로 | N6: 자전거보행자겸용도로 | W6: 총연장(km) /0.00 | X6: 전용도로 | Y6: 전용차로 | Z6: 우선도로 | AA6: 자전거보행자겸용도로
N7: 분리형 | Q7: 비분리형 | AA7: 소계 | AB7: 겸용도로 (분리형) | AC7: 겸용도로 (비분리형)
N8: 자전거도로 | O8: 보도 | P8: 유효폭원 | Q8: 도로폭원 | R8: 유효폭원
B9: 인천시 | C9: 중구 | D9: 38개 노선 | H9: =COUNTIF(H10:H1048576,"○") -> 34 | J9: =SUM(J10:J1048576) -> 20.71 | K9: =COUNTIF(I10:I1048576,X6) -> 14 | L9: =COUNTIF(I10:I1048576,Y6) -> 0 | M9: =COUNTIF(I10:I1048576,Z6) -> 0 | N9: =COUNTIF(I10:I1048576,AB7) -> 19 | Q9: =COUNTIF(I10:I1048576,AC7) -> 5 | T9: =COUNTIF(T10:T1048576,"○") -> 1 | W9: =SUM(W10:W1048576) -> 20.71 | X9: =SUM(X10:X1048576) -> 9.2 | Y9: =SUM(Y10:Y1048576) -> 0 | Z9: =SUM(Z10:Z1048576) -> 0 | AA9: =SUM(AA10:AA1048576) -> 11.51 | AB9: =SUM(AB10:AB1048576) -> 9.48 | AC9: =SUM(AC10:AC1048576) -> 2.03
A10: 1 | B10: 인천시 | C10: 중구 | D10: 1 | E10: 월미로1 | F10: 우회고가 사거리 | G10: 8부두 앞 | I10: 겸용도로 (분리형) | J10: 0.2 | N10: 1.8 | O10: 1.4 | P10: =-1-0.25+N10+O10-0.25 -> 1.7 | S10: 2 | U10: 도로측 | W10: =X10+Y10+Z10+AA10 -> 0.2 | X10: =SUMIF(I10,$X$6,J10) -> 0 | Y10: =SUMIF(I10,$Y$6,J10) -> 0 | Z10: =SUMIF(I10,$Z$6,J10) -> 0 | AA10: =AB10+AC10 -> 0.2 | AB10: =SUMIF(I10,$AB$7,J10) -> 0.2 | AC10: =SUMIF(I10,$AC$7,J10) -> 0
A11: 2 | B11: 인천시 | C11: 중구 | D11: 2 | E11: 월미로2 | F11: 8부두 앞 | G11: 월미도입구 삼거리 | I11: 전용도로 | J11: 0.06 | K11: 1.8 | S11: 2 | V11: 재검토 | W11: =X11+Y11+Z11+AA11 -> 0.06 | X11: =SUMIF(I11,$X$6,J11) -> 0.06 | Y11: =SUMIF(I11,$Y$6,J11) -> 0 | Z11: =SUMIF(I11,$Z$6,J11) -> 0 | AA11: =AB11+AC11 -> 0 | AB11: =SUMIF(I11,$AB$7,J11) -> 0 | AC11: =SUMIF(I11,$AC$7,J11) -> 0
A12: 3 | B12: 인천시 | C12: 중구 | D12: 3 | E12: 월미로3 | F12: 인항철골 | G12: 월미공원역 | I12: 전용도로 | J12: 0.62 | K12: 1.3 | S12: 3 | W12: =X12+Y12+Z12+AA12 -> 0.62 | X12: =SUMIF(I12,$X$6,J12) -> 0.62 | Y12: =SUMIF(I12,$Y$6,J12) -> 0 | Z12: =SUMIF(I12,$Z$6,J12) -> 0 | AA12: =AB12+AC12 -> 0 | AB12: =SUMIF(I12,$AB$7,J12) -> 0 | AC12: =SUMIF(I12,$AC$7,J12) -> 0
A13: 4 | B13: 인천시 | C13: 중구 | D13: 4 | E13: 월미로4 | F13: 월미공원 정문 | G13: 갑문 입구 | H13: ○ | I13: 겸용도로 (비분리형) | J13: 1.18 | Q13: 2.5 | R13: =-1-0.25+Q13-0.25 -> 1 | S13: 3 | W13: =X13+Y13+Z13+AA13 -> 1.18 | X13: =SUMIF(I13,$X$6,J13) -> 0 | Y13: =SUMIF(I13,$Y$6,J13) -> 0 | Z13: =SUMIF(I13,$Z$6,J13) -> 0 | AA13: =AB13+AC13 -> 1.18 | AB13: =SUMIF(I13,$AB$7,J13) -> 0 | AC13: =SUMIF(I13,$AC$7,J13) -> 1.18
A14: 5 | B14: 인천시 | C14: 중구 | D14: 5 | E14: 월미로5 | F14: 갑문입구 | G14: 문타운입구 | H14: ○ | I14: 겸용도로 (분리형) | J14: 0.72 | N14: 1.7 | O14: 1.6 | P14: =-1-0.25+N14+O14-0.25 -> 1.8 | S14: 3 | U14: 내측 | W14: =X14+Y14+Z14+AA14 -> 0.72 | X14: =SUMIF(I14,$X$6,J14) -> 0 | Y14: =SUMIF(I14,$Y$6,J14) -> 0 | Z14: =SUMIF(I14,$Z$6,J14) -> 0 | AA14: =AB14+AC14 -> 0.72 | AB14: =SUMIF(I14,$AB$7,J14) -> 0.72 | AC14: =SUMIF(I14,$AC$7,J14) -> 0
A15: 6 | B15: 인천시 | C15: 중구 | D15: 6 | E15: 월미로6 | F15: 월미도 문타운 | G15: 월미로 260번길 | H15: ○ | I15: 겸용도로 (비분리형) | J15: 0.28 | Q15: 2.7 | R15: =-1-0.25+Q15-0.25 -> 1.2 | S15: 3 | W15: =X15+Y15+Z15+AA15 -> 0.28 | X15: =SUMIF(I15,$X$6,J15) -> 0 | Y15: =SUMIF(I15,$Y$6,J15) -> 0 | Z15: =SUMIF(I15,$Z$6,J15) -> 0 | AA15: =AB15+AC15 -> 0.28 | AB15: =SUMIF(I15,$AB$7,J15) -> 0 | AC15: =SUMIF(I15,$AC$7,J15) -> 0.28
A16: 7 | B16: 인천시 | C16: 중구 | D16: 7 | E16: 월미로7 | F16: 월미로 266번길 | G16: 월미공원 후문 | H16: ○ | I16: 겸용도로 (분리형) | J16: 0.44 | N16: 1.6 | O16: 2.2 | P16: =-1-0.25+N16+O16-0.25 -> 2.3 | S16: 3 | U16: 판단불가 | V16: 재검토 | W16: =X16+Y16+Z16+AA16 -> 0.44 | X16: =SUMIF(I16,$X$6,J16) -> 0 | Y16: =SUMIF(I16,$Y$6,J16) -> 0 | Z16: =SUMIF(I16,$Z$6,J16) -> 0 | AA16: =AB16+AC16 -> 0.44 | AB16: =SUMIF(I16,$AB$7,J16) -> 0.44 | AC16: =SUMIF(I16,$AC$7,J16) -> 0
A17: 8 | B17: 인천시 | C17: 중구 | D17: 8 | E17: 월미로8R | F17: 월미공원 후문 | G17: 월미로 189번길 | H17: ○ | I17: 전용도로 | J17: 0.29 | K17: 1 | S17: 2 | W17: =X17+Y17+Z17+AA17 -> 0.29 | X17: =SUMIF(I17,$X$6,J17) -> 0.29 | Y17: =SUMIF(I17,$Y$6,J17) -> 0 | Z17: =SUMIF(I17,$Z$6,J17) -> 0 | AA17: =AB17+AC17 -> 0 | AB17: =SUMIF(I17,$AB$7,J17) -> 0 | AC17: =SUMIF(I17,$AC$7,J17) -> 0
A18: 9 | B18: 인천시 | C18: 중구 | D18: 9 | E18: 월미로8L | F18: 월미로 189번길 | G18: 월미공원 후문 | H18: ○ | I18: 전용도로 | J18: 0.31 | K18: 1 | W18: =X18+Y18+Z18+AA18 -> 0.31 | X18: =SUMIF(I18,$X$6,J18) -> 0.31 | Y18: =SUMIF(I18,$Y$6,J18) -> 0 | Z18: =SUMIF(I18,$Z$6,J18) -> 0 | AA18: =AB18+AC18 -> 0 | AB18: =SUMIF(I18,$AB$7,J18) -> 0 | AC18: =SUMIF(I18,$AC$7,J18) -> 0
A19: 10 | B19: 인천시 | C19: 중구 | D19: 10 | E19: 축항대로1 | F19: 라이프아파트 정문 | G19: 연안부두로 75번길 | H19: ○ | I19: 겸용도로 (분리형) | J19: 0.41 | N19: 2.2 | O19: 2.3 | P19: =-1-0.25+N19+O19-0.25 -> 3 | S19: 2 | U19: 내측 | W19: =X19+Y19+Z19+AA19 -> 0.41 | X19: =SUMIF(I19,$X$6,J19) -> 0 | Y19: =SUMIF(I19,$Y$6,J19) -> 0 | Z19: =SUMIF(I19,$Z$6,J19) -> 0 | AA19: =AB19+AC19 -> 0.41 | AB19: =SUMIF(I19,$AB$7,J19) -> 0.41 | AC19: =SUMIF(I19,$AC$7,J19) -> 0
A20: 11 | B20: 인천시 | C20: 중구 | D20: 11 | E20: 축항대로2L | F20: 연안부두로 75번길 | G20: 연안부두로 33번길 | H20: ○ | I20: 겸용도로 (비분리형) | J20: 0.35 | Q20: 3.2 | R20: =-1-0.25+Q20-0.25 -> 1.7 | S20: 2 | W20: =X20+Y20+Z20+AA20 -> 0.35 | X20: =SUMIF(I20,$X$6,J20) -> 0 | Y20: =SUMIF(I20,$Y$6,J20) -> 0 | Z20: =SUMIF(I20,$Z$6,J20) -> 0 | AA20: =AB20+AC20 -> 0.35 | AB20: =SUMIF(I20,$AB$7,J20) -> 0 | AC20: =SUMIF(I20,$AC$7,J20) -> 0.35
A21: 12 | B21: 인천시 | C21: 중구 | D21: 12 | E21: 축항대로2R | F21: 연안부두로 75번길 | G21: 연안부두로 33번길 | H21: ○ | I21: 겸용도로 (분리형) | J21: 0.33 | N21: 1 | O21: 2 | P21: =-1-0.25+N21+O21-0.25 -> 1.5 | S21: 2 | U21: 내측 | W21: =X21+Y21+Z21+AA21 -> 0.33 | X21: =SUMIF(I21,$X$6,J21) -> 0 | Y21: =SUMIF(I21,$Y$6,J21) -> 0 | Z21: =SUMIF(I21,$Z$6,J21) -> 0 | AA21: =AB21+AC21 -> 0.33 | AB21: =SUMIF(I21,$AB$7,J21) -> 0.33 | AC21: =SUMIF(I21,$AC$7,J21) -> 0
A22: 13 | B22: 인천시 | C22: 중구 | D22: 13 | E22: 연안부두로1 | F22: 연안부두로 33번길 | G22: 어시장 사거리 | H22: ○ | I22: 겸용도로 (분리형) | J22: 0.25 | N22: 2.5 | O22: 2 | P22: =-1-0.25+N22+O22-0.25 -> 3 | S22: 4 | U22: 내측 | W22: =X22+Y22+Z22+AA22 -> 0.25 | X22: =SUMIF(I22,$X$6,J22) -> 0 | Y22: =SUMIF(I22,$Y$6,J22) -> 0 | Z22: =SUMIF(I22,$Z$6,J22) -> 0 | AA22: =AB22+AC22 -> 0.25 | AB22: =SUMIF(I22,$AB$7,J22) -> 0.25 | AC22: =SUMIF(I22,$AC$7,J22) -> 0
A23: 14 | B23: 인천시 | C23: 중구 | D23: 14 | E23: 축항대로3 (86번길) | F23: 어시장 사거리 | G23: 라이프아파트 정문 | H23: ○ | I23: 겸용도로 (비분리형) | J23: 0.15 | Q23: 3.3 | R23: =-1-0.25+Q23-0.25 -> 1.8 | S23: 3 | W23: =X23+Y23+Z23+AA23 -> 0.15 | X23: =SUMIF(I23,$X$6,J23) -> 0 | Y23: =SUMIF(I23,$Y$6,J23) -> 0 | Z23: =SUMIF(I23,$Z$6,J23) -> 0 | AA23: =AB23+AC23 -> 0.15 | AB23: =SUMIF(I23,$AB$7,J23) -> 0 | AC23: =SUMIF(I23,$AC$7,J23) -> 0.15
A24: 15 | B24: 인천시 | C24: 중구 | D24: 15 | E24: 축항대로4 | F24: 연안부두로 33번길 | G24: 축항대로 118번길 | H24: ○ | I24: 겸용도로 (분리형) | J24: 0.27 | N24: 1.2 | O24: 2 | P24: =-1-0.25+N24+O24-0.25 -> 1.7 | S24: 2 | U24: 내측 | W24: =X24+Y24+Z24+AA24 -> 0.27 | X24: =SUMIF(I24,$X$6,J24) -> 0 | Y24: =SUMIF(I24,$Y$6,J24) -> 0 | Z24: =SUMIF(I24,$Z$6,J24) -> 0 | AA24: =AB24+AC24 -> 0.27 | AB24: =SUMIF(I24,$AB$7,J24) -> 0.27 | AC24: =SUMIF(I24,$AC$7,J24) -> 0
A25: 16 | B25: 인천시 | C25: 중구 | D25: 16 | E25: 축항대로5 | F25: 연안사거리 | G25: GS CJ대한통운 항만주유소 | H25: ○ | I25: 전용도로 | J25: 0.32 | K25: 1.3 | W25: =X25+Y25+Z25+AA25 -> 0.32 | X25: =SUMIF(I25,$X$6,J25) -> 0.32 | Y25: =SUMIF(I25,$Y$6,J25) -> 0 | Z25: =SUMIF(I25,$Z$6,J25) -> 0 | AA25: =AB25+AC25 -> 0 | AB25: =SUMIF(I25,$AB$7,J25) -> 0 | AC25: =SUMIF(I25,$AC$7,J25) -> 0
A26: 17 | B26: 인천시 | C26: 중구 | D26: 17 | E26: 축항대로6R | F26: 축항대로 81-1 | G26: 서해대로 293번길 | H26: ○ | I26: 전용도로 | J26: 0.35 | K26: 1.7 | W26: =X26+Y26+Z26+AA26 -> 0.35 | X26: =SUMIF(I26,$X$6,J26) -> 0.35 | Y26: =SUMIF(I26,$Y$6,J26) -> 0 | Z26: =SUMIF(I26,$Z$6,J26) -> 0 | AA26: =AB26+AC26 -> 0 | AB26: =SUMIF(I26,$AB$7,J26) -> 0 | AC26: =SUMIF(I26,$AC$7,J26) -> 0
A27: 18 | B27: 인천시 | C27: 중구 | D27: 18 | E27: 축항대로6L | F27: 축항대로 81-1 | G27: 서해대로 293번길 | H27: ○ | I27: 전용도로 | J27: 0.24 | K27: 1.5 | W27: =X27+Y27+Z27+AA27 -> 0.24 | X27: =SUMIF(I27,$X$6,J27) -> 0.24 | Y27: =SUMIF(I27,$Y$6,J27) -> 0 | Z27: =SUMIF(I27,$Z$6,J27) -> 0 | AA27: =AB27+AC27 -> 0 | AB27: =SUMIF(I27,$AB$7,J27) -> 0 | AC27: =SUMIF(I27,$AC$7,J27) -> 0
A28: 19 | B28: 인천시 | C28: 중구 | D28: 19 | E28: 축항대로7R | F28: 제2경인고속도로 시점 | G28: 서해사거리 | H28: ○ | I28: 겸용도로 (분리형) | J28: 0.29 | N28: 1.1 | O28: 2.5 | P28: =-1-0.25+N28+O28-0.25 -> 2.1 | S28: 3 | U28: 내측 | W28: =X28+Y28+Z28+AA28 -> 0.29 | X28: =SUMIF(I28,$X$6,J28) -> 0 | Y28: =SUMIF(I28,$Y$6,J28) -> 0 | Z28: =SUMIF(I28,$Z$6,J28) -> 0 | AA28: =AB28+AC28 -> 0.29 | AB28: =SUMIF(I28,$AB$7,J28) -> 0.29 | AC28: =SUMIF(I28,$AC$7,J28) -> 0
A29: 20 | B29: 인천시 | C29: 중구 | D29: 20 | E29: 축항대로7L | F29: 제2경인고속도로 시점 | G29: 서해사거리 | H29: ○ | I29: 겸용도로 (분리형) | J29: 0.25 | N29: 1.1 | O29: 2.7 | P29: =-1-0.25+N29+O29-0.25 -> 2.3 | S29: 3 | U29: 내측 | W29: =X29+Y29+Z29+AA29 -> 0.25 | X29: =SUMIF(I29,$X$6,J29) -> 0 | Y29: =SUMIF(I29,$Y$6,J29) -> 0 | Z29: =SUMIF(I29,$Z$6,J29) -> 0 | AA29: =AB29+AC29 -> 0.25 | AB29: =SUMIF(I29,$AB$7,J29) -> 0.25 | AC29: =SUMIF(I29,$AC$7,J29) -> 0
A30: 21 | B30: 인천시 | C30: 중구 | D30: 21 | E30: 축항대로8R | F30: 서해사거리 | G30: 연안사거리 | H30: ○ | I30: 겸용도로 (분리형) | J30: 1.51 | N30: 1.3 | O30: 2.2 | P30: =-1-0.25+N30+O30-0.25 -> 2 | S30: 3 | U30: 내측 | W30: =X30+Y30+Z30+AA30 -> 1.51 | X30: =SUMIF(I30,$X$6,J30) -> 0 | Y30: =SUMIF(I30,$Y$6,J30) -> 0 | Z30: =SUMIF(I30,$Z$6,J30) -> 0 | AA30: =AB30+AC30 -> 1.51 | AB30: =SUMIF(I30,$AB$7,J30) -> 1.51 | AC30: =SUMIF(I30,$AC$7,J30) -> 0
A31: 22 | B31: 인천시 | C31: 중구 | D31: 22 | E31: 축항대로8L | F31: 서해사거리 | G31: 연안사거리 | H31: ○ | I31: 겸용도로 (분리형) | J31: 1.35 | N31: 1.4 | O31: 2 | P31: =-1-0.25+N31+O31-0.25 -> 1.9 | S31: 3 | U31: 도로측 | W31: =X31+Y31+Z31+AA31 -> 1.35 | X31: =SUMIF(I31,$X$6,J31) -> 0 | Y31: =SUMIF(I31,$Y$6,J31) -> 0 | Z31: =SUMIF(I31,$Z$6,J31) -> 0 | AA31: =AB31+AC31 -> 1.35 | AB31: =SUMIF(I31,$AB$7,J31) -> 1.35 | AC31: =SUMIF(I31,$AC$7,J31) -> 0
A32: 23 | B32: 인천시 | C32: 중구 | D32: 23 | E32: 축항대로9R | F32: SK남항 주유소 | G32: 축항대로 165번길 | H32: ○ | I32: 겸용도로 (분리형) | J32: 0.37 | N32: 1.8 | O32: 2 | P32: =-1-0.25+N32+O32-0.25 -> 2.3 | S32: 1 | U32: 내측 | W32: =X32+Y32+Z32+AA32 -> 0.37 | X32: =SUMIF(I32,$X$6,J32) -> 0 | Y32: =SUMIF(I32,$Y$6,J32) -> 0 | Z32: =SUMIF(I32,$Z$6,J32) -> 0 | AA32: =AB32+AC32 -> 0.37 | AB32: =SUMIF(I32,$AB$7,J32) -> 0.37 | AC32: =SUMIF(I32,$AC$7,J32) -> 0
A33: 24 | B33: 인천시 | C33: 중구 | D33: 24 | E33: 축항대로9L | F33: SK남항주유소 | G33: 서해대로 293번길 | H33: ○ | I33: 겸용도로 (분리형) | J33: 0.38 | N33: 1.8 | O33: 1.8 | P33: =-1-0.25+N33+O33-0.25 -> 2.1 | S33: 1 | U33: 내측 | W33: =X33+Y33+Z33+AA33 -> 0.38 | X33: =SUMIF(I33,$X$6,J33) -> 0 | Y33: =SUMIF(I33,$Y$6,J33) -> 0 | Z33: =SUMIF(I33,$Z$6,J33) -> 0 | AA33: =AB33+AC33 -> 0.38 | AB33: =SUMIF(I33,$AB$7,J33) -> 0.38 | AC33: =SUMIF(I33,$AC$7,J33) -> 0
A34: 25 | B34: 인천시 | C34: 중구 | D34: 25 | E34: 축항대로10R | F34: 축항대로 117번길 | G34: 서해대로 293번길 | H34: ○ | I34: 겸용도로 (분리형) | J34: 0.36 | N34: 1.4 | O34: 2.2 | P34: =-1-0.25+N34+O34-0.25 -> 2.1 | S34: 1 | U34: 내측 | W34: =X34+Y34+Z34+AA34 -> 0.36 | X34: =SUMIF(I34,$X$6,J34) -> 0 | Y34: =SUMIF(I34,$Y$6,J34) -> 0 | Z34: =SUMIF(I34,$Z$6,J34) -> 0 | AA34: =AB34+AC34 -> 0.36 | AB34: =SUMIF(I34,$AB$7,J34) -> 0.36 | AC34: =SUMIF(I34,$AC$7,J34) -> 0
A35: 26 | B35: 인천시 | C35: 중구 | D35: 26 | E35: 축항대로10L | F35: 축항대로 117번길 | G35: 서해대로 293번길 | H35: ○ | I35: 겸용도로 (분리형) | J35: 0.37 | N35: 1.7 | O35: 1.7 | P35: =-1-0.25+N35+O35-0.25 -> 1.9 | S35: 1 | U35: 내측 | W35: =X35+Y35+Z35+AA35 -> 0.37 | X35: =SUMIF(I35,$X$6,J35) -> 0 | Y35: =SUMIF(I35,$Y$6,J35) -> 0 | Z35: =SUMIF(I35,$Z$6,J35) -> 0 | AA35: =AB35+AC35 -> 0.37 | AB35: =SUMIF(I35,$AB$7,J35) -> 0.37 | AC35: =SUMIF(I35,$AC$7,J35) -> 0
A36: 27 | B36: 인천시 | C36: 중구 | D36: 27 | E36: 갯골수로1 | F36: 제2경인고속도로 시점 | G36: 인천환경공단 남항사업소 | H36: ○ | I36: 전용도로 | J36: 1.14 | K36: 1.8 | T36: ○ | W36: =X36+Y36+Z36+AA36 -> 1.14 | X36: =SUMIF(I36,$X$6,J36) -> 1.14 | Y36: =SUMIF(I36,$Y$6,J36) -> 0 | Z36: =SUMIF(I36,$Z$6,J36) -> 0 | AA36: =AB36+AC36 -> 0 | AB36: =SUMIF(I36,$AB$7,J36) -> 0 | AC36: =SUMIF(I36,$AC$7,J36) -> 0
A37: 28 | B37: 인천시 | C37: 중구 | D37: 28 | E37: 갯골수로2 | F37: 제2경인고속도로 시점 | G37: 인천환경공단 남항사업소 | H37: ○ | I37: 겸용도로 (분리형) | J37: 0.61 | N37: 2 | O37: 2.2 | P37: =-1-0.25+N37+O37-0.25 -> 2.7 | S37: 3 | U37: 판단불가 | V37: 재검토 | W37: =X37+Y37+Z37+AA37 -> 0.61 | X37: =SUMIF(I37,$X$6,J37) -> 0 | Y37: =SUMIF(I37,$Y$6,J37) -> 0 | Z37: =SUMIF(I37,$Z$6,J37) -> 0 | AA37: =AB37+AC37 -> 0.61 | AB37: =SUMIF(I37,$AB$7,J37) -> 0.61 | AC37: =SUMIF(I37,$AC$7,J37) -> 0
A38: 29 | B38: 인천시 | C38: 중구 | D38: 29 | E38: 서해대로1R | F38: 옹암사거리 | G38: 신흥동3가 58-6 | H38: ○ | I38: 전용도로 | J38: 1.68 | K38: 1 | W38: =X38+Y38+Z38+AA38 -> 1.68 | X38: =SUMIF(I38,$X$6,J38) -> 1.68 | Y38: =SUMIF(I38,$Y$6,J38) -> 0 | Z38: =SUMIF(I38,$Z$6,J38) -> 0 | AA38: =AB38+AC38 -> 0 | AB38: =SUMIF(I38,$AB$7,J38) -> 0 | AC38: =SUMIF(I38,$AC$7,J38) -> 0
A39: 30 | B39: 인천시 | C39: 중구 | D39: 30 | E39: 서해대로1L | F39: 옹암사거리 | G39: 신흥동3가 58-6 | H39: ○ | I39: 전용도로 | J39: 1.69 | K39: 1 | W39: =X39+Y39+Z39+AA39 -> 1.69 | X39: =SUMIF(I39,$X$6,J39) -> 1.69 | Y39: =SUMIF(I39,$Y$6,J39) -> 0 | Z39: =SUMIF(I39,$Z$6,J39) -> 0 | AA39: =AB39+AC39 -> 0 | AB39: =SUMIF(I39,$AB$7,J39) -> 0 | AC39: =SUMIF(I39,$AC$7,J39) -> 0
A40: 31 | B40: 인천시 | C40: 중구 | D40: 31 | E40: 축항대로11R | F40: 서해대로 94번길 | G40: 중구문화회관 | H40: ○ | I40: 전용도로 | J40: 0.88 | K40: 1.8 | W40: =X40+Y40+Z40+AA40 -> 0.88 | X40: =SUMIF(I40,$X$6,J40) -> 0.88 | Y40: =SUMIF(I40,$Y$6,J40) -> 0 | Z40: =SUMIF(I40,$Z$6,J40) -> 0 | AA40: =AB40+AC40 -> 0 | AB40: =SUMIF(I40,$AB$7,J40) -> 0 | AC40: =SUMIF(I40,$AC$7,J40) -> 0
A41: 32 | B41: 인천시 | C41: 중구 | D41: 32 | E41: 축항대로11L | F41: 서해대로 94번길 | G41: 중구문화회관 | H41: ○ | I41: 전용도로 | J41: 0.81 | K41: 1.8 | W41: =X41+Y41+Z41+AA41 -> 0.81 | X41: =SUMIF(I41,$X$6,J41) -> 0.81 | Y41: =SUMIF(I41,$Y$6,J41) -> 0 | Z41: =SUMIF(I41,$Z$6,J41) -> 0 | AA41: =AB41+AC41 -> 0 | AB41: =SUMIF(I41,$AB$7,J41) -> 0 | AC41: =SUMIF(I41,$AC$7,J41) -> 0
A42: 33 | B42: 인천시 | C42: 중구 | D42: 33 | E42: 서해대로2R | F42: 중구문화회관 | G42: 신흥동3가 56 | H42: ○ | I42: 겸용도로 (분리형) | J42: 0.59 | N42: 1.7 | O42: 3.1 | P42: =-1-0.25+N42+O42-0.25 -> 3.3 | S42: 1 | U42: 내측 | W42: =X42+Y42+Z42+AA42 -> 0.59 | X42: =SUMIF(I42,$X$6,J42) -> 0 | Y42: =SUMIF(I42,$Y$6,J42) -> 0 | Z42: =SUMIF(I42,$Z$6,J42) -> 0 | AA42: =AB42+AC42 -> 0.59 | AB42: =SUMIF(I42,$AB$7,J42) -> 0.59 | AC42: =SUMIF(I42,$AC$7,J42) -> 0
...

Sheet 02 § 동구
A1: 자전거도로 실태조사 총괄표
A4: 1.기본사항 | I4: 2.조사대상 자전거도로 현황 | T4: 3.판단 | W4: 4. 자전거도로 연장
A5: No | B5: 시도 | C5: 자치구 | D5: 일련번호 | E5: 노선명 | F5: 기점 | G5: 종점 | H5: 도로 연계성 | I5: 자전거도로 종류 | J5: 총연장 (km) /0.00 | K5: 자전거도로 폭원(m) /.0 | S5: 보행량 (점) | T5: 개선 필요여부 | U5: 자전거 도로 위치 | V5: 비고 및 점검 | W5: 자전거도로 연장(km) /.00
K6: 전용도로 | L6: 전용차로 | M6: 우선도로 | N6: 자전거보행자겸용도로 | W6: 총연장(km) /0.00 | X6: 전용도로 | Y6: 전용차로 | Z6: 우선도로 | AA6: 자전거보행자겸용도로
N7: 분리형 | Q7: 비분리형 | AA7: 소계 | AB7: 겸용도로 (분리형) | AC7: 겸용도로 (비분리형)
N8: 자전거도로 | O8: 보도 | P8: 유효폭원 | Q8: 도로폭원 | R8: 유효폭원
B9: 인천시 | C9: 동구 | D9: 6개 노선 | H9: =COUNTIF(H10:H1048576,"○") -> 6 | J9: =SUM(J10:J1048576) -> 5.61 | K9: =COUNTIF(I10:I1048576,X6) -> 2 | L9: =COUNTIF(I10:I1048576,Y6) -> 0 | M9: =COUNTIF(I10:I1048576,Z6) -> 0 | N9: =COUNTIF(I10:I1048576,AB7) -> 4 | Q9: =COUNTIF(I10:I1048576,AC7) -> 0 | T9: =COUNTIF(T10:T1048576,"○") -> 1 | W9: =SUM(W10:W1048576) -> 5.61 | X9: =SUM(X10:X1048576) -> 3.42 | Y9: =SUM(Y10:Y1048576) -> 0 | Z9: =SUM(Z10:Z1048576) -> 0 | AA9: =SUM(AA10:AA1048576) -> 2.19 | AB9: =SUM(AB10:AB1048576) -> 2.19 | AC9: =SUM(AC10:AC1048576) -> 0
A10: 1 | B10: 인천시 | C10: 동구 | D10: 1 | E10: 인중로1R | F10: s-oil항구 주유소 | G10: 송현사거리 | H10: ○ | I10: 전용도로 | J10: 1.72 | K10: 1.9 | S10: 1 | W10: =X10+Y10+Z10+AA10 -> 1.72 | X10: =SUMIF(I10,$X$6,J10) -> 1.72 | Y10: =SUMIF(I10,$Y$6,J10) -> 0 | Z10: =SUMIF(I10,$Z$6,J10) -> 0 | AA10: =AB10+AC10 -> 0 | AB10: =SUMIF(I10,$AB$7,J10) -> 0 | AC10: =SUMIF(I10,$AC$7,J10) -> 0
A11: 2 | B11: 인천시 | C11: 동구 | D11: 2 | E11: 인중로1L | F11: 송현사거리 | G11: s-oil항구 주유소 | H11: ○ | I11: 전용도로 | J11: 1.7 | K11: 2 | S11: 1 | W11: =X11+Y11+Z11+AA11 -> 1.7 | X11: =SUMIF(I11,$X$6,J11) -> 1.7 | Y11: =SUMIF(I11,$Y$6,J11) -> 0 | Z11: =SUMIF(I11,$Z$6,J11) -> 0 | AA11: =AB11+AC11 -> 0 | AB11: =SUMIF(I11,$AB$7,J11) -> 0 | AC11: =SUMIF(I11,$AC$7,J11) -> 0
A12: 3 | B12: 인천시 | C12: 동구 | D12: 3 | E12: 새천년로 | F12: 명보그린빌 | G12: 제중종합 한의원 | H12: ○ | I12: 겸용도로 (분리형) | J12: 0.6 | N12: 2.1 | O12: 2.7 | P12: =-1-0.25+N12+O12-0.25 -> 3.3 | S12: 3 | U12: 내측 | W12: =X12+Y12+Z12+AA12 -> 0.6 | X12: =SUMIF(I12,$X$6,J12) -> 0 | Y12: =SUMIF(I12,$Y$6,J12) -> 0 | Z12: =SUMIF(I12,$Z$6,J12) -> 0 | AA12: =AB12+AC12 -> 0.6 | AB12: =SUMIF(I12,$AB$7,J12) -> 0.6 | AC12: =SUMIF(I12,$AC$7,J12) -> 0
A13: 4 | B13: 인천시 | C13: 동구 | D13: 4 | E13: 인중로2 | F13: 송림고가교 | G13: 송현 할인마트 | H13: ○ | I13: 겸용도로 (분리형) | J13: 0.53 | N13: 1.3 | O13: 3.5 | P13: =-1-0.25+N13+O13-0.25 -> 3.3 | S13: 3 | T13: ○ | U13: 도로측 | W13: =X13+Y13+Z13+AA13 -> 0.53 | X13: =SUMIF(I13,$X$6,J13) -> 0 | Y13: =SUMIF(I13,$Y$6,J13) -> 0 | Z13: =SUMIF(I13,$Z$6,J13) -> 0 | AA13: =AB13+AC13 -> 0.53 | AB13: =SUMIF(I13,$AB$7,J13) -> 0.53 | AC13: =SUMIF(I13,$AC$7,J13) -> 0
A14: 5 | B14: 인천시 | C14: 동구 | D14: 5 | E14: 염전로40번길 | F14: 인천백병원 | G14: 송림체육관 | H14: ○ | I14: 겸용도로 (분리형) | J14: 0.47 | N14: 1.5 | O14: 2.5 | P14: =-1-0.25+N14+O14-0.25 -> 2.5 | S14: 3 | U14: 내측 | W14: =X14+Y14+Z14+AA14 -> 0.47 | X14: =SUMIF(I14,$X$6,J14) -> 0 | Y14: =SUMIF(I14,$Y$6,J14) -> 0 | Z14: =SUMIF(I14,$Z$6,J14) -> 0 | AA14: =AB14+AC14 -> 0.47 | AB14: =SUMIF(I14,$AB$7,J14) -> 0.47 | AC14: =SUMIF(I14,$AC$7,J14) -> 0
A15: 6 | B15: 인천시 | C15: 동구 | D15: 6 | E15: 중봉대로 | F15: 경기실업 | G15: 글로비스 인천영업소 | H15: ○ | I15: 겸용도로 (분리형) | J15: 0.59 | N15: 1.6 | O15: 1.8 | P15: =-1-0.25+N15+O15-0.25 -> 1.9 | S15: 1 | U15: 도로측 | W15: =X15+Y15+Z15+AA15 -> 0.59 | X15: =SUMIF(I15,$X$6,J15) -> 0 | Y15: =SUMIF(I15,$Y$6,J15) -> 0 | Z15: =SUMIF(I15,$Z$6,J15) -> 0 | AA15: =AB15+AC15 -> 0.59 | AB15: =SUMIF(I15,$AB$7,J15) -> 0.59 | AC15: =SUMIF(I15,$AC$7,J15) -> 0

Sheet 03 § 남구
A1: 자전거도로 실태조사 총괄표
A4: 1.기본사항 | I4: 2.조사대상 자전거도로 현황 | T4: 3.판단 | W4: 4. 자전거도로 연장
A5: No | B5: 시도 | C5: 자치구 | D5: 일련번호 | E5: 노선명 | F5: 기점 | G5: 종점 | H5: 도로 연계성 | I5: 자전거도로 종류 | J5: 총연장 (km) /0.00 | K5: 자전거도로 폭원(m) /.0 | S5: 보행량 (점) | T5: 개선 필요여부 | U5: 자전거 도로 위치 | V5: 비고 및 점검 | W5: 자전거도로 연장(km) /.00
K6: 전용도로 | L6: 전용차로 | M6: 우선도로 | N6: 자전거보행자겸용도로 | W6: 총연장(km) /0.00 | X6: 전용도로 | Y6: 전용차로 | Z6: 우선도로 | AA6: 자전거보행자겸용도로
N7: 분리형 | Q7: 비분리형 | AA7: 소계 | AB7: 겸용도로 (분리형) | AC7: 겸용도로 (비분리형)
N8: 자전거도로 | O8: 보도 | P8: 유효폭원 | Q8: 도로폭원 | R8: 유효폭원
B9: 인천시 | C9: 남구 | D9: 40개 노선 | H9: =COUNTIF(H10:H1048576,"○") -> 13 | J9: =SUM(J10:J1048576) -> 15.97 | K9: =COUNTIF(I10:I1048576,X6) -> 7 | L9: =COUNTIF(I10:I1048576,Y6) -> 0 | M9: =COUNTIF(I10:I1048576,Z6) -> 0 | N9: =COUNTIF(I10:I1048576,AB7) -> 33 | Q9: =COUNTIF(I10:I1048576,AC7) -> 0 | T9: =COUNTIF(T10:T1048576,"○") -> 10 | W9: =SUM(W10:W1048576) -> 15.97 | X9: =SUM(X10:X1048576) -> 3.76 | Y9: =SUM(Y10:Y1048576) -> 0 | Z9: =SUM(Z10:Z1048576) -> 0 | AA9: =SUM(AA10:AA1048576) -> 12.21 | AB9: =SUM(AB10:AB1048576) -> 12.21 | AC9: =SUM(AC10:AC1048576) -> 0
A10: 1 | B10: 인천시 | C10: 남구 | D10: 1 | E10: 매소홀로1R | F10: 두산위브 아파트 | G10: 두산위브 아파트 | H10: ○ | I10: 전용도로 | J10: 0.15 | K10: 1.2 | W10: =X10+Y10+Z10+AA10 -> 0.15 | X10: =SUMIF(I10,$X$6,J10) -> 0.15 | Y10: =SUMIF(I10,$Y$6,J10) -> 0 | Z10: =SUMIF(I10,$Z$6,J10) -> 0 | AA10: =AB10+AC10 -> 0 | AB10: =SUMIF(I10,$AB$7,J10) -> 0 | AC10: =SUMIF(I10,$AC$7,J10) -> 0
A11: 2 | B11: 인천시 | C11: 남구 | D11: 2 | E11: 매소홀로2R | F11: 문학경기장 | G11: 선학동 28-1 | H11: ○ | I11: 전용도로 | J11: 1.02 | W11: =X11+Y11+Z11+AA11 -> 1.02 | X11: =SUMIF(I11,$X$6,J11) -> 1.02 | Y11: =SUMIF(I11,$Y$6,J11) -> 0 | Z11: =SUMIF(I11,$Z$6,J11) -> 0 | AA11: =AB11+AC11 -> 0 | AB11: =SUMIF(I11,$AB$7,J11) -> 0 | AC11: =SUMIF(I11,$AC$7,J11) -> 0
A12: 3 | B12: 인천시 | C12: 남구 | D12: 3 | E12: 매소홀로1L | F12: 무형문화제 전수교육관 | G12: 관교동 549-13 | H12: ○ | I12: 전용도로 | J12: 1.15 | K12: 1.5 | W12: =X12+Y12+Z12+AA12 -> 1.15 | X12: =SUMIF(I12,$X$6,J12) -> 1.15 | Y12: =SUMIF(I12,$Y$6,J12) -> 0 | Z12: =SUMIF(I12,$Z$6,J12) -> 0 | AA12: =AB12+AC12 -> 0 | AB12: =SUMIF(I12,$AB$7,J12) -> 0 | AC12: =SUMIF(I12,$AC$7,J12) -> 0
A13: 4 | B13: 인천시 | C13: 남구 | D13: 4 | E13: 인하로1R | F13: 인하로 134번길 3 | G13: 제운사거리 | H13: ○ | I13: 겸용도로 (분리형) | J13: 0.41 | N13: 1.5 | O13: 1.5 | P13: =-1-0.25+N13+O13-0.25 -> 1.5 | S13: 2 | U13: 도로측 | W13: =X13+Y13+Z13+AA13 -> 0.41 | X13: =SUMIF(I13,$X$6,J13) -> 0 | Y13: =SUMIF(I13,$Y$6,J13) -> 0 | Z13: =SUMIF(I13,$Z$6,J13) -> 0 | AA13: =AB13+AC13 -> 0.41 | AB13: =SUMIF(I13,$AB$7,J13) -> 0.41 | AC13: =SUMIF(I13,$AC$7,J13) -> 0
A14: 5 | B14: 인천시 | C14: 남구 | D14: 5 | E14: 인하로2R | F14: 인하로 398 | G14: 관교 초등학교 | I14: 겸용도로 (분리형) | J14: 0.17 | N14: 1.5 | O14: 1 | P14: =-1-0.25+N14+O14-0.25 -> 1 | S14: 2 | T14: ○ | U14: 중앙 | W14: =X14+Y14+Z14+AA14 -> 0.17 | X14: =SUMIF(I14,$X$6,J14) -> 0 | Y14: =SUMIF(I14,$Y$6,J14) -> 0 | Z14: =SUMIF(I14,$Z$6,J14) -> 0 | AA14: =AB14+AC14 -> 0.17 | AB14: =SUMIF(I14,$AB$7,J14) -> 0.17 | AC14: =SUMIF(I14,$AC$7,J14) -> 0
A15: 6 | B15: 인천시 | C15: 남구 | D15: 6 | E15: 인하로1L | F15: 신라 아파트 | G15: 승학 사거리 | I15: 겸용도로 (분리형) | J15: 0.08 | N15: 1.5 | O15: 1 | P15: =-1-0.25+N15+O15-0.25 -> 1 | S15: 3 | U15: 도로측 | W15: =X15+Y15+Z15+AA15 -> 0.08 | X15: =SUMIF(I15,$X$6,J15) -> 0 | Y15: =SUMIF(I15,$Y$6,J15) -> 0 | Z15: =SUMIF(I15,$Z$6,J15) -> 0 | AA15: =AB15+AC15 -> 0.08 | AB15: =SUMIF(I15,$AB$7,J15) -> 0.08 | AC15: =SUMIF(I15,$AC$7,J15) -> 0
A16: 7 | B16: 인천시 | C16: 남구 | D16: 7 | E16: 인주대로1R | F16: 독정이 삼거리 | G16: 인주대로 174 | I16: 겸용도로 (분리형) | J16: 0.09 | N16: 1.5 | O16: 1.3 | P16: =-1-0.25+N16+O16-0.25 -> 1.3 | S16: 3 | T16: ○ | U16: 중앙 | W16: =X16+Y16+Z16+AA16 -> 0.09 | X16: =SUMIF(I16,$X$6,J16) -> 0 | Y16: =SUMIF(I16,$Y$6,J16) -> 0 | Z16: =SUMIF(I16,$Z$6,J16) -> 0 | AA16: =AB16+AC16 -> 0.09 | AB16: =SUMIF(I16,$AB$7,J16) -> 0.09 | AC16: =SUMIF(I16,$AC$7,J16) -> 0
A17: 8 | B17: 인천시 | C17: 남구 | D17: 8 | E17: 인주대로1L | F17: 독정이 삼거리 | G17: 수봉남로1 | I17: 겸용도로 (분리형) | J17: 0.05 | N17: 1.5 | O17: 1 | P17: =-1-0.25+N17+O17-0.25 -> 1 | S17: 3 | T17: ○ | U17: 중앙 | W17: =X17+Y17+Z17+AA17 -> 0.05 | X17: =SUMIF(I17,$X$6,J17) -> 0 | Y17: =SUMIF(I17,$Y$6,J17) -> 0 | Z17: =SUMIF(I17,$Z$6,J17) -> 0 | AA17: =AB17+AC17 -> 0.05 | AB17: =SUMIF(I17,$AB$7,J17) -> 0.05 | AC17: =SUMIF(I17,$AC$7,J17) -> 0
A18: 9 | B18: 인천시 | C18: 남구 | D18: 9 | E18: 인주대로2L | F18: 인주대로 237번길 2 | G18: 용일 사거리 | H18: ○ | I18: 겸용도로 (분리형) | J18: 0.41 | N18: 1.5 | O18: 1.5 | P18: =-1-0.25+N18+O18-0.25 -> 1.5 | S18: 3 | U18: 내측 | W18: =X18+Y18+Z18+AA18 -> 0.41 | X18: =SUMIF(I18,$X$6,J18) -> 0 | Y18: =SUMIF(I18,$Y$6,J18) -> 0 | Z18: =SUMIF(I18,$Z$6,J18) -> 0 | AA18: =AB18+AC18 -> 0.41 | AB18: =SUMIF(I18,$AB$7,J18) -> 0.41 | AC18: =SUMIF(I18,$AC$7,J18) -> 0
A19: 10 | B19: 인천시 | C19: 남구 | D19: 10 | E19: 장천로1R | F19: 장천로 14번길 3 | G19: 숭의 오거리 | I19: 겸용도로 (분리형) | J19: 0.21 | N19: 1.5 | O19: 1.5 | P19: =-1-0.25+N19+O19-0.25 -> 1.5 | S19: 2 | T19: ○ | U19: 도로측 | W19: =X19+Y19+Z19+AA19 -> 0.21 | X19: =SUMIF(I19,$X$6,J19) -> 0 | Y19: =SUMIF(I19,$Y$6,J19) -> 0 | Z19: =SUMIF(I19,$Z$6,J19) -> 0 | AA19: =AB19+AC19 -> 0.21 | AB19: =SUMIF(I19,$AB$7,J19) -> 0.21 | AC19: =SUMIF(I19,$AC$7,J19) -> 0
A20: 11 | B20: 인천시 | C20: 남구 | D20: 11 | E20: 장천로1L | F20: 장천 사거리 | G20: 장천로91 | I20: 겸용도로 (분리형) | J20: 0.21 | N20: 1.5 | O20: 0.3 | P20: =-1-0.25+N20+O20-0.25 -> 0.3 | S20: 2 | T20: ○ | U20: 내측 | W20: =X20+Y20+Z20+AA20 -> 0.21 | X20: =SUMIF(I20,$X$6,J20) -> 0 | Y20: =SUMIF(I20,$Y$6,J20) -> 0 | Z20: =SUMIF(I20,$Z$6,J20) -> 0 | AA20: =AB20+AC20 -> 0.21 | AB20: =SUMIF(I20,$AB$7,J20) -> 0.21 | AC20: =SUMIF(I20,$AC$7,J20) -> 0
A21: 12 | B21: 인천시 | C21: 남구 | D21: 12 | E21: 경인로1R | F21: 경인로 336 | G21: 옛시민회관 사거리 | I21: 겸용도로 (분리형) | J21: 0.24 | N21: 1.5 | O21: 1.2 | P21: =-1-0.25+N21+O21-0.25 -> 1.2 | S21: 4 | T21: ○ | U21: 중앙 | W21: =X21+Y21+Z21+AA21 -> 0.24 | X21: =SUMIF(I21,$X$6,J21) -> 0 | Y21: =SUMIF(I21,$Y$6,J21) -> 0 | Z21: =SUMIF(I21,$Z$6,J21) -> 0 | AA21: =AB21+AC21 -> 0.24 | AB21: =SUMIF(I21,$AB$7,J21) -> 0.24 | AC21: =SUMIF(I21,$AC$7,J21) -> 0
A22: 13 | B22: 인천시 | C22: 남구 | D22: 13 | E22: 경인로1L | F22: 도화1동 주민센터 | G22: 경인로 339 | I22: 겸용도로 (분리형) | J22: 0.46 | N22: 1.5 | O22: 1 | P22: =-1-0.25+N22+O22-0.25 -> 1 | S22: 3 | U22: 중앙 | W22: =X22+Y22+Z22+AA22 -> 0.46 | X22: =SUMIF(I22,$X$6,J22) -> 0 | Y22: =SUMIF(I22,$Y$6,J22) -> 0 | Z22: =SUMIF(I22,$Z$6,J22) -> 0 | AA22: =AB22+AC22 -> 0.46 | AB22: =SUMIF(I22,$AB$7,J22) -> 0.46 | AC22: =SUMIF(I22,$AC$7,J22) -> 0
A23: 14 | B23: 인천시 | C23: 남구 | D23: 14 | E23: 석정로1R | F23: 숭의시장 사거리 | G23: 석정로 124 | I23: 겸용도로 (분리형) | J23: 0.32 | N23: 1.5 | O23: 1 | P23: =-1-0.25+N23+O23-0.25 -> 1 | S23: 3 | U23: 도로측 | W23: =X23+Y23+Z23+AA23 -> 0.32 | X23: =SUMIF(I23,$X$6,J23) -> 0 | Y23: =SUMIF(I23,$Y$6,J23) -> 0 | Z23: =SUMIF(I23,$Z$6,J23) -> 0 | AA23: =AB23+AC23 -> 0.32 | AB23: =SUMIF(I23,$AB$7,J23) -> 0.32 | AC23: =SUMIF(I23,$AC$7,J23) -> 0
A24: 15 | B24: 인천시 | C24: 남구 | D24: 15 | E24: 석정로2R | F24: 도화오거리 | G24: 석정로 300 | I24: 겸용도로 (분리형) | J24: 0.34 | N24: 1.5 | O24: 0.7 | P24: =-1-0.25+N24+O24-0.25 -> 0.7 | S24: 3 | U24: 중앙 | W24: =X24+Y24+Z24+AA24 -> 0.34 | X24: =SUMIF(I24,$X$6,J24) -> 0 | Y24: =SUMIF(I24,$Y$6,J24) -> 0 | Z24: =SUMIF(I24,$Z$6,J24) -> 0 | AA24: =AB24+AC24 -> 0.34 | AB24: =SUMIF(I24,$AB$7,J24) -> 0.34 | AC24: =SUMIF(I24,$AC$7,J24) -> 0
A25: 16 | B25: 인천시 | C25: 남구 | D25: 16 | E25: 석정로3R | F25: 석정로 348 | G25: 석정로 440 | I25: 겸용도로 (분리형) | J25: 0.92 | N25: 1.5 | O25: 1.5 | P25: =-1-0.25+N25+O25-0.25 -> 1.5 | S25: 4 | U25: 중앙 | W25: =X25+Y25+Z25+AA25 -> 0.92 | X25: =SUMIF(I25,$X$6,J25) -> 0 | Y25: =SUMIF(I25,$Y$6,J25) -> 0 | Z25: =SUMIF(I25,$Z$6,J25) -> 0 | AA25: =AB25+AC25 -> 0.92 | AB25: =SUMIF(I25,$AB$7,J25) -> 0.92 | AC25: =SUMIF(I25,$AC$7,J25) -> 0
A26: 17 | B26: 인천시 | C26: 남구 | D26: 17 | E26: 석정로1L | F26: 인천축구 전용경기장 | G26: 인천축구 전용경기장 | H26: ○ | I26: 겸용도로 (분리형) | J26: 0.11 | N26: 1.5 | O26: 3 | P26: =-1-0.25+N26+O26-0.25 -> 3 | S26: 3 | U26: 도로측 | W26: =X26+Y26+Z26+AA26 -> 0.11 | X26: =SUMIF(I26,$X$6,J26) -> 0 | Y26: =SUMIF(I26,$Y$6,J26) -> 0 | Z26: =SUMIF(I26,$Z$6,J26) -> 0 | AA26: =AB26+AC26 -> 0.11 | AB26: =SUMIF(I26,$AB$7,J26) -> 0.11 | AC26: =SUMIF(I26,$AC$7,J26) -> 0
A27: 18 | B27: 인천시 | C27: 남구 | D27: 18 | E27: 석정로2L | F27: 숭의시장 사거리 | G27: 석정로 113 | I27: 겸용도로 (분리형) | J27: 0.22 | N27: 1.5 | O27: 1.2 | P27: =-1-0.25+N27+O27-0.25 -> 1.2 | S27: 2 | U27: 중앙 | W27: =X27+Y27+Z27+AA27 -> 0.22 | X27: =SUMIF(I27,$X$6,J27) -> 0 | Y27: =SUMIF(I27,$Y$6,J27) -> 0 | Z27: =SUMIF(I27,$Z$6,J27) -> 0 | AA27: =AB27+AC27 -> 0.22 | AB27: =SUMIF(I27,$AB$7,J27) -> 0.22 | AC27: =SUMIF(I27,$AC$7,J27) -> 0
A28: 19 | B28: 인천시 | C28: 남구 | D28: 19 | E28: 석정로3L | F28: 선인재단 정문 | G28: 재물포 북부역입구 | I28: 겸용도로 (분리형) | J28: 0.2 | N28: 1.5 | O28: 1.2 | P28: =-1-0.25+N28+O28-0.25 -> 1.2 | S28: 3 | T28: ○ | U28: 내측 | W28: =X28+Y28+Z28+AA28 -> 0.2 | X28: =SUMIF(I28,$X$6,J28) -> 0 | Y28: =SUMIF(I28,$Y$6,J28) -> 0 | Z28: =SUMIF(I28,$Z$6,J28) -> 0 | AA28: =AB28+AC28 -> 0.2 | AB28: =SUMIF(I28,$AB$7,J28) -> 0.2 | AC28: =SUMIF(I28,$AC$7,J28) -> 0
A29: 20 | B29: 인천시 | C29: 남구 | D29: 20 | E29: 송림로1R | F29: 도화신동아 파밀리에 | G29: 도화신동아 파밀리에 | I29: 겸용도로 (분리형) | J29: 0.18 | N29: 1.5 | O29: 2.3 | P29: =-1-0.25+N29+O29-0.25 -> 2.3 | S29: 2 | U29: 도로측 | W29: =X29+Y29+Z29+AA29 -> 0.18 | X29: =SUMIF(I29,$X$6,J29) -> 0 | Y29: =SUMIF(I29,$Y$6,J29) -> 0 | Z29: =SUMIF(I29,$Z$6,J29) -> 0 | AA29: =AB29+AC29 -> 0.18 | AB29: =SUMIF(I29,$AB$7,J29) -> 0.18 | AC29: =SUMIF(I29,$AC$7,J29) -> 0
A30: 21 | B30: 인천시 | C30: 남구 | D30: 21 | E30: 송림로1L | F30: 송림로 203 | G30: 하늘꿈교회 | I30: 겸용도로 (분리형) | J30: 0.39 | N30: 1.5 | O30: 1.2 | P30: =-1-0.25+N30+O30-0.25 -> 1.2 | S30: 2 | U30: 도로측 | W30: =X30+Y30+Z30+AA30 -> 0.39 | X30: =SUMIF(I30,$X$6,J30) -> 0 | Y30: =SUMIF(I30,$Y$6,J30) -> 0 | Z30: =SUMIF(I30,$Z$6,J30) -> 0 | AA30: =AB30+AC30 -> 0.39 | AB30: =SUMIF(I30,$AB$7,J30) -> 0.39 | AC30: =SUMIF(I30,$AC$7,J30) -> 0
A31: 22 | B31: 인천시 | C31: 남구 | D31: 22 | E31: 주안로1 | F31: 도화오거리 | G31: 경인로 265번길 43 | I31: 겸용도로 (분리형) | J31: 0.31 | N31: 1.5 | O31: 1.5 | P31: =-1-0.25+N31+O31-0.25 -> 1.5 | S31: 3 | U31: 도로측 | W31: =X31+Y31+Z31+AA31 -> 0.31 | X31: =SUMIF(I31,$X$6,J31) -> 0 | Y31: =SUMIF(I31,$Y$6,J31) -> 0 | Z31: =SUMIF(I31,$Z$6,J31) -> 0 | AA31: =AB31+AC31 -> 0.31 | AB31: =SUMIF(I31,$AB$7,J31) -> 0.31 | AC31: =SUMIF(I31,$AC$7,J31) -> 0
A32: 23 | B32: 인천시 | C32: 남구 | D32: 23 | E32: 한나루로1R | F32: 제일시장 사거리 | G32: 한나루로 569 | I32: 겸용도로 (분리형) | J32: 0.68 | N32: 1.5 | O32: 1.2 | P32: =-1-0.25+N32+O32-0.25 -> 1.2 | S32: 3 | U32: 내측 | W32: =X32+Y32+Z32+AA32 -> 0.68 | X32: =SUMIF(I32,$X$6,J32) -> 0 | Y32: =SUMIF(I32,$Y$6,J32) -> 0 | Z32: =SUMIF(I32,$Z$6,J32) -> 0 | AA32: =AB32+AC32 -> 0.68 | AB32: =SUMIF(I32,$AB$7,J32) -> 0.68 | AC32: =SUMIF(I32,$AC$7,J32) -> 0
A33: 24 | B33: 인천시 | C33: 남구 | D33: 24 | E33: 한나루로1L | F33: 재넘이길 6 | G33: 한나루로 521 | H33: ○ | I33: 겸용도로 (분리형) | J33: 0.84 | N33: 1.5 | O33: 1.5 | P33: =-1-0.25+N33+O33-0.25 -> 1.5 | S33: 3 | U33: 도로측 | W33: =X33+Y33+Z33+AA33 -> 0.84 | X33: =SUMIF(I33,$X$6,J33) -> 0 | Y33: =SUMIF(I33,$Y$6,J33) -> 0 | Z33: =SUMIF(I33,$Z$6,J33) -> 0 | AA33: =AB33+AC33 -> 0.84 | AB33: =SUMIF(I33,$AB$7,J33) -> 0.84 | AC33: =SUMIF(I33,$AC$7,J33) -> 0
A34: 25 | B34: 인천시 | C34: 남구 | D34: 25 | E34: 한나루로2L | F34: 한나루로 569 | G34: 제일시장 사거리 | I34: 겸용도로 (분리형) | J34: 0.23 | N34: 1.5 | O34: 1 | P34: =-1-0.25+N34+O34-0.25 -> 1 | S34: 3 | U34: 내측 | W34: =X34+Y34+Z34+AA34 -> 0.23 | X34: =SUMIF(I34,$X$6,J34) -> 0 | Y34: =SUMIF(I34,$Y$6,J34) -> 0 | Z34: =SUMIF(I34,$Z$6,J34) -> 0 | AA34: =AB34+AC34 -> 0.23 | AB34: =SUMIF(I34,$AB$7,J34) -> 0.23 | AC34: =SUMIF(I34,$AC$7,J34) -> 0
A35: 26 | B35: 인천시 | C35: 남구 | D35: 26 | E35: 미추홀대로1R | F35: 미추홀대로 614번길 3 | G35: 미추홀대로 662 | I35: 겸용도로 (분리형) | J35: 0.48 | N35: 1.5 | O35: 1.2 | P35: =-1-0.25+N35+O35-0.25 -> 1.2 | S35: 3 | U35: 내측 | W35: =X35+Y35+Z35+AA35 -> 0.48 | X35: =SUMIF(I35,$X$6,J35) -> 0 | Y35: =SUMIF(I35,$Y$6,J35) -> 0 | Z35: =SUMIF(I35,$Z$6,J35) -> 0 | AA35: =AB35+AC35 -> 0.48 | AB35: =SUMIF(I35,$AB$7,J35) -> 0.48 | AC35: =SUMIF(I35,$AC$7,J35) -> 0
A36: 27 | B36: 인천시 | C36: 남구 | D36: 27 | E36: 미추홀대로1L | F36: 미추홀대로 669 | G36: 신기사거리 | I36: 겸용도로 (분리형) | J36: 0.62 | N36: 1.5 | O36: 1.2 | P36: =-1-0.25+N36+O36-0.25 -> 1.2 | S36: 3 | U36: 중앙 | W36: =X36+Y36+Z36+AA36 -> 0.62 | X36: =SUMIF(I36,$X$6,J36) -> 0 | Y36: =SUMIF(I36,$Y$6,J36) -> 0 | Z36: =SUMIF(I36,$Z$6,J36) -> 0 | AA36: =AB36+AC36 -> 0.62 | AB36: =SUMIF(I36,$AB$7,J36) -> 0.62 | AC36: =SUMIF(I36,$AC$7,J36) -> 0
A37: 28 | B37: 인천시 | C37: 남구 | D37: 28 | E37: 경원대로R | F37: 경원대로 654 | G37: 주승로 180 | I37: 겸용도로 (분리형) | J37: 0.45 | N37: 1.5 | O37: 1.2 | P37: =-1-0.25+N37+O37-0.25 -> 1.2 | S37: 2 | U37: 중앙 | W37: =X37+Y37+Z37+AA37 -> 0.45 | X37: =SUMIF(I37,$X$6,J37) -> 0 | Y37: =SUMIF(I37,$Y$6,J37) -> 0 | Z37: =SUMIF(I37,$Z$6,J37) -> 0 | AA37: =AB37+AC37 -> 0.45 | AB37: =SUMIF(I37,$AB$7,J37) -> 0.45 | AC37: =SUMIF(I37,$AC$7,J37) -> 0
A38: 29 | B38: 인천시 | C38: 남구 | D38: 29 | E38: 경원대로1L | F38: 관교여자 중학교 | G38: 승기사거리 | I38: 겸용도로 (분리형) | J38: 0.52 | N38: 1.5 | O38: 0.6 | P38: =-1-0.25+N38+O38-0.25 -> 0.6 | S38: 2 | U38: 중앙 | W38: =X38+Y38+Z38+AA38 -> 0.52 | X38: =SUMIF(I38,$X$6,J38) -> 0 | Y38: =SUMIF(I38,$Y$6,J38) -> 0 | Z38: =SUMIF(I38,$Z$6,J38) -> 0 | AA38: =AB38+AC38 -> 0.52 | AB38: =SUMIF(I38,$AB$7,J38) -> 0.52 | AC38: =SUMIF(I38,$AC$7,J38) -> 0
A39: 30 | B39: 인천시 | C39: 남구 | D39: 30 | E39: 경원대로2L | F39: 문학경기장 사거리 | G39: 박태환 수영장 | H39: ○ | I39: 전용도로 | J39: 0.54 | K39: 1.5 | W39: =X39+Y39+Z39+AA39 -> 0.54 | X39: =SUMIF(I39,$X$6,J39) -> 0.54 | Y39: =SUMIF(I39,$Y$6,J39) -> 0 | Z39: =SUMIF(I39,$Z$6,J39) -> 0 | AA39: =AB39+AC39 -> 0 | AB39: =SUMIF(I39,$AB$7,J39) -> 0 | AC39: =SUMIF(I39,$AC$7,J39) -> 0
A40: 31 | B40: 인천시 | C40: 남구 | D40: 31 | E40: 예술로L | F40: 종합터미널입구 | G40: 터미널 사거리 | H40: ○ | I40: 전용도로 | J40: 0.5 | K40: 1.5 | W40: =X40+Y40+Z40+AA40 -> 0.5 | X40: =SUMIF(I40,$X$6,J40) -> 0.5 | Y40: =SUMIF(I40,$Y$6,J40) -> 0 | Z40: =SUMIF(I40,$Z$6,J40) -> 0 | AA40: =AB40+AC40 -> 0 | AB40: =SUMIF(I40,$AB$7,J40) -> 0 | AC40: =SUMIF(I40,$AC$7,J40) -> 0
A41: 32 | B41: 인천시 | C41: 남구 | D41: 32 | E41: 수봉로R | F41: 수봉로 19-1 | G41: 수봉로 7 | I41: 겸용도로 (분리형) | J41: 0.16 | N41: 1.5 | O41: 1.2 | P41: =-1-0.25+N41+O41-0.25 -> 1.2 | S41: 5 | T41: ○ | U41: 도로측 | W41: =X41+Y41+Z41+AA41 -> 0.16 | X41: =SUMIF(I41,$X$6,J41) -> 0 | Y41: =SUMIF(I41,$Y$6,J41) -> 0 | Z41: =SUMIF(I41,$Z$6,J41) -> 0 | AA41: =AB41+AC41 -> 0.16 | AB41: =SUMIF(I41,$AB$7,J41) -> 0.16 | AC41: =SUMIF(I41,$AC$7,J41) -> 0
A42: 33 | B42: 인천시 | C42: 남구 | D42: 33 | E42: 석정로 49번길R | F42: 인천축구 전용경기장 | G42: 인천축구 전용경기장 | H42: ○ | I42: 겸용도로 (분리형) | J42: 0.15 | N42: 1.5 | O42: 0.8 | P42: =-1-0.25+N42+O42-0.25 -> 0.8 | S42: 2 | U42: 도로측 | W42: =X42+Y42+Z42+AA42 -> 0.15 | X42: =SUMIF(I42,$X$6,J42) -> 0 | Y42: =SUMIF(I42,$Y$6,J42) -> 0 | Z42: =SUMIF(I42,$Z$6,J42) -> 0 | AA42: =AB42+AC42 -> 0.15 | AB42: =SUMIF(I42,$AB$7,J42) -> 0.15 | AC42: =SUMIF(I42,$AC$7,J42) -> 0
...

Sheet 04 § 연수구
A1: 자전거도로 실태조사 총괄표
A4: 1.기본사항 | I4: 2.조사대상 자전거도로 현황 | T4: 3.판단 | W4: 4. 자전거도로 연장
A5: No | B5: 시도 | C5: 자치구 | D5: 일련번호 | E5: 노선명 | F5: 기점 | G5: 종점 | H5: 도로 연계성 | I5: 자전거도로 종류 | J5: 총연장 (km) /0.00 | K5: 자전거도로 폭원(m) /.0 | S5: 보행량 (점) | T5: 개선 필요여부 | U5: 자전거 도로 위치 | V5: 비고 및 점검 | W5: 자전거도로 연장(km) /.00
K6: 전용도로 | L6: 전용차로 | M6: 우선도로 | N6: 자전거보행자겸용도로 | W6: 총연장(km) /0.00 | X6: 전용도로 | Y6: 전용차로 | Z6: 우선도로 | AA6: 자전거보행자겸용도로
N7: 분리형 | Q7: 비분리형 | AA7: 소계 | AB7: 겸용도로 (분리형) | AC7: 겸용도로 (비분리형)
N8: 자전거도로 | O8: 보도 | P8: 유효폭원 | Q8: 도로폭원 | R8: 유효폭원
B9: 인천시 | C9: 연수구 | D9: 42개 노선 | H9: =COUNTIF(H10:H1048576,"○") -> 42 | J9: =SUM(J10:J1048576) -> 52.22 | K9: =COUNTIF(I10:I1048576,X6) -> 21 | L9: =COUNTIF(I10:I1048576,Y6) -> 0 | M9: =COUNTIF(I10:I1048576,Z6) -> 0 | N9: =COUNTIF(I10:I1048576,AB7) -> 19 | Q9: =COUNTIF(I10:I1048576,AC7) -> 2 | T9: =COUNTIF(T10:T1048576,"○") -> 16 | W9: =SUM(W10:W1048576) -> 52.22 | X9: =SUM(X10:X1048576) -> 26.67 | Y9: =SUM(Y10:Y1048576) -> 0 | Z9: =SUM(Z10:Z1048576) -> 0 | AA9: =SUM(AA10:AA1048576) -> 25.55 | AB9: =SUM(AB10:AB1048576) -> 23.77 | AC9: =SUM(AC10:AC1048576) -> 1.78
A10: 1 | B10: 인천시 | C10: 연수구 | D10: 1 | E10: 비류대로1R | F10: 송학둥지@ | G10: 청학사거리 | H10: ○ | I10: 겸용도로 (분리형) | J10: 1.8 | N10: 1.8 | O10: 4 | P10: =-1-0.25+N10+O10-0.25 -> 4.3 | S10: 4 | T10: ○ | U10: 도로측 | W10: =X10+Y10+Z10+AA10 -> 1.8 | X10: =SUMIF(I10,$X$6,J10) -> 0 | Y10: =SUMIF(I10,$Y$6,J10) -> 0 | Z10: =SUMIF(I10,$Z$6,J10) -> 0 | AA10: =AB10+AC10 -> 1.8 | AB10: =SUMIF(I10,$AB$7,J10) -> 1.8 | AC10: =SUMIF(I10,$AC$7,J10) -> 0
A11: 2 | B11: 인천시 | C11: 연수구 | D11: 2 | E11: 비류대로1L | F11: 청학사거리 | G11: 청학@ 맞은편 | H11: ○ | I11: 겸용도로 (분리형) | J11: 0.36 | N11: 1.8 | O11: 4 | P11: =-1-0.25+N11+O11-0.25 -> 4.3 | S11: 4 | T11: ○ | U11: 도로측 | W11: =X11+Y11+Z11+AA11 -> 0.36 | X11: =SUMIF(I11,$X$6,J11) -> 0 | Y11: =SUMIF(I11,$Y$6,J11) -> 0 | Z11: =SUMIF(I11,$Z$6,J11) -> 0 | AA11: =AB11+AC11 -> 0.36 | AB11: =SUMIF(I11,$AB$7,J11) -> 0.36 | AC11: =SUMIF(I11,$AC$7,J11) -> 0
A12: 3 | B12: 인천시 | C12: 연수구 | D12: 3 | E12: 비류대로2R | F12: 청학사거리 | G12: 수리봉사거리 | H12: ○ | I12: 전용도로 | J12: 1.1 | K12: 1.8 | W12: =X12+Y12+Z12+AA12 -> 1.1 | X12: =SUMIF(I12,$X$6,J12) -> 1.1 | Y12: =SUMIF(I12,$Y$6,J12) -> 0 | Z12: =SUMIF(I12,$Z$6,J12) -> 0 | AA12: =AB12+AC12 -> 0 | AB12: =SUMIF(I12,$AB$7,J12) -> 0 | AC12: =SUMIF(I12,$AC$7,J12) -> 0
A13: 4 | B13: 인천시 | C13: 연수구 | D13: 4 | E13: 비류대로3R | F13: 인천여자고등학교 | G13: 선학초교 | H13: ○ | I13: 전용도로 | J13: 0.89 | K13: 1.8 | W13: =X13+Y13+Z13+AA13 -> 0.89 | X13: =SUMIF(I13,$X$6,J13) -> 0.89 | Y13: =SUMIF(I13,$Y$6,J13) -> 0 | Z13: =SUMIF(I13,$Z$6,J13) -> 0 | AA13: =AB13+AC13 -> 0 | AB13: =SUMIF(I13,$AB$7,J13) -> 0 | AC13: =SUMIF(I13,$AC$7,J13) -> 0
A14: 5 | B14: 인천시 | C14: 연수구 | D14: 5 | E14: 비류대로2L | F14: 선학초교 | G14: 인천여자고등학교 | H14: ○ | I14: 전용도로 | J14: 0.89 | K14: 1.8 | W14: =X14+Y14+Z14+AA14 -> 0.89 | X14: =SUMIF(I14,$X$6,J14) -> 0.89 | Y14: =SUMIF(I14,$Y$6,J14) -> 0 | Z14: =SUMIF(I14,$Z$6,J14) -> 0 | AA14: =AB14+AC14 -> 0 | AB14: =SUMIF(I14,$AB$7,J14) -> 0 | AC14: =SUMIF(I14,$AC$7,J14) -> 0
A15: 6 | B15: 인천시 | C15: 연수구 | D15: 6 | E15: 아암대로 | F15: 송도3교 | G15: 외암도사거리 | H15: ○ | I15: 겸용도로 (분리형) | J15: 2.5 | N15: 2.2 | O15: 1.6 | P15: =-1-0.25+N15+O15-0.25 -> 2.3 | S15: 2 | U15: 도로측 | W15: =X15+Y15+Z15+AA15 -> 2.5 | X15: =SUMIF(I15,$X$6,J15) -> 0 | Y15: =SUMIF(I15,$Y$6,J15) -> 0 | Z15: =SUMIF(I15,$Z$6,J15) -> 0 | AA15: =AB15+AC15 -> 2.5 | AB15: =SUMIF(I15,$AB$7,J15) -> 2.5 | AC15: =SUMIF(I15,$AC$7,J15) -> 0
